Workbook

Sheet 考勤查询统计
D5: 李四 | H5: 现在是： | I5: =TODAY() -> 45636 | M5: 公司人数： | O5: 5 | R5: 考勤人： | S5: 稻小壳
C7: 月份 | D7: 1月 | E7: 2月 | F7: 3月 | G7: 4月 | H7: 5月 | I7: 6月 | J7: 7月 | K7: 8月 | L7: 9月 | M7: 10月 | N7: 11月 | O7: 12月
C8: 应出勤天数 | D8: ='1月'!$F$6 -> 31 | E8: ='2月'!$F$6 -> 28 | F8: ='3月'!$F$6 -> 31 | G8: ='4月'!$F$6 -> 30 | H8: ='5月'!$F$6 -> 31 | I8: ='6月'!$F$6 -> 30 | J8: ='7月'!$F$6 -> 31 | K8: ='8月'!$F$6 -> 31 | L8: ='9月'!$F$6 -> 30 | M8: ='10月'!$F$6 -> 31 | N8: ='11月'!$F$6 -> 30 | O8: ='12月'!$F$6 -> 31 | Q8: 1月 | R8: =COUNTA('1月'!$F$14:$F$29000) -> 4 | S8: =SUM('1月'!$AL$14:$AL$29000)/(COUNTA('1月'!$F$14:$F$29000)*'1月'!$F$6) -> 0.55645161
C9: 出勤天数 | D9: =SUMPRODUCT(('1月'!$F$14:$F$29000=$D$5)*'1月'!$AL$14:$AL$29000) -> 21 | E9: =SUMPRODUCT(('2月'!$F$14:$F$29000=$D$5)*'2月'!$AI$14:$AI$29000) -> 16 | F9: =SUMPRODUCT(('3月'!$F$14:$F$29000=$D$5)*'3月'!$AL$14:$AL$29000) -> 19 | G9: =SUMPRODUCT(('4月'!$F$14:$F$29000=$D$5)*'4月'!$AK$14:$AK$29000) -> 18 | H9: =SUMPRODUCT(('5月'!$F$14:$F$29000=$D$5)*'5月'!$AL$14:$AL$29000) -> 21 | I9: =SUMPRODUCT(('6月'!$F$14:$F$29000=$D$5)*'6月'!$AK$14:$AK$29000) -> 19 | J9: =SUMPRODUCT(('7月'!$F$14:$F$29000=$D$5)*'7月'!$AL$14:$AL$29000) -> 18 | K9: =SUMPRODUCT(('8月'!$F$14:$F$29000=$D$5)*'8月'!$AL$14:$AL$29000) -> 24 | L9: =SUMPRODUCT(('9月'!$F$14:$F$29000=$D$5)*'9月'!$AK$14:$AK$29000) -> 18 | M9: =SUMPRODUCT(('10月'!$F$14:$F$29000=$D$5)*'10月'!$AL$14:$AL$29000) -> 17 | N9: =SUMPRODUCT(('11月'!$F$14:$F$29000=$D$5)*'11月'!$AK$14:$AK$29000) -> 18 | O9: =SUMPRODUCT(('12月'!$F$14:$F$29000=$D$5)*'12月'!$AL$14:$AL$29000) -> 14 | Q9: 2月 | R9: =COUNTA('2月'!$F$14:$F$29000) -> 3 | S9: =SUM('2月'!$AI$14:$AI$29000)/(COUNTA('2月'!$F$14:$F$29000)*'2月'!$F$6) -> 0.70238095 | Y9: Q1 | Z9: =SUM($S$8:$S$10)/3 -> 0.65258577 | AA9: =1-$Z$9 -> 0.34741423
C10: 出勤率 | D10: =SUMPRODUCT(('1月'!$F$14:$F$29000=$D$5)*'1月'!$AM$14:$AM$29000) -> 0.67 | E10: =SUMPRODUCT(('2月'!$F$14:$F$29000=$D$5)*'2月'!$AJ$14:$AJ$29000) -> 0.57 | F10: =SUMPRODUCT(('3月'!$F$14:$F$29000=$D$5)*'3月'!$AM$14:$AM$29000) -> 0.61 | G10: =SUMPRODUCT(('4月'!$F$14:$F$29000=$D$5)*'4月'!$AL$14:$AL$29000) -> 0.6 | H10: =SUMPRODUCT(('5月'!$F$14:$F$29000=$D$5)*'5月'!$AM$14:$AM$29000) -> 0.67 | I10: =SUMPRODUCT(('6月'!$F$14:$F$29000=$D$5)*'6月'!$AL$14:$AL$29000) -> 0.63 | J10: =SUMPRODUCT(('7月'!$F$14:$F$29000=$D$5)*'7月'!$AM$14:$AM$29000) -> 0.58 | K10: =SUMPRODUCT(('8月'!$F$14:$F$29000=$D$5)*'8月'!$AM$14:$AM$29000) -> 0.77 | L10: =SUMPRODUCT(('9月'!$F$14:$F$29000=$D$5)*'9月'!$AL$14:$AL$29000) -> 0.6 | M10: =SUMPRODUCT(('10月'!$F$14:$F$29000=$D$5)*'10月'!$AM$14:$AM$29000) -> 0.54 | N10: =SUMPRODUCT(('11月'!$F$14:$F$29000=$D$5)*'11月'!$AL$14:$AL$29000) -> 0.6 | O10: =SUMPRODUCT(('12月'!$F$14:$F$29000=$D$5)*'12月'!$AM$14:$AM$29000) -> 0.45 | Q10: 3月 | R10: =COUNTA('3月'!$F$14:$F$29000) -> 3 | S10: =SUM('3月'!$AL$14:$AL$29000)/(COUNTA('3月'!$F$14:$F$29000)*'3月'!$F$6) -> 0.69892473 | Y10: Q2 | Z10: =SUM($S$11:$S$13)/3 -> 0.80943847 | AA10: =1-$Z$10 -> 0.19056153
Q11: 4月 | R11: =COUNTA('4月'!$F$14:$F$29000) -> 3 | S11: =SUM('4月'!$AK$14:$AK$29000)/(COUNTA('4月'!$F$14:$F$29000)*'4月'!$F$6) -> 0.8 | Y11: Q3 | Z11: =SUM($S$14:$S$16)/3 -> 0.71732378 | AA11: =1-$Z$11 -> 0.28267622
Q12: 5月 | R12: =COUNTA('5月'!$F$14:$F$29000) -> 3 | S12: =SUM('5月'!$AL$14:$AL$29000)/(COUNTA('5月'!$F$14:$F$29000)*'5月'!$F$6) -> 0.8172043 | Y12: Q4 | Z12: =SUM($S$17:$S$19)/3 -> 0.70692951 | AA12: =1-$Z$12 -> 0.29307049
Q13: 6月 | R13: =COUNTA('6月'!$F$14:$F$29000) -> 3 | S13: =SUM('6月'!$AK$14:$AK$29000)/(COUNTA('6月'!$F$14:$F$29000)*'6月'!$F$6) -> 0.81111111
Q14: 7月 | R14: =COUNTA('7月'!$F$14:$F$29000) -> 3 | S14: =SUM('7月'!$AL$14:$AL$29000)/(COUNTA('7月'!$F$14:$F$29000)*'7月'!$F$6) -> 0.66666667
Q15: 8月 | R15: =COUNTA('8月'!$F$14:$F$29000) -> 3 | S15: =SUM('8月'!$AL$14:$AL$29000)/(COUNTA('8月'!$F$14:$F$29000)*'8月'!$F$6) -> 0.77419355
Q16: 9月 | R16: =COUNTA('9月'!$F$14:$F$29000) -> 3 | S16: =SUM('9月'!$AK$14:$AK$29000)/(COUNTA('9月'!$F$14:$F$29000)*'9月'!$F$6) -> 0.71111111
Q17: 10月 | R17: =COUNTA('10月'!$F$14:$F$29000) -> 3 | S17: =SUM('10月'!$AL$14:$AL$29000)/(COUNTA('10月'!$F$14:$F$29000)*'10月'!$F$6) -> 0.7311828
Q18: 11月 | R18: =COUNTA('11月'!$F$14:$F$29000) -> 3 | S18: =SUM('11月'!$AK$14:$AK$29000)/(COUNTA('11月'!$F$14:$F$29000)*'11月'!$F$6) -> 0.74444444
Q19: 12月 | R19: =COUNTA('12月'!$F$14:$F$29000) -> 3 | S19: =SUM('12月'!$AL$14:$AL$29000)/(COUNTA('12月'!$F$14:$F$29000)*'12月'!$F$6) -> 0.64516129
S20: =SUM($S$8:$S$19)/12 -> 0.72156938

Sheet HR在线人才测评系统
B4: HR人才测评工具 技术研发岗位，市场营销岗，行政服务岗，中高层管理岗 MBTI、DISC、职业性格，职业兴趣，职业价值观，心理素质
B8: HR在线人才测评系统 | C8: https://www.zxgj.cn/m/tuance
B11: 职业性格和人格测评 | C11: https://www.xmcs.cn/d/zhiye

Sheet 1月
D4: 当前年月 | F4: 2023 | G4: 年 | H4: 1 | I4: 月 | L4: 姓名 | O4: 张三
D6: 应出勤天数 | F6: =DAY(DATE($F$4,$H$4+1,1)-1) -> 31 | G6: 天 | L6: 出勤天数 | O6: =VLOOKUP($O$4,$F$14:$AM$2999,33,FALSE) -> 29
D8: 考勤符号 | F8: √ | L8: 出勤率 | O8: =VLOOKUP($O$4,$F$14:$AM$2999,34,FALSE) -> 0.93
G11: =COUNTIF(G$14:G$2999,"√") -> 3 | H11: =COUNTIF(H$14:H$2999,"√") -> 2 | I11: =COUNTIF(I$14:I$2999,"√") -> 2 | J11: =COUNTIF(J$14:J$2999,"√") -> 3 | K11: =COUNTIF(K$14:K$2999,"√") -> 2 | L11: =COUNTIF(L$14:L$2999,"√") -> 1 | M11: =COUNTIF(M$14:M$2999,"√") -> 2 | N11: =COUNTIF(N$14:N$2999,"√") -> 1 | ... AK11: =COUNTIF(AK$14:AK$2999,"√") -> 2
F12: 姓名 | G12: =G13 -> 44927 | H12: =H13 -> 44928 | I12: =I13 -> 44929 | J12: =J13 -> 44930 | K12: =K13 -> 44931 | L12: =L13 -> 44932 | M12: =M13 -> 44933 | N12: =N13 -> 44934 | ... AK12: =AK13 -> 44957 | AL12: 出勤 天数 | AM12: 出勤率 | AN12: 其他 说明
G13: =DATE($F$4,$H$4,1) -> 44927 | H13: =G13+1 -> 44928 | I13: =H13+1 -> 44929 | J13: =I13+1 -> 44930 | K13: =J13+1 -> 44931 | L13: =K13+1 -> 44932 | M13: =L13+1 -> 44933 | N13: =M13+1 -> 44934 | O13: =N13+1 -> 44935 | ... AK13: =AJ13+1 -> 44957
F14: 张三 | G14: √ | H14: √ | I14: √ | J14: √ | K14: √ | L14: √ | M14: √ | N14: √ | P14: √ | Q14: √ | R14: √ | S14: √ | T14: √ | U14: √ | V14: √ | W14: √ | X14: √ | Y14: √ | Z14: √ | AA14: √ | AB14: √ | AC14: √ | AD14: √ | AE14: √ | AF14: √ | AG14: √ | AH14: √ | AI14: √ | AJ14: √ | AL14: =COUNTIF($G14:$AK14,"√") -> 29 | AM14: =ROUNDDOWN($AL14/$F$6,2) -> 0.93
F15: 李四 | G15: √ | H15: √ | J15: √ | K15: √ | M15: √ | O15: √ | P15: √ | Q15: √ | S15: √ | U15: √ | V15: √ | W15: √ | Y15: √ | Z15: √ | AA15: √ | AB15: √ | AD15: √ | AE15: √ | AG15: √ | AJ15: √ | AK15: √ | AL15: =COUNTIF($G15:$AK15,"√") -> 21 | AM15: =ROUNDDOWN($AL15/$F$6,2) -> 0.67
F16: 王五 | G16: √ | I16: √ | J16: √ | S16: √ | U16: √ | V16: √ | W16: √ | Y16: √ | Z16: √ | AA16: √ | AB16: √ | AD16: √ | AE16: √ | AF16: √ | AG16: √ | AH16: √ | AI16: √ | AJ16: √ | AK16: √ | AL16: =COUNTIF($G16:$AK16,"√") -> 19 | AM16: =ROUNDDOWN($AL16/$F$6,2) -> 0.61
F17: 稻儿 | AL17: =COUNTIF($G17:$AK17,"√") -> 0 | AM17: =ROUNDDOWN($AL17/$F$6,2) -> 0
AL18: =COUNTIF($G18:$AK18,"√") -> 0 | AM18: =ROUNDDOWN($AL18/$F$6,2) -> 0
AL19: =COUNTIF($G19:$AK19,"√") -> 0 | AM19: =ROUNDDOWN($AL19/$F$6,2) -> 0
AL20: =COUNTIF($G20:$AK20,"√") -> 0 | AM20: =ROUNDDOWN($AL20/$F$6,2) -> 0
AL21: =COUNTIF($G21:$AK21,"√") -> 0 | AM21: =ROUNDDOWN($AL21/$F$6,2) -> 0
AL22: =COUNTIF($G22:$AK22,"√") -> 0 | AM22: =ROUNDDOWN($AL22/$F$6,2) -> 0
AL23: =COUNTIF($G23:$AK23,"√") -> 0 | AM23: =ROUNDDOWN($AL23/$F$6,2) -> 0
AL24: =COUNTIF($G24:$AK24,"√") -> 0 | AM24: =ROUNDDOWN($AL24/$F$6,2) -> 0
AL25: =COUNTIF($G25:$AK25,"√") -> 0 | AM25: =ROUNDDOWN($AL25/$F$6,2) -> 0
AL26: =COUNTIF($G26:$AK26,"√") -> 0 | AM26: =ROUNDDOWN($AL26/$F$6,2) -> 0
AL27: =COUNTIF($G27:$AK27,"√") -> 0 | AM27: =ROUNDDOWN($AL27/$F$6,2) -> 0
AL28: =COUNTIF($G28:$AK28,"√") -> 0 | AM28: =ROUNDDOWN($AL28/$F$6,2) -> 0
AL29: =COUNTIF($G29:$AK29,"√") -> 0 | AM29: =ROUNDDOWN($AL29/$F$6,2) -> 0

Sheet 2月
D4: 当前年月 | F4: 2023 | G4: 年 | H4: 2 | I4: 月 | L4: 姓名 | O4: 张三
D6: 应出勤天数 | F6: =DAY(DATE($F$4,$H$4+1,1)-1) -> 28 | G6: 天 | L6: 出勤天数 | O6: =VLOOKUP($O$4,$F$14:$AJ$2999,30,FALSE) -> 27
D8: 考勤符号 | F8: √ | L8: 出勤率 | O8: =VLOOKUP($O$4,$F$14:$AJ$2999,31,FALSE) -> 0.96
G11: =COUNTIF(G$14:G$2999,"√") -> 3 | H11: =COUNTIF(H$14:H$2999,"√") -> 2 | I11: =COUNTIF(I$14:I$2999,"√") -> 3 | J11: =COUNTIF(J$14:J$2999,"√") -> 2 | K11: =COUNTIF(K$14:K$2999,"√") -> 2 | L11: =COUNTIF(L$14:L$2999,"√") -> 2 | M11: =COUNTIF(M$14:M$2999,"√") -> 3 | N11: =COUNTIF(N$14:N$2999,"√") -> 2 | ... AH11: =COUNTIF(AH$14:AH$2999,"√") -> 3
F12: 姓名 | G12: =G13 -> 44958 | H12: =H13 -> 44959 | I12: =I13 -> 44960 | J12: =J13 -> 44961 | K12: =K13 -> 44962 | L12: =L13 -> 44963 | M12: =M13 -> 44964 | N12: =N13 -> 44965 | ... AH12: =AH13 -> 44985 | AI12: 出勤 天数 | AJ12: 出勤率 | AK12: 其他 说明
G13: =DATE($F$4,$H$4,1) -> 44958 | H13: =G13+1 -> 44959 | I13: =H13+1 -> 44960 | J13: =I13+1 -> 44961 | K13: =J13+1 -> 44962 | L13: =K13+1 -> 44963 | M13: =L13+1 -> 44964 | N13: =M13+1 -> 44965 | O13: =N13+1 -> 44966 | ... AH13: =AG13+1 -> 44985
F14: 张三 | G14: √ | H14: √ | I14: √ | J14: √ | K14: √ | L14: √ | M14: √ | N14: √ | P14: √ | Q14: √ | R14: √ | S14: √ | T14: √ | U14: √ | V14: √ | W14: √ | X14: √ | Y14: √ | Z14: √ | AA14: √ | AB14: √ | AC14: √ | AD14: √ | AE14: √ | AF14: √ | AG14: √ | AH14: √ | AI14: =COUNTIF($G14:$AH14,"√") -> 27 | AJ14: =ROUNDDOWN($AI14/$F$6,2) -> 0.96
F15: 李四 | G15: √ | H15: √ | I15: √ | M15: √ | N15: √ | O15: √ | P15: √ | S15: √ | U15: √ | V15: √ | Y15: √ | Z15: √ | AA15: √ | AB15: √ | AG15: √ | AH15: √ | AI15: =COUNTIF($G15:$AH15,"√") -> 16 | AJ15: =ROUNDDOWN($AI15/$F$6,2) -> 0.57
F16: 王五 | G16: √ | I16: √ | J16: √ | K16: √ | L16: √ | M16: √ | W16: √ | Y16: √ | Z16: √ | AA16: √ | AB16: √ | AD16: √ | AE16: √ | AF16: √ | AG16: √ | AH16: √ | AI16: =COUNTIF($G16:$AH16,"√") -> 16 | AJ16: =ROUNDDOWN($AI16/$F$6,2) -> 0.57
AI17: =COUNTIF($G17:$AH17,"√") -> 0 | AJ17: =ROUNDDOWN($AI17/$F$6,2) -> 0
AI18: =COUNTIF($G18:$AH18,"√") -> 0 | AJ18: =ROUNDDOWN($AI18/$F$6,2) -> 0
AI19: =COUNTIF($G19:$AH19,"√") -> 0 | AJ19: =ROUNDDOWN($AI19/$F$6,2) -> 0
AI20: =COUNTIF($G20:$AH20,"√") -> 0 | AJ20: =ROUNDDOWN($AI20/$F$6,2) -> 0
AI21: =COUNTIF($G21:$AH21,"√") -> 0 | AJ21: =ROUNDDOWN($AI21/$F$6,2) -> 0
AI22: =COUNTIF($G22:$AH22,"√") -> 0 | AJ22: =ROUNDDOWN($AI22/$F$6,2) -> 0
AI23: =COUNTIF($G23:$AH23,"√") -> 0 | AJ23: =ROUNDDOWN($AI23/$F$6,2) -> 0
AI24: =COUNTIF($G24:$AH24,"√") -> 0 | AJ24: =ROUNDDOWN($AI24/$F$6,2) -> 0
AI25: =COUNTIF($G25:$AH25,"√") -> 0 | AJ25: =ROUNDDOWN($AI25/$F$6,2) -> 0
AI26: =COUNTIF($G26:$AH26,"√") -> 0 | AJ26: =ROUNDDOWN($AI26/$F$6,2) -> 0
AI27: =COUNTIF($G27:$AH27,"√") -> 0 | AJ27: =ROUNDDOWN($AI27/$F$6,2) -> 0
AI28: =COUNTIF($G28:$AH28,"√") -> 0 | AJ28: =ROUNDDOWN($AI28/$F$6,2) -> 0
AI29: =COUNTIF($G29:$AH29,"√") -> 0 | AJ29: =ROUNDDOWN($AI29/$F$6,2) -> 0

Sheet 3月
D4: 当前年月 | F4: 2023 | G4: 年 | H4: 3 | I4: 月 | L4: 姓名 | O4: 张三
D6: 应出勤天数 | F6: =DAY(DATE($F$4,$H$4+1,1)-1) -> 31 | G6: 天 | L6: 出勤天数 | O6: =VLOOKUP($O$4,$F$14:$AM$2999,33,FALSE) -> 20
D8: 考勤符号 | F8: √ | L8: 出勤率 | O8: =VLOOKUP($O$4,$F$14:$AM$2999,34,FALSE) -> 0.64
G11: =COUNTIF(G$14:G$2999,"√") -> 3 | H11: =COUNTIF(H$14:H$2999,"√") -> 1 | I11: =COUNTIF(I$14:I$2999,"√") -> 2 | J11: =COUNTIF(J$14:J$2999,"√") -> 3 | K11: =COUNTIF(K$14:K$2999,"√") -> 3 | L11: =COUNTIF(L$14:L$2999,"√") -> 2 | M11: =COUNTIF(M$14:M$2999,"√") -> 3 | N11: =COUNTIF(N$14:N$2999,"√") -> 3 | ... AK11: =COUNTIF(AK$14:AK$2999,"√") -> 2
F12: 姓名 | G12: =G13 -> 44986 | H12: =H13 -> 44987 | I12: =I13 -> 44988 | J12: =J13 -> 44989 | K12: =K13 -> 44990 | L12: =L13 -> 44991 | M12: =M13 -> 44992 | N12: =N13 -> 44993 | ... AK12: =AK13 -> 45016 | AL12: 出勤 天数 | AM12: 出勤率 | AN12: 其他 说明
G13: =DATE($F$4,$H$4,1) -> 44986 | H13: =G13+1 -> 44987 | I13: =H13+1 -> 44988 | J13: =I13+1 -> 44989 | K13: =J13+1 -> 44990 | L13: =K13+1 -> 44991 | M13: =L13+1 -> 44992 | N13: =M13+1 -> 44993 | O13: =N13+1 -> 44994 | ... AK13: =AJ13+1 -> 45016
F14: 张三 | G14: √ | H14: √ | I14: √ | J14: √ | K14: √ | L14: √ | M14: √ | N14: √ | P14: √ | Q14: √ | R14: √ | S14: √ | AC14: √ | AD14: √ | AE14: √ | AF14: √ | AG14: √ | AH14: √ | AI14: √ | AJ14: √ | AL14: =COUNTIF($G14:$AK14,"√") -> 20 | AM14: =ROUNDDOWN($AL14/$F$6,2) -> 0.64
F15: 李四 | G15: √ | J15: √ | K15: √ | M15: √ | N15: √ | O15: √ | P15: √ | Q15: √ | S15: √ | U15: √ | V15: √ | Z15: √ | AA15: √ | AD15: √ | AE15: √ | AG15: √ | AH15: √ | AJ15: √ | AK15: √ | AL15: =COUNTIF($G15:$AK15,"√") -> 19 | AM15: =ROUNDDOWN($AL15/$F$6,2) -> 0.61
F16: 王五 | G16: √ | I16: √ | J16: √ | K16: √ | L16: √ | M16: √ | N16: √ | O16: √ | P16: √ | Q16: √ | S16: √ | U16: √ | V16: √ | W16: √ | Y16: √ | Z16: √ | AA16: √ | AB16: √ | AD16: √ | AE16: √ | AF16: √ | AG16: √ | AH16: √ | AI16: √ | AJ16: √ | AK16: √ | AL16: =COUNTIF($G16:$AK16,"√") -> 26 | AM16: =ROUNDDOWN($AL16/$F$6,2) -> 0.83
AL17: =COUNTIF($G17:$AK17,"√") -> 0 | AM17: =ROUNDDOWN($AL17/$F$6,2) -> 0
AL18: =COUNTIF($G18:$AK18,"√") -> 0 | AM18: =ROUNDDOWN($AL18/$F$6,2) -> 0
AL19: =COUNTIF($G19:$AK19,"√") -> 0 | AM19: =ROUNDDOWN($AL19/$F$6,2) -> 0
AL20: =COUNTIF($G20:$AK20,"√") -> 0 | AM20: =ROUNDDOWN($AL20/$F$6,2) -> 0
AL21: =COUNTIF($G21:$AK21,"√") -> 0 | AM21: =ROUNDDOWN($AL21/$F$6,2) -> 0
AL22: =COUNTIF($G22:$AK22,"√") -> 0 | AM22: =ROUNDDOWN($AL22/$F$6,2) -> 0
AL23: =COUNTIF($G23:$AK23,"√") -> 0 | AM23: =ROUNDDOWN($AL23/$F$6,2) -> 0
AL24: =COUNTIF($G24:$AK24,"√") -> 0 | AM24: =ROUNDDOWN($AL24/$F$6,2) -> 0
AL25: =COUNTIF($G25:$AK25,"√") -> 0 | AM25: =ROUNDDOWN($AL25/$F$6,2) -> 0
AL26: =COUNTIF($G26:$AK26,"√") -> 0 | AM26: =ROUNDDOWN($AL26/$F$6,2) -> 0
AL27: =COUNTIF($G27:$AK27,"√") -> 0 | AM27: =ROUNDDOWN($AL27/$F$6,2) -> 0
AL28: =COUNTIF($G28:$AK28,"√") -> 0 | AM28: =ROUNDDOWN($AL28/$F$6,2) -> 0
AL29: =COUNTIF($G29:$AK29,"√") -> 0 | AM29: =ROUNDDOWN($AL29/$F$6,2) -> 0

Sheet 4月
D4: 当前年月 | F4: 2023 | G4: 年 | H4: 4 | I4: 月 | L4: 姓名 | O4: 张三
D6: 应出勤天数 | F6: =DAY(DATE($F$4,$H$4+1,1)-1) -> 30 | G6: 天 | L6: 出勤天数 | O6: =VLOOKUP($O$4,$F$14:$AL$2999,32,FALSE) -> 29
D8: 考勤符号 | F8: √ | L8: 出勤率 | O8: =VLOOKUP($O$4,$F$14:$AL$2999,33,FALSE) -> 0.96
G11: =COUNTIF(G$14:G$2999,"√") -> 3 | H11: =COUNTIF(H$14:H$2999,"√") -> 2 | I11: =COUNTIF(I$14:I$2999,"√") -> 2 | J11: =COUNTIF(J$14:J$2999,"√") -> 3 | K11: =COUNTIF(K$14:K$2999,"√") -> 3 | L11: =COUNTIF(L$14:L$2999,"√") -> 2 | M11: =COUNTIF(M$14:M$2999,"√") -> 3 | N11: =COUNTIF(N$14:N$2999,"√") -> 3 | ... AJ11: =COUNTIF(AJ$14:AJ$2999,"√") -> 3
F12: 姓名 | G12: =G13 -> 45017 | H12: =H13 -> 45018 | I12: =I13 -> 45019 | J12: =J13 -> 45020 | K12: =K13 -> 45021 | L12: =L13 -> 45022 | M12: =M13 -> 45023 | N12: =N13 -> 45024 | ... AJ12: =AJ13 -> 45046 | AK12: 出勤 天数 | AL12: 出勤率 | AM12: 其他 说明
G13: =DATE($F$4,$H$4,1) -> 45017 | H13: =G13+1 -> 45018 | I13: =H13+1 -> 45019 | J13: =I13+1 -> 45020 | K13: =J13+1 -> 45021 | L13: =K13+1 -> 45022 | M13: =L13+1 -> 45023 | N13: =M13+1 -> 45024 | O13: =N13+1 -> 45025 | ... AJ13: =AI13+1 -> 45046
F14: 张三 | G14: √ | H14: √ | I14: √ | J14: √ | K14: √ | L14: √ | M14: √ | N14: √ | P14: √ | Q14: √ | R14: √ | S14: √ | T14: √ | U14: √ | V14: √ | W14: √ | X14: √ | Y14: √ | Z14: √ | AA14: √ | AB14: √ | AC14: √ | AD14: √ | AE14: √ | AF14: √ | AG14: √ | AH14: √ | AI14: √ | AJ14: √ | AK14: =COUNTIF($G14:$AJ14,"√") -> 29 | AL14: =ROUNDDOWN($AK14/$F$6,2) -> 0.96
F15: 李四 | G15: √ | H15: √ | J15: √ | K15: √ | M15: √ | N15: √ | Q15: √ | S15: √ | U15: √ | V15: √ | Y15: √ | Z15: √ | AA15: √ | AD15: √ | AE15: √ | AG15: √ | AH15: √ | AJ15: √ | AK15: =COUNTIF($G15:$AJ15,"√") -> 18 | AL15: =ROUNDDOWN($AK15/$F$6,2) -> 0.6
F16: 王五 | G16: √ | I16: √ | J16: √ | K16: √ | L16: √ | M16: √ | N16: √ | O16: √ | P16: √ | Q16: √ | S16: √ | U16: √ | V16: √ | W16: √ | Y16: √ | Z16: √ | AA16: √ | AB16: √ | AD16: √ | AE16: √ | AF16: √ | AG16: √ | AH16: √ | AI16: √ | AJ16: √ | AK16: =COUNTIF($G16:$AJ16,"√") -> 25 | AL16: =ROUNDDOWN($AK16/$F$6,2) -> 0.83
AK17: =COUNTIF($G17:$AJ17,"√") -> 0 | AL17: =ROUNDDOWN($AK17/$F$6,2) -> 0
AK18: =COUNTIF($G18:$AJ18,"√") -> 0 | AL18: =ROUNDDOWN($AK18/$F$6,2) -> 0
AK19: =COUNTIF($G19:$AJ19,"√") -> 0 | AL19: =ROUNDDOWN($AK19/$F$6,2) -> 0
AK20: =COUNTIF($G20:$AJ20,"√") -> 0 | AL20: =ROUNDDOWN($AK20/$F$6,2) -> 0
AK21: =COUNTIF($G21:$AJ21,"√") -> 0 | AL21: =ROUNDDOWN($AK21/$F$6,2) -> 0
AK22: =COUNTIF($G22:$AJ22,"√") -> 0 | AL22: =ROUNDDOWN($AK22/$F$6,2) -> 0
AK23: =COUNTIF($G23:$AJ23,"√") -> 0 | AL23: =ROUNDDOWN($AK23/$F$6,2) -> 0
AK24: =COUNTIF($G24:$AJ24,"√") -> 0 | AL24: =ROUNDDOWN($AK24/$F$6,2) -> 0
AK25: =COUNTIF($G25:$AJ25,"√") -> 0 | AL25: =ROUNDDOWN($AK25/$F$6,2) -> 0
AK26: =COUNTIF($G26:$AJ26,"√") -> 0 | AL26: =ROUNDDOWN($AK26/$F$6,2) -> 0
AK27: =COUNTIF($G27:$AJ27,"√") -> 0 | AL27: =ROUNDDOWN($AK27/$F$6,2) -> 0
AK28: =COUNTIF($G28:$AJ28,"√") -> 0 | AL28: =ROUNDDOWN($AK28/$F$6,2) -> 0
AK29: =COUNTIF($G29:$AJ29,"√") -> 0 | AL29: =ROUNDDOWN($AK29/$F$6,2) -> 0

Sheet 5月
D4: 当前年月 | F4: 2023 | G4: 年 | H4: 5 | I4: 月 | L4: 姓名 | O4: 张三
D6: 应出勤天数 | F6: =DAY(DATE($F$4,$H$4+1,1)-1) -> 31 | G6: 天 | L6: 出勤天数 | O6: =VLOOKUP($O$4,$F$14:$AM$2999,33,FALSE) -> 29
D8: 考勤符号 | F8: √ | L8: 出勤率 | O8: =VLOOKUP($O$4,$F$14:$AM$2999,34,FALSE) -> 0.93
G11: =COUNTIF(G$14:G$2999,"√") -> 3 | H11: =COUNTIF(H$14:H$2999,"√") -> 2 | I11: =COUNTIF(I$14:I$2999,"√") -> 3 | J11: =COUNTIF(J$14:J$2999,"√") -> 3 | K11: =COUNTIF(K$14:K$2999,"√") -> 3 | L11: =COUNTIF(L$14:L$2999,"√") -> 2 | M11: =COUNTIF(M$14:M$2999,"√") -> 3 | N11: =COUNTIF(N$14:N$2999,"√") -> 3 | ... AK11: =COUNTIF(AK$14:AK$2999,"√") -> 2
F12: 姓名 | G12: =G13 -> 45047 | H12: =H13 -> 45048 | I12: =I13 -> 45049 | J12: =J13 -> 45050 | K12: =K13 -> 45051 | L12: =L13 -> 45052 | M12: =M13 -> 45053 | N12: =N13 -> 45054 | ... AK12: =AK13 -> 45077 | AL12: 出勤 天数 | AM12: 出勤率 | AN12: 其他 说明
G13: =DATE($F$4,$H$4,1) -> 45047 | H13: =G13+1 -> 45048 | I13: =H13+1 -> 45049 | J13: =I13+1 -> 45050 | K13: =J13+1 -> 45051 | L13: =K13+1 -> 45052 | M13: =L13+1 -> 45053 | N13: =M13+1 -> 45054 | O13: =N13+1 -> 45055 | ... AK13: =AJ13+1 -> 45077
F14: 张三 | G14: √ | H14: √ | I14: √ | J14: √ | K14: √ | L14: √ | M14: √ | N14: √ | P14: √ | Q14: √ | R14: √ | S14: √ | T14: √ | U14: √ | V14: √ | W14: √ | X14: √ | Y14: √ | Z14: √ | AA14: √ | AB14: √ | AC14: √ | AD14: √ | AE14: √ | AF14: √ | AG14: √ | AH14: √ | AI14: √ | AJ14: √ | AL14: =COUNTIF($G14:$AK14,"√") -> 29 | AM14: =ROUNDDOWN($AL14/$F$6,2) -> 0.93
F15: 李四 | G15: √ | H15: √ | I15: √ | J15: √ | K15: √ | M15: √ | N15: √ | O15: √ | P15: √ | Q15: √ | S15: √ | U15: √ | V15: √ | W15: √ | X15: √ | AD15: √ | AE15: √ | AG15: √ | AH15: √ | AJ15: √ | AK15: √ | AL15: =COUNTIF($G15:$AK15,"√") -> 21 | AM15: =ROUNDDOWN($AL15/$F$6,2) -> 0.67
F16: 王五 | G16: √ | I16: √ | J16: √ | K16: √ | L16: √ | M16: √ | N16: √ | O16: √ | P16: √ | Q16: √ | S16: √ | U16: √ | V16: √ | W16: √ | Y16: √ | Z16: √ | AA16: √ | AB16: √ | AD16: √ | AE16: √ | AF16: √ | AG16: √ | AH16: √ | AI16: √ | AJ16: √ | AK16: √ | AL16: =COUNTIF($G16:$AK16,"√") -> 26 | AM16: =ROUNDDOWN($AL16/$F$6,2) -> 0.83
AL17: =COUNTIF($G17:$AK17,"√") -> 0 | AM17: =ROUNDDOWN($AL17/$F$6,2) -> 0
AL18: =COUNTIF($G18:$AK18,"√") -> 0 | AM18: =ROUNDDOWN($AL18/$F$6,2) -> 0
AL19: =COUNTIF($G19:$AK19,"√") -> 0 | AM19: =ROUNDDOWN($AL19/$F$6,2) -> 0
AL20: =COUNTIF($G20:$AK20,"√") -> 0 | AM20: =ROUNDDOWN($AL20/$F$6,2) -> 0
AL21: =COUNTIF($G21:$AK21,"√") -> 0 | AM21: =ROUNDDOWN($AL21/$F$6,2) -> 0
AL22: =COUNTIF($G22:$AK22,"√") -> 0 | AM22: =ROUNDDOWN($AL22/$F$6,2) -> 0
AL23: =COUNTIF($G23:$AK23,"√") -> 0 | AM23: =ROUNDDOWN($AL23/$F$6,2) -> 0
AL24: =COUNTIF($G24:$AK24,"√") -> 0 | AM24: =ROUNDDOWN($AL24/$F$6,2) -> 0
AL25: =COUNTIF($G25:$AK25,"√") -> 0 | AM25: =ROUNDDOWN($AL25/$F$6,2) -> 0
AL26: =COUNTIF($G26:$AK26,"√") -> 0 | AM26: =ROUNDDOWN($AL26/$F$6,2) -> 0
AL27: =COUNTIF($G27:$AK27,"√") -> 0 | AM27: =ROUNDDOWN($AL27/$F$6,2) -> 0
AL28: =COUNTIF($G28:$AK28,"√") -> 0 | AM28: =ROUNDDOWN($AL28/$F$6,2) -> 0
AL29: =COUNTIF($G29:$AK29,"√") -> 0 | AM29: =ROUNDDOWN($AL29/$F$6,2) -> 0

Sheet 6月
D4: 当前年月 | F4: 2023 | G4: 年 | H4: 6 | I4: 月 | L4: 姓名 | O4: 张三
D6: 应出勤天数 | F6: =DAY(DATE($F$4,$H$4+1,1)-1) -> 30 | G6: 天 | L6: 出勤天数 | O6: =VLOOKUP($O$4,$F$14:$AL$2999,32,FALSE) -> 29
D8: 考勤符号 | F8: √ | L8: 出勤率 | O8: =VLOOKUP($O$4,$F$14:$AL$2999,33,FALSE) -> 0.96
G11: =COUNTIF(G$14:G$2999,"√") -> 3 | H11: =COUNTIF(H$14:H$2999,"√") -> 2 | I11: =COUNTIF(I$14:I$2999,"√") -> 3 | J11: =COUNTIF(J$14:J$2999,"√") -> 3 | K11: =COUNTIF(K$14:K$2999,"√") -> 3 | L11: =COUNTIF(L$14:L$2999,"√") -> 2 | M11: =COUNTIF(M$14:M$2999,"√") -> 3 | N11: =COUNTIF(N$14:N$2999,"√") -> 3 | ... AJ11: =COUNTIF(AJ$14:AJ$2999,"√") -> 3
F12: 姓名 | G12: =G13 -> 45078 | H12: =H13 -> 45079 | I12: =I13 -> 45080 | J12: =J13 -> 45081 | K12: =K13 -> 45082 | L12: =L13 -> 45083 | M12: =M13 -> 45084 | N12: =N13 -> 45085 | ... AJ12: =AJ13 -> 45107 | AK12: 出勤 天数 | AL12: 出勤率 | AM12: 其他 说明
G13: =DATE($F$4,$H$4,1) -> 45078 | H13: =G13+1 -> 45079 | I13: =H13+1 -> 45080 | J13: =I13+1 -> 45081 | K13: =J13+1 -> 45082 | L13: =K13+1 -> 45083 | M13: =L13+1 -> 45084 | N13: =M13+1 -> 45085 | O13: =N13+1 -> 45086 | ... AJ13: =AI13+1 -> 45107
F14: 张三 | G14: √ | H14: √ | I14: √ | J14: √ | K14: √ | L14: √ | M14: √ | N14: √ | P14: √ | Q14: √ | R14: √ | S14: √ | T14: √ | U14: √ | V14: √ | W14: √ | X14: √ | Y14: √ | Z14: √ | AA14: √ | AB14: √ | AC14: √ | AD14: √ | AE14: √ | AF14: √ | AG14: √ | AH14: √ | AI14: √ | AJ14: √ | AK14: =COUNTIF($G14:$AJ14,"√") -> 29 | AL14: =ROUNDDOWN($AK14/$F$6,2) -> 0.96
F15: 李四 | G15: √ | H15: √ | I15: √ | J15: √ | K15: √ | M15: √ | N15: √ | O15: √ | P15: √ | Q15: √ | S15: √ | U15: √ | Z15: √ | AA15: √ | AB15: √ | AC15: √ | AG15: √ | AH15: √ | AJ15: √ | AK15: =COUNTIF($G15:$AJ15,"√") -> 19 | AL15: =ROUNDDOWN($AK15/$F$6,2) -> 0.63
F16: 王五 | G16: √ | I16: √ | J16: √ | K16: √ | L16: √ | M16: √ | N16: √ | O16: √ | P16: √ | Q16: √ | S16: √ | U16: √ | V16: √ | W16: √ | Y16: √ | Z16: √ | AA16: √ | AB16: √ | AD16: √ | AE16: √ | AF16: √ | AG16: √ | AH16: √ | AI16: √ | AJ16: √ | AK16: =COUNTIF($G16:$AJ16,"√") -> 25 | AL16: =ROUNDDOWN($AK16/$F$6,2) -> 0.83
AK17: =COUNTIF($G17:$AJ17,"√") -> 0 | AL17: =ROUNDDOWN($AK17/$F$6,2) -> 0
AK18: =COUNTIF($G18:$AJ18,"√") -> 0 | AL18: =ROUNDDOWN($AK18/$F$6,2) -> 0
AK19: =COUNTIF($G19:$AJ19,"√") -> 0 | AL19: =ROUNDDOWN($AK19/$F$6,2) -> 0
AK20: =COUNTIF($G20:$AJ20,"√") -> 0 | AL20: =ROUNDDOWN($AK20/$F$6,2) -> 0
AK21: =COUNTIF($G21:$AJ21,"√") -> 0 | AL21: =ROUNDDOWN($AK21/$F$6,2) -> 0
AK22: =COUNTIF($G22:$AJ22,"√") -> 0 | AL22: =ROUNDDOWN($AK22/$F$6,2) -> 0
AK23: =COUNTIF($G23:$AJ23,"√") -> 0 | AL23: =ROUNDDOWN($AK23/$F$6,2) -> 0
AK24: =COUNTIF($G24:$AJ24,"√") -> 0 | AL24: =ROUNDDOWN($AK24/$F$6,2) -> 0
AK25: =COUNTIF($G25:$AJ25,"√") -> 0 | AL25: =ROUNDDOWN($AK25/$F$6,2) -> 0
AK26: =COUNTIF($G26:$AJ26,"√") -> 0 | AL26: =ROUNDDOWN($AK26/$F$6,2) -> 0
AK27: =COUNTIF($G27:$AJ27,"√") -> 0 | AL27: =ROUNDDOWN($AK27/$F$6,2) -> 0
AK28: =COUNTIF($G28:$AJ28,"√") -> 0 | AL28: =ROUNDDOWN($AK28/$F$6,2) -> 0
AK29: =COUNTIF($G29:$AJ29,"√") -> 0 | AL29: =ROUNDDOWN($AK29/$F$6,2) -> 0

Sheet 7月
D4: 当前年月 | F4: 2023 | G4: 年 | H4: 7 | I4: 月 | L4: 姓名 | O4: 张三
D6: 应出勤天数 | F6: =DAY(DATE($F$4,$H$4+1,1)-1) -> 31 | G6: 天 | L6: 出勤天数 | O6: =VLOOKUP($O$4,$F$14:$AM$2999,33,FALSE) -> 19
D8: 考勤符号 | F8: √ | L8: 出勤率 | O8: =VLOOKUP($O$4,$F$14:$AM$2999,34,FALSE) -> 0.61
G11: =COUNTIF(G$14:G$2999,"√") -> 3 | H11: =COUNTIF(H$14:H$2999,"√") -> 2 | I11: =COUNTIF(I$14:I$2999,"√") -> 3 | J11: =COUNTIF(J$14:J$2999,"√") -> 3 | K11: =COUNTIF(K$14:K$2999,"√") -> 3 | L11: =COUNTIF(L$14:L$2999,"√") -> 2 | M11: =COUNTIF(M$14:M$2999,"√") -> 3 | N11: =COUNTIF(N$14:N$2999,"√") -> 3 | ... AK11: =COUNTIF(AK$14:AK$2999,"√") -> 3
F12: 姓名 | G12: =G13 -> 45108 | H12: =H13 -> 45109 | I12: =I13 -> 45110 | J12: =J13 -> 45111 | K12: =K13 -> 45112 | L12: =L13 -> 45113 | M12: =M13 -> 45114 | N12: =N13 -> 45115 | ... AK12: =AK13 -> 45138 | AL12: 出勤 天数 | AM12: 出勤率 | AN12: 其他 说明
G13: =DATE($F$4,$H$4,1) -> 45108 | H13: =G13+1 -> 45109 | I13: =H13+1 -> 45110 | J13: =I13+1 -> 45111 | K13: =J13+1 -> 45112 | L13: =K13+1 -> 45113 | M13: =L13+1 -> 45114 | N13: =M13+1 -> 45115 | O13: =N13+1 -> 45116 | ... AK13: =AJ13+1 -> 45138
F14: 张三 | G14: √ | H14: √ | I14: √ | J14: √ | K14: √ | L14: √ | M14: √ | N14: √ | P14: √ | Q14: √ | R14: √ | S14: √ | T14: √ | AF14: √ | AG14: √ | AH14: √ | AI14: √ | AJ14: √ | AK14: √ | AL14: =COUNTIF($G14:$AK14,"√") -> 19 | AM14: =ROUNDDOWN($AL14/$F$6,2) -> 0.61
F15: 李四 | G15: √ | H15: √ | I15: √ | J15: √ | K15: √ | M15: √ | N15: √ | O15: √ | P15: √ | Q15: √ | S15: √ | U15: √ | V15: √ | W15: √ | AE15: √ | AG15: √ | AH15: √ | AK15: √ | AL15: =COUNTIF($G15:$AK15,"√") -> 18 | AM15: =ROUNDDOWN($AL15/$F$6,2) -> 0.58
F16: 王五 | G16: √ | I16: √ | J16: √ | K16: √ | L16: √ | M16: √ | N16: √ | O16: √ | P16: √ | Q16: √ | S16: √ | U16: √ | V16: √ | W16: √ | Y16: √ | Z16: √ | AA16: √ | AB16: √ | AD16: √ | AE16: √ | AF16: √ | AG16: √ | AH16: √ | AI16: √ | AK16: √ | AL16: =COUNTIF($G16:$AK16,"√") -> 25 | AM16: =ROUNDDOWN($AL16/$F$6,2) -> 0.8
AL17: =COUNTIF($G17:$AK17,"√") -> 0 | AM17: =ROUNDDOWN($AL17/$F$6,2) -> 0
AL18: =COUNTIF($G18:$AK18,"√") -> 0 | AM18: =ROUNDDOWN($AL18/$F$6,2) -> 0
AL19: =COUNTIF($G19:$AK19,"√") -> 0 | AM19: =ROUNDDOWN($AL19/$F$6,2) -> 0
AL20: =COUNTIF($G20:$AK20,"√") -> 0 | AM20: =ROUNDDOWN($AL20/$F$6,2) -> 0
AL21: =COUNTIF($G21:$AK21,"√") -> 0 | AM21: =ROUNDDOWN($AL21/$F$6,2) -> 0
AL22: =COUNTIF($G22:$AK22,"√") -> 0 | AM22: =ROUNDDOWN($AL22/$F$6,2) -> 0
AL23: =COUNTIF($G23:$AK23,"√") -> 0 | AM23: =ROUNDDOWN($AL23/$F$6,2) -> 0
AL24: =COUNTIF($G24:$AK24,"√") -> 0 | AM24: =ROUNDDOWN($AL24/$F$6,2) -> 0
AL25: =COUNTIF($G25:$AK25,"√") -> 0 | AM25: =ROUNDDOWN($AL25/$F$6,2) -> 0
AL26: =COUNTIF($G26:$AK26,"√") -> 0 | AM26: =ROUNDDOWN($AL26/$F$6,2) -> 0
AL27: =COUNTIF($G27:$AK27,"√") -> 0 | AM27: =ROUNDDOWN($AL27/$F$6,2) -> 0
AL28: =COUNTIF($G28:$AK28,"√") -> 0 | AM28: =ROUNDDOWN($AL28/$F$6,2) -> 0
AL29: =COUNTIF($G29:$AK29,"√") -> 0 | AM29: =ROUNDDOWN($AL29/$F$6,2) -> 0

Sheet 8月
D4: 当前年月 | F4: 2023 | G4: 年 | H4: 8 | I4: 月 | L4: 姓名 | O4: 张三
D6: 应出勤天数 | F6: =DAY(DATE($F$4,$H$4+1,1)-1) -> 31 | G6: 天 | L6: 出勤天数 | O6: =VLOOKUP($O$4,$F$14:$AM$2999,33,FALSE) -> 23
D8: 考勤符号 | F8: √ | L8: 出勤率 | O8: =VLOOKUP($O$4,$F$14:$AM$2999,34,FALSE) -> 0.74
G11: =COUNTIF(G$14:G$2999,"√") -> 3 | H11: =COUNTIF(H$14:H$2999,"√") -> 2 | I11: =COUNTIF(I$14:I$2999,"√") -> 3 | J11: =COUNTIF(J$14:J$2999,"√") -> 3 | K11: =COUNTIF(K$14:K$2999,"√") -> 3 | L11: =COUNTIF(L$14:L$2999,"√") -> 2 | M11: =COUNTIF(M$14:M$2999,"√") -> 3 | N11: =COUNTIF(N$14:N$2999,"√") -> 3 | ... AK11: =COUNTIF(AK$14:AK$2999,"√") -> 3
F12: 姓名 | G12: =G13 -> 45139 | H12: =H13 -> 45140 | I12: =I13 -> 45141 | J12: =J13 -> 45142 | K12: =K13 -> 45143 | L12: =L13 -> 45144 | M12: =M13 -> 45145 | N12: =N13 -> 45146 | ... AK12: =AK13 -> 45169 | AL12: 出勤 天数 | AM12: 出勤率 | AN12: 其他 说明
G13: =DATE($F$4,$H$4,1) -> 45139 | H13: =G13+1 -> 45140 | I13: =H13+1 -> 45141 | J13: =I13+1 -> 45142 | K13: =J13+1 -> 45143 | L13: =K13+1 -> 45144 | M13: =L13+1 -> 45145 | N13: =M13+1 -> 45146 | O13: =N13+1 -> 45147 | ... AK13: =AJ13+1 -> 45169
F14: 张三 | G14: √ | H14: √ | I14: √ | J14: √ | K14: √ | L14: √ | M14: √ | N14: √ | P14: √ | Q14: √ | R14: √ | Z14: √ | AA14: √ | AB14: √ | AC14: √ | AD14: √ | AE14: √ | AF14: √ | AG14: √ | AH14: √ | AI14: √ | AJ14: √ | AK14: √ | AL14: =COUNTIF($G14:$AK14,"√") -> 23 | AM14: =ROUNDDOWN($AL14/$F$6,2) -> 0.74
F15: 李四 | G15: √ | H15: √ | I15: √ | J15: √ | K15: √ | M15: √ | N15: √ | O15: √ | P15: √ | Q15: √ | S15: √ | U15: √ | V15: √ | Y15: √ | Z15: √ | AA15: √ | AB15: √ | AC15: √ | AD15: √ | AE15: √ | AG15: √ | AH15: √ | AJ15: √ | AK15: √ | AL15: =COUNTIF($G15:$AK15,"√") -> 24 | AM15: =ROUNDDOWN($AL15/$F$6,2) -> 0.77
F16: 王五 | G16: √ | I16: √ | J16: √ | K16: √ | L16: √ | M16: √ | N16: √ | O16: √ | P16: √ | Q16: √ | S16: √ | U16: √ | V16: √ | W16: √ | Y16: √ | Z16: √ | AA16: √ | AB16: √ | AD16: √ | AE16: √ | AF16: √ | AG16: √ | AH16: √ | AI16: √ | AK16: √ | AL16: =COUNTIF($G16:$AK16,"√") -> 25 | AM16: =ROUNDDOWN($AL16/$F$6,2) -> 0.8
AL17: =COUNTIF($G17:$AK17,"√") -> 0 | AM17: =ROUNDDOWN($AL17/$F$6,2) -> 0
AL18: =COUNTIF($G18:$AK18,"√") -> 0 | AM18: =ROUNDDOWN($AL18/$F$6,2) -> 0
AL19: =COUNTIF($G19:$AK19,"√") -> 0 | AM19: =ROUNDDOWN($AL19/$F$6,2) -> 0
AL20: =COUNTIF($G20:$AK20,"√") -> 0 | AM20: =ROUNDDOWN($AL20/$F$6,2) -> 0
AL21: =COUNTIF($G21:$AK21,"√") -> 0 | AM21: =ROUNDDOWN($AL21/$F$6,2) -> 0
AL22: =COUNTIF($G22:$AK22,"√") -> 0 | AM22: =ROUNDDOWN($AL22/$F$6,2) -> 0
AL23: =COUNTIF($G23:$AK23,"√") -> 0 | AM23: =ROUNDDOWN($AL23/$F$6,2) -> 0
AL24: =COUNTIF($G24:$AK24,"√") -> 0 | AM24: =ROUNDDOWN($AL24/$F$6,2) -> 0
AL25: =COUNTIF($G25:$AK25,"√") -> 0 | AM25: =ROUNDDOWN($AL25/$F$6,2) -> 0
AL26: =COUNTIF($G26:$AK26,"√") -> 0 | AM26: =ROUNDDOWN($AL26/$F$6,2) -> 0
AL27: =COUNTIF($G27:$AK27,"√") -> 0 | AM27: =ROUNDDOWN($AL27/$F$6,2) -> 0
AL28: =COUNTIF($G28:$AK28,"√") -> 0 | AM28: =ROUNDDOWN($AL28/$F$6,2) -> 0
AL29: =COUNTIF($G29:$AK29,"√") -> 0 | AM29: =ROUNDDOWN($AL29/$F$6,2) -> 0

Sheet 9月
D4: 当前年月 | F4: 2023 | G4: 年 | H4: 9 | I4: 月 | L4: 姓名 | O4: 张三
D6: 应出勤天数 | F6: =DAY(DATE($F$4,$H$4+1,1)-1) -> 30 | G6: 天 | L6: 出勤天数 | O6: =VLOOKUP($O$4,$F$14:$AL$2999,32,FALSE) -> 21
D8: 考勤符号 | F8: √ | L8: 出勤率 | O8: =VLOOKUP($O$4,$F$14:$AL$2999,33,FALSE) -> 0.7
G11: =COUNTIF(G$14:G$2999,"√") -> 3 | H11: =COUNTIF(H$14:H$2999,"√") -> 2 | I11: =COUNTIF(I$14:I$2999,"√") -> 3 | J11: =COUNTIF(J$14:J$2999,"√") -> 3 | K11: =COUNTIF(K$14:K$2999,"√") -> 3 | L11: =COUNTIF(L$14:L$2999,"√") -> 2 | M11: =COUNTIF(M$14:M$2999,"√") -> 3 | N11: =COUNTIF(N$14:N$2999,"√") -> 3 | ... AJ11: =COUNTIF(AJ$14:AJ$2999,"√") -> 3
F12: 姓名 | G12: =G13 -> 45170 | H12: =H13 -> 45171 | I12: =I13 -> 45172 | J12: =J13 -> 45173 | K12: =K13 -> 45174 | L12: =L13 -> 45175 | M12: =M13 -> 45176 | N12: =N13 -> 45177 | ... AJ12: =AJ13 -> 45199 | AK12: 出勤 天数 | AL12: 出勤率 | AM12: 其他 说明
G13: =DATE($F$4,$H$4,1) -> 45170 | H13: =G13+1 -> 45171 | I13: =H13+1 -> 45172 | J13: =I13+1 -> 45173 | K13: =J13+1 -> 45174 | L13: =K13+1 -> 45175 | M13: =L13+1 -> 45176 | N13: =M13+1 -> 45177 | O13: =N13+1 -> 45178 | ... AJ13: =AI13+1 -> 45199
F14: 张三 | G14: √ | H14: √ | I14: √ | J14: √ | K14: √ | L14: √ | M14: √ | N14: √ | P14: √ | Q14: √ | R14: √ | AA14: √ | AB14: √ | AC14: √ | AD14: √ | AE14: √ | AF14: √ | AG14: √ | AH14: √ | AI14: √ | AJ14: √ | AK14: =COUNTIF($G14:$AJ14,"√") -> 21 | AL14: =ROUNDDOWN($AK14/$F$6,2) -> 0.7
F15: 李四 | G15: √ | H15: √ | I15: √ | J15: √ | K15: √ | M15: √ | N15: √ | O15: √ | P15: √ | Q15: √ | S15: √ | U15: √ | V15: √ | W15: √ | X15: √ | AG15: √ | AH15: √ | AJ15: √ | AK15: =COUNTIF($G15:$AJ15,"√") -> 18 | AL15: =ROUNDDOWN($AK15/$F$6,2) -> 0.6
F16: 王五 | G16: √ | I16: √ | J16: √ | K16: √ | L16: √ | M16: √ | N16: √ | O16: √ | P16: √ | Q16: √ | S16: √ | U16: √ | V16: √ | W16: √ | Y16: √ | Z16: √ | AA16: √ | AB16: √ | AD16: √ | AE16: √ | AF16: √ | AG16: √ | AH16: √ | AI16: √ | AJ16: √ | AK16: =COUNTIF($G16:$AJ16,"√") -> 25 | AL16: =ROUNDDOWN($AK16/$F$6,2) -> 0.83
AK17: =COUNTIF($G17:$AJ17,"√") -> 0 | AL17: =ROUNDDOWN($AK17/$F$6,2) -> 0
AK18: =COUNTIF($G18:$AJ18,"√") -> 0 | AL18: =ROUNDDOWN($AK18/$F$6,2) -> 0
AK19: =COUNTIF($G19:$AJ19,"√") -> 0 | AL19: =ROUNDDOWN($AK19/$F$6,2) -> 0
AK20: =COUNTIF($G20:$AJ20,"√") -> 0 | AL20: =ROUNDDOWN($AK20/$F$6,2) -> 0
AK21: =COUNTIF($G21:$AJ21,"√") -> 0 | AL21: =ROUNDDOWN($AK21/$F$6,2) -> 0
AK22: =COUNTIF($G22:$AJ22,"√") -> 0 | AL22: =ROUNDDOWN($AK22/$F$6,2) -> 0
AK23: =COUNTIF($G23:$AJ23,"√") -> 0 | AL23: =ROUNDDOWN($AK23/$F$6,2) -> 0
AK24: =COUNTIF($G24:$AJ24,"√") -> 0 | AL24: =ROUNDDOWN($AK24/$F$6,2) -> 0
AK25: =COUNTIF($G25:$AJ25,"√") -> 0 | AL25: =ROUNDDOWN($AK25/$F$6,2) -> 0
AK26: =COUNTIF($G26:$AJ26,"√") -> 0 | AL26: =ROUNDDOWN($AK26/$F$6,2) -> 0
AK27: =COUNTIF($G27:$AJ27,"√") -> 0 | AL27: =ROUNDDOWN($AK27/$F$6,2) -> 0
AK28: =COUNTIF($G28:$AJ28,"√") -> 0 | AL28: =ROUNDDOWN($AK28/$F$6,2) -> 0
AK29: =COUNTIF($G29:$AJ29,"√") -> 0 | AL29: =ROUNDDOWN($AK29/$F$6,2) -> 0

Sheet 10月
D4: 当前年月 | F4: 2023 | G4: 年 | H4: 10 | I4: 月 | L4: 姓名 | O4: 张三
D6: 应出勤天数 | F6: =DAY(DATE($F$4,$H$4+1,1)-1) -> 31 | G6: 天 | L6: 出勤天数 | O6: =VLOOKUP($O$4,$F$14:$AM$2999,33,FALSE) -> 25
D8: 考勤符号 | F8: √ | L8: 出勤率 | O8: =VLOOKUP($O$4,$F$14:$AM$2999,34,FALSE) -> 0.8
G11: =COUNTIF(G$14:G$2999,"√") -> 3 | H11: =COUNTIF(H$14:H$2999,"√") -> 2 | I11: =COUNTIF(I$14:I$2999,"√") -> 3 | J11: =COUNTIF(J$14:J$2999,"√") -> 3 | K11: =COUNTIF(K$14:K$2999,"√") -> 3 | L11: =COUNTIF(L$14:L$2999,"√") -> 2 | M11: =COUNTIF(M$14:M$2999,"√") -> 3 | N11: =COUNTIF(N$14:N$2999,"√") -> 3 | ... AK11: =COUNTIF(AK$14:AK$2999,"√") -> 1
F12: 姓名 | G12: =G13 -> 45200 | H12: =H13 -> 45201 | I12: =I13 -> 45202 | J12: =J13 -> 45203 | K12: =K13 -> 45204 | L12: =L13 -> 45205 | M12: =M13 -> 45206 | N12: =N13 -> 45207 | ... AK12: =AK13 -> 45230 | AL12: 出勤 天数 | AM12: 出勤率 | AN12: 其他 说明
G13: =DATE($F$4,$H$4,1) -> 45200 | H13: =G13+1 -> 45201 | I13: =H13+1 -> 45202 | J13: =I13+1 -> 45203 | K13: =J13+1 -> 45204 | L13: =K13+1 -> 45205 | M13: =L13+1 -> 45206 | N13: =M13+1 -> 45207 | O13: =N13+1 -> 45208 | ... AK13: =AJ13+1 -> 45230
F14: 张三 | G14: √ | H14: √ | I14: √ | J14: √ | K14: √ | L14: √ | M14: √ | N14: √ | P14: √ | Q14: √ | R14: √ | S14: √ | T14: √ | U14: √ | V14: √ | W14: √ | X14: √ | Y14: √ | Z14: √ | AA14: √ | AB14: √ | AG14: √ | AH14: √ | AI14: √ | AJ14: √ | AL14: =COUNTIF($G14:$AK14,"√") -> 25 | AM14: =ROUNDDOWN($AL14/$F$6,2) -> 0.8
F15: 李四 | G15: √ | H15: √ | I15: √ | J15: √ | K15: √ | M15: √ | N15: √ | O15: √ | P15: √ | Q15: √ | S15: √ | U15: √ | V15: √ | W15: √ | X15: √ | Y15: √ | Z15: √ | AL15: =COUNTIF($G15:$AK15,"√") -> 17 | AM15: =ROUNDDOWN($AL15/$F$6,2) -> 0.54
F16: 王五 | G16: √ | I16: √ | J16: √ | K16: √ | L16: √ | M16: √ | N16: √ | O16: √ | P16: √ | Q16: √ | S16: √ | U16: √ | V16: √ | W16: √ | Y16: √ | Z16: √ | AA16: √ | AB16: √ | AD16: √ | AE16: √ | AF16: √ | AG16: √ | AH16: √ | AI16: √ | AJ16: √ | AK16: √ | AL16: =COUNTIF($G16:$AK16,"√") -> 26 | AM16: =ROUNDDOWN($AL16/$F$6,2) -> 0.83
AL17: =COUNTIF($G17:$AK17,"√") -> 0 | AM17: =ROUNDDOWN($AL17/$F$6,2) -> 0
AL18: =COUNTIF($G18:$AK18,"√") -> 0 | AM18: =ROUNDDOWN($AL18/$F$6,2) -> 0
AL19: =COUNTIF($G19:$AK19,"√") -> 0 | AM19: =ROUNDDOWN($AL19/$F$6,2) -> 0
AL20: =COUNTIF($G20:$AK20,"√") -> 0 | AM20: =ROUNDDOWN($AL20/$F$6,2) -> 0
AL21: =COUNTIF($G21:$AK21,"√") -> 0 | AM21: =ROUNDDOWN($AL21/$F$6,2) -> 0
AL22: =COUNTIF($G22:$AK22,"√") -> 0 | AM22: =ROUNDDOWN($AL22/$F$6,2) -> 0
AL23: =COUNTIF($G23:$AK23,"√") -> 0 | AM23: =ROUNDDOWN($AL23/$F$6,2) -> 0
AL24: =COUNTIF($G24:$AK24,"√") -> 0 | AM24: =ROUNDDOWN($AL24/$F$6,2) -> 0
AL25: =COUNTIF($G25:$AK25,"√") -> 0 | AM25: =ROUNDDOWN($AL25/$F$6,2) -> 0
AL26: =COUNTIF($G26:$AK26,"√") -> 0 | AM26: =ROUNDDOWN($AL26/$F$6,2) -> 0
AL27: =COUNTIF($G27:$AK27,"√") -> 0 | AM27: =ROUNDDOWN($AL27/$F$6,2) -> 0
AL28: =COUNTIF($G28:$AK28,"√") -> 0 | AM28: =ROUNDDOWN($AL28/$F$6,2) -> 0
AL29: =COUNTIF($G29:$AK29,"√") -> 0 | AM29: =ROUNDDOWN($AL29/$F$6,2) -> 0

Sheet 11月
D4: 当前年月 | F4: 2023 | G4: 年 | H4: 11 | I4: 月 | L4: 姓名 | O4: 张三
D6: 应出勤天数 | F6: =DAY(DATE($F$4,$H$4+1,1)-1) -> 30 | G6: 天 | L6: 出勤天数 | O6: =VLOOKUP($O$4,$F$14:$AL$2999,32,FALSE) -> 29
D8: 考勤符号 | F8: √ | L8: 出勤率 | O8: =VLOOKUP($O$4,$F$14:$AL$2999,33,FALSE) -> 0.96
G11: =COUNTIF(G$14:G$2999,"√") -> 3 | H11: =COUNTIF(H$14:H$2999,"√") -> 2 | I11: =COUNTIF(I$14:I$2999,"√") -> 3 | J11: =COUNTIF(J$14:J$2999,"√") -> 3 | K11: =COUNTIF(K$14:K$2999,"√") -> 3 | L11: =COUNTIF(L$14:L$2999,"√") -> 2 | M11: =COUNTIF(M$14:M$2999,"√") -> 2 | N11: =COUNTIF(N$14:N$2999,"√") -> 2 | ... AJ11: =COUNTIF(AJ$14:AJ$2999,"√") -> 3
F12: 姓名 | G12: =G13 -> 45231 | H12: =H13 -> 45232 | I12: =I13 -> 45233 | J12: =J13 -> 45234 | K12: =K13 -> 45235 | L12: =L13 -> 45236 | M12: =M13 -> 45237 | N12: =N13 -> 45238 | ... AJ12: =AJ13 -> 45260 | AK12: 出勤 天数 | AL12: 出勤率 | AM12: 其他 说明
G13: =DATE($F$4,$H$4,1) -> 45231 | H13: =G13+1 -> 45232 | I13: =H13+1 -> 45233 | J13: =I13+1 -> 45234 | K13: =J13+1 -> 45235 | L13: =K13+1 -> 45236 | M13: =L13+1 -> 45237 | N13: =M13+1 -> 45238 | O13: =N13+1 -> 45239 | ... AJ13: =AI13+1 -> 45260
F14: 张三 | G14: √ | H14: √ | I14: √ | J14: √ | K14: √ | L14: √ | M14: √ | N14: √ | P14: √ | Q14: √ | R14: √ | S14: √ | T14: √ | U14: √ | V14: √ | W14: √ | X14: √ | Y14: √ | Z14: √ | AA14: √ | AB14: √ | AC14: √ | AD14: √ | AE14: √ | AF14: √ | AG14: √ | AH14: √ | AI14: √ | AJ14: √ | AK14: =COUNTIF($G14:$AJ14,"√") -> 29 | AL14: =ROUNDDOWN($AK14/$F$6,2) -> 0.96
F15: 李四 | G15: √ | H15: √ | I15: √ | J15: √ | K15: √ | V15: √ | W15: √ | X15: √ | Y15: √ | Z15: √ | AA15: √ | AB15: √ | AC15: √ | AD15: √ | AE15: √ | AG15: √ | AH15: √ | AJ15: √ | AK15: =COUNTIF($G15:$AJ15,"√") -> 18 | AL15: =ROUNDDOWN($AK15/$F$6,2) -> 0.6
F16: 王五 | G16: √ | I16: √ | J16: √ | K16: √ | L16: √ | M16: √ | N16: √ | O16: √ | P16: √ | Q16: √ | S16: √ | U16: √ | V16: √ | W16: √ | Y16: √ | Z16: √ | AA16: √ | AB16: √ | AI16: √ | AJ16: √ | AK16: =COUNTIF($G16:$AJ16,"√") -> 20 | AL16: =ROUNDDOWN($AK16/$F$6,2) -> 0.66
AK17: =COUNTIF($G17:$AJ17,"√") -> 0 | AL17: =ROUNDDOWN($AK17/$F$6,2) -> 0
AK18: =COUNTIF($G18:$AJ18,"√") -> 0 | AL18: =ROUNDDOWN($AK18/$F$6,2) -> 0
AK19: =COUNTIF($G19:$AJ19,"√") -> 0 | AL19: =ROUNDDOWN($AK19/$F$6,2) -> 0
AK20: =COUNTIF($G20:$AJ20,"√") -> 0 | AL20: =ROUNDDOWN($AK20/$F$6,2) -> 0
AK21: =COUNTIF($G21:$AJ21,"√") -> 0 | AL21: =ROUNDDOWN($AK21/$F$6,2) -> 0
AK22: =COUNTIF($G22:$AJ22,"√") -> 0 | AL22: =ROUNDDOWN($AK22/$F$6,2) -> 0
AK23: =COUNTIF($G23:$AJ23,"√") -> 0 | AL23: =ROUNDDOWN($AK23/$F$6,2) -> 0
AK24: =COUNTIF($G24:$AJ24,"√") -> 0 | AL24: =ROUNDDOWN($AK24/$F$6,2) -> 0
AK25: =COUNTIF($G25:$AJ25,"√") -> 0 | AL25: =ROUNDDOWN($AK25/$F$6,2) -> 0
AK26: =COUNTIF($G26:$AJ26,"√") -> 0 | AL26: =ROUNDDOWN($AK26/$F$6,2) -> 0
AK27: =COUNTIF($G27:$AJ27,"√") -> 0 | AL27: =ROUNDDOWN($AK27/$F$6,2) -> 0
AK28: =COUNTIF($G28:$AJ28,"√") -> 0 | AL28: =ROUNDDOWN($AK28/$F$6,2) -> 0
AK29: =COUNTIF($G29:$AJ29,"√") -> 0 | AL29: =ROUNDDOWN($AK29/$F$6,2) -> 0

Sheet 12月
D4: 当前年月 | F4: 2023 | G4: 年 | H4: 12 | I4: 月 | L4: 姓名 | O4: 张三
D6: 应出勤天数 | F6: =DAY(DATE($F$4,$H$4+1,1)-1) -> 31 | G6: 天 | L6: 出勤天数 | O6: =VLOOKUP($O$4,$F$14:$AM$2999,33,FALSE) -> 20
D8: 考勤符号 | F8: √ | L8: 出勤率 | O8: =VLOOKUP($O$4,$F$14:$AM$2999,34,FALSE) -> 0.64
G11: =COUNTIF(G$14:G$2999,"√") -> 3 | H11: =COUNTIF(H$14:H$2999,"√") -> 2 | I11: =COUNTIF(I$14:I$2999,"√") -> 3 | J11: =COUNTIF(J$14:J$2999,"√") -> 3 | K11: =COUNTIF(K$14:K$2999,"√") -> 3 | L11: =COUNTIF(L$14:L$2999,"√") -> 2 | M11: =COUNTIF(M$14:M$2999,"√") -> 3 | N11: =COUNTIF(N$14:N$2999,"√") -> 3 | ... AK11: =COUNTIF(AK$14:AK$2999,"√") -> 2
F12: 姓名 | G12: =G13 -> 45261 | H12: =H13 -> 45262 | I12: =I13 -> 45263 | J12: =J13 -> 45264 | K12: =K13 -> 45265 | L12: =L13 -> 45266 | M12: =M13 -> 45267 | N12: =N13 -> 45268 | ... AK12: =AK13 -> 45291 | AL12: 出勤 天数 | AM12: 出勤率 | AN12: 其他 说明
G13: =DATE($F$4,$H$4,1) -> 45261 | H13: =G13+1 -> 45262 | I13: =H13+1 -> 45263 | J13: =I13+1 -> 45264 | K13: =J13+1 -> 45265 | L13: =K13+1 -> 45266 | M13: =L13+1 -> 45267 | N13: =M13+1 -> 45268 | O13: =N13+1 -> 45269 | ... AK13: =AJ13+1 -> 45291
F14: 张三 | G14: √ | H14: √ | I14: √ | J14: √ | K14: √ | L14: √ | M14: √ | N14: √ | P14: √ | Q14: √ | R14: √ | S14: √ | T14: √ | U14: √ | AE14: √ | AF14: √ | AG14: √ | AH14: √ | AI14: √ | AJ14: √ | AL14: =COUNTIF($G14:$AK14,"√") -> 20 | AM14: =ROUNDDOWN($AL14/$F$6,2) -> 0.64
F15: 李四 | G15: √ | H15: √ | I15: √ | J15: √ | K15: √ | M15: √ | N15: √ | O15: √ | P15: √ | Q15: √ | AG15: √ | AH15: √ | AJ15: √ | AK15: √ | AL15: =COUNTIF($G15:$AK15,"√") -> 14 | AM15: =ROUNDDOWN($AL15/$F$6,2) -> 0.45
F16: 王五 | G16: √ | I16: √ | J16: √ | K16: √ | L16: √ | M16: √ | N16: √ | O16: √ | P16: √ | Q16: √ | S16: √ | U16: √ | V16: √ | W16: √ | Y16: √ | Z16: √ | AA16: √ | AB16: √ | AD16: √ | AE16: √ | AF16: √ | AG16: √ | AH16: √ | AI16: √ | AJ16: √ | AK16: √ | AL16: =COUNTIF($G16:$AK16,"√") -> 26 | AM16: =ROUNDDOWN($AL16/$F$6,2) -> 0.83
AL17: =COUNTIF($G17:$AK17,"√") -> 0 | AM17: =ROUNDDOWN($AL17/$F$6,2) -> 0
AL18: =COUNTIF($G18:$AK18,"√") -> 0 | AM18: =ROUNDDOWN($AL18/$F$6,2) -> 0
AL19: =COUNTIF($G19:$AK19,"√") -> 0 | AM19: =ROUNDDOWN($AL19/$F$6,2) -> 0
AL20: =COUNTIF($G20:$AK20,"√") -> 0 | AM20: =ROUNDDOWN($AL20/$F$6,2) -> 0
AL21: =COUNTIF($G21:$AK21,"√") -> 0 | AM21: =ROUNDDOWN($AL21/$F$6,2) -> 0
AL22: =COUNTIF($G22:$AK22,"√") -> 0 | AM22: =ROUNDDOWN($AL22/$F$6,2) -> 0
AL23: =COUNTIF($G23:$AK23,"√") -> 0 | AM23: =ROUNDDOWN($AL23/$F$6,2) -> 0
AL24: =COUNTIF($G24:$AK24,"√") -> 0 | AM24: =ROUNDDOWN($AL24/$F$6,2) -> 0
AL25: =COUNTIF($G25:$AK25,"√") -> 0 | AM25: =ROUNDDOWN($AL25/$F$6,2) -> 0
AL26: =COUNTIF($G26:$AK26,"√") -> 0 | AM26: =ROUNDDOWN($AL26/$F$6,2) -> 0
AL27: =COUNTIF($G27:$AK27,"√") -> 0 | AM27: =ROUNDDOWN($AL27/$F$6,2) -> 0
AL28: =COUNTIF($G28:$AK28,"√") -> 0 | AM28: =ROUNDDOWN($AL28/$F$6,2) -> 0
AL29: =COUNTIF($G29:$AK29,"√") -> 0 | AM29: =ROUNDDOWN($AL29/$F$6,2) -> 0
