Workbook

Sheet 首页
C4: ="考勤录入(当前年度"&系统设置!E5&"年)" -> 考勤录入(当前年度2018年)
C5: =HYPERLINK("#第"&O5&"周!E9","第"&O5&"周") -> 第1周 | D5: =HYPERLINK("#第"&P5&"周!E9","第"&P5&"周") -> 第2周 | E5: =HYPERLINK("#第"&Q5&"周!E9","第"&Q5&"周") -> 第3周 | F5: =HYPERLINK("#第"&R5&"周!E9","第"&R5&"周") -> 第4周 | G5: =HYPERLINK("#第"&S5&"周!E9","第"&S5&"周") -> 第5周 | H5: =HYPERLINK("#第"&T5&"周!E9","第"&T5&"周") -> 第6周 | I5: =HYPERLINK("#第"&U5&"周!E9","第"&U5&"周") -> 第7周 | J5: =HYPERLINK("#第"&V5&"周!E9","第"&V5&"周") -> 第8周 | ... L5: =HYPERLINK("#第"&X5&"周!E9","第"&X5&"周") -> 第10周 | O5: 1 | P5: 2 | Q5: 3 | R5: 4 | S5: 5 | T5: 6 | U5: 7 | V5: 8 | W5: 9 | X5: 10
C6: =HYPERLINK("#第"&O6&"周!E9","第"&O6&"周") -> 第11周 | D6: =HYPERLINK("#第"&P6&"周!E9","第"&P6&"周") -> 第12周 | E6: =HYPERLINK("#第"&Q6&"周!E9","第"&Q6&"周") -> 第13周 | F6: =HYPERLINK("#第"&R6&"周!E9","第"&R6&"周") -> 第14周 | G6: =HYPERLINK("#第"&S6&"周!E9","第"&S6&"周") -> 第15周 | H6: =HYPERLINK("#第"&T6&"周!E9","第"&T6&"周") -> 第16周 | I6: =HYPERLINK("#第"&U6&"周!E9","第"&U6&"周") -> 第17周 | J6: =HYPERLINK("#第"&V6&"周!E9","第"&V6&"周") -> 第18周 | ... L6: =HYPERLINK("#第"&X6&"周!E9","第"&X6&"周") -> 第20周 | O6: 11 | P6: 12 | Q6: 13 | R6: 14 | S6: 15 | T6: 16 | U6: 17 | V6: 18 | W6: 19 | X6: 20
C7: =HYPERLINK("#第"&O7&"周!E9","第"&O7&"周") -> 第21周 | D7: =HYPERLINK("#第"&P7&"周!E9","第"&P7&"周") -> 第22周 | E7: =HYPERLINK("#第"&Q7&"周!E9","第"&Q7&"周") -> 第23周 | F7: =HYPERLINK("#第"&R7&"周!E9","第"&R7&"周") -> 第24周 | G7: =HYPERLINK("#第"&S7&"周!E9","第"&S7&"周") -> 第25周 | H7: =HYPERLINK("#第"&T7&"周!E9","第"&T7&"周") -> 第26周 | I7: =HYPERLINK("#第"&U7&"周!E9","第"&U7&"周") -> 第27周 | J7: =HYPERLINK("#第"&V7&"周!E9","第"&V7&"周") -> 第28周 | ... L7: =HYPERLINK("#第"&X7&"周!E9","第"&X7&"周") -> 第30周 | O7: 21 | P7: 22 | Q7: 23 | R7: 24 | S7: 25 | T7: 26 | U7: 27 | V7: 28 | W7: 29 | X7: 30
C8: =HYPERLINK("#第"&O8&"周!E9","第"&O8&"周") -> 第31周 | D8: =HYPERLINK("#第"&P8&"周!E9","第"&P8&"周") -> 第32周 | E8: =HYPERLINK("#第"&Q8&"周!E9","第"&Q8&"周") -> 第33周 | F8: =HYPERLINK("#第"&R8&"周!E9","第"&R8&"周") -> 第34周 | G8: =HYPERLINK("#第"&S8&"周!E9","第"&S8&"周") -> 第35周 | H8: =HYPERLINK("#第"&T8&"周!E9","第"&T8&"周") -> 第36周 | I8: =HYPERLINK("#第"&U8&"周!E9","第"&U8&"周") -> 第37周 | J8: =HYPERLINK("#第"&V8&"周!E9","第"&V8&"周") -> 第38周 | ... L8: =HYPERLINK("#第"&X8&"周!E9","第"&X8&"周") -> 第40周 | O8: 31 | P8: 32 | Q8: 33 | R8: 34 | S8: 35 | T8: 36 | U8: 37 | V8: 38 | W8: 39 | X8: 40
C9: =HYPERLINK("#第"&O9&"周!E9","第"&O9&"周") -> 第41周 | D9: =HYPERLINK("#第"&P9&"周!E9","第"&P9&"周") -> 第42周 | E9: =HYPERLINK("#第"&Q9&"周!E9","第"&Q9&"周") -> 第43周 | F9: =HYPERLINK("#第"&R9&"周!E9","第"&R9&"周") -> 第44周 | G9: =HYPERLINK("#第"&S9&"周!E9","第"&S9&"周") -> 第45周 | H9: =HYPERLINK("#第"&T9&"周!E9","第"&T9&"周") -> 第46周 | I9: =HYPERLINK("#第"&U9&"周!E9","第"&U9&"周") -> 第47周 | J9: =HYPERLINK("#第"&V9&"周!E9","第"&V9&"周") -> 第48周 | ... L9: =HYPERLINK("#第"&X9&"周!E9","第"&X9&"周") -> 第50周 | O9: 41 | P9: 42 | Q9: 43 | R9: 44 | S9: 45 | T9: 46 | U9: 47 | V9: 48 | W9: 49 | X9: 50
C10: =HYPERLINK("#第"&O10&"周!E9","第"&O10&"周") -> 第51周 | D10: =HYPERLINK("#第"&P10&"周!E9","第"&P10&"周") -> 第52周 | E10: =HYPERLINK("#第"&Q10&"周!E9","第"&Q10&"周") -> 第53周 | F10: 提示：红色单元格为当前周 | O10: 51 | P10: 52 | Q10: 53
C12: 考勤统计 | I12: 系统设置
C13: 每月考勤记录 | E13: 个人全年考勤记录 | I13: 年度设置 | K13: 员工信息 | O13: 1 | P13: 2 | Q13: 3 | R13: 4 | S13: 5 | T13: 6
O14: 7 | P14: 8 | Q14: 9 | R14: 10 | S14: 11 | T14: 12
G18: 视频操作演示

Sheet HR在线人才测评系统
B4: HR人才测评工具 技术研发岗位，市场营销岗，行政服务岗，中高层管理岗 MBTI、DISC、职业性格，职业兴趣，职业价值观，心理素质
B8: HR在线人才测评系统 | C8: https://www.zxgj.cn/m/tuance
B11: 职业性格和人格测评 | C11: https://www.xmcs.cn/d/zhiye

Sheet 系统设置
D5: 当前考勤年度： | E5: 2018

Sheet 每月考勤记录
E5: =A7&"年" -> 2018年 | H5: 1 | J5: 月考勤记录 | O5: 请在WPS稻壳，www.docer.com搜索“八不戒”，下载所需文档。或点击chn.docer.com/works?userid=202850317_x000d_
A7: =系统设置!E5 -> 2018 | B7: 序号 | C7: 姓名 | D7: 时间 | E7: =IF(MONTH(DATE($A$7,$H$5,COLUMN(A5)))=$H$5,DATE($A$7,$H$5,COLUMN(A5)),"") -> 43101 | F7: =IF(MONTH(DATE($A$7,$H$5,COLUMN(B5)))=$H$5,DATE($A$7,$H$5,COLUMN(B5)),"") -> 43102 | G7: =IF(MONTH(DATE($A$7,$H$5,COLUMN(C5)))=$H$5,DATE($A$7,$H$5,COLUMN(C5)),"") -> 43103 | H7: =IF(MONTH(DATE($A$7,$H$5,COLUMN(D5)))=$H$5,DATE($A$7,$H$5,COLUMN(D5)),"") -> 43104 | I7: =IF(MONTH(DATE($A$7,$H$5,COLUMN(E5)))=$H$5,DATE($A$7,$H$5,COLUMN(E5)),"") -> 43105 | J7: =IF(MONTH(DATE($A$7,$H$5,COLUMN(F5)))=$H$5,DATE($A$7,$H$5,COLUMN(F5)),"") -> 43106 | K7: =IF(MONTH(DATE($A$7,$H$5,COLUMN(G5)))=$H$5,DATE($A$7,$H$5,COLUMN(G5)),"") -> 43107 | L7: =IF(MONTH(DATE($A$7,$H$5,COLUMN(H5)))=$H$5,DATE($A$7,$H$5,COLUMN(H5)),"") -> 43108 | ... AI7: =IF(MONTH(DATE($A$7,$H$5,COLUMN(AE5)))=$H$5,DATE($A$7,$H$5,COLUMN(AE5)),"") -> 43131 | AJ7: 出勤统计
E8: =TEXT(E7,"AAA") -> 一 | F8: =TEXT(F7,"AAA") -> 二 | G8: =TEXT(G7,"AAA") -> 三 | H8: =TEXT(H7,"AAA") -> 四 | I8: =TEXT(I7,"AAA") -> 五 | J8: =TEXT(J7,"AAA") -> 六 | K8: =TEXT(K7,"AAA") -> 日 | L8: =TEXT(L7,"AAA") -> 一 | ... AI8: =TEXT(AI7,"AAA") -> 三 | AJ8: 出勤 | AK8: 加班 | AL8: 休假 | AM8: 事假 | AN8: 病假 | AO8: 出差 | AP8: 缺勤 | AQ8: 迟到 | AR8: 早退
B9: =ROW()/3-2 -> 1 | C9: =INDIRECT("员工信息表!C"&(B9+3))&IF(INDIRECT("员工信息表!O"&(B9+3))="离职","(离职)","") | D9: 上午 | E9: =IFERROR(IF($C9="","",INDIRECT("第"&VLOOKUP(E$7,INDIRECT($A$7&"!A:D"),2,FALSE)&"周"&"!"&ADDRESS(ROW(),VLOOKUP(E$7,INDIRECT($A$7&"!A:D"),4,FALSE)+4))),"") | F9: =IFERROR(IF($C9="","",INDIRECT("第"&VLOOKUP(F$7,INDIRECT($A$7&"!A:D"),2,FALSE)&"周"&"!"&ADDRESS(ROW(),VLOOKUP(F$7,INDIRECT($A$7&"!A:D"),4,FALSE)+4))),"") | G9: =IFERROR(IF($C9="","",INDIRECT("第"&VLOOKUP(G$7,INDIRECT($A$7&"!A:D"),2,FALSE)&"周"&"!"&ADDRESS(ROW(),VLOOKUP(G$7,INDIRECT($A$7&"!A:D"),4,FALSE)+4))),"") | H9: =IFERROR(IF($C9="","",INDIRECT("第"&VLOOKUP(H$7,INDIRECT($A$7&"!A:D"),2,FALSE)&"周"&"!"&ADDRESS(ROW(),VLOOKUP(H$7,INDIRECT($A$7&"!A:D"),4,FALSE)+4))),"") | I9: =IFERROR(IF($C9="","",INDIRECT("第"&VLOOKUP(I$7,INDIRECT($A$7&"!A:D"),2,FALSE)&"周"&"!"&ADDRESS(ROW(),VLOOKUP(I$7,INDIRECT($A$7&"!A:D"),4,FALSE)+4))),"") | J9: =IFERROR(IF($C9="","",INDIRECT("第"&VLOOKUP(J$7,INDIRECT($A$7&"!A:D"),2,FALSE)&"周"&"!"&ADDRESS(ROW(),VLOOKUP(J$7,INDIRECT($A$7&"!A:D"),4,FALSE)+4))),"") | K9: =IFERROR(IF($C9="","",INDIRECT("第"&VLOOKUP(K$7,INDIRECT($A$7&"!A:D"),2,FALSE)&"周"&"!"&ADDRESS(ROW(),VLOOKUP(K$7,INDIRECT($A$7&"!A:D"),4,FALSE)+4))),"") | L9: =IFERROR(IF($C9="","",INDIRECT("第"&VLOOKUP(L$7,INDIRECT($A$7&"!A:D"),2,FALSE)&"周"&"!"&ADDRESS(ROW(),VLOOKUP(L$7,INDIRECT($A$7&"!A:D"),4,FALSE)+4))),"") | ... AI9: =IFERROR(IF($C9="","",INDIRECT("第"&VLOOKUP(AI$7,INDIRECT($A$7&"!A:D"),2,FALSE)&"周"&"!"&ADDRESS(ROW(),VLOOKUP(AI$7,INDIRECT($A$7&"!A:D"),4,FALSE)+4))),"") | AJ9: =COUNTIF($E9:$AI11,AJ$8) -> 0 | AK9: =COUNTIF($E9:$AI11,AK$8) -> 0 | AL9: =COUNTIF($E9:$AI11,AL$8) -> 0 | AM9: =COUNTIF($E9:$AI11,AM$8) -> 0 | AN9: =COUNTIF($E9:$AI11,AN$8) -> 0 | AO9: =COUNTIF($E9:$AI11,AO$8) -> 0 | AP9: =COUNTIF($E9:$AI11,AP$8) -> 0 | AQ9: =COUNTIF($E9:$AI11,AQ$8) -> 0 | AR9: =COUNTIF($E9:$AI11,AR$8) -> 0
D10: 下午 | E10: =IFERROR(IF($C9="","",INDIRECT("第"&VLOOKUP(E$7,INDIRECT($A$7&"!A:D"),2,FALSE)&"周"&"!"&ADDRESS(ROW(),VLOOKUP(E$7,INDIRECT($A$7&"!A:D"),4,FALSE)+4))),"") | F10: =IFERROR(IF($C9="","",INDIRECT("第"&VLOOKUP(F$7,INDIRECT($A$7&"!A:D"),2,FALSE)&"周"&"!"&ADDRESS(ROW(),VLOOKUP(F$7,INDIRECT($A$7&"!A:D"),4,FALSE)+4))),"") | G10: =IFERROR(IF($C9="","",INDIRECT("第"&VLOOKUP(G$7,INDIRECT($A$7&"!A:D"),2,FALSE)&"周"&"!"&ADDRESS(ROW(),VLOOKUP(G$7,INDIRECT($A$7&"!A:D"),4,FALSE)+4))),"") | H10: =IFERROR(IF($C9="","",INDIRECT("第"&VLOOKUP(H$7,INDIRECT($A$7&"!A:D"),2,FALSE)&"周"&"!"&ADDRESS(ROW(),VLOOKUP(H$7,INDIRECT($A$7&"!A:D"),4,FALSE)+4))),"") | I10: =IFERROR(IF($C9="","",INDIRECT("第"&VLOOKUP(I$7,INDIRECT($A$7&"!A:D"),2,FALSE)&"周"&"!"&ADDRESS(ROW(),VLOOKUP(I$7,INDIRECT($A$7&"!A:D"),4,FALSE)+4))),"") | J10: =IFERROR(IF($C9="","",INDIRECT("第"&VLOOKUP(J$7,INDIRECT($A$7&"!A:D"),2,FALSE)&"周"&"!"&ADDRESS(ROW(),VLOOKUP(J$7,INDIRECT($A$7&"!A:D"),4,FALSE)+4))),"") | K10: =IFERROR(IF($C9="","",INDIRECT("第"&VLOOKUP(K$7,INDIRECT($A$7&"!A:D"),2,FALSE)&"周"&"!"&ADDRESS(ROW(),VLOOKUP(K$7,INDIRECT($A$7&"!A:D"),4,FALSE)+4))),"") | L10: =IFERROR(IF($C9="","",INDIRECT("第"&VLOOKUP(L$7,INDIRECT($A$7&"!A:D"),2,FALSE)&"周"&"!"&ADDRESS(ROW(),VLOOKUP(L$7,INDIRECT($A$7&"!A:D"),4,FALSE)+4))),"") | ... AI10: =IFERROR(IF($C9="","",INDIRECT("第"&VLOOKUP(AI$7,INDIRECT($A$7&"!A:D"),2,FALSE)&"周"&"!"&ADDRESS(ROW(),VLOOKUP(AI$7,INDIRECT($A$7&"!A:D"),4,FALSE)+4))),"")
D11: 晚上 | E11: =IFERROR(IF($C9="","",INDIRECT("第"&VLOOKUP(E$7,INDIRECT($A$7&"!A:D"),2,FALSE)&"周"&"!"&ADDRESS(ROW(),VLOOKUP(E$7,INDIRECT($A$7&"!A:D"),4,FALSE)+4))),"") | F11: =IFERROR(IF($C9="","",INDIRECT("第"&VLOOKUP(F$7,INDIRECT($A$7&"!A:D"),2,FALSE)&"周"&"!"&ADDRESS(ROW(),VLOOKUP(F$7,INDIRECT($A$7&"!A:D"),4,FALSE)+4))),"") | G11: =IFERROR(IF($C9="","",INDIRECT("第"&VLOOKUP(G$7,INDIRECT($A$7&"!A:D"),2,FALSE)&"周"&"!"&ADDRESS(ROW(),VLOOKUP(G$7,INDIRECT($A$7&"!A:D"),4,FALSE)+4))),"") | H11: =IFERROR(IF($C9="","",INDIRECT("第"&VLOOKUP(H$7,INDIRECT($A$7&"!A:D"),2,FALSE)&"周"&"!"&ADDRESS(ROW(),VLOOKUP(H$7,INDIRECT($A$7&"!A:D"),4,FALSE)+4))),"") | I11: =IFERROR(IF($C9="","",INDIRECT("第"&VLOOKUP(I$7,INDIRECT($A$7&"!A:D"),2,FALSE)&"周"&"!"&ADDRESS(ROW(),VLOOKUP(I$7,INDIRECT($A$7&"!A:D"),4,FALSE)+4))),"") | J11: =IFERROR(IF($C9="","",INDIRECT("第"&VLOOKUP(J$7,INDIRECT($A$7&"!A:D"),2,FALSE)&"周"&"!"&ADDRESS(ROW(),VLOOKUP(J$7,INDIRECT($A$7&"!A:D"),4,FALSE)+4))),"") | K11: =IFERROR(IF($C9="","",INDIRECT("第"&VLOOKUP(K$7,INDIRECT($A$7&"!A:D"),2,FALSE)&"周"&"!"&ADDRESS(ROW(),VLOOKUP(K$7,INDIRECT($A$7&"!A:D"),4,FALSE)+4))),"") | L11: =IFERROR(IF($C9="","",INDIRECT("第"&VLOOKUP(L$7,INDIRECT($A$7&"!A:D"),2,FALSE)&"周"&"!"&ADDRESS(ROW(),VLOOKUP(L$7,INDIRECT($A$7&"!A:D"),4,FALSE)+4))),"") | ... AI11: =IFERROR(IF($C9="","",INDIRECT("第"&VLOOKUP(AI$7,INDIRECT($A$7&"!A:D"),2,FALSE)&"周"&"!"&ADDRESS(ROW(),VLOOKUP(AI$7,INDIRECT($A$7&"!A:D"),4,FALSE)+4))),"")
B12: =ROW()/3-2 -> 2 | C12: =INDIRECT("员工信息表!C"&(B12+3))&IF(INDIRECT("员工信息表!O"&(B12+3))="离职","(离职)","") | D12: 上午 | E12: =IFERROR(IF($C12="","",INDIRECT("第"&VLOOKUP(E$7,INDIRECT($A$7&"!A:D"),2,FALSE)&"周"&"!"&ADDRESS(ROW(),VLOOKUP(E$7,INDIRECT($A$7&"!A:D"),4,FALSE)+4))),"") | F12: =IFERROR(IF($C12="","",INDIRECT("第"&VLOOKUP(F$7,INDIRECT($A$7&"!A:D"),2,FALSE)&"周"&"!"&ADDRESS(ROW(),VLOOKUP(F$7,INDIRECT($A$7&"!A:D"),4,FALSE)+4))),"") | G12: =IFERROR(IF($C12="","",INDIRECT("第"&VLOOKUP(G$7,INDIRECT($A$7&"!A:D"),2,FALSE)&"周"&"!"&ADDRESS(ROW(),VLOOKUP(G$7,INDIRECT($A$7&"!A:D"),4,FALSE)+4))),"") | H12: =IFERROR(IF($C12="","",INDIRECT("第"&VLOOKUP(H$7,INDIRECT($A$7&"!A:D"),2,FALSE)&"周"&"!"&ADDRESS(ROW(),VLOOKUP(H$7,INDIRECT($A$7&"!A:D"),4,FALSE)+4))),"") | I12: =IFERROR(IF($C12="","",INDIRECT("第"&VLOOKUP(I$7,INDIRECT($A$7&"!A:D"),2,FALSE)&"周"&"!"&ADDRESS(ROW(),VLOOKUP(I$7,INDIRECT($A$7&"!A:D"),4,FALSE)+4))),"") | J12: =IFERROR(IF($C12="","",INDIRECT("第"&VLOOKUP(J$7,INDIRECT($A$7&"!A:D"),2,FALSE)&"周"&"!"&ADDRESS(ROW(),VLOOKUP(J$7,INDIRECT($A$7&"!A:D"),4,FALSE)+4))),"") | K12: =IFERROR(IF($C12="","",INDIRECT("第"&VLOOKUP(K$7,INDIRECT($A$7&"!A:D"),2,FALSE)&"周"&"!"&ADDRESS(ROW(),VLOOKUP(K$7,INDIRECT($A$7&"!A:D"),4,FALSE)+4))),"") | L12: =IFERROR(IF($C12="","",INDIRECT("第"&VLOOKUP(L$7,INDIRECT($A$7&"!A:D"),2,FALSE)&"周"&"!"&ADDRESS(ROW(),VLOOKUP(L$7,INDIRECT($A$7&"!A:D"),4,FALSE)+4))),"") | ... AI12: =IFERROR(IF($C12="","",INDIRECT("第"&VLOOKUP(AI$7,INDIRECT($A$7&"!A:D"),2,FALSE)&"周"&"!"&ADDRESS(ROW(),VLOOKUP(AI$7,INDIRECT($A$7&"!A:D"),4,FALSE)+4))),"") | AJ12: =COUNTIF($E12:$AI14,AJ$8) -> 0 | AK12: =COUNTIF($E12:$AI14,AK$8) -> 0 | AL12: =COUNTIF($E12:$AI14,AL$8) -> 0 | AM12: =COUNTIF($E12:$AI14,AM$8) -> 0 | AN12: =COUNTIF($E12:$AI14,AN$8) -> 0 | AO12: =COUNTIF($E12:$AI14,AO$8) -> 0 | AP12: =COUNTIF($E12:$AI14,AP$8) -> 0 | AQ12: =COUNTIF($E12:$AI14,AQ$8) -> 0 | AR12: =COUNTIF($E12:$AI14,AR$8) -> 0
D13: 下午 | E13: =IFERROR(IF($C12="","",INDIRECT("第"&VLOOKUP(E$7,INDIRECT($A$7&"!A:D"),2,FALSE)&"周"&"!"&ADDRESS(ROW(),VLOOKUP(E$7,INDIRECT($A$7&"!A:D"),4,FALSE)+4))),"") | F13: =IFERROR(IF($C12="","",INDIRECT("第"&VLOOKUP(F$7,INDIRECT($A$7&"!A:D"),2,FALSE)&"周"&"!"&ADDRESS(ROW(),VLOOKUP(F$7,INDIRECT($A$7&"!A:D"),4,FALSE)+4))),"") | G13: =IFERROR(IF($C12="","",INDIRECT("第"&VLOOKUP(G$7,INDIRECT($A$7&"!A:D"),2,FALSE)&"周"&"!"&ADDRESS(ROW(),VLOOKUP(G$7,INDIRECT($A$7&"!A:D"),4,FALSE)+4))),"") | H13: =IFERROR(IF($C12="","",INDIRECT("第"&VLOOKUP(H$7,INDIRECT($A$7&"!A:D"),2,FALSE)&"周"&"!"&ADDRESS(ROW(),VLOOKUP(H$7,INDIRECT($A$7&"!A:D"),4,FALSE)+4))),"") | I13: =IFERROR(IF($C12="","",INDIRECT("第"&VLOOKUP(I$7,INDIRECT($A$7&"!A:D"),2,FALSE)&"周"&"!"&ADDRESS(ROW(),VLOOKUP(I$7,INDIRECT($A$7&"!A:D"),4,FALSE)+4))),"") | J13: =IFERROR(IF($C12="","",INDIRECT("第"&VLOOKUP(J$7,INDIRECT($A$7&"!A:D"),2,FALSE)&"周"&"!"&ADDRESS(ROW(),VLOOKUP(J$7,INDIRECT($A$7&"!A:D"),4,FALSE)+4))),"") | K13: =IFERROR(IF($C12="","",INDIRECT("第"&VLOOKUP(K$7,INDIRECT($A$7&"!A:D"),2,FALSE)&"周"&"!"&ADDRESS(ROW(),VLOOKUP(K$7,INDIRECT($A$7&"!A:D"),4,FALSE)+4))),"") | L13: =IFERROR(IF($C12="","",INDIRECT("第"&VLOOKUP(L$7,INDIRECT($A$7&"!A:D"),2,FALSE)&"周"&"!"&ADDRESS(ROW(),VLOOKUP(L$7,INDIRECT($A$7&"!A:D"),4,FALSE)+4))),"") | ... AI13: =IFERROR(IF($C12="","",INDIRECT("第"&VLOOKUP(AI$7,INDIRECT($A$7&"!A:D"),2,FALSE)&"周"&"!"&ADDRESS(ROW(),VLOOKUP(AI$7,INDIRECT($A$7&"!A:D"),4,FALSE)+4))),"")
D14: 晚上 | E14: =IFERROR(IF($C12="","",INDIRECT("第"&VLOOKUP(E$7,INDIRECT($A$7&"!A:D"),2,FALSE)&"周"&"!"&ADDRESS(ROW(),VLOOKUP(E$7,INDIRECT($A$7&"!A:D"),4,FALSE)+4))),"") | F14: =IFERROR(IF($C12="","",INDIRECT("第"&VLOOKUP(F$7,INDIRECT($A$7&"!A:D"),2,FALSE)&"周"&"!"&ADDRESS(ROW(),VLOOKUP(F$7,INDIRECT($A$7&"!A:D"),4,FALSE)+4))),"") | G14: =IFERROR(IF($C12="","",INDIRECT("第"&VLOOKUP(G$7,INDIRECT($A$7&"!A:D"),2,FALSE)&"周"&"!"&ADDRESS(ROW(),VLOOKUP(G$7,INDIRECT($A$7&"!A:D"),4,FALSE)+4))),"") | H14: =IFERROR(IF($C12="","",INDIRECT("第"&VLOOKUP(H$7,INDIRECT($A$7&"!A:D"),2,FALSE)&"周"&"!"&ADDRESS(ROW(),VLOOKUP(H$7,INDIRECT($A$7&"!A:D"),4,FALSE)+4))),"") | I14: =IFERROR(IF($C12="","",INDIRECT("第"&VLOOKUP(I$7,INDIRECT($A$7&"!A:D"),2,FALSE)&"周"&"!"&ADDRESS(ROW(),VLOOKUP(I$7,INDIRECT($A$7&"!A:D"),4,FALSE)+4))),"") | J14: =IFERROR(IF($C12="","",INDIRECT("第"&VLOOKUP(J$7,INDIRECT($A$7&"!A:D"),2,FALSE)&"周"&"!"&ADDRESS(ROW(),VLOOKUP(J$7,INDIRECT($A$7&"!A:D"),4,FALSE)+4))),"") | K14: =IFERROR(IF($C12="","",INDIRECT("第"&VLOOKUP(K$7,INDIRECT($A$7&"!A:D"),2,FALSE)&"周"&"!"&ADDRESS(ROW(),VLOOKUP(K$7,INDIRECT($A$7&"!A:D"),4,FALSE)+4))),"") | L14: =IFERROR(IF($C12="","",INDIRECT("第"&VLOOKUP(L$7,INDIRECT($A$7&"!A:D"),2,FALSE)&"周"&"!"&ADDRESS(ROW(),VLOOKUP(L$7,INDIRECT($A$7&"!A:D"),4,FALSE)+4))),"") | ... AI14: =IFERROR(IF($C12="","",INDIRECT("第"&VLOOKUP(AI$7,INDIRECT($A$7&"!A:D"),2,FALSE)&"周"&"!"&ADDRESS(ROW(),VLOOKUP(AI$7,INDIRECT($A$7&"!A:D"),4,FALSE)+4))),"")
B15: =ROW()/3-2 -> 3 | C15: =INDIRECT("员工信息表!C"&(B15+3))&IF(INDIRECT("员工信息表!O"&(B15+3))="离职","(离职)","") | D15: 上午 | E15: =IFERROR(IF($C15="","",INDIRECT("第"&VLOOKUP(E$7,INDIRECT($A$7&"!A:D"),2,FALSE)&"周"&"!"&ADDRESS(ROW(),VLOOKUP(E$7,INDIRECT($A$7&"!A:D"),4,FALSE)+4))),"") | F15: =IFERROR(IF($C15="","",INDIRECT("第"&VLOOKUP(F$7,INDIRECT($A$7&"!A:D"),2,FALSE)&"周"&"!"&ADDRESS(ROW(),VLOOKUP(F$7,INDIRECT($A$7&"!A:D"),4,FALSE)+4))),"") | G15: =IFERROR(IF($C15="","",INDIRECT("第"&VLOOKUP(G$7,INDIRECT($A$7&"!A:D"),2,FALSE)&"周"&"!"&ADDRESS(ROW(),VLOOKUP(G$7,INDIRECT($A$7&"!A:D"),4,FALSE)+4))),"") | H15: =IFERROR(IF($C15="","",INDIRECT("第"&VLOOKUP(H$7,INDIRECT($A$7&"!A:D"),2,FALSE)&"周"&"!"&ADDRESS(ROW(),VLOOKUP(H$7,INDIRECT($A$7&"!A:D"),4,FALSE)+4))),"") | I15: =IFERROR(IF($C15="","",INDIRECT("第"&VLOOKUP(I$7,INDIRECT($A$7&"!A:D"),2,FALSE)&"周"&"!"&ADDRESS(ROW(),VLOOKUP(I$7,INDIRECT($A$7&"!A:D"),4,FALSE)+4))),"") | J15: =IFERROR(IF($C15="","",INDIRECT("第"&VLOOKUP(J$7,INDIRECT($A$7&"!A:D"),2,FALSE)&"周"&"!"&ADDRESS(ROW(),VLOOKUP(J$7,INDIRECT($A$7&"!A:D"),4,FALSE)+4))),"") | K15: =IFERROR(IF($C15="","",INDIRECT("第"&VLOOKUP(K$7,INDIRECT($A$7&"!A:D"),2,FALSE)&"周"&"!"&ADDRESS(ROW(),VLOOKUP(K$7,INDIRECT($A$7&"!A:D"),4,FALSE)+4))),"") | L15: =IFERROR(IF($C15="","",INDIRECT("第"&VLOOKUP(L$7,INDIRECT($A$7&"!A:D"),2,FALSE)&"周"&"!"&ADDRESS(ROW(),VLOOKUP(L$7,INDIRECT($A$7&"!A:D"),4,FALSE)+4))),"") | ... AI15: =IFERROR(IF($C15="","",INDIRECT("第"&VLOOKUP(AI$7,INDIRECT($A$7&"!A:D"),2,FALSE)&"周"&"!"&ADDRESS(ROW(),VLOOKUP(AI$7,INDIRECT($A$7&"!A:D"),4,FALSE)+4))),"") | AJ15: =COUNTIF($E15:$AI17,AJ$8) -> 0 | AK15: =COUNTIF($E15:$AI17,AK$8) -> 0 | AL15: =COUNTIF($E15:$AI17,AL$8) -> 0 | AM15: =COUNTIF($E15:$AI17,AM$8) -> 0 | AN15: =COUNTIF($E15:$AI17,AN$8) -> 0 | AO15: =COUNTIF($E15:$AI17,AO$8) -> 0 | AP15: =COUNTIF($E15:$AI17,AP$8) -> 0 | AQ15: =COUNTIF($E15:$AI17,AQ$8) -> 0 | AR15: =COUNTIF($E15:$AI17,AR$8) -> 0
D16: 下午 | E16: =IFERROR(IF($C15="","",INDIRECT("第"&VLOOKUP(E$7,INDIRECT($A$7&"!A:D"),2,FALSE)&"周"&"!"&ADDRESS(ROW(),VLOOKUP(E$7,INDIRECT($A$7&"!A:D"),4,FALSE)+4))),"") | F16: =IFERROR(IF($C15="","",INDIRECT("第"&VLOOKUP(F$7,INDIRECT($A$7&"!A:D"),2,FALSE)&"周"&"!"&ADDRESS(ROW(),VLOOKUP(F$7,INDIRECT($A$7&"!A:D"),4,FALSE)+4))),"") | G16: =IFERROR(IF($C15="","",INDIRECT("第"&VLOOKUP(G$7,INDIRECT($A$7&"!A:D"),2,FALSE)&"周"&"!"&ADDRESS(ROW(),VLOOKUP(G$7,INDIRECT($A$7&"!A:D"),4,FALSE)+4))),"") | H16: =IFERROR(IF($C15="","",INDIRECT("第"&VLOOKUP(H$7,INDIRECT($A$7&"!A:D"),2,FALSE)&"周"&"!"&ADDRESS(ROW(),VLOOKUP(H$7,INDIRECT($A$7&"!A:D"),4,FALSE)+4))),"") | I16: =IFERROR(IF($C15="","",INDIRECT("第"&VLOOKUP(I$7,INDIRECT($A$7&"!A:D"),2,FALSE)&"周"&"!"&ADDRESS(ROW(),VLOOKUP(I$7,INDIRECT($A$7&"!A:D"),4,FALSE)+4))),"") | J16: =IFERROR(IF($C15="","",INDIRECT("第"&VLOOKUP(J$7,INDIRECT($A$7&"!A:D"),2,FALSE)&"周"&"!"&ADDRESS(ROW(),VLOOKUP(J$7,INDIRECT($A$7&"!A:D"),4,FALSE)+4))),"") | K16: =IFERROR(IF($C15="","",INDIRECT("第"&VLOOKUP(K$7,INDIRECT($A$7&"!A:D"),2,FALSE)&"周"&"!"&ADDRESS(ROW(),VLOOKUP(K$7,INDIRECT($A$7&"!A:D"),4,FALSE)+4))),"") | L16: =IFERROR(IF($C15="","",INDIRECT("第"&VLOOKUP(L$7,INDIRECT($A$7&"!A:D"),2,FALSE)&"周"&"!"&ADDRESS(ROW(),VLOOKUP(L$7,INDIRECT($A$7&"!A:D"),4,FALSE)+4))),"") | ... AI16: =IFERROR(IF($C15="","",INDIRECT("第"&VLOOKUP(AI$7,INDIRECT($A$7&"!A:D"),2,FALSE)&"周"&"!"&ADDRESS(ROW(),VLOOKUP(AI$7,INDIRECT($A$7&"!A:D"),4,FALSE)+4))),"")
D17: 晚上 | E17: =IFERROR(IF($C15="","",INDIRECT("第"&VLOOKUP(E$7,INDIRECT($A$7&"!A:D"),2,FALSE)&"周"&"!"&ADDRESS(ROW(),VLOOKUP(E$7,INDIRECT($A$7&"!A:D"),4,FALSE)+4))),"") | F17: =IFERROR(IF($C15="","",INDIRECT("第"&VLOOKUP(F$7,INDIRECT($A$7&"!A:D"),2,FALSE)&"周"&"!"&ADDRESS(ROW(),VLOOKUP(F$7,INDIRECT($A$7&"!A:D"),4,FALSE)+4))),"") | G17: =IFERROR(IF($C15="","",INDIRECT("第"&VLOOKUP(G$7,INDIRECT($A$7&"!A:D"),2,FALSE)&"周"&"!"&ADDRESS(ROW(),VLOOKUP(G$7,INDIRECT($A$7&"!A:D"),4,FALSE)+4))),"") | H17: =IFERROR(IF($C15="","",INDIRECT("第"&VLOOKUP(H$7,INDIRECT($A$7&"!A:D"),2,FALSE)&"周"&"!"&ADDRESS(ROW(),VLOOKUP(H$7,INDIRECT($A$7&"!A:D"),4,FALSE)+4))),"") | I17: =IFERROR(IF($C15="","",INDIRECT("第"&VLOOKUP(I$7,INDIRECT($A$7&"!A:D"),2,FALSE)&"周"&"!"&ADDRESS(ROW(),VLOOKUP(I$7,INDIRECT($A$7&"!A:D"),4,FALSE)+4))),"") | J17: =IFERROR(IF($C15="","",INDIRECT("第"&VLOOKUP(J$7,INDIRECT($A$7&"!A:D"),2,FALSE)&"周"&"!"&ADDRESS(ROW(),VLOOKUP(J$7,INDIRECT($A$7&"!A:D"),4,FALSE)+4))),"") | K17: =IFERROR(IF($C15="","",INDIRECT("第"&VLOOKUP(K$7,INDIRECT($A$7&"!A:D"),2,FALSE)&"周"&"!"&ADDRESS(ROW(),VLOOKUP(K$7,INDIRECT($A$7&"!A:D"),4,FALSE)+4))),"") | L17: =IFERROR(IF($C15="","",INDIRECT("第"&VLOOKUP(L$7,INDIRECT($A$7&"!A:D"),2,FALSE)&"周"&"!"&ADDRESS(ROW(),VLOOKUP(L$7,INDIRECT($A$7&"!A:D"),4,FALSE)+4))),"") | ... AI17: =IFERROR(IF($C15="","",INDIRECT("第"&VLOOKUP(AI$7,INDIRECT($A$7&"!A:D"),2,FALSE)&"周"&"!"&ADDRESS(ROW(),VLOOKUP(AI$7,INDIRECT($A$7&"!A:D"),4,FALSE)+4))),"")
B18: =ROW()/3-2 -> 4 | C18: =INDIRECT("员工信息表!C"&(B18+3))&IF(INDIRECT("员工信息表!O"&(B18+3))="离职","(离职)","") | D18: 上午 | E18: =IFERROR(IF($C18="","",INDIRECT("第"&VLOOKUP(E$7,INDIRECT($A$7&"!A:D"),2,FALSE)&"周"&"!"&ADDRESS(ROW(),VLOOKUP(E$7,INDIRECT($A$7&"!A:D"),4,FALSE)+4))),"") | F18: =IFERROR(IF($C18="","",INDIRECT("第"&VLOOKUP(F$7,INDIRECT($A$7&"!A:D"),2,FALSE)&"周"&"!"&ADDRESS(ROW(),VLOOKUP(F$7,INDIRECT($A$7&"!A:D"),4,FALSE)+4))),"") | G18: =IFERROR(IF($C18="","",INDIRECT("第"&VLOOKUP(G$7,INDIRECT($A$7&"!A:D"),2,FALSE)&"周"&"!"&ADDRESS(ROW(),VLOOKUP(G$7,INDIRECT($A$7&"!A:D"),4,FALSE)+4))),"") | H18: =IFERROR(IF($C18="","",INDIRECT("第"&VLOOKUP(H$7,INDIRECT($A$7&"!A:D"),2,FALSE)&"周"&"!"&ADDRESS(ROW(),VLOOKUP(H$7,INDIRECT($A$7&"!A:D"),4,FALSE)+4))),"") | I18: =IFERROR(IF($C18="","",INDIRECT("第"&VLOOKUP(I$7,INDIRECT($A$7&"!A:D"),2,FALSE)&"周"&"!"&ADDRESS(ROW(),VLOOKUP(I$7,INDIRECT($A$7&"!A:D"),4,FALSE)+4))),"") | J18: =IFERROR(IF($C18="","",INDIRECT("第"&VLOOKUP(J$7,INDIRECT($A$7&"!A:D"),2,FALSE)&"周"&"!"&ADDRESS(ROW(),VLOOKUP(J$7,INDIRECT($A$7&"!A:D"),4,FALSE)+4))),"") | K18: =IFERROR(IF($C18="","",INDIRECT("第"&VLOOKUP(K$7,INDIRECT($A$7&"!A:D"),2,FALSE)&"周"&"!"&ADDRESS(ROW(),VLOOKUP(K$7,INDIRECT($A$7&"!A:D"),4,FALSE)+4))),"") | L18: =IFERROR(IF($C18="","",INDIRECT("第"&VLOOKUP(L$7,INDIRECT($A$7&"!A:D"),2,FALSE)&"周"&"!"&ADDRESS(ROW(),VLOOKUP(L$7,INDIRECT($A$7&"!A:D"),4,FALSE)+4))),"") | ... AI18: =IFERROR(IF($C18="","",INDIRECT("第"&VLOOKUP(AI$7,INDIRECT($A$7&"!A:D"),2,FALSE)&"周"&"!"&ADDRESS(ROW(),VLOOKUP(AI$7,INDIRECT($A$7&"!A:D"),4,FALSE)+4))),"") | AJ18: =COUNTIF($E18:$AI20,AJ$8) -> 0 | AK18: =COUNTIF($E18:$AI20,AK$8) -> 0 | AL18: =COUNTIF($E18:$AI20,AL$8) -> 0 | AM18: =COUNTIF($E18:$AI20,AM$8) -> 0 | AN18: =COUNTIF($E18:$AI20,AN$8) -> 0 | AO18: =COUNTIF($E18:$AI20,AO$8) -> 0 | AP18: =COUNTIF($E18:$AI20,AP$8) -> 0 | AQ18: =COUNTIF($E18:$AI20,AQ$8) -> 0 | AR18: =COUNTIF($E18:$AI20,AR$8) -> 0
D19: 下午 | E19: =IFERROR(IF($C18="","",INDIRECT("第"&VLOOKUP(E$7,INDIRECT($A$7&"!A:D"),2,FALSE)&"周"&"!"&ADDRESS(ROW(),VLOOKUP(E$7,INDIRECT($A$7&"!A:D"),4,FALSE)+4))),"") | F19: =IFERROR(IF($C18="","",INDIRECT("第"&VLOOKUP(F$7,INDIRECT($A$7&"!A:D"),2,FALSE)&"周"&"!"&ADDRESS(ROW(),VLOOKUP(F$7,INDIRECT($A$7&"!A:D"),4,FALSE)+4))),"") | G19: =IFERROR(IF($C18="","",INDIRECT("第"&VLOOKUP(G$7,INDIRECT($A$7&"!A:D"),2,FALSE)&"周"&"!"&ADDRESS(ROW(),VLOOKUP(G$7,INDIRECT($A$7&"!A:D"),4,FALSE)+4))),"") | H19: =IFERROR(IF($C18="","",INDIRECT("第"&VLOOKUP(H$7,INDIRECT($A$7&"!A:D"),2,FALSE)&"周"&"!"&ADDRESS(ROW(),VLOOKUP(H$7,INDIRECT($A$7&"!A:D"),4,FALSE)+4))),"") | I19: =IFERROR(IF($C18="","",INDIRECT("第"&VLOOKUP(I$7,INDIRECT($A$7&"!A:D"),2,FALSE)&"周"&"!"&ADDRESS(ROW(),VLOOKUP(I$7,INDIRECT($A$7&"!A:D"),4,FALSE)+4))),"") | J19: =IFERROR(IF($C18="","",INDIRECT("第"&VLOOKUP(J$7,INDIRECT($A$7&"!A:D"),2,FALSE)&"周"&"!"&ADDRESS(ROW(),VLOOKUP(J$7,INDIRECT($A$7&"!A:D"),4,FALSE)+4))),"") | K19: =IFERROR(IF($C18="","",INDIRECT("第"&VLOOKUP(K$7,INDIRECT($A$7&"!A:D"),2,FALSE)&"周"&"!"&ADDRESS(ROW(),VLOOKUP(K$7,INDIRECT($A$7&"!A:D"),4,FALSE)+4))),"") | L19: =IFERROR(IF($C18="","",INDIRECT("第"&VLOOKUP(L$7,INDIRECT($A$7&"!A:D"),2,FALSE)&"周"&"!"&ADDRESS(ROW(),VLOOKUP(L$7,INDIRECT($A$7&"!A:D"),4,FALSE)+4))),"") | ... AI19: =IFERROR(IF($C18="","",INDIRECT("第"&VLOOKUP(AI$7,INDIRECT($A$7&"!A:D"),2,FALSE)&"周"&"!"&ADDRESS(ROW(),VLOOKUP(AI$7,INDIRECT($A$7&"!A:D"),4,FALSE)+4))),"")
D20: 晚上 | E20: =IFERROR(IF($C18="","",INDIRECT("第"&VLOOKUP(E$7,INDIRECT($A$7&"!A:D"),2,FALSE)&"周"&"!"&ADDRESS(ROW(),VLOOKUP(E$7,INDIRECT($A$7&"!A:D"),4,FALSE)+4))),"") | F20: =IFERROR(IF($C18="","",INDIRECT("第"&VLOOKUP(F$7,INDIRECT($A$7&"!A:D"),2,FALSE)&"周"&"!"&ADDRESS(ROW(),VLOOKUP(F$7,INDIRECT($A$7&"!A:D"),4,FALSE)+4))),"") | G20: =IFERROR(IF($C18="","",INDIRECT("第"&VLOOKUP(G$7,INDIRECT($A$7&"!A:D"),2,FALSE)&"周"&"!"&ADDRESS(ROW(),VLOOKUP(G$7,INDIRECT($A$7&"!A:D"),4,FALSE)+4))),"") | H20: =IFERROR(IF($C18="","",INDIRECT("第"&VLOOKUP(H$7,INDIRECT($A$7&"!A:D"),2,FALSE)&"周"&"!"&ADDRESS(ROW(),VLOOKUP(H$7,INDIRECT($A$7&"!A:D"),4,FALSE)+4))),"") | I20: =IFERROR(IF($C18="","",INDIRECT("第"&VLOOKUP(I$7,INDIRECT($A$7&"!A:D"),2,FALSE)&"周"&"!"&ADDRESS(ROW(),VLOOKUP(I$7,INDIRECT($A$7&"!A:D"),4,FALSE)+4))),"") | J20: =IFERROR(IF($C18="","",INDIRECT("第"&VLOOKUP(J$7,INDIRECT($A$7&"!A:D"),2,FALSE)&"周"&"!"&ADDRESS(ROW(),VLOOKUP(J$7,INDIRECT($A$7&"!A:D"),4,FALSE)+4))),"") | K20: =IFERROR(IF($C18="","",INDIRECT("第"&VLOOKUP(K$7,INDIRECT($A$7&"!A:D"),2,FALSE)&"周"&"!"&ADDRESS(ROW(),VLOOKUP(K$7,INDIRECT($A$7&"!A:D"),4,FALSE)+4))),"") | L20: =IFERROR(IF($C18="","",INDIRECT("第"&VLOOKUP(L$7,INDIRECT($A$7&"!A:D"),2,FALSE)&"周"&"!"&ADDRESS(ROW(),VLOOKUP(L$7,INDIRECT($A$7&"!A:D"),4,FALSE)+4))),"") | ... AI20: =IFERROR(IF($C18="","",INDIRECT("第"&VLOOKUP(AI$7,INDIRECT($A$7&"!A:D"),2,FALSE)&"周"&"!"&ADDRESS(ROW(),VLOOKUP(AI$7,INDIRECT($A$7&"!A:D"),4,FALSE)+4))),"")
B21: =ROW()/3-2 -> 5 | C21: =INDIRECT("员工信息表!C"&(B21+3))&IF(INDIRECT("员工信息表!O"&(B21+3))="离职","(离职)","") | D21: 上午 | E21: =IFERROR(IF($C21="","",INDIRECT("第"&VLOOKUP(E$7,INDIRECT($A$7&"!A:D"),2,FALSE)&"周"&"!"&ADDRESS(ROW(),VLOOKUP(E$7,INDIRECT($A$7&"!A:D"),4,FALSE)+4))),"") | F21: =IFERROR(IF($C21="","",INDIRECT("第"&VLOOKUP(F$7,INDIRECT($A$7&"!A:D"),2,FALSE)&"周"&"!"&ADDRESS(ROW(),VLOOKUP(F$7,INDIRECT($A$7&"!A:D"),4,FALSE)+4))),"") | G21: =IFERROR(IF($C21="","",INDIRECT("第"&VLOOKUP(G$7,INDIRECT($A$7&"!A:D"),2,FALSE)&"周"&"!"&ADDRESS(ROW(),VLOOKUP(G$7,INDIRECT($A$7&"!A:D"),4,FALSE)+4))),"") | H21: =IFERROR(IF($C21="","",INDIRECT("第"&VLOOKUP(H$7,INDIRECT($A$7&"!A:D"),2,FALSE)&"周"&"!"&ADDRESS(ROW(),VLOOKUP(H$7,INDIRECT($A$7&"!A:D"),4,FALSE)+4))),"") | I21: =IFERROR(IF($C21="","",INDIRECT("第"&VLOOKUP(I$7,INDIRECT($A$7&"!A:D"),2,FALSE)&"周"&"!"&ADDRESS(ROW(),VLOOKUP(I$7,INDIRECT($A$7&"!A:D"),4,FALSE)+4))),"") | J21: =IFERROR(IF($C21="","",INDIRECT("第"&VLOOKUP(J$7,INDIRECT($A$7&"!A:D"),2,FALSE)&"周"&"!"&ADDRESS(ROW(),VLOOKUP(J$7,INDIRECT($A$7&"!A:D"),4,FALSE)+4))),"") | K21: =IFERROR(IF($C21="","",INDIRECT("第"&VLOOKUP(K$7,INDIRECT($A$7&"!A:D"),2,FALSE)&"周"&"!"&ADDRESS(ROW(),VLOOKUP(K$7,INDIRECT($A$7&"!A:D"),4,FALSE)+4))),"") | L21: =IFERROR(IF($C21="","",INDIRECT("第"&VLOOKUP(L$7,INDIRECT($A$7&"!A:D"),2,FALSE)&"周"&"!"&ADDRESS(ROW(),VLOOKUP(L$7,INDIRECT($A$7&"!A:D"),4,FALSE)+4))),"") | ... AI21: =IFERROR(IF($C21="","",INDIRECT("第"&VLOOKUP(AI$7,INDIRECT($A$7&"!A:D"),2,FALSE)&"周"&"!"&ADDRESS(ROW(),VLOOKUP(AI$7,INDIRECT($A$7&"!A:D"),4,FALSE)+4))),"") | AJ21: =COUNTIF($E21:$AI23,AJ$8) -> 0 | AK21: =COUNTIF($E21:$AI23,AK$8) -> 0 | AL21: =COUNTIF($E21:$AI23,AL$8) -> 0 | AM21: =COUNTIF($E21:$AI23,AM$8) -> 0 | AN21: =COUNTIF($E21:$AI23,AN$8) -> 0 | AO21: =COUNTIF($E21:$AI23,AO$8) -> 0 | AP21: =COUNTIF($E21:$AI23,AP$8) -> 0 | AQ21: =COUNTIF($E21:$AI23,AQ$8) -> 0 | AR21: =COUNTIF($E21:$AI23,AR$8) -> 0
D22: 下午 | E22: =IFERROR(IF($C21="","",INDIRECT("第"&VLOOKUP(E$7,INDIRECT($A$7&"!A:D"),2,FALSE)&"周"&"!"&ADDRESS(ROW(),VLOOKUP(E$7,INDIRECT($A$7&"!A:D"),4,FALSE)+4))),"") | F22: =IFERROR(IF($C21="","",INDIRECT("第"&VLOOKUP(F$7,INDIRECT($A$7&"!A:D"),2,FALSE)&"周"&"!"&ADDRESS(ROW(),VLOOKUP(F$7,INDIRECT($A$7&"!A:D"),4,FALSE)+4))),"") | G22: =IFERROR(IF($C21="","",INDIRECT("第"&VLOOKUP(G$7,INDIRECT($A$7&"!A:D"),2,FALSE)&"周"&"!"&ADDRESS(ROW(),VLOOKUP(G$7,INDIRECT($A$7&"!A:D"),4,FALSE)+4))),"") | H22: =IFERROR(IF($C21="","",INDIRECT("第"&VLOOKUP(H$7,INDIRECT($A$7&"!A:D"),2,FALSE)&"周"&"!"&ADDRESS(ROW(),VLOOKUP(H$7,INDIRECT($A$7&"!A:D"),4,FALSE)+4))),"") | I22: =IFERROR(IF($C21="","",INDIRECT("第"&VLOOKUP(I$7,INDIRECT($A$7&"!A:D"),2,FALSE)&"周"&"!"&ADDRESS(ROW(),VLOOKUP(I$7,INDIRECT($A$7&"!A:D"),4,FALSE)+4))),"") | J22: =IFERROR(IF($C21="","",INDIRECT("第"&VLOOKUP(J$7,INDIRECT($A$7&"!A:D"),2,FALSE)&"周"&"!"&ADDRESS(ROW(),VLOOKUP(J$7,INDIRECT($A$7&"!A:D"),4,FALSE)+4))),"") | K22: =IFERROR(IF($C21="","",INDIRECT("第"&VLOOKUP(K$7,INDIRECT($A$7&"!A:D"),2,FALSE)&"周"&"!"&ADDRESS(ROW(),VLOOKUP(K$7,INDIRECT($A$7&"!A:D"),4,FALSE)+4))),"") | L22: =IFERROR(IF($C21="","",INDIRECT("第"&VLOOKUP(L$7,INDIRECT($A$7&"!A:D"),2,FALSE)&"周"&"!"&ADDRESS(ROW(),VLOOKUP(L$7,INDIRECT($A$7&"!A:D"),4,FALSE)+4))),"") | ... AI22: =IFERROR(IF($C21="","",INDIRECT("第"&VLOOKUP(AI$7,INDIRECT($A$7&"!A:D"),2,FALSE)&"周"&"!"&ADDRESS(ROW(),VLOOKUP(AI$7,INDIRECT($A$7&"!A:D"),4,FALSE)+4))),"")
D23: 晚上 | E23: =IFERROR(IF($C21="","",INDIRECT("第"&VLOOKUP(E$7,INDIRECT($A$7&"!A:D"),2,FALSE)&"周"&"!"&ADDRESS(ROW(),VLOOKUP(E$7,INDIRECT($A$7&"!A:D"),4,FALSE)+4))),"") | F23: =IFERROR(IF($C21="","",INDIRECT("第"&VLOOKUP(F$7,INDIRECT($A$7&"!A:D"),2,FALSE)&"周"&"!"&ADDRESS(ROW(),VLOOKUP(F$7,INDIRECT($A$7&"!A:D"),4,FALSE)+4))),"") | G23: =IFERROR(IF($C21="","",INDIRECT("第"&VLOOKUP(G$7,INDIRECT($A$7&"!A:D"),2,FALSE)&"周"&"!"&ADDRESS(ROW(),VLOOKUP(G$7,INDIRECT($A$7&"!A:D"),4,FALSE)+4))),"") | H23: =IFERROR(IF($C21="","",INDIRECT("第"&VLOOKUP(H$7,INDIRECT($A$7&"!A:D"),2,FALSE)&"周"&"!"&ADDRESS(ROW(),VLOOKUP(H$7,INDIRECT($A$7&"!A:D"),4,FALSE)+4))),"") | I23: =IFERROR(IF($C21="","",INDIRECT("第"&VLOOKUP(I$7,INDIRECT($A$7&"!A:D"),2,FALSE)&"周"&"!"&ADDRESS(ROW(),VLOOKUP(I$7,INDIRECT($A$7&"!A:D"),4,FALSE)+4))),"") | J23: =IFERROR(IF($C21="","",INDIRECT("第"&VLOOKUP(J$7,INDIRECT($A$7&"!A:D"),2,FALSE)&"周"&"!"&ADDRESS(ROW(),VLOOKUP(J$7,INDIRECT($A$7&"!A:D"),4,FALSE)+4))),"") | K23: =IFERROR(IF($C21="","",INDIRECT("第"&VLOOKUP(K$7,INDIRECT($A$7&"!A:D"),2,FALSE)&"周"&"!"&ADDRESS(ROW(),VLOOKUP(K$7,INDIRECT($A$7&"!A:D"),4,FALSE)+4))),"") | L23: =IFERROR(IF($C21="","",INDIRECT("第"&VLOOKUP(L$7,INDIRECT($A$7&"!A:D"),2,FALSE)&"周"&"!"&ADDRESS(ROW(),VLOOKUP(L$7,INDIRECT($A$7&"!A:D"),4,FALSE)+4))),"") | ... AI23: =IFERROR(IF($C21="","",INDIRECT("第"&VLOOKUP(AI$7,INDIRECT($A$7&"!A:D"),2,FALSE)&"周"&"!"&ADDRESS(ROW(),VLOOKUP(AI$7,INDIRECT($A$7&"!A:D"),4,FALSE)+4))),"")
B24: =ROW()/3-2 -> 6 | C24: =INDIRECT("员工信息表!C"&(B24+3))&IF(INDIRECT("员工信息表!O"&(B24+3))="离职","(离职)","") | D24: 上午 | E24: =IFERROR(IF($C24="","",INDIRECT("第"&VLOOKUP(E$7,INDIRECT($A$7&"!A:D"),2,FALSE)&"周"&"!"&ADDRESS(ROW(),VLOOKUP(E$7,INDIRECT($A$7&"!A:D"),4,FALSE)+4))),"") | F24: =IFERROR(IF($C24="","",INDIRECT("第"&VLOOKUP(F$7,INDIRECT($A$7&"!A:D"),2,FALSE)&"周"&"!"&ADDRESS(ROW(),VLOOKUP(F$7,INDIRECT($A$7&"!A:D"),4,FALSE)+4))),"") | G24: =IFERROR(IF($C24="","",INDIRECT("第"&VLOOKUP(G$7,INDIRECT($A$7&"!A:D"),2,FALSE)&"周"&"!"&ADDRESS(ROW(),VLOOKUP(G$7,INDIRECT($A$7&"!A:D"),4,FALSE)+4))),"") | H24: =IFERROR(IF($C24="","",INDIRECT("第"&VLOOKUP(H$7,INDIRECT($A$7&"!A:D"),2,FALSE)&"周"&"!"&ADDRESS(ROW(),VLOOKUP(H$7,INDIRECT($A$7&"!A:D"),4,FALSE)+4))),"") | I24: =IFERROR(IF($C24="","",INDIRECT("第"&VLOOKUP(I$7,INDIRECT($A$7&"!A:D"),2,FALSE)&"周"&"!"&ADDRESS(ROW(),VLOOKUP(I$7,INDIRECT($A$7&"!A:D"),4,FALSE)+4))),"") | J24: =IFERROR(IF($C24="","",INDIRECT("第"&VLOOKUP(J$7,INDIRECT($A$7&"!A:D"),2,FALSE)&"周"&"!"&ADDRESS(ROW(),VLOOKUP(J$7,INDIRECT($A$7&"!A:D"),4,FALSE)+4))),"") | K24: =IFERROR(IF($C24="","",INDIRECT("第"&VLOOKUP(K$7,INDIRECT($A$7&"!A:D"),2,FALSE)&"周"&"!"&ADDRESS(ROW(),VLOOKUP(K$7,INDIRECT($A$7&"!A:D"),4,FALSE)+4))),"") | L24: =IFERROR(IF($C24="","",INDIRECT("第"&VLOOKUP(L$7,INDIRECT($A$7&"!A:D"),2,FALSE)&"周"&"!"&ADDRESS(ROW(),VLOOKUP(L$7,INDIRECT($A$7&"!A:D"),4,FALSE)+4))),"") | ... AI24: =IFERROR(IF($C24="","",INDIRECT("第"&VLOOKUP(AI$7,INDIRECT($A$7&"!A:D"),2,FALSE)&"周"&"!"&ADDRESS(ROW(),VLOOKUP(AI$7,INDIRECT($A$7&"!A:D"),4,FALSE)+4))),"") | AJ24: =COUNTIF($E24:$AI26,AJ$8) -> 0 | AK24: =COUNTIF($E24:$AI26,AK$8) -> 0 | AL24: =COUNTIF($E24:$AI26,AL$8) -> 0 | AM24: =COUNTIF($E24:$AI26,AM$8) -> 0 | AN24: =COUNTIF($E24:$AI26,AN$8) -> 0 | AO24: =COUNTIF($E24:$AI26,AO$8) -> 0 | AP24: =COUNTIF($E24:$AI26,AP$8) -> 0 | AQ24: =COUNTIF($E24:$AI26,AQ$8) -> 0 | AR24: =COUNTIF($E24:$AI26,AR$8) -> 0
D25: 下午 | E25: =IFERROR(IF($C24="","",INDIRECT("第"&VLOOKUP(E$7,INDIRECT($A$7&"!A:D"),2,FALSE)&"周"&"!"&ADDRESS(ROW(),VLOOKUP(E$7,INDIRECT($A$7&"!A:D"),4,FALSE)+4))),"") | F25: =IFERROR(IF($C24="","",INDIRECT("第"&VLOOKUP(F$7,INDIRECT($A$7&"!A:D"),2,FALSE)&"周"&"!"&ADDRESS(ROW(),VLOOKUP(F$7,INDIRECT($A$7&"!A:D"),4,FALSE)+4))),"") | G25: =IFERROR(IF($C24="","",INDIRECT("第"&VLOOKUP(G$7,INDIRECT($A$7&"!A:D"),2,FALSE)&"周"&"!"&ADDRESS(ROW(),VLOOKUP(G$7,INDIRECT($A$7&"!A:D"),4,FALSE)+4))),"") | H25: =IFERROR(IF($C24="","",INDIRECT("第"&VLOOKUP(H$7,INDIRECT($A$7&"!A:D"),2,FALSE)&"周"&"!"&ADDRESS(ROW(),VLOOKUP(H$7,INDIRECT($A$7&"!A:D"),4,FALSE)+4))),"") | I25: =IFERROR(IF($C24="","",INDIRECT("第"&VLOOKUP(I$7,INDIRECT($A$7&"!A:D"),2,FALSE)&"周"&"!"&ADDRESS(ROW(),VLOOKUP(I$7,INDIRECT($A$7&"!A:D"),4,FALSE)+4))),"") | J25: =IFERROR(IF($C24="","",INDIRECT("第"&VLOOKUP(J$7,INDIRECT($A$7&"!A:D"),2,FALSE)&"周"&"!"&ADDRESS(ROW(),VLOOKUP(J$7,INDIRECT($A$7&"!A:D"),4,FALSE)+4))),"") | K25: =IFERROR(IF($C24="","",INDIRECT("第"&VLOOKUP(K$7,INDIRECT($A$7&"!A:D"),2,FALSE)&"周"&"!"&ADDRESS(ROW(),VLOOKUP(K$7,INDIRECT($A$7&"!A:D"),4,FALSE)+4))),"") | L25: =IFERROR(IF($C24="","",INDIRECT("第"&VLOOKUP(L$7,INDIRECT($A$7&"!A:D"),2,FALSE)&"周"&"!"&ADDRESS(ROW(),VLOOKUP(L$7,INDIRECT($A$7&"!A:D"),4,FALSE)+4))),"") | ... AI25: =IFERROR(IF($C24="","",INDIRECT("第"&VLOOKUP(AI$7,INDIRECT($A$7&"!A:D"),2,FALSE)&"周"&"!"&ADDRESS(ROW(),VLOOKUP(AI$7,INDIRECT($A$7&"!A:D"),4,FALSE)+4))),"")
D26: 晚上 | E26: =IFERROR(IF($C24="","",INDIRECT("第"&VLOOKUP(E$7,INDIRECT($A$7&"!A:D"),2,FALSE)&"周"&"!"&ADDRESS(ROW(),VLOOKUP(E$7,INDIRECT($A$7&"!A:D"),4,FALSE)+4))),"") | F26: =IFERROR(IF($C24="","",INDIRECT("第"&VLOOKUP(F$7,INDIRECT($A$7&"!A:D"),2,FALSE)&"周"&"!"&ADDRESS(ROW(),VLOOKUP(F$7,INDIRECT($A$7&"!A:D"),4,FALSE)+4))),"") | G26: =IFERROR(IF($C24="","",INDIRECT("第"&VLOOKUP(G$7,INDIRECT($A$7&"!A:D"),2,FALSE)&"周"&"!"&ADDRESS(ROW(),VLOOKUP(G$7,INDIRECT($A$7&"!A:D"),4,FALSE)+4))),"") | H26: =IFERROR(IF($C24="","",INDIRECT("第"&VLOOKUP(H$7,INDIRECT($A$7&"!A:D"),2,FALSE)&"周"&"!"&ADDRESS(ROW(),VLOOKUP(H$7,INDIRECT($A$7&"!A:D"),4,FALSE)+4))),"") | I26: =IFERROR(IF($C24="","",INDIRECT("第"&VLOOKUP(I$7,INDIRECT($A$7&"!A:D"),2,FALSE)&"周"&"!"&ADDRESS(ROW(),VLOOKUP(I$7,INDIRECT($A$7&"!A:D"),4,FALSE)+4))),"") | J26: =IFERROR(IF($C24="","",INDIRECT("第"&VLOOKUP(J$7,INDIRECT($A$7&"!A:D"),2,FALSE)&"周"&"!"&ADDRESS(ROW(),VLOOKUP(J$7,INDIRECT($A$7&"!A:D"),4,FALSE)+4))),"") | K26: =IFERROR(IF($C24="","",INDIRECT("第"&VLOOKUP(K$7,INDIRECT($A$7&"!A:D"),2,FALSE)&"周"&"!"&ADDRESS(ROW(),VLOOKUP(K$7,INDIRECT($A$7&"!A:D"),4,FALSE)+4))),"") | L26: =IFERROR(IF($C24="","",INDIRECT("第"&VLOOKUP(L$7,INDIRECT($A$7&"!A:D"),2,FALSE)&"周"&"!"&ADDRESS(ROW(),VLOOKUP(L$7,INDIRECT($A$7&"!A:D"),4,FALSE)+4))),"") | ... AI26: =IFERROR(IF($C24="","",INDIRECT("第"&VLOOKUP(AI$7,INDIRECT($A$7&"!A:D"),2,FALSE)&"周"&"!"&ADDRESS(ROW(),VLOOKUP(AI$7,INDIRECT($A$7&"!A:D"),4,FALSE)+4))),"")
B27: =ROW()/3-2 -> 7 | C27: =INDIRECT("员工信息表!C"&(B27+3))&IF(INDIRECT("员工信息表!O"&(B27+3))="离职","(离职)","") | D27: 上午 | E27: =IFERROR(IF($C27="","",INDIRECT("第"&VLOOKUP(E$7,INDIRECT($A$7&"!A:D"),2,FALSE)&"周"&"!"&ADDRESS(ROW(),VLOOKUP(E$7,INDIRECT($A$7&"!A:D"),4,FALSE)+4))),"") | F27: =IFERROR(IF($C27="","",INDIRECT("第"&VLOOKUP(F$7,INDIRECT($A$7&"!A:D"),2,FALSE)&"周"&"!"&ADDRESS(ROW(),VLOOKUP(F$7,INDIRECT($A$7&"!A:D"),4,FALSE)+4))),"") | G27: =IFERROR(IF($C27="","",INDIRECT("第"&VLOOKUP(G$7,INDIRECT($A$7&"!A:D"),2,FALSE)&"周"&"!"&ADDRESS(ROW(),VLOOKUP(G$7,INDIRECT($A$7&"!A:D"),4,FALSE)+4))),"") | H27: =IFERROR(IF($C27="","",INDIRECT("第"&VLOOKUP(H$7,INDIRECT($A$7&"!A:D"),2,FALSE)&"周"&"!"&ADDRESS(ROW(),VLOOKUP(H$7,INDIRECT($A$7&"!A:D"),4,FALSE)+4))),"") | I27: =IFERROR(IF($C27="","",INDIRECT("第"&VLOOKUP(I$7,INDIRECT($A$7&"!A:D"),2,FALSE)&"周"&"!"&ADDRESS(ROW(),VLOOKUP(I$7,INDIRECT($A$7&"!A:D"),4,FALSE)+4))),"") | J27: =IFERROR(IF($C27="","",INDIRECT("第"&VLOOKUP(J$7,INDIRECT($A$7&"!A:D"),2,FALSE)&"周"&"!"&ADDRESS(ROW(),VLOOKUP(J$7,INDIRECT($A$7&"!A:D"),4,FALSE)+4))),"") | K27: =IFERROR(IF($C27="","",INDIRECT("第"&VLOOKUP(K$7,INDIRECT($A$7&"!A:D"),2,FALSE)&"周"&"!"&ADDRESS(ROW(),VLOOKUP(K$7,INDIRECT($A$7&"!A:D"),4,FALSE)+4))),"") | L27: =IFERROR(IF($C27="","",INDIRECT("第"&VLOOKUP(L$7,INDIRECT($A$7&"!A:D"),2,FALSE)&"周"&"!"&ADDRESS(ROW(),VLOOKUP(L$7,INDIRECT($A$7&"!A:D"),4,FALSE)+4))),"") | ... AI27: =IFERROR(IF($C27="","",INDIRECT("第"&VLOOKUP(AI$7,INDIRECT($A$7&"!A:D"),2,FALSE)&"周"&"!"&ADDRESS(ROW(),VLOOKUP(AI$7,INDIRECT($A$7&"!A:D"),4,FALSE)+4))),"") | AJ27: =COUNTIF($E27:$AI29,AJ$8) -> 0 | AK27: =COUNTIF($E27:$AI29,AK$8) -> 0 | AL27: =COUNTIF($E27:$AI29,AL$8) -> 0 | AM27: =COUNTIF($E27:$AI29,AM$8) -> 0 | AN27: =COUNTIF($E27:$AI29,AN$8) -> 0 | AO27: =COUNTIF($E27:$AI29,AO$8) -> 0 | AP27: =COUNTIF($E27:$AI29,AP$8) -> 0 | AQ27: =COUNTIF($E27:$AI29,AQ$8) -> 0 | AR27: =COUNTIF($E27:$AI29,AR$8) -> 0
D28: 下午 | E28: =IFERROR(IF($C27="","",INDIRECT("第"&VLOOKUP(E$7,INDIRECT($A$7&"!A:D"),2,FALSE)&"周"&"!"&ADDRESS(ROW(),VLOOKUP(E$7,INDIRECT($A$7&"!A:D"),4,FALSE)+4))),"") | F28: =IFERROR(IF($C27="","",INDIRECT("第"&VLOOKUP(F$7,INDIRECT($A$7&"!A:D"),2,FALSE)&"周"&"!"&ADDRESS(ROW(),VLOOKUP(F$7,INDIRECT($A$7&"!A:D"),4,FALSE)+4))),"") | G28: =IFERROR(IF($C27="","",INDIRECT("第"&VLOOKUP(G$7,INDIRECT($A$7&"!A:D"),2,FALSE)&"周"&"!"&ADDRESS(ROW(),VLOOKUP(G$7,INDIRECT($A$7&"!A:D"),4,FALSE)+4))),"") | H28: =IFERROR(IF($C27="","",INDIRECT("第"&VLOOKUP(H$7,INDIRECT($A$7&"!A:D"),2,FALSE)&"周"&"!"&ADDRESS(ROW(),VLOOKUP(H$7,INDIRECT($A$7&"!A:D"),4,FALSE)+4))),"") | I28: =IFERROR(IF($C27="","",INDIRECT("第"&VLOOKUP(I$7,INDIRECT($A$7&"!A:D"),2,FALSE)&"周"&"!"&ADDRESS(ROW(),VLOOKUP(I$7,INDIRECT($A$7&"!A:D"),4,FALSE)+4))),"") | J28: =IFERROR(IF($C27="","",INDIRECT("第"&VLOOKUP(J$7,INDIRECT($A$7&"!A:D"),2,FALSE)&"周"&"!"&ADDRESS(ROW(),VLOOKUP(J$7,INDIRECT($A$7&"!A:D"),4,FALSE)+4))),"") | K28: =IFERROR(IF($C27="","",INDIRECT("第"&VLOOKUP(K$7,INDIRECT($A$7&"!A:D"),2,FALSE)&"周"&"!"&ADDRESS(ROW(),VLOOKUP(K$7,INDIRECT($A$7&"!A:D"),4,FALSE)+4))),"") | L28: =IFERROR(IF($C27="","",INDIRECT("第"&VLOOKUP(L$7,INDIRECT($A$7&"!A:D"),2,FALSE)&"周"&"!"&ADDRESS(ROW(),VLOOKUP(L$7,INDIRECT($A$7&"!A:D"),4,FALSE)+4))),"") | ... AI28: =IFERROR(IF($C27="","",INDIRECT("第"&VLOOKUP(AI$7,INDIRECT($A$7&"!A:D"),2,FALSE)&"周"&"!"&ADDRESS(ROW(),VLOOKUP(AI$7,INDIRECT($A$7&"!A:D"),4,FALSE)+4))),"")
D29: 晚上 | E29: =IFERROR(IF($C27="","",INDIRECT("第"&VLOOKUP(E$7,INDIRECT($A$7&"!A:D"),2,FALSE)&"周"&"!"&ADDRESS(ROW(),VLOOKUP(E$7,INDIRECT($A$7&"!A:D"),4,FALSE)+4))),"") | F29: =IFERROR(IF($C27="","",INDIRECT("第"&VLOOKUP(F$7,INDIRECT($A$7&"!A:D"),2,FALSE)&"周"&"!"&ADDRESS(ROW(),VLOOKUP(F$7,INDIRECT($A$7&"!A:D"),4,FALSE)+4))),"") | G29: =IFERROR(IF($C27="","",INDIRECT("第"&VLOOKUP(G$7,INDIRECT($A$7&"!A:D"),2,FALSE)&"周"&"!"&ADDRESS(ROW(),VLOOKUP(G$7,INDIRECT($A$7&"!A:D"),4,FALSE)+4))),"") | H29: =IFERROR(IF($C27="","",INDIRECT("第"&VLOOKUP(H$7,INDIRECT($A$7&"!A:D"),2,FALSE)&"周"&"!"&ADDRESS(ROW(),VLOOKUP(H$7,INDIRECT($A$7&"!A:D"),4,FALSE)+4))),"") | I29: =IFERROR(IF($C27="","",INDIRECT("第"&VLOOKUP(I$7,INDIRECT($A$7&"!A:D"),2,FALSE)&"周"&"!"&ADDRESS(ROW(),VLOOKUP(I$7,INDIRECT($A$7&"!A:D"),4,FALSE)+4))),"") | J29: =IFERROR(IF($C27="","",INDIRECT("第"&VLOOKUP(J$7,INDIRECT($A$7&"!A:D"),2,FALSE)&"周"&"!"&ADDRESS(ROW(),VLOOKUP(J$7,INDIRECT($A$7&"!A:D"),4,FALSE)+4))),"") | K29: =IFERROR(IF($C27="","",INDIRECT("第"&VLOOKUP(K$7,INDIRECT($A$7&"!A:D"),2,FALSE)&"周"&"!"&ADDRESS(ROW(),VLOOKUP(K$7,INDIRECT($A$7&"!A:D"),4,FALSE)+4))),"") | L29: =IFERROR(IF($C27="","",INDIRECT("第"&VLOOKUP(L$7,INDIRECT($A$7&"!A:D"),2,FALSE)&"周"&"!"&ADDRESS(ROW(),VLOOKUP(L$7,INDIRECT($A$7&"!A:D"),4,FALSE)+4))),"") | ... AI29: =IFERROR(IF($C27="","",INDIRECT("第"&VLOOKUP(AI$7,INDIRECT($A$7&"!A:D"),2,FALSE)&"周"&"!"&ADDRESS(ROW(),VLOOKUP(AI$7,INDIRECT($A$7&"!A:D"),4,FALSE)+4))),"")
B30: =ROW()/3-2 -> 8 | C30: =INDIRECT("员工信息表!C"&(B30+3))&IF(INDIRECT("员工信息表!O"&(B30+3))="离职","(离职)","") | D30: 上午 | E30: =IFERROR(IF($C30="","",INDIRECT("第"&VLOOKUP(E$7,INDIRECT($A$7&"!A:D"),2,FALSE)&"周"&"!"&ADDRESS(ROW(),VLOOKUP(E$7,INDIRECT($A$7&"!A:D"),4,FALSE)+4))),"") | F30: =IFERROR(IF($C30="","",INDIRECT("第"&VLOOKUP(F$7,INDIRECT($A$7&"!A:D"),2,FALSE)&"周"&"!"&ADDRESS(ROW(),VLOOKUP(F$7,INDIRECT($A$7&"!A:D"),4,FALSE)+4))),"") | G30: =IFERROR(IF($C30="","",INDIRECT("第"&VLOOKUP(G$7,INDIRECT($A$7&"!A:D"),2,FALSE)&"周"&"!"&ADDRESS(ROW(),VLOOKUP(G$7,INDIRECT($A$7&"!A:D"),4,FALSE)+4))),"") | H30: =IFERROR(IF($C30="","",INDIRECT("第"&VLOOKUP(H$7,INDIRECT($A$7&"!A:D"),2,FALSE)&"周"&"!"&ADDRESS(ROW(),VLOOKUP(H$7,INDIRECT($A$7&"!A:D"),4,FALSE)+4))),"") | I30: =IFERROR(IF($C30="","",INDIRECT("第"&VLOOKUP(I$7,INDIRECT($A$7&"!A:D"),2,FALSE)&"周"&"!"&ADDRESS(ROW(),VLOOKUP(I$7,INDIRECT($A$7&"!A:D"),4,FALSE)+4))),"") | J30: =IFERROR(IF($C30="","",INDIRECT("第"&VLOOKUP(J$7,INDIRECT($A$7&"!A:D"),2,FALSE)&"周"&"!"&ADDRESS(ROW(),VLOOKUP(J$7,INDIRECT($A$7&"!A:D"),4,FALSE)+4))),"") | K30: =IFERROR(IF($C30="","",INDIRECT("第"&VLOOKUP(K$7,INDIRECT($A$7&"!A:D"),2,FALSE)&"周"&"!"&ADDRESS(ROW(),VLOOKUP(K$7,INDIRECT($A$7&"!A:D"),4,FALSE)+4))),"") | L30: =IFERROR(IF($C30="","",INDIRECT("第"&VLOOKUP(L$7,INDIRECT($A$7&"!A:D"),2,FALSE)&"周"&"!"&ADDRESS(ROW(),VLOOKUP(L$7,INDIRECT($A$7&"!A:D"),4,FALSE)+4))),"") | ... AI30: =IFERROR(IF($C30="","",INDIRECT("第"&VLOOKUP(AI$7,INDIRECT($A$7&"!A:D"),2,FALSE)&"周"&"!"&ADDRESS(ROW(),VLOOKUP(AI$7,INDIRECT($A$7&"!A:D"),4,FALSE)+4))),"") | AJ30: =COUNTIF($E30:$AI32,AJ$8) -> 0 | AK30: =COUNTIF($E30:$AI32,AK$8) -> 0 | AL30: =COUNTIF($E30:$AI32,AL$8) -> 0 | AM30: =COUNTIF($E30:$AI32,AM$8) -> 0 | AN30: =COUNTIF($E30:$AI32,AN$8) -> 0 | AO30: =COUNTIF($E30:$AI32,AO$8) -> 0 | AP30: =COUNTIF($E30:$AI32,AP$8) -> 0 | AQ30: =COUNTIF($E30:$AI32,AQ$8) -> 0 | AR30: =COUNTIF($E30:$AI32,AR$8) -> 0
D31: 下午 | E31: =IFERROR(IF($C30="","",INDIRECT("第"&VLOOKUP(E$7,INDIRECT($A$7&"!A:D"),2,FALSE)&"周"&"!"&ADDRESS(ROW(),VLOOKUP(E$7,INDIRECT($A$7&"!A:D"),4,FALSE)+4))),"") | F31: =IFERROR(IF($C30="","",INDIRECT("第"&VLOOKUP(F$7,INDIRECT($A$7&"!A:D"),2,FALSE)&"周"&"!"&ADDRESS(ROW(),VLOOKUP(F$7,INDIRECT($A$7&"!A:D"),4,FALSE)+4))),"") | G31: =IFERROR(IF($C30="","",INDIRECT("第"&VLOOKUP(G$7,INDIRECT($A$7&"!A:D"),2,FALSE)&"周"&"!"&ADDRESS(ROW(),VLOOKUP(G$7,INDIRECT($A$7&"!A:D"),4,FALSE)+4))),"") | H31: =IFERROR(IF($C30="","",INDIRECT("第"&VLOOKUP(H$7,INDIRECT($A$7&"!A:D"),2,FALSE)&"周"&"!"&ADDRESS(ROW(),VLOOKUP(H$7,INDIRECT($A$7&"!A:D"),4,FALSE)+4))),"") | I31: =IFERROR(IF($C30="","",INDIRECT("第"&VLOOKUP(I$7,INDIRECT($A$7&"!A:D"),2,FALSE)&"周"&"!"&ADDRESS(ROW(),VLOOKUP(I$7,INDIRECT($A$7&"!A:D"),4,FALSE)+4))),"") | J31: =IFERROR(IF($C30="","",INDIRECT("第"&VLOOKUP(J$7,INDIRECT($A$7&"!A:D"),2,FALSE)&"周"&"!"&ADDRESS(ROW(),VLOOKUP(J$7,INDIRECT($A$7&"!A:D"),4,FALSE)+4))),"") | K31: =IFERROR(IF($C30="","",INDIRECT("第"&VLOOKUP(K$7,INDIRECT($A$7&"!A:D"),2,FALSE)&"周"&"!"&ADDRESS(ROW(),VLOOKUP(K$7,INDIRECT($A$7&"!A:D"),4,FALSE)+4))),"") | L31: =IFERROR(IF($C30="","",INDIRECT("第"&VLOOKUP(L$7,INDIRECT($A$7&"!A:D"),2,FALSE)&"周"&"!"&ADDRESS(ROW(),VLOOKUP(L$7,INDIRECT($A$7&"!A:D"),4,FALSE)+4))),"") | ... AI31: =IFERROR(IF($C30="","",INDIRECT("第"&VLOOKUP(AI$7,INDIRECT($A$7&"!A:D"),2,FALSE)&"周"&"!"&ADDRESS(ROW(),VLOOKUP(AI$7,INDIRECT($A$7&"!A:D"),4,FALSE)+4))),"")
D32: 晚上 | E32: =IFERROR(IF($C30="","",INDIRECT("第"&VLOOKUP(E$7,INDIRECT($A$7&"!A:D"),2,FALSE)&"周"&"!"&ADDRESS(ROW(),VLOOKUP(E$7,INDIRECT($A$7&"!A:D"),4,FALSE)+4))),"") | F32: =IFERROR(IF($C30="","",INDIRECT("第"&VLOOKUP(F$7,INDIRECT($A$7&"!A:D"),2,FALSE)&"周"&"!"&ADDRESS(ROW(),VLOOKUP(F$7,INDIRECT($A$7&"!A:D"),4,FALSE)+4))),"") | G32: =IFERROR(IF($C30="","",INDIRECT("第"&VLOOKUP(G$7,INDIRECT($A$7&"!A:D"),2,FALSE)&"周"&"!"&ADDRESS(ROW(),VLOOKUP(G$7,INDIRECT($A$7&"!A:D"),4,FALSE)+4))),"") | H32: =IFERROR(IF($C30="","",INDIRECT("第"&VLOOKUP(H$7,INDIRECT($A$7&"!A:D"),2,FALSE)&"周"&"!"&ADDRESS(ROW(),VLOOKUP(H$7,INDIRECT($A$7&"!A:D"),4,FALSE)+4))),"") | I32: =IFERROR(IF($C30="","",INDIRECT("第"&VLOOKUP(I$7,INDIRECT($A$7&"!A:D"),2,FALSE)&"周"&"!"&ADDRESS(ROW(),VLOOKUP(I$7,INDIRECT($A$7&"!A:D"),4,FALSE)+4))),"") | J32: =IFERROR(IF($C30="","",INDIRECT("第"&VLOOKUP(J$7,INDIRECT($A$7&"!A:D"),2,FALSE)&"周"&"!"&ADDRESS(ROW(),VLOOKUP(J$7,INDIRECT($A$7&"!A:D"),4,FALSE)+4))),"") | K32: =IFERROR(IF($C30="","",INDIRECT("第"&VLOOKUP(K$7,INDIRECT($A$7&"!A:D"),2,FALSE)&"周"&"!"&ADDRESS(ROW(),VLOOKUP(K$7,INDIRECT($A$7&"!A:D"),4,FALSE)+4))),"") | L32: =IFERROR(IF($C30="","",INDIRECT("第"&VLOOKUP(L$7,INDIRECT($A$7&"!A:D"),2,FALSE)&"周"&"!"&ADDRESS(ROW(),VLOOKUP(L$7,INDIRECT($A$7&"!A:D"),4,FALSE)+4))),"") | ... AI32: =IFERROR(IF($C30="","",INDIRECT("第"&VLOOKUP(AI$7,INDIRECT($A$7&"!A:D"),2,FALSE)&"周"&"!"&ADDRESS(ROW(),VLOOKUP(AI$7,INDIRECT($A$7&"!A:D"),4,FALSE)+4))),"")
B33: =ROW()/3-2 -> 9 | C33: =INDIRECT("员工信息表!C"&(B33+3))&IF(INDIRECT("员工信息表!O"&(B33+3))="离职","(离职)","") | D33: 上午 | E33: =IFERROR(IF($C33="","",INDIRECT("第"&VLOOKUP(E$7,INDIRECT($A$7&"!A:D"),2,FALSE)&"周"&"!"&ADDRESS(ROW(),VLOOKUP(E$7,INDIRECT($A$7&"!A:D"),4,FALSE)+4))),"") | F33: =IFERROR(IF($C33="","",INDIRECT("第"&VLOOKUP(F$7,INDIRECT($A$7&"!A:D"),2,FALSE)&"周"&"!"&ADDRESS(ROW(),VLOOKUP(F$7,INDIRECT($A$7&"!A:D"),4,FALSE)+4))),"") | G33: =IFERROR(IF($C33="","",INDIRECT("第"&VLOOKUP(G$7,INDIRECT($A$7&"!A:D"),2,FALSE)&"周"&"!"&ADDRESS(ROW(),VLOOKUP(G$7,INDIRECT($A$7&"!A:D"),4,FALSE)+4))),"") | H33: =IFERROR(IF($C33="","",INDIRECT("第"&VLOOKUP(H$7,INDIRECT($A$7&"!A:D"),2,FALSE)&"周"&"!"&ADDRESS(ROW(),VLOOKUP(H$7,INDIRECT($A$7&"!A:D"),4,FALSE)+4))),"") | I33: =IFERROR(IF($C33="","",INDIRECT("第"&VLOOKUP(I$7,INDIRECT($A$7&"!A:D"),2,FALSE)&"周"&"!"&ADDRESS(ROW(),VLOOKUP(I$7,INDIRECT($A$7&"!A:D"),4,FALSE)+4))),"") | J33: =IFERROR(IF($C33="","",INDIRECT("第"&VLOOKUP(J$7,INDIRECT($A$7&"!A:D"),2,FALSE)&"周"&"!"&ADDRESS(ROW(),VLOOKUP(J$7,INDIRECT($A$7&"!A:D"),4,FALSE)+4))),"") | K33: =IFERROR(IF($C33="","",INDIRECT("第"&VLOOKUP(K$7,INDIRECT($A$7&"!A:D"),2,FALSE)&"周"&"!"&ADDRESS(ROW(),VLOOKUP(K$7,INDIRECT($A$7&"!A:D"),4,FALSE)+4))),"") | L33: =IFERROR(IF($C33="","",INDIRECT("第"&VLOOKUP(L$7,INDIRECT($A$7&"!A:D"),2,FALSE)&"周"&"!"&ADDRESS(ROW(),VLOOKUP(L$7,INDIRECT($A$7&"!A:D"),4,FALSE)+4))),"") | ... AI33: =IFERROR(IF($C33="","",INDIRECT("第"&VLOOKUP(AI$7,INDIRECT($A$7&"!A:D"),2,FALSE)&"周"&"!"&ADDRESS(ROW(),VLOOKUP(AI$7,INDIRECT($A$7&"!A:D"),4,FALSE)+4))),"") | AJ33: =COUNTIF($E33:$AI35,AJ$8) -> 0 | AK33: =COUNTIF($E33:$AI35,AK$8) -> 0 | AL33: =COUNTIF($E33:$AI35,AL$8) -> 0 | AM33: =COUNTIF($E33:$AI35,AM$8) -> 0 | AN33: =COUNTIF($E33:$AI35,AN$8) -> 0 | AO33: =COUNTIF($E33:$AI35,AO$8) -> 0 | AP33: =COUNTIF($E33:$AI35,AP$8) -> 0 | AQ33: =COUNTIF($E33:$AI35,AQ$8) -> 0 | AR33: =COUNTIF($E33:$AI35,AR$8) -> 0
D34: 下午 | E34: =IFERROR(IF($C33="","",INDIRECT("第"&VLOOKUP(E$7,INDIRECT($A$7&"!A:D"),2,FALSE)&"周"&"!"&ADDRESS(ROW(),VLOOKUP(E$7,INDIRECT($A$7&"!A:D"),4,FALSE)+4))),"") | F34: =IFERROR(IF($C33="","",INDIRECT("第"&VLOOKUP(F$7,INDIRECT($A$7&"!A:D"),2,FALSE)&"周"&"!"&ADDRESS(ROW(),VLOOKUP(F$7,INDIRECT($A$7&"!A:D"),4,FALSE)+4))),"") | G34: =IFERROR(IF($C33="","",INDIRECT("第"&VLOOKUP(G$7,INDIRECT($A$7&"!A:D"),2,FALSE)&"周"&"!"&ADDRESS(ROW(),VLOOKUP(G$7,INDIRECT($A$7&"!A:D"),4,FALSE)+4))),"") | H34: =IFERROR(IF($C33="","",INDIRECT("第"&VLOOKUP(H$7,INDIRECT($A$7&"!A:D"),2,FALSE)&"周"&"!"&ADDRESS(ROW(),VLOOKUP(H$7,INDIRECT($A$7&"!A:D"),4,FALSE)+4))),"") | I34: =IFERROR(IF($C33="","",INDIRECT("第"&VLOOKUP(I$7,INDIRECT($A$7&"!A:D"),2,FALSE)&"周"&"!"&ADDRESS(ROW(),VLOOKUP(I$7,INDIRECT($A$7&"!A:D"),4,FALSE)+4))),"") | J34: =IFERROR(IF($C33="","",INDIRECT("第"&VLOOKUP(J$7,INDIRECT($A$7&"!A:D"),2,FALSE)&"周"&"!"&ADDRESS(ROW(),VLOOKUP(J$7,INDIRECT($A$7&"!A:D"),4,FALSE)+4))),"") | K34: =IFERROR(IF($C33="","",INDIRECT("第"&VLOOKUP(K$7,INDIRECT($A$7&"!A:D"),2,FALSE)&"周"&"!"&ADDRESS(ROW(),VLOOKUP(K$7,INDIRECT($A$7&"!A:D"),4,FALSE)+4))),"") | L34: =IFERROR(IF($C33="","",INDIRECT("第"&VLOOKUP(L$7,INDIRECT($A$7&"!A:D"),2,FALSE)&"周"&"!"&ADDRESS(ROW(),VLOOKUP(L$7,INDIRECT($A$7&"!A:D"),4,FALSE)+4))),"") | ... AI34: =IFERROR(IF($C33="","",INDIRECT("第"&VLOOKUP(AI$7,INDIRECT($A$7&"!A:D"),2,FALSE)&"周"&"!"&ADDRESS(ROW(),VLOOKUP(AI$7,INDIRECT($A$7&"!A:D"),4,FALSE)+4))),"")
D35: 晚上 | E35: =IFERROR(IF($C33="","",INDIRECT("第"&VLOOKUP(E$7,INDIRECT($A$7&"!A:D"),2,FALSE)&"周"&"!"&ADDRESS(ROW(),VLOOKUP(E$7,INDIRECT($A$7&"!A:D"),4,FALSE)+4))),"") | F35: =IFERROR(IF($C33="","",INDIRECT("第"&VLOOKUP(F$7,INDIRECT($A$7&"!A:D"),2,FALSE)&"周"&"!"&ADDRESS(ROW(),VLOOKUP(F$7,INDIRECT($A$7&"!A:D"),4,FALSE)+4))),"") | G35: =IFERROR(IF($C33="","",INDIRECT("第"&VLOOKUP(G$7,INDIRECT($A$7&"!A:D"),2,FALSE)&"周"&"!"&ADDRESS(ROW(),VLOOKUP(G$7,INDIRECT($A$7&"!A:D"),4,FALSE)+4))),"") | H35: =IFERROR(IF($C33="","",INDIRECT("第"&VLOOKUP(H$7,INDIRECT($A$7&"!A:D"),2,FALSE)&"周"&"!"&ADDRESS(ROW(),VLOOKUP(H$7,INDIRECT($A$7&"!A:D"),4,FALSE)+4))),"") | I35: =IFERROR(IF($C33="","",INDIRECT("第"&VLOOKUP(I$7,INDIRECT($A$7&"!A:D"),2,FALSE)&"周"&"!"&ADDRESS(ROW(),VLOOKUP(I$7,INDIRECT($A$7&"!A:D"),4,FALSE)+4))),"") | J35: =IFERROR(IF($C33="","",INDIRECT("第"&VLOOKUP(J$7,INDIRECT($A$7&"!A:D"),2,FALSE)&"周"&"!"&ADDRESS(ROW(),VLOOKUP(J$7,INDIRECT($A$7&"!A:D"),4,FALSE)+4))),"") | K35: =IFERROR(IF($C33="","",INDIRECT("第"&VLOOKUP(K$7,INDIRECT($A$7&"!A:D"),2,FALSE)&"周"&"!"&ADDRESS(ROW(),VLOOKUP(K$7,INDIRECT($A$7&"!A:D"),4,FALSE)+4))),"") | L35: =IFERROR(IF($C33="","",INDIRECT("第"&VLOOKUP(L$7,INDIRECT($A$7&"!A:D"),2,FALSE)&"周"&"!"&ADDRESS(ROW(),VLOOKUP(L$7,INDIRECT($A$7&"!A:D"),4,FALSE)+4))),"") | ... AI35: =IFERROR(IF($C33="","",INDIRECT("第"&VLOOKUP(AI$7,INDIRECT($A$7&"!A:D"),2,FALSE)&"周"&"!"&ADDRESS(ROW(),VLOOKUP(AI$7,INDIRECT($A$7&"!A:D"),4,FALSE)+4))),"")
B36: =ROW()/3-2 -> 10 | C36: =INDIRECT("员工信息表!C"&(B36+3))&IF(INDIRECT("员工信息表!O"&(B36+3))="离职","(离职)","") | D36: 上午 | E36: =IFERROR(IF($C36="","",INDIRECT("第"&VLOOKUP(E$7,INDIRECT($A$7&"!A:D"),2,FALSE)&"周"&"!"&ADDRESS(ROW(),VLOOKUP(E$7,INDIRECT($A$7&"!A:D"),4,FALSE)+4))),"") | F36: =IFERROR(IF($C36="","",INDIRECT("第"&VLOOKUP(F$7,INDIRECT($A$7&"!A:D"),2,FALSE)&"周"&"!"&ADDRESS(ROW(),VLOOKUP(F$7,INDIRECT($A$7&"!A:D"),4,FALSE)+4))),"") | G36: =IFERROR(IF($C36="","",INDIRECT("第"&VLOOKUP(G$7,INDIRECT($A$7&"!A:D"),2,FALSE)&"周"&"!"&ADDRESS(ROW(),VLOOKUP(G$7,INDIRECT($A$7&"!A:D"),4,FALSE)+4))),"") | H36: =IFERROR(IF($C36="","",INDIRECT("第"&VLOOKUP(H$7,INDIRECT($A$7&"!A:D"),2,FALSE)&"周"&"!"&ADDRESS(ROW(),VLOOKUP(H$7,INDIRECT($A$7&"!A:D"),4,FALSE)+4))),"") | I36: =IFERROR(IF($C36="","",INDIRECT("第"&VLOOKUP(I$7,INDIRECT($A$7&"!A:D"),2,FALSE)&"周"&"!"&ADDRESS(ROW(),VLOOKUP(I$7,INDIRECT($A$7&"!A:D"),4,FALSE)+4))),"") | J36: =IFERROR(IF($C36="","",INDIRECT("第"&VLOOKUP(J$7,INDIRECT($A$7&"!A:D"),2,FALSE)&"周"&"!"&ADDRESS(ROW(),VLOOKUP(J$7,INDIRECT($A$7&"!A:D"),4,FALSE)+4))),"") | K36: =IFERROR(IF($C36="","",INDIRECT("第"&VLOOKUP(K$7,INDIRECT($A$7&"!A:D"),2,FALSE)&"周"&"!"&ADDRESS(ROW(),VLOOKUP(K$7,INDIRECT($A$7&"!A:D"),4,FALSE)+4))),"") | L36: =IFERROR(IF($C36="","",INDIRECT("第"&VLOOKUP(L$7,INDIRECT($A$7&"!A:D"),2,FALSE)&"周"&"!"&ADDRESS(ROW(),VLOOKUP(L$7,INDIRECT($A$7&"!A:D"),4,FALSE)+4))),"") | ... AI36: =IFERROR(IF($C36="","",INDIRECT("第"&VLOOKUP(AI$7,INDIRECT($A$7&"!A:D"),2,FALSE)&"周"&"!"&ADDRESS(ROW(),VLOOKUP(AI$7,INDIRECT($A$7&"!A:D"),4,FALSE)+4))),"") | AJ36: =COUNTIF($E36:$AI38,AJ$8) -> 0 | AK36: =COUNTIF($E36:$AI38,AK$8) -> 0 | AL36: =COUNTIF($E36:$AI38,AL$8) -> 0 | AM36: =COUNTIF($E36:$AI38,AM$8) -> 0 | AN36: =COUNTIF($E36:$AI38,AN$8) -> 0 | AO36: =COUNTIF($E36:$AI38,AO$8) -> 0 | AP36: =COUNTIF($E36:$AI38,AP$8) -> 0 | AQ36: =COUNTIF($E36:$AI38,AQ$8) -> 0 | AR36: =COUNTIF($E36:$AI38,AR$8) -> 0
D37: 下午 | E37: =IFERROR(IF($C36="","",INDIRECT("第"&VLOOKUP(E$7,INDIRECT($A$7&"!A:D"),2,FALSE)&"周"&"!"&ADDRESS(ROW(),VLOOKUP(E$7,INDIRECT($A$7&"!A:D"),4,FALSE)+4))),"") | F37: =IFERROR(IF($C36="","",INDIRECT("第"&VLOOKUP(F$7,INDIRECT($A$7&"!A:D"),2,FALSE)&"周"&"!"&ADDRESS(ROW(),VLOOKUP(F$7,INDIRECT($A$7&"!A:D"),4,FALSE)+4))),"") | G37: =IFERROR(IF($C36="","",INDIRECT("第"&VLOOKUP(G$7,INDIRECT($A$7&"!A:D"),2,FALSE)&"周"&"!"&ADDRESS(ROW(),VLOOKUP(G$7,INDIRECT($A$7&"!A:D"),4,FALSE)+4))),"") | H37: =IFERROR(IF($C36="","",INDIRECT("第"&VLOOKUP(H$7,INDIRECT($A$7&"!A:D"),2,FALSE)&"周"&"!"&ADDRESS(ROW(),VLOOKUP(H$7,INDIRECT($A$7&"!A:D"),4,FALSE)+4))),"") | I37: =IFERROR(IF($C36="","",INDIRECT("第"&VLOOKUP(I$7,INDIRECT($A$7&"!A:D"),2,FALSE)&"周"&"!"&ADDRESS(ROW(),VLOOKUP(I$7,INDIRECT($A$7&"!A:D"),4,FALSE)+4))),"") | J37: =IFERROR(IF($C36="","",INDIRECT("第"&VLOOKUP(J$7,INDIRECT($A$7&"!A:D"),2,FALSE)&"周"&"!"&ADDRESS(ROW(),VLOOKUP(J$7,INDIRECT($A$7&"!A:D"),4,FALSE)+4))),"") | K37: =IFERROR(IF($C36="","",INDIRECT("第"&VLOOKUP(K$7,INDIRECT($A$7&"!A:D"),2,FALSE)&"周"&"!"&ADDRESS(ROW(),VLOOKUP(K$7,INDIRECT($A$7&"!A:D"),4,FALSE)+4))),"") | L37: =IFERROR(IF($C36="","",INDIRECT("第"&VLOOKUP(L$7,INDIRECT($A$7&"!A:D"),2,FALSE)&"周"&"!"&ADDRESS(ROW(),VLOOKUP(L$7,INDIRECT($A$7&"!A:D"),4,FALSE)+4))),"") | ... AI37: =IFERROR(IF($C36="","",INDIRECT("第"&VLOOKUP(AI$7,INDIRECT($A$7&"!A:D"),2,FALSE)&"周"&"!"&ADDRESS(ROW(),VLOOKUP(AI$7,INDIRECT($A$7&"!A:D"),4,FALSE)+4))),"")
D38: 晚上 | E38: =IFERROR(IF($C36="","",INDIRECT("第"&VLOOKUP(E$7,INDIRECT($A$7&"!A:D"),2,FALSE)&"周"&"!"&ADDRESS(ROW(),VLOOKUP(E$7,INDIRECT($A$7&"!A:D"),4,FALSE)+4))),"") | F38: =IFERROR(IF($C36="","",INDIRECT("第"&VLOOKUP(F$7,INDIRECT($A$7&"!A:D"),2,FALSE)&"周"&"!"&ADDRESS(ROW(),VLOOKUP(F$7,INDIRECT($A$7&"!A:D"),4,FALSE)+4))),"") | G38: =IFERROR(IF($C36="","",INDIRECT("第"&VLOOKUP(G$7,INDIRECT($A$7&"!A:D"),2,FALSE)&"周"&"!"&ADDRESS(ROW(),VLOOKUP(G$7,INDIRECT($A$7&"!A:D"),4,FALSE)+4))),"") | H38: =IFERROR(IF($C36="","",INDIRECT("第"&VLOOKUP(H$7,INDIRECT($A$7&"!A:D"),2,FALSE)&"周"&"!"&ADDRESS(ROW(),VLOOKUP(H$7,INDIRECT($A$7&"!A:D"),4,FALSE)+4))),"") | I38: =IFERROR(IF($C36="","",INDIRECT("第"&VLOOKUP(I$7,INDIRECT($A$7&"!A:D"),2,FALSE)&"周"&"!"&ADDRESS(ROW(),VLOOKUP(I$7,INDIRECT($A$7&"!A:D"),4,FALSE)+4))),"") | J38: =IFERROR(IF($C36="","",INDIRECT("第"&VLOOKUP(J$7,INDIRECT($A$7&"!A:D"),2,FALSE)&"周"&"!"&ADDRESS(ROW(),VLOOKUP(J$7,INDIRECT($A$7&"!A:D"),4,FALSE)+4))),"") | K38: =IFERROR(IF($C36="","",INDIRECT("第"&VLOOKUP(K$7,INDIRECT($A$7&"!A:D"),2,FALSE)&"周"&"!"&ADDRESS(ROW(),VLOOKUP(K$7,INDIRECT($A$7&"!A:D"),4,FALSE)+4))),"") | L38: =IFERROR(IF($C36="","",INDIRECT("第"&VLOOKUP(L$7,INDIRECT($A$7&"!A:D"),2,FALSE)&"周"&"!"&ADDRESS(ROW(),VLOOKUP(L$7,INDIRECT($A$7&"!A:D"),4,FALSE)+4))),"") | ... AI38: =IFERROR(IF($C36="","",INDIRECT("第"&VLOOKUP(AI$7,INDIRECT($A$7&"!A:D"),2,FALSE)&"周"&"!"&ADDRESS(ROW(),VLOOKUP(AI$7,INDIRECT($A$7&"!A:D"),4,FALSE)+4))),"")
B39: =ROW()/3-2 -> 11 | C39: =INDIRECT("员工信息表!C"&(B39+3))&IF(INDIRECT("员工信息表!O"&(B39+3))="离职","(离职)","") | D39: 上午 | E39: =IFERROR(IF($C39="","",INDIRECT("第"&VLOOKUP(E$7,INDIRECT($A$7&"!A:D"),2,FALSE)&"周"&"!"&ADDRESS(ROW(),VLOOKUP(E$7,INDIRECT($A$7&"!A:D"),4,FALSE)+4))),"") | F39: =IFERROR(IF($C39="","",INDIRECT("第"&VLOOKUP(F$7,INDIRECT($A$7&"!A:D"),2,FALSE)&"周"&"!"&ADDRESS(ROW(),VLOOKUP(F$7,INDIRECT($A$7&"!A:D"),4,FALSE)+4))),"") | G39: =IFERROR(IF($C39="","",INDIRECT("第"&VLOOKUP(G$7,INDIRECT($A$7&"!A:D"),2,FALSE)&"周"&"!"&ADDRESS(ROW(),VLOOKUP(G$7,INDIRECT($A$7&"!A:D"),4,FALSE)+4))),"") | H39: =IFERROR(IF($C39="","",INDIRECT("第"&VLOOKUP(H$7,INDIRECT($A$7&"!A:D"),2,FALSE)&"周"&"!"&ADDRESS(ROW(),VLOOKUP(H$7,INDIRECT($A$7&"!A:D"),4,FALSE)+4))),"") | I39: =IFERROR(IF($C39="","",INDIRECT("第"&VLOOKUP(I$7,INDIRECT($A$7&"!A:D"),2,FALSE)&"周"&"!"&ADDRESS(ROW(),VLOOKUP(I$7,INDIRECT($A$7&"!A:D"),4,FALSE)+4))),"") | J39: =IFERROR(IF($C39="","",INDIRECT("第"&VLOOKUP(J$7,INDIRECT($A$7&"!A:D"),2,FALSE)&"周"&"!"&ADDRESS(ROW(),VLOOKUP(J$7,INDIRECT($A$7&"!A:D"),4,FALSE)+4))),"") | K39: =IFERROR(IF($C39="","",INDIRECT("第"&VLOOKUP(K$7,INDIRECT($A$7&"!A:D"),2,FALSE)&"周"&"!"&ADDRESS(ROW(),VLOOKUP(K$7,INDIRECT($A$7&"!A:D"),4,FALSE)+4))),"") | L39: =IFERROR(IF($C39="","",INDIRECT("第"&VLOOKUP(L$7,INDIRECT($A$7&"!A:D"),2,FALSE)&"周"&"!"&ADDRESS(ROW(),VLOOKUP(L$7,INDIRECT($A$7&"!A:D"),4,FALSE)+4))),"") | ... AI39: =IFERROR(IF($C39="","",INDIRECT("第"&VLOOKUP(AI$7,INDIRECT($A$7&"!A:D"),2,FALSE)&"周"&"!"&ADDRESS(ROW(),VLOOKUP(AI$7,INDIRECT($A$7&"!A:D"),4,FALSE)+4))),"") | AJ39: =COUNTIF($E39:$AI41,AJ$8) -> 0 | AK39: =COUNTIF($E39:$AI41,AK$8) -> 0 | AL39: =COUNTIF($E39:$AI41,AL$8) -> 0 | AM39: =COUNTIF($E39:$AI41,AM$8) -> 0 | AN39: =COUNTIF($E39:$AI41,AN$8) -> 0 | AO39: =COUNTIF($E39:$AI41,AO$8) -> 0 | AP39: =COUNTIF($E39:$AI41,AP$8) -> 0 | AQ39: =COUNTIF($E39:$AI41,AQ$8) -> 0 | AR39: =COUNTIF($E39:$AI41,AR$8) -> 0
D40: 下午 | E40: =IFERROR(IF($C39="","",INDIRECT("第"&VLOOKUP(E$7,INDIRECT($A$7&"!A:D"),2,FALSE)&"周"&"!"&ADDRESS(ROW(),VLOOKUP(E$7,INDIRECT($A$7&"!A:D"),4,FALSE)+4))),"") | F40: =IFERROR(IF($C39="","",INDIRECT("第"&VLOOKUP(F$7,INDIRECT($A$7&"!A:D"),2,FALSE)&"周"&"!"&ADDRESS(ROW(),VLOOKUP(F$7,INDIRECT($A$7&"!A:D"),4,FALSE)+4))),"") | G40: =IFERROR(IF($C39="","",INDIRECT("第"&VLOOKUP(G$7,INDIRECT($A$7&"!A:D"),2,FALSE)&"周"&"!"&ADDRESS(ROW(),VLOOKUP(G$7,INDIRECT($A$7&"!A:D"),4,FALSE)+4))),"") | H40: =IFERROR(IF($C39="","",INDIRECT("第"&VLOOKUP(H$7,INDIRECT($A$7&"!A:D"),2,FALSE)&"周"&"!"&ADDRESS(ROW(),VLOOKUP(H$7,INDIRECT($A$7&"!A:D"),4,FALSE)+4))),"") | I40: =IFERROR(IF($C39="","",INDIRECT("第"&VLOOKUP(I$7,INDIRECT($A$7&"!A:D"),2,FALSE)&"周"&"!"&ADDRESS(ROW(),VLOOKUP(I$7,INDIRECT($A$7&"!A:D"),4,FALSE)+4))),"") | J40: =IFERROR(IF($C39="","",INDIRECT("第"&VLOOKUP(J$7,INDIRECT($A$7&"!A:D"),2,FALSE)&"周"&"!"&ADDRESS(ROW(),VLOOKUP(J$7,INDIRECT($A$7&"!A:D"),4,FALSE)+4))),"") | K40: =IFERROR(IF($C39="","",INDIRECT("第"&VLOOKUP(K$7,INDIRECT($A$7&"!A:D"),2,FALSE)&"周"&"!"&ADDRESS(ROW(),VLOOKUP(K$7,INDIRECT($A$7&"!A:D"),4,FALSE)+4))),"") | L40: =IFERROR(IF($C39="","",INDIRECT("第"&VLOOKUP(L$7,INDIRECT($A$7&"!A:D"),2,FALSE)&"周"&"!"&ADDRESS(ROW(),VLOOKUP(L$7,INDIRECT($A$7&"!A:D"),4,FALSE)+4))),"") | ... AI40: =IFERROR(IF($C39="","",INDIRECT("第"&VLOOKUP(AI$7,INDIRECT($A$7&"!A:D"),2,FALSE)&"周"&"!"&ADDRESS(ROW(),VLOOKUP(AI$7,INDIRECT($A$7&"!A:D"),4,FALSE)+4))),"")
D41: 晚上 | E41: =IFERROR(IF($C39="","",INDIRECT("第"&VLOOKUP(E$7,INDIRECT($A$7&"!A:D"),2,FALSE)&"周"&"!"&ADDRESS(ROW(),VLOOKUP(E$7,INDIRECT($A$7&"!A:D"),4,FALSE)+4))),"") | F41: =IFERROR(IF($C39="","",INDIRECT("第"&VLOOKUP(F$7,INDIRECT($A$7&"!A:D"),2,FALSE)&"周"&"!"&ADDRESS(ROW(),VLOOKUP(F$7,INDIRECT($A$7&"!A:D"),4,FALSE)+4))),"") | G41: =IFERROR(IF($C39="","",INDIRECT("第"&VLOOKUP(G$7,INDIRECT($A$7&"!A:D"),2,FALSE)&"周"&"!"&ADDRESS(ROW(),VLOOKUP(G$7,INDIRECT($A$7&"!A:D"),4,FALSE)+4))),"") | H41: =IFERROR(IF($C39="","",INDIRECT("第"&VLOOKUP(H$7,INDIRECT($A$7&"!A:D"),2,FALSE)&"周"&"!"&ADDRESS(ROW(),VLOOKUP(H$7,INDIRECT($A$7&"!A:D"),4,FALSE)+4))),"") | I41: =IFERROR(IF($C39="","",INDIRECT("第"&VLOOKUP(I$7,INDIRECT($A$7&"!A:D"),2,FALSE)&"周"&"!"&ADDRESS(ROW(),VLOOKUP(I$7,INDIRECT($A$7&"!A:D"),4,FALSE)+4))),"") | J41: =IFERROR(IF($C39="","",INDIRECT("第"&VLOOKUP(J$7,INDIRECT($A$7&"!A:D"),2,FALSE)&"周"&"!"&ADDRESS(ROW(),VLOOKUP(J$7,INDIRECT($A$7&"!A:D"),4,FALSE)+4))),"") | K41: =IFERROR(IF($C39="","",INDIRECT("第"&VLOOKUP(K$7,INDIRECT($A$7&"!A:D"),2,FALSE)&"周"&"!"&ADDRESS(ROW(),VLOOKUP(K$7,INDIRECT($A$7&"!A:D"),4,FALSE)+4))),"") | L41: =IFERROR(IF($C39="","",INDIRECT("第"&VLOOKUP(L$7,INDIRECT($A$7&"!A:D"),2,FALSE)&"周"&"!"&ADDRESS(ROW(),VLOOKUP(L$7,INDIRECT($A$7&"!A:D"),4,FALSE)+4))),"") | ... AI41: =IFERROR(IF($C39="","",INDIRECT("第"&VLOOKUP(AI$7,INDIRECT($A$7&"!A:D"),2,FALSE)&"周"&"!"&ADDRESS(ROW(),VLOOKUP(AI$7,INDIRECT($A$7&"!A:D"),4,FALSE)+4))),"")
B42: =ROW()/3-2 -> 12 | C42: =INDIRECT("员工信息表!C"&(B42+3))&IF(INDIRECT("员工信息表!O"&(B42+3))="离职","(离职)","") | D42: 上午 | E42: =IFERROR(IF($C42="","",INDIRECT("第"&VLOOKUP(E$7,INDIRECT($A$7&"!A:D"),2,FALSE)&"周"&"!"&ADDRESS(ROW(),VLOOKUP(E$7,INDIRECT($A$7&"!A:D"),4,FALSE)+4))),"") | F42: =IFERROR(IF($C42="","",INDIRECT("第"&VLOOKUP(F$7,INDIRECT($A$7&"!A:D"),2,FALSE)&"周"&"!"&ADDRESS(ROW(),VLOOKUP(F$7,INDIRECT($A$7&"!A:D"),4,FALSE)+4))),"") | G42: =IFERROR(IF($C42="","",INDIRECT("第"&VLOOKUP(G$7,INDIRECT($A$7&"!A:D"),2,FALSE)&"周"&"!"&ADDRESS(ROW(),VLOOKUP(G$7,INDIRECT($A$7&"!A:D"),4,FALSE)+4))),"") | H42: =IFERROR(IF($C42="","",INDIRECT("第"&VLOOKUP(H$7,INDIRECT($A$7&"!A:D"),2,FALSE)&"周"&"!"&ADDRESS(ROW(),VLOOKUP(H$7,INDIRECT($A$7&"!A:D"),4,FALSE)+4))),"") | I42: =IFERROR(IF($C42="","",INDIRECT("第"&VLOOKUP(I$7,INDIRECT($A$7&"!A:D"),2,FALSE)&"周"&"!"&ADDRESS(ROW(),VLOOKUP(I$7,INDIRECT($A$7&"!A:D"),4,FALSE)+4))),"") | J42: =IFERROR(IF($C42="","",INDIRECT("第"&VLOOKUP(J$7,INDIRECT($A$7&"!A:D"),2,FALSE)&"周"&"!"&ADDRESS(ROW(),VLOOKUP(J$7,INDIRECT($A$7&"!A:D"),4,FALSE)+4))),"") | K42: =IFERROR(IF($C42="","",INDIRECT("第"&VLOOKUP(K$7,INDIRECT($A$7&"!A:D"),2,FALSE)&"周"&"!"&ADDRESS(ROW(),VLOOKUP(K$7,INDIRECT($A$7&"!A:D"),4,FALSE)+4))),"") | L42: =IFERROR(IF($C42="","",INDIRECT("第"&VLOOKUP(L$7,INDIRECT($A$7&"!A:D"),2,FALSE)&"周"&"!"&ADDRESS(ROW(),VLOOKUP(L$7,INDIRECT($A$7&"!A:D"),4,FALSE)+4))),"") | ... AI42: =IFERROR(IF($C42="","",INDIRECT("第"&VLOOKUP(AI$7,INDIRECT($A$7&"!A:D"),2,FALSE)&"周"&"!"&ADDRESS(ROW(),VLOOKUP(AI$7,INDIRECT($A$7&"!A:D"),4,FALSE)+4))),"") | AJ42: =COUNTIF($E42:$AI44,AJ$8) -> 0 | AK42: =COUNTIF($E42:$AI44,AK$8) -> 0 | AL42: =COUNTIF($E42:$AI44,AL$8) -> 0 | AM42: =COUNTIF($E42:$AI44,AM$8) -> 0 | AN42: =COUNTIF($E42:$AI44,AN$8) -> 0 | AO42: =COUNTIF($E42:$AI44,AO$8) -> 0 | AP42: =COUNTIF($E42:$AI44,AP$8) -> 0 | AQ42: =COUNTIF($E42:$AI44,AQ$8) -> 0 | AR42: =COUNTIF($E42:$AI44,AR$8) -> 0
D43: 下午 | E43: =IFERROR(IF($C42="","",INDIRECT("第"&VLOOKUP(E$7,INDIRECT($A$7&"!A:D"),2,FALSE)&"周"&"!"&ADDRESS(ROW(),VLOOKUP(E$7,INDIRECT($A$7&"!A:D"),4,FALSE)+4))),"") | F43: =IFERROR(IF($C42="","",INDIRECT("第"&VLOOKUP(F$7,INDIRECT($A$7&"!A:D"),2,FALSE)&"周"&"!"&ADDRESS(ROW(),VLOOKUP(F$7,INDIRECT($A$7&"!A:D"),4,FALSE)+4))),"") | G43: =IFERROR(IF($C42="","",INDIRECT("第"&VLOOKUP(G$7,INDIRECT($A$7&"!A:D"),2,FALSE)&"周"&"!"&ADDRESS(ROW(),VLOOKUP(G$7,INDIRECT($A$7&"!A:D"),4,FALSE)+4))),"") | H43: =IFERROR(IF($C42="","",INDIRECT("第"&VLOOKUP(H$7,INDIRECT($A$7&"!A:D"),2,FALSE)&"周"&"!"&ADDRESS(ROW(),VLOOKUP(H$7,INDIRECT($A$7&"!A:D"),4,FALSE)+4))),"") | I43: =IFERROR(IF($C42="","",INDIRECT("第"&VLOOKUP(I$7,INDIRECT($A$7&"!A:D"),2,FALSE)&"周"&"!"&ADDRESS(ROW(),VLOOKUP(I$7,INDIRECT($A$7&"!A:D"),4,FALSE)+4))),"") | J43: =IFERROR(IF($C42="","",INDIRECT("第"&VLOOKUP(J$7,INDIRECT($A$7&"!A:D"),2,FALSE)&"周"&"!"&ADDRESS(ROW(),VLOOKUP(J$7,INDIRECT($A$7&"!A:D"),4,FALSE)+4))),"") | K43: =IFERROR(IF($C42="","",INDIRECT("第"&VLOOKUP(K$7,INDIRECT($A$7&"!A:D"),2,FALSE)&"周"&"!"&ADDRESS(ROW(),VLOOKUP(K$7,INDIRECT($A$7&"!A:D"),4,FALSE)+4))),"") | L43: =IFERROR(IF($C42="","",INDIRECT("第"&VLOOKUP(L$7,INDIRECT($A$7&"!A:D"),2,FALSE)&"周"&"!"&ADDRESS(ROW(),VLOOKUP(L$7,INDIRECT($A$7&"!A:D"),4,FALSE)+4))),"") | ... AI43: =IFERROR(IF($C42="","",INDIRECT("第"&VLOOKUP(AI$7,INDIRECT($A$7&"!A:D"),2,FALSE)&"周"&"!"&ADDRESS(ROW(),VLOOKUP(AI$7,INDIRECT($A$7&"!A:D"),4,FALSE)+4))),"")
D44: 晚上 | E44: =IFERROR(IF($C42="","",INDIRECT("第"&VLOOKUP(E$7,INDIRECT($A$7&"!A:D"),2,FALSE)&"周"&"!"&ADDRESS(ROW(),VLOOKUP(E$7,INDIRECT($A$7&"!A:D"),4,FALSE)+4))),"") | F44: =IFERROR(IF($C42="","",INDIRECT("第"&VLOOKUP(F$7,INDIRECT($A$7&"!A:D"),2,FALSE)&"周"&"!"&ADDRESS(ROW(),VLOOKUP(F$7,INDIRECT($A$7&"!A:D"),4,FALSE)+4))),"") | G44: =IFERROR(IF($C42="","",INDIRECT("第"&VLOOKUP(G$7,INDIRECT($A$7&"!A:D"),2,FALSE)&"周"&"!"&ADDRESS(ROW(),VLOOKUP(G$7,INDIRECT($A$7&"!A:D"),4,FALSE)+4))),"") | H44: =IFERROR(IF($C42="","",INDIRECT("第"&VLOOKUP(H$7,INDIRECT($A$7&"!A:D"),2,FALSE)&"周"&"!"&ADDRESS(ROW(),VLOOKUP(H$7,INDIRECT($A$7&"!A:D"),4,FALSE)+4))),"") | I44: =IFERROR(IF($C42="","",INDIRECT("第"&VLOOKUP(I$7,INDIRECT($A$7&"!A:D"),2,FALSE)&"周"&"!"&ADDRESS(ROW(),VLOOKUP(I$7,INDIRECT($A$7&"!A:D"),4,FALSE)+4))),"") | J44: =IFERROR(IF($C42="","",INDIRECT("第"&VLOOKUP(J$7,INDIRECT($A$7&"!A:D"),2,FALSE)&"周"&"!"&ADDRESS(ROW(),VLOOKUP(J$7,INDIRECT($A$7&"!A:D"),4,FALSE)+4))),"") | K44: =IFERROR(IF($C42="","",INDIRECT("第"&VLOOKUP(K$7,INDIRECT($A$7&"!A:D"),2,FALSE)&"周"&"!"&ADDRESS(ROW(),VLOOKUP(K$7,INDIRECT($A$7&"!A:D"),4,FALSE)+4))),"") | L44: =IFERROR(IF($C42="","",INDIRECT("第"&VLOOKUP(L$7,INDIRECT($A$7&"!A:D"),2,FALSE)&"周"&"!"&ADDRESS(ROW(),VLOOKUP(L$7,INDIRECT($A$7&"!A:D"),4,FALSE)+4))),"") | ... AI44: =IFERROR(IF($C42="","",INDIRECT("第"&VLOOKUP(AI$7,INDIRECT($A$7&"!A:D"),2,FALSE)&"周"&"!"&ADDRESS(ROW(),VLOOKUP(AI$7,INDIRECT($A$7&"!A:D"),4,FALSE)+4))),"")
B45: =ROW()/3-2 -> 13 | C45: =INDIRECT("员工信息表!C"&(B45+3))&IF(INDIRECT("员工信息表!O"&(B45+3))="离职","(离职)","") | D45: 上午 | E45: =IFERROR(IF($C45="","",INDIRECT("第"&VLOOKUP(E$7,INDIRECT($A$7&"!A:D"),2,FALSE)&"周"&"!"&ADDRESS(ROW(),VLOOKUP(E$7,INDIRECT($A$7&"!A:D"),4,FALSE)+4))),"") | F45: =IFERROR(IF($C45="","",INDIRECT("第"&VLOOKUP(F$7,INDIRECT($A$7&"!A:D"),2,FALSE)&"周"&"!"&ADDRESS(ROW(),VLOOKUP(F$7,INDIRECT($A$7&"!A:D"),4,FALSE)+4))),"") | G45: =IFERROR(IF($C45="","",INDIRECT("第"&VLOOKUP(G$7,INDIRECT($A$7&"!A:D"),2,FALSE)&"周"&"!"&ADDRESS(ROW(),VLOOKUP(G$7,INDIRECT($A$7&"!A:D"),4,FALSE)+4))),"") | H45: =IFERROR(IF($C45="","",INDIRECT("第"&VLOOKUP(H$7,INDIRECT($A$7&"!A:D"),2,FALSE)&"周"&"!"&ADDRESS(ROW(),VLOOKUP(H$7,INDIRECT($A$7&"!A:D"),4,FALSE)+4))),"") | I45: =IFERROR(IF($C45="","",INDIRECT("第"&VLOOKUP(I$7,INDIRECT($A$7&"!A:D"),2,FALSE)&"周"&"!"&ADDRESS(ROW(),VLOOKUP(I$7,INDIRECT($A$7&"!A:D"),4,FALSE)+4))),"") | J45: =IFERROR(IF($C45="","",INDIRECT("第"&VLOOKUP(J$7,INDIRECT($A$7&"!A:D"),2,FALSE)&"周"&"!"&ADDRESS(ROW(),VLOOKUP(J$7,INDIRECT($A$7&"!A:D"),4,FALSE)+4))),"") | K45: =IFERROR(IF($C45="","",INDIRECT("第"&VLOOKUP(K$7,INDIRECT($A$7&"!A:D"),2,FALSE)&"周"&"!"&ADDRESS(ROW(),VLOOKUP(K$7,INDIRECT($A$7&"!A:D"),4,FALSE)+4))),"") | L45: =IFERROR(IF($C45="","",INDIRECT("第"&VLOOKUP(L$7,INDIRECT($A$7&"!A:D"),2,FALSE)&"周"&"!"&ADDRESS(ROW(),VLOOKUP(L$7,INDIRECT($A$7&"!A:D"),4,FALSE)+4))),"") | ... AI45: =IFERROR(IF($C45="","",INDIRECT("第"&VLOOKUP(AI$7,INDIRECT($A$7&"!A:D"),2,FALSE)&"周"&"!"&ADDRESS(ROW(),VLOOKUP(AI$7,INDIRECT($A$7&"!A:D"),4,FALSE)+4))),"") | AJ45: =COUNTIF($E45:$AI47,AJ$8) -> 0 | AK45: =COUNTIF($E45:$AI47,AK$8) -> 0 | AL45: =COUNTIF($E45:$AI47,AL$8) -> 0 | AM45: =COUNTIF($E45:$AI47,AM$8) -> 0 | AN45: =COUNTIF($E45:$AI47,AN$8) -> 0 | AO45: =COUNTIF($E45:$AI47,AO$8) -> 0 | AP45: =COUNTIF($E45:$AI47,AP$8) -> 0 | AQ45: =COUNTIF($E45:$AI47,AQ$8) -> 0 | AR45: =COUNTIF($E45:$AI47,AR$8) -> 0
D46: 下午 | E46: =IFERROR(IF($C45="","",INDIRECT("第"&VLOOKUP(E$7,INDIRECT($A$7&"!A:D"),2,FALSE)&"周"&"!"&ADDRESS(ROW(),VLOOKUP(E$7,INDIRECT($A$7&"!A:D"),4,FALSE)+4))),"") | F46: =IFERROR(IF($C45="","",INDIRECT("第"&VLOOKUP(F$7,INDIRECT($A$7&"!A:D"),2,FALSE)&"周"&"!"&ADDRESS(ROW(),VLOOKUP(F$7,INDIRECT($A$7&"!A:D"),4,FALSE)+4))),"") | G46: =IFERROR(IF($C45="","",INDIRECT("第"&VLOOKUP(G$7,INDIRECT($A$7&"!A:D"),2,FALSE)&"周"&"!"&ADDRESS(ROW(),VLOOKUP(G$7,INDIRECT($A$7&"!A:D"),4,FALSE)+4))),"") | H46: =IFERROR(IF($C45="","",INDIRECT("第"&VLOOKUP(H$7,INDIRECT($A$7&"!A:D"),2,FALSE)&"周"&"!"&ADDRESS(ROW(),VLOOKUP(H$7,INDIRECT($A$7&"!A:D"),4,FALSE)+4))),"") | I46: =IFERROR(IF($C45="","",INDIRECT("第"&VLOOKUP(I$7,INDIRECT($A$7&"!A:D"),2,FALSE)&"周"&"!"&ADDRESS(ROW(),VLOOKUP(I$7,INDIRECT($A$7&"!A:D"),4,FALSE)+4))),"") | J46: =IFERROR(IF($C45="","",INDIRECT("第"&VLOOKUP(J$7,INDIRECT($A$7&"!A:D"),2,FALSE)&"周"&"!"&ADDRESS(ROW(),VLOOKUP(J$7,INDIRECT($A$7&"!A:D"),4,FALSE)+4))),"") | K46: =IFERROR(IF($C45="","",INDIRECT("第"&VLOOKUP(K$7,INDIRECT($A$7&"!A:D"),2,FALSE)&"周"&"!"&ADDRESS(ROW(),VLOOKUP(K$7,INDIRECT($A$7&"!A:D"),4,FALSE)+4))),"") | L46: =IFERROR(IF($C45="","",INDIRECT("第"&VLOOKUP(L$7,INDIRECT($A$7&"!A:D"),2,FALSE)&"周"&"!"&ADDRESS(ROW(),VLOOKUP(L$7,INDIRECT($A$7&"!A:D"),4,FALSE)+4))),"") | ... AI46: =IFERROR(IF($C45="","",INDIRECT("第"&VLOOKUP(AI$7,INDIRECT($A$7&"!A:D"),2,FALSE)&"周"&"!"&ADDRESS(ROW(),VLOOKUP(AI$7,INDIRECT($A$7&"!A:D"),4,FALSE)+4))),"")
D47: 晚上 | E47: =IFERROR(IF($C45="","",INDIRECT("第"&VLOOKUP(E$7,INDIRECT($A$7&"!A:D"),2,FALSE)&"周"&"!"&ADDRESS(ROW(),VLOOKUP(E$7,INDIRECT($A$7&"!A:D"),4,FALSE)+4))),"") | F47: =IFERROR(IF($C45="","",INDIRECT("第"&VLOOKUP(F$7,INDIRECT($A$7&"!A:D"),2,FALSE)&"周"&"!"&ADDRESS(ROW(),VLOOKUP(F$7,INDIRECT($A$7&"!A:D"),4,FALSE)+4))),"") | G47: =IFERROR(IF($C45="","",INDIRECT("第"&VLOOKUP(G$7,INDIRECT($A$7&"!A:D"),2,FALSE)&"周"&"!"&ADDRESS(ROW(),VLOOKUP(G$7,INDIRECT($A$7&"!A:D"),4,FALSE)+4))),"") | H47: =IFERROR(IF($C45="","",INDIRECT("第"&VLOOKUP(H$7,INDIRECT($A$7&"!A:D"),2,FALSE)&"周"&"!"&ADDRESS(ROW(),VLOOKUP(H$7,INDIRECT($A$7&"!A:D"),4,FALSE)+4))),"") | I47: =IFERROR(IF($C45="","",INDIRECT("第"&VLOOKUP(I$7,INDIRECT($A$7&"!A:D"),2,FALSE)&"周"&"!"&ADDRESS(ROW(),VLOOKUP(I$7,INDIRECT($A$7&"!A:D"),4,FALSE)+4))),"") | J47: =IFERROR(IF($C45="","",INDIRECT("第"&VLOOKUP(J$7,INDIRECT($A$7&"!A:D"),2,FALSE)&"周"&"!"&ADDRESS(ROW(),VLOOKUP(J$7,INDIRECT($A$7&"!A:D"),4,FALSE)+4))),"") | K47: =IFERROR(IF($C45="","",INDIRECT("第"&VLOOKUP(K$7,INDIRECT($A$7&"!A:D"),2,FALSE)&"周"&"!"&ADDRESS(ROW(),VLOOKUP(K$7,INDIRECT($A$7&"!A:D"),4,FALSE)+4))),"") | L47: =IFERROR(IF($C45="","",INDIRECT("第"&VLOOKUP(L$7,INDIRECT($A$7&"!A:D"),2,FALSE)&"周"&"!"&ADDRESS(ROW(),VLOOKUP(L$7,INDIRECT($A$7&"!A:D"),4,FALSE)+4))),"") | ... AI47: =IFERROR(IF($C45="","",INDIRECT("第"&VLOOKUP(AI$7,INDIRECT($A$7&"!A:D"),2,FALSE)&"周"&"!"&ADDRESS(ROW(),VLOOKUP(AI$7,INDIRECT($A$7&"!A:D"),4,FALSE)+4))),"")
B48: =ROW()/3-2 -> 14 | C48: =INDIRECT("员工信息表!C"&(B48+3))&IF(INDIRECT("员工信息表!O"&(B48+3))="离职","(离职)","") | D48: 上午 | E48: =IFERROR(IF($C48="","",INDIRECT("第"&VLOOKUP(E$7,INDIRECT($A$7&"!A:D"),2,FALSE)&"周"&"!"&ADDRESS(ROW(),VLOOKUP(E$7,INDIRECT($A$7&"!A:D"),4,FALSE)+4))),"") | F48: =IFERROR(IF($C48="","",INDIRECT("第"&VLOOKUP(F$7,INDIRECT($A$7&"!A:D"),2,FALSE)&"周"&"!"&ADDRESS(ROW(),VLOOKUP(F$7,INDIRECT($A$7&"!A:D"),4,FALSE)+4))),"") | G48: =IFERROR(IF($C48="","",INDIRECT("第"&VLOOKUP(G$7,INDIRECT($A$7&"!A:D"),2,FALSE)&"周"&"!"&ADDRESS(ROW(),VLOOKUP(G$7,INDIRECT($A$7&"!A:D"),4,FALSE)+4))),"") | H48: =IFERROR(IF($C48="","",INDIRECT("第"&VLOOKUP(H$7,INDIRECT($A$7&"!A:D"),2,FALSE)&"周"&"!"&ADDRESS(ROW(),VLOOKUP(H$7,INDIRECT($A$7&"!A:D"),4,FALSE)+4))),"") | I48: =IFERROR(IF($C48="","",INDIRECT("第"&VLOOKUP(I$7,INDIRECT($A$7&"!A:D"),2,FALSE)&"周"&"!"&ADDRESS(ROW(),VLOOKUP(I$7,INDIRECT($A$7&"!A:D"),4,FALSE)+4))),"") | J48: =IFERROR(IF($C48="","",INDIRECT("第"&VLOOKUP(J$7,INDIRECT($A$7&"!A:D"),2,FALSE)&"周"&"!"&ADDRESS(ROW(),VLOOKUP(J$7,INDIRECT($A$7&"!A:D"),4,FALSE)+4))),"") | K48: =IFERROR(IF($C48="","",INDIRECT("第"&VLOOKUP(K$7,INDIRECT($A$7&"!A:D"),2,FALSE)&"周"&"!"&ADDRESS(ROW(),VLOOKUP(K$7,INDIRECT($A$7&"!A:D"),4,FALSE)+4))),"") | L48: =IFERROR(IF($C48="","",INDIRECT("第"&VLOOKUP(L$7,INDIRECT($A$7&"!A:D"),2,FALSE)&"周"&"!"&ADDRESS(ROW(),VLOOKUP(L$7,INDIRECT($A$7&"!A:D"),4,FALSE)+4))),"") | ... AI48: =IFERROR(IF($C48="","",INDIRECT("第"&VLOOKUP(AI$7,INDIRECT($A$7&"!A:D"),2,FALSE)&"周"&"!"&ADDRESS(ROW(),VLOOKUP(AI$7,INDIRECT($A$7&"!A:D"),4,FALSE)+4))),"") | AJ48: =COUNTIF($E48:$AI50,AJ$8) -> 0 | AK48: =COUNTIF($E48:$AI50,AK$8) -> 0 | AL48: =COUNTIF($E48:$AI50,AL$8) -> 0 | AM48: =COUNTIF($E48:$AI50,AM$8) -> 0 | AN48: =COUNTIF($E48:$AI50,AN$8) -> 0 | AO48: =COUNTIF($E48:$AI50,AO$8) -> 0 | AP48: =COUNTIF($E48:$AI50,AP$8) -> 0 | AQ48: =COUNTIF($E48:$AI50,AQ$8) -> 0 | AR48: =COUNTIF($E48:$AI50,AR$8) -> 0
D49: 下午 | E49: =IFERROR(IF($C48="","",INDIRECT("第"&VLOOKUP(E$7,INDIRECT($A$7&"!A:D"),2,FALSE)&"周"&"!"&ADDRESS(ROW(),VLOOKUP(E$7,INDIRECT($A$7&"!A:D"),4,FALSE)+4))),"") | F49: =IFERROR(IF($C48="","",INDIRECT("第"&VLOOKUP(F$7,INDIRECT($A$7&"!A:D"),2,FALSE)&"周"&"!"&ADDRESS(ROW(),VLOOKUP(F$7,INDIRECT($A$7&"!A:D"),4,FALSE)+4))),"") | G49: =IFERROR(IF($C48="","",INDIRECT("第"&VLOOKUP(G$7,INDIRECT($A$7&"!A:D"),2,FALSE)&"周"&"!"&ADDRESS(ROW(),VLOOKUP(G$7,INDIRECT($A$7&"!A:D"),4,FALSE)+4))),"") | H49: =IFERROR(IF($C48="","",INDIRECT("第"&VLOOKUP(H$7,INDIRECT($A$7&"!A:D"),2,FALSE)&"周"&"!"&ADDRESS(ROW(),VLOOKUP(H$7,INDIRECT($A$7&"!A:D"),4,FALSE)+4))),"") | I49: =IFERROR(IF($C48="","",INDIRECT("第"&VLOOKUP(I$7,INDIRECT($A$7&"!A:D"),2,FALSE)&"周"&"!"&ADDRESS(ROW(),VLOOKUP(I$7,INDIRECT($A$7&"!A:D"),4,FALSE)+4))),"") | J49: =IFERROR(IF($C48="","",INDIRECT("第"&VLOOKUP(J$7,INDIRECT($A$7&"!A:D"),2,FALSE)&"周"&"!"&ADDRESS(ROW(),VLOOKUP(J$7,INDIRECT($A$7&"!A:D"),4,FALSE)+4))),"") | K49: =IFERROR(IF($C48="","",INDIRECT("第"&VLOOKUP(K$7,INDIRECT($A$7&"!A:D"),2,FALSE)&"周"&"!"&ADDRESS(ROW(),VLOOKUP(K$7,INDIRECT($A$7&"!A:D"),4,FALSE)+4))),"") | L49: =IFERROR(IF($C48="","",INDIRECT("第"&VLOOKUP(L$7,INDIRECT($A$7&"!A:D"),2,FALSE)&"周"&"!"&ADDRESS(ROW(),VLOOKUP(L$7,INDIRECT($A$7&"!A:D"),4,FALSE)+4))),"") | ... AI49: =IFERROR(IF($C48="","",INDIRECT("第"&VLOOKUP(AI$7,INDIRECT($A$7&"!A:D"),2,FALSE)&"周"&"!"&ADDRESS(ROW(),VLOOKUP(AI$7,INDIRECT($A$7&"!A:D"),4,FALSE)+4))),"")
D50: 晚上 | E50: =IFERROR(IF($C48="","",INDIRECT("第"&VLOOKUP(E$7,INDIRECT($A$7&"!A:D"),2,FALSE)&"周"&"!"&ADDRESS(ROW(),VLOOKUP(E$7,INDIRECT($A$7&"!A:D"),4,FALSE)+4))),"") | F50: =IFERROR(IF($C48="","",INDIRECT("第"&VLOOKUP(F$7,INDIRECT($A$7&"!A:D"),2,FALSE)&"周"&"!"&ADDRESS(ROW(),VLOOKUP(F$7,INDIRECT($A$7&"!A:D"),4,FALSE)+4))),"") | G50: =IFERROR(IF($C48="","",INDIRECT("第"&VLOOKUP(G$7,INDIRECT($A$7&"!A:D"),2,FALSE)&"周"&"!"&ADDRESS(ROW(),VLOOKUP(G$7,INDIRECT($A$7&"!A:D"),4,FALSE)+4))),"") | H50: =IFERROR(IF($C48="","",INDIRECT("第"&VLOOKUP(H$7,INDIRECT($A$7&"!A:D"),2,FALSE)&"周"&"!"&ADDRESS(ROW(),VLOOKUP(H$7,INDIRECT($A$7&"!A:D"),4,FALSE)+4))),"") | I50: =IFERROR(IF($C48="","",INDIRECT("第"&VLOOKUP(I$7,INDIRECT($A$7&"!A:D"),2,FALSE)&"周"&"!"&ADDRESS(ROW(),VLOOKUP(I$7,INDIRECT($A$7&"!A:D"),4,FALSE)+4))),"") | J50: =IFERROR(IF($C48="","",INDIRECT("第"&VLOOKUP(J$7,INDIRECT($A$7&"!A:D"),2,FALSE)&"周"&"!"&ADDRESS(ROW(),VLOOKUP(J$7,INDIRECT($A$7&"!A:D"),4,FALSE)+4))),"") | K50: =IFERROR(IF($C48="","",INDIRECT("第"&VLOOKUP(K$7,INDIRECT($A$7&"!A:D"),2,FALSE)&"周"&"!"&ADDRESS(ROW(),VLOOKUP(K$7,INDIRECT($A$7&"!A:D"),4,FALSE)+4))),"") | L50: =IFERROR(IF($C48="","",INDIRECT("第"&VLOOKUP(L$7,INDIRECT($A$7&"!A:D"),2,FALSE)&"周"&"!"&ADDRESS(ROW(),VLOOKUP(L$7,INDIRECT($A$7&"!A:D"),4,FALSE)+4))),"") | ... AI50: =IFERROR(IF($C48="","",INDIRECT("第"&VLOOKUP(AI$7,INDIRECT($A$7&"!A:D"),2,FALSE)&"周"&"!"&ADDRESS(ROW(),VLOOKUP(AI$7,INDIRECT($A$7&"!A:D"),4,FALSE)+4))),"")
B51: =ROW()/3-2 -> 15 | C51: =INDIRECT("员工信息表!C"&(B51+3))&IF(INDIRECT("员工信息表!O"&(B51+3))="离职","(离职)","") | D51: 上午 | E51: =IFERROR(IF($C51="","",INDIRECT("第"&VLOOKUP(E$7,INDIRECT($A$7&"!A:D"),2,FALSE)&"周"&"!"&ADDRESS(ROW(),VLOOKUP(E$7,INDIRECT($A$7&"!A:D"),4,FALSE)+4))),"") | F51: =IFERROR(IF($C51="","",INDIRECT("第"&VLOOKUP(F$7,INDIRECT($A$7&"!A:D"),2,FALSE)&"周"&"!"&ADDRESS(ROW(),VLOOKUP(F$7,INDIRECT($A$7&"!A:D"),4,FALSE)+4))),"") | G51: =IFERROR(IF($C51="","",INDIRECT("第"&VLOOKUP(G$7,INDIRECT($A$7&"!A:D"),2,FALSE)&"周"&"!"&ADDRESS(ROW(),VLOOKUP(G$7,INDIRECT($A$7&"!A:D"),4,FALSE)+4))),"") | H51: =IFERROR(IF($C51="","",INDIRECT("第"&VLOOKUP(H$7,INDIRECT($A$7&"!A:D"),2,FALSE)&"周"&"!"&ADDRESS(ROW(),VLOOKUP(H$7,INDIRECT($A$7&"!A:D"),4,FALSE)+4))),"") | I51: =IFERROR(IF($C51="","",INDIRECT("第"&VLOOKUP(I$7,INDIRECT($A$7&"!A:D"),2,FALSE)&"周"&"!"&ADDRESS(ROW(),VLOOKUP(I$7,INDIRECT($A$7&"!A:D"),4,FALSE)+4))),"") | J51: =IFERROR(IF($C51="","",INDIRECT("第"&VLOOKUP(J$7,INDIRECT($A$7&"!A:D"),2,FALSE)&"周"&"!"&ADDRESS(ROW(),VLOOKUP(J$7,INDIRECT($A$7&"!A:D"),4,FALSE)+4))),"") | K51: =IFERROR(IF($C51="","",INDIRECT("第"&VLOOKUP(K$7,INDIRECT($A$7&"!A:D"),2,FALSE)&"周"&"!"&ADDRESS(ROW(),VLOOKUP(K$7,INDIRECT($A$7&"!A:D"),4,FALSE)+4))),"") | L51: =IFERROR(IF($C51="","",INDIRECT("第"&VLOOKUP(L$7,INDIRECT($A$7&"!A:D"),2,FALSE)&"周"&"!"&ADDRESS(ROW(),VLOOKUP(L$7,INDIRECT($A$7&"!A:D"),4,FALSE)+4))),"") | ... AI51: =IFERROR(IF($C51="","",INDIRECT("第"&VLOOKUP(AI$7,INDIRECT($A$7&"!A:D"),2,FALSE)&"周"&"!"&ADDRESS(ROW(),VLOOKUP(AI$7,INDIRECT($A$7&"!A:D"),4,FALSE)+4))),"") | AJ51: =COUNTIF($E51:$AI53,AJ$8) -> 0 | AK51: =COUNTIF($E51:$AI53,AK$8) -> 0 | AL51: =COUNTIF($E51:$AI53,AL$8) -> 0 | AM51: =COUNTIF($E51:$AI53,AM$8) -> 0 | AN51: =COUNTIF($E51:$AI53,AN$8) -> 0 | AO51: =COUNTIF($E51:$AI53,AO$8) -> 0 | AP51: =COUNTIF($E51:$AI53,AP$8) -> 0 | AQ51: =COUNTIF($E51:$AI53,AQ$8) -> 0 | AR51: =COUNTIF($E51:$AI53,AR$8) -> 0
D52: 下午 | E52: =IFERROR(IF($C51="","",INDIRECT("第"&VLOOKUP(E$7,INDIRECT($A$7&"!A:D"),2,FALSE)&"周"&"!"&ADDRESS(ROW(),VLOOKUP(E$7,INDIRECT($A$7&"!A:D"),4,FALSE)+4))),"") | F52: =IFERROR(IF($C51="","",INDIRECT("第"&VLOOKUP(F$7,INDIRECT($A$7&"!A:D"),2,FALSE)&"周"&"!"&ADDRESS(ROW(),VLOOKUP(F$7,INDIRECT($A$7&"!A:D"),4,FALSE)+4))),"") | G52: =IFERROR(IF($C51="","",INDIRECT("第"&VLOOKUP(G$7,INDIRECT($A$7&"!A:D"),2,FALSE)&"周"&"!"&ADDRESS(ROW(),VLOOKUP(G$7,INDIRECT($A$7&"!A:D"),4,FALSE)+4))),"") | H52: =IFERROR(IF($C51="","",INDIRECT("第"&VLOOKUP(H$7,INDIRECT($A$7&"!A:D"),2,FALSE)&"周"&"!"&ADDRESS(ROW(),VLOOKUP(H$7,INDIRECT($A$7&"!A:D"),4,FALSE)+4))),"") | I52: =IFERROR(IF($C51="","",INDIRECT("第"&VLOOKUP(I$7,INDIRECT($A$7&"!A:D"),2,FALSE)&"周"&"!"&ADDRESS(ROW(),VLOOKUP(I$7,INDIRECT($A$7&"!A:D"),4,FALSE)+4))),"") | J52: =IFERROR(IF($C51="","",INDIRECT("第"&VLOOKUP(J$7,INDIRECT($A$7&"!A:D"),2,FALSE)&"周"&"!"&ADDRESS(ROW(),VLOOKUP(J$7,INDIRECT($A$7&"!A:D"),4,FALSE)+4))),"") | K52: =IFERROR(IF($C51="","",INDIRECT("第"&VLOOKUP(K$7,INDIRECT($A$7&"!A:D"),2,FALSE)&"周"&"!"&ADDRESS(ROW(),VLOOKUP(K$7,INDIRECT($A$7&"!A:D"),4,FALSE)+4))),"") | L52: =IFERROR(IF($C51="","",INDIRECT("第"&VLOOKUP(L$7,INDIRECT($A$7&"!A:D"),2,FALSE)&"周"&"!"&ADDRESS(ROW(),VLOOKUP(L$7,INDIRECT($A$7&"!A:D"),4,FALSE)+4))),"") | ... AI52: =IFERROR(IF($C51="","",INDIRECT("第"&VLOOKUP(AI$7,INDIRECT($A$7&"!A:D"),2,FALSE)&"周"&"!"&ADDRESS(ROW(),VLOOKUP(AI$7,INDIRECT($A$7&"!A:D"),4,FALSE)+4))),"")
D53: 晚上 | E53: =IFERROR(IF($C51="","",INDIRECT("第"&VLOOKUP(E$7,INDIRECT($A$7&"!A:D"),2,FALSE)&"周"&"!"&ADDRESS(ROW(),VLOOKUP(E$7,INDIRECT($A$7&"!A:D"),4,FALSE)+4))),"") | F53: =IFERROR(IF($C51="","",INDIRECT("第"&VLOOKUP(F$7,INDIRECT($A$7&"!A:D"),2,FALSE)&"周"&"!"&ADDRESS(ROW(),VLOOKUP(F$7,INDIRECT($A$7&"!A:D"),4,FALSE)+4))),"") | G53: =IFERROR(IF($C51="","",INDIRECT("第"&VLOOKUP(G$7,INDIRECT($A$7&"!A:D"),2,FALSE)&"周"&"!"&ADDRESS(ROW(),VLOOKUP(G$7,INDIRECT($A$7&"!A:D"),4,FALSE)+4))),"") | H53: =IFERROR(IF($C51="","",INDIRECT("第"&VLOOKUP(H$7,INDIRECT($A$7&"!A:D"),2,FALSE)&"周"&"!"&ADDRESS(ROW(),VLOOKUP(H$7,INDIRECT($A$7&"!A:D"),4,FALSE)+4))),"") | I53: =IFERROR(IF($C51="","",INDIRECT("第"&VLOOKUP(I$7,INDIRECT($A$7&"!A:D"),2,FALSE)&"周"&"!"&ADDRESS(ROW(),VLOOKUP(I$7,INDIRECT($A$7&"!A:D"),4,FALSE)+4))),"") | J53: =IFERROR(IF($C51="","",INDIRECT("第"&VLOOKUP(J$7,INDIRECT($A$7&"!A:D"),2,FALSE)&"周"&"!"&ADDRESS(ROW(),VLOOKUP(J$7,INDIRECT($A$7&"!A:D"),4,FALSE)+4))),"") | K53: =IFERROR(IF($C51="","",INDIRECT("第"&VLOOKUP(K$7,INDIRECT($A$7&"!A:D"),2,FALSE)&"周"&"!"&ADDRESS(ROW(),VLOOKUP(K$7,INDIRECT($A$7&"!A:D"),4,FALSE)+4))),"") | L53: =IFERROR(IF($C51="","",INDIRECT("第"&VLOOKUP(L$7,INDIRECT($A$7&"!A:D"),2,FALSE)&"周"&"!"&ADDRESS(ROW(),VLOOKUP(L$7,INDIRECT($A$7&"!A:D"),4,FALSE)+4))),"") | ... AI53: =IFERROR(IF($C51="","",INDIRECT("第"&VLOOKUP(AI$7,INDIRECT($A$7&"!A:D"),2,FALSE)&"周"&"!"&ADDRESS(ROW(),VLOOKUP(AI$7,INDIRECT($A$7&"!A:D"),4,FALSE)+4))),"")
B54: =ROW()/3-2 -> 16 | C54: =INDIRECT("员工信息表!C"&(B54+3))&IF(INDIRECT("员工信息表!O"&(B54+3))="离职","(离职)","") | D54: 上午 | E54: =IFERROR(IF($C54="","",INDIRECT("第"&VLOOKUP(E$7,INDIRECT($A$7&"!A:D"),2,FALSE)&"周"&"!"&ADDRESS(ROW(),VLOOKUP(E$7,INDIRECT($A$7&"!A:D"),4,FALSE)+4))),"") | F54: =IFERROR(IF($C54="","",INDIRECT("第"&VLOOKUP(F$7,INDIRECT($A$7&"!A:D"),2,FALSE)&"周"&"!"&ADDRESS(ROW(),VLOOKUP(F$7,INDIRECT($A$7&"!A:D"),4,FALSE)+4))),"") | G54: =IFERROR(IF($C54="","",INDIRECT("第"&VLOOKUP(G$7,INDIRECT($A$7&"!A:D"),2,FALSE)&"周"&"!"&ADDRESS(ROW(),VLOOKUP(G$7,INDIRECT($A$7&"!A:D"),4,FALSE)+4))),"") | H54: =IFERROR(IF($C54="","",INDIRECT("第"&VLOOKUP(H$7,INDIRECT($A$7&"!A:D"),2,FALSE)&"周"&"!"&ADDRESS(ROW(),VLOOKUP(H$7,INDIRECT($A$7&"!A:D"),4,FALSE)+4))),"") | I54: =IFERROR(IF($C54="","",INDIRECT("第"&VLOOKUP(I$7,INDIRECT($A$7&"!A:D"),2,FALSE)&"周"&"!"&ADDRESS(ROW(),VLOOKUP(I$7,INDIRECT($A$7&"!A:D"),4,FALSE)+4))),"") | J54: =IFERROR(IF($C54="","",INDIRECT("第"&VLOOKUP(J$7,INDIRECT($A$7&"!A:D"),2,FALSE)&"周"&"!"&ADDRESS(ROW(),VLOOKUP(J$7,INDIRECT($A$7&"!A:D"),4,FALSE)+4))),"") | K54: =IFERROR(IF($C54="","",INDIRECT("第"&VLOOKUP(K$7,INDIRECT($A$7&"!A:D"),2,FALSE)&"周"&"!"&ADDRESS(ROW(),VLOOKUP(K$7,INDIRECT($A$7&"!A:D"),4,FALSE)+4))),"") | L54: =IFERROR(IF($C54="","",INDIRECT("第"&VLOOKUP(L$7,INDIRECT($A$7&"!A:D"),2,FALSE)&"周"&"!"&ADDRESS(ROW(),VLOOKUP(L$7,INDIRECT($A$7&"!A:D"),4,FALSE)+4))),"") | ... AI54: =IFERROR(IF($C54="","",INDIRECT("第"&VLOOKUP(AI$7,INDIRECT($A$7&"!A:D"),2,FALSE)&"周"&"!"&ADDRESS(ROW(),VLOOKUP(AI$7,INDIRECT($A$7&"!A:D"),4,FALSE)+4))),"") | AJ54: =COUNTIF($E54:$AI56,AJ$8) -> 0 | AK54: =COUNTIF($E54:$AI56,AK$8) -> 0 | AL54: =COUNTIF($E54:$AI56,AL$8) -> 0 | AM54: =COUNTIF($E54:$AI56,AM$8) -> 0 | AN54: =COUNTIF($E54:$AI56,AN$8) -> 0 | AO54: =COUNTIF($E54:$AI56,AO$8) -> 0 | AP54: =COUNTIF($E54:$AI56,AP$8) -> 0 | AQ54: =COUNTIF($E54:$AI56,AQ$8) -> 0 | AR54: =COUNTIF($E54:$AI56,AR$8) -> 0
D55: 下午 | E55: =IFERROR(IF($C54="","",INDIRECT("第"&VLOOKUP(E$7,INDIRECT($A$7&"!A:D"),2,FALSE)&"周"&"!"&ADDRESS(ROW(),VLOOKUP(E$7,INDIRECT($A$7&"!A:D"),4,FALSE)+4))),"") | F55: =IFERROR(IF($C54="","",INDIRECT("第"&VLOOKUP(F$7,INDIRECT($A$7&"!A:D"),2,FALSE)&"周"&"!"&ADDRESS(ROW(),VLOOKUP(F$7,INDIRECT($A$7&"!A:D"),4,FALSE)+4))),"") | G55: =IFERROR(IF($C54="","",INDIRECT("第"&VLOOKUP(G$7,INDIRECT($A$7&"!A:D"),2,FALSE)&"周"&"!"&ADDRESS(ROW(),VLOOKUP(G$7,INDIRECT($A$7&"!A:D"),4,FALSE)+4))),"") | H55: =IFERROR(IF($C54="","",INDIRECT("第"&VLOOKUP(H$7,INDIRECT($A$7&"!A:D"),2,FALSE)&"周"&"!"&ADDRESS(ROW(),VLOOKUP(H$7,INDIRECT($A$7&"!A:D"),4,FALSE)+4))),"") | I55: =IFERROR(IF($C54="","",INDIRECT("第"&VLOOKUP(I$7,INDIRECT($A$7&"!A:D"),2,FALSE)&"周"&"!"&ADDRESS(ROW(),VLOOKUP(I$7,INDIRECT($A$7&"!A:D"),4,FALSE)+4))),"") | J55: =IFERROR(IF($C54="","",INDIRECT("第"&VLOOKUP(J$7,INDIRECT($A$7&"!A:D"),2,FALSE)&"周"&"!"&ADDRESS(ROW(),VLOOKUP(J$7,INDIRECT($A$7&"!A:D"),4,FALSE)+4))),"") | K55: =IFERROR(IF($C54="","",INDIRECT("第"&VLOOKUP(K$7,INDIRECT($A$7&"!A:D"),2,FALSE)&"周"&"!"&ADDRESS(ROW(),VLOOKUP(K$7,INDIRECT($A$7&"!A:D"),4,FALSE)+4))),"") | L55: =IFERROR(IF($C54="","",INDIRECT("第"&VLOOKUP(L$7,INDIRECT($A$7&"!A:D"),2,FALSE)&"周"&"!"&ADDRESS(ROW(),VLOOKUP(L$7,INDIRECT($A$7&"!A:D"),4,FALSE)+4))),"") | ... AI55: =IFERROR(IF($C54="","",INDIRECT("第"&VLOOKUP(AI$7,INDIRECT($A$7&"!A:D"),2,FALSE)&"周"&"!"&ADDRESS(ROW(),VLOOKUP(AI$7,INDIRECT($A$7&"!A:D"),4,FALSE)+4))),"")
D56: 晚上 | E56: =IFERROR(IF($C54="","",INDIRECT("第"&VLOOKUP(E$7,INDIRECT($A$7&"!A:D"),2,FALSE)&"周"&"!"&ADDRESS(ROW(),VLOOKUP(E$7,INDIRECT($A$7&"!A:D"),4,FALSE)+4))),"") | F56: =IFERROR(IF($C54="","",INDIRECT("第"&VLOOKUP(F$7,INDIRECT($A$7&"!A:D"),2,FALSE)&"周"&"!"&ADDRESS(ROW(),VLOOKUP(F$7,INDIRECT($A$7&"!A:D"),4,FALSE)+4))),"") | G56: =IFERROR(IF($C54="","",INDIRECT("第"&VLOOKUP(G$7,INDIRECT($A$7&"!A:D"),2,FALSE)&"周"&"!"&ADDRESS(ROW(),VLOOKUP(G$7,INDIRECT($A$7&"!A:D"),4,FALSE)+4))),"") | H56: =IFERROR(IF($C54="","",INDIRECT("第"&VLOOKUP(H$7,INDIRECT($A$7&"!A:D"),2,FALSE)&"周"&"!"&ADDRESS(ROW(),VLOOKUP(H$7,INDIRECT($A$7&"!A:D"),4,FALSE)+4))),"") | I56: =IFERROR(IF($C54="","",INDIRECT("第"&VLOOKUP(I$7,INDIRECT($A$7&"!A:D"),2,FALSE)&"周"&"!"&ADDRESS(ROW(),VLOOKUP(I$7,INDIRECT($A$7&"!A:D"),4,FALSE)+4))),"") | J56: =IFERROR(IF($C54="","",INDIRECT("第"&VLOOKUP(J$7,INDIRECT($A$7&"!A:D"),2,FALSE)&"周"&"!"&ADDRESS(ROW(),VLOOKUP(J$7,INDIRECT($A$7&"!A:D"),4,FALSE)+4))),"") | K56: =IFERROR(IF($C54="","",INDIRECT("第"&VLOOKUP(K$7,INDIRECT($A$7&"!A:D"),2,FALSE)&"周"&"!"&ADDRESS(ROW(),VLOOKUP(K$7,INDIRECT($A$7&"!A:D"),4,FALSE)+4))),"") | L56: =IFERROR(IF($C54="","",INDIRECT("第"&VLOOKUP(L$7,INDIRECT($A$7&"!A:D"),2,FALSE)&"周"&"!"&ADDRESS(ROW(),VLOOKUP(L$7,INDIRECT($A$7&"!A:D"),4,FALSE)+4))),"") | ... AI56: =IFERROR(IF($C54="","",INDIRECT("第"&VLOOKUP(AI$7,INDIRECT($A$7&"!A:D"),2,FALSE)&"周"&"!"&ADDRESS(ROW(),VLOOKUP(AI$7,INDIRECT($A$7&"!A:D"),4,FALSE)+4))),"")
B57: =ROW()/3-2 -> 17 | C57: =INDIRECT("员工信息表!C"&(B57+3))&IF(INDIRECT("员工信息表!O"&(B57+3))="离职","(离职)","") | D57: 上午 | E57: =IFERROR(IF($C57="","",INDIRECT("第"&VLOOKUP(E$7,INDIRECT($A$7&"!A:D"),2,FALSE)&"周"&"!"&ADDRESS(ROW(),VLOOKUP(E$7,INDIRECT($A$7&"!A:D"),4,FALSE)+4))),"") | F57: =IFERROR(IF($C57="","",INDIRECT("第"&VLOOKUP(F$7,INDIRECT($A$7&"!A:D"),2,FALSE)&"周"&"!"&ADDRESS(ROW(),VLOOKUP(F$7,INDIRECT($A$7&"!A:D"),4,FALSE)+4))),"") | G57: =IFERROR(IF($C57="","",INDIRECT("第"&VLOOKUP(G$7,INDIRECT($A$7&"!A:D"),2,FALSE)&"周"&"!"&ADDRESS(ROW(),VLOOKUP(G$7,INDIRECT($A$7&"!A:D"),4,FALSE)+4))),"") | H57: =IFERROR(IF($C57="","",INDIRECT("第"&VLOOKUP(H$7,INDIRECT($A$7&"!A:D"),2,FALSE)&"周"&"!"&ADDRESS(ROW(),VLOOKUP(H$7,INDIRECT($A$7&"!A:D"),4,FALSE)+4))),"") | I57: =IFERROR(IF($C57="","",INDIRECT("第"&VLOOKUP(I$7,INDIRECT($A$7&"!A:D"),2,FALSE)&"周"&"!"&ADDRESS(ROW(),VLOOKUP(I$7,INDIRECT($A$7&"!A:D"),4,FALSE)+4))),"") | J57: =IFERROR(IF($C57="","",INDIRECT("第"&VLOOKUP(J$7,INDIRECT($A$7&"!A:D"),2,FALSE)&"周"&"!"&ADDRESS(ROW(),VLOOKUP(J$7,INDIRECT($A$7&"!A:D"),4,FALSE)+4))),"") | K57: =IFERROR(IF($C57="","",INDIRECT("第"&VLOOKUP(K$7,INDIRECT($A$7&"!A:D"),2,FALSE)&"周"&"!"&ADDRESS(ROW(),VLOOKUP(K$7,INDIRECT($A$7&"!A:D"),4,FALSE)+4))),"") | L57: =IFERROR(IF($C57="","",INDIRECT("第"&VLOOKUP(L$7,INDIRECT($A$7&"!A:D"),2,FALSE)&"周"&"!"&ADDRESS(ROW(),VLOOKUP(L$7,INDIRECT($A$7&"!A:D"),4,FALSE)+4))),"") | ... AI57: =IFERROR(IF($C57="","",INDIRECT("第"&VLOOKUP(AI$7,INDIRECT($A$7&"!A:D"),2,FALSE)&"周"&"!"&ADDRESS(ROW(),VLOOKUP(AI$7,INDIRECT($A$7&"!A:D"),4,FALSE)+4))),"") | AJ57: =COUNTIF($E57:$AI59,AJ$8) -> 0 | AK57: =COUNTIF($E57:$AI59,AK$8) -> 0 | AL57: =COUNTIF($E57:$AI59,AL$8) -> 0 | AM57: =COUNTIF($E57:$AI59,AM$8) -> 0 | AN57: =COUNTIF($E57:$AI59,AN$8) -> 0 | AO57: =COUNTIF($E57:$AI59,AO$8) -> 0 | AP57: =COUNTIF($E57:$AI59,AP$8) -> 0 | AQ57: =COUNTIF($E57:$AI59,AQ$8) -> 0 | AR57: =COUNTIF($E57:$AI59,AR$8) -> 0
D58: 下午 | E58: =IFERROR(IF($C57="","",INDIRECT("第"&VLOOKUP(E$7,INDIRECT($A$7&"!A:D"),2,FALSE)&"周"&"!"&ADDRESS(ROW(),VLOOKUP(E$7,INDIRECT($A$7&"!A:D"),4,FALSE)+4))),"") | F58: =IFERROR(IF($C57="","",INDIRECT("第"&VLOOKUP(F$7,INDIRECT($A$7&"!A:D"),2,FALSE)&"周"&"!"&ADDRESS(ROW(),VLOOKUP(F$7,INDIRECT($A$7&"!A:D"),4,FALSE)+4))),"") | G58: =IFERROR(IF($C57="","",INDIRECT("第"&VLOOKUP(G$7,INDIRECT($A$7&"!A:D"),2,FALSE)&"周"&"!"&ADDRESS(ROW(),VLOOKUP(G$7,INDIRECT($A$7&"!A:D"),4,FALSE)+4))),"") | H58: =IFERROR(IF($C57="","",INDIRECT("第"&VLOOKUP(H$7,INDIRECT($A$7&"!A:D"),2,FALSE)&"周"&"!"&ADDRESS(ROW(),VLOOKUP(H$7,INDIRECT($A$7&"!A:D"),4,FALSE)+4))),"") | I58: =IFERROR(IF($C57="","",INDIRECT("第"&VLOOKUP(I$7,INDIRECT($A$7&"!A:D"),2,FALSE)&"周"&"!"&ADDRESS(ROW(),VLOOKUP(I$7,INDIRECT($A$7&"!A:D"),4,FALSE)+4))),"") | J58: =IFERROR(IF($C57="","",INDIRECT("第"&VLOOKUP(J$7,INDIRECT($A$7&"!A:D"),2,FALSE)&"周"&"!"&ADDRESS(ROW(),VLOOKUP(J$7,INDIRECT($A$7&"!A:D"),4,FALSE)+4))),"") | K58: =IFERROR(IF($C57="","",INDIRECT("第"&VLOOKUP(K$7,INDIRECT($A$7&"!A:D"),2,FALSE)&"周"&"!"&ADDRESS(ROW(),VLOOKUP(K$7,INDIRECT($A$7&"!A:D"),4,FALSE)+4))),"") | L58: =IFERROR(IF($C57="","",INDIRECT("第"&VLOOKUP(L$7,INDIRECT($A$7&"!A:D"),2,FALSE)&"周"&"!"&ADDRESS(ROW(),VLOOKUP(L$7,INDIRECT($A$7&"!A:D"),4,FALSE)+4))),"") | ... AI58: =IFERROR(IF($C57="","",INDIRECT("第"&VLOOKUP(AI$7,INDIRECT($A$7&"!A:D"),2,FALSE)&"周"&"!"&ADDRESS(ROW(),VLOOKUP(AI$7,INDIRECT($A$7&"!A:D"),4,FALSE)+4))),"")
D59: 晚上 | E59: =IFERROR(IF($C57="","",INDIRECT("第"&VLOOKUP(E$7,INDIRECT($A$7&"!A:D"),2,FALSE)&"周"&"!"&ADDRESS(ROW(),VLOOKUP(E$7,INDIRECT($A$7&"!A:D"),4,FALSE)+4))),"") | F59: =IFERROR(IF($C57="","",INDIRECT("第"&VLOOKUP(F$7,INDIRECT($A$7&"!A:D"),2,FALSE)&"周"&"!"&ADDRESS(ROW(),VLOOKUP(F$7,INDIRECT($A$7&"!A:D"),4,FALSE)+4))),"") | G59: =IFERROR(IF($C57="","",INDIRECT("第"&VLOOKUP(G$7,INDIRECT($A$7&"!A:D"),2,FALSE)&"周"&"!"&ADDRESS(ROW(),VLOOKUP(G$7,INDIRECT($A$7&"!A:D"),4,FALSE)+4))),"") | H59: =IFERROR(IF($C57="","",INDIRECT("第"&VLOOKUP(H$7,INDIRECT($A$7&"!A:D"),2,FALSE)&"周"&"!"&ADDRESS(ROW(),VLOOKUP(H$7,INDIRECT($A$7&"!A:D"),4,FALSE)+4))),"") | I59: =IFERROR(IF($C57="","",INDIRECT("第"&VLOOKUP(I$7,INDIRECT($A$7&"!A:D"),2,FALSE)&"周"&"!"&ADDRESS(ROW(),VLOOKUP(I$7,INDIRECT($A$7&"!A:D"),4,FALSE)+4))),"") | J59: =IFERROR(IF($C57="","",INDIRECT("第"&VLOOKUP(J$7,INDIRECT($A$7&"!A:D"),2,FALSE)&"周"&"!"&ADDRESS(ROW(),VLOOKUP(J$7,INDIRECT($A$7&"!A:D"),4,FALSE)+4))),"") | K59: =IFERROR(IF($C57="","",INDIRECT("第"&VLOOKUP(K$7,INDIRECT($A$7&"!A:D"),2,FALSE)&"周"&"!"&ADDRESS(ROW(),VLOOKUP(K$7,INDIRECT($A$7&"!A:D"),4,FALSE)+4))),"") | L59: =IFERROR(IF($C57="","",INDIRECT("第"&VLOOKUP(L$7,INDIRECT($A$7&"!A:D"),2,FALSE)&"周"&"!"&ADDRESS(ROW(),VLOOKUP(L$7,INDIRECT($A$7&"!A:D"),4,FALSE)+4))),"") | ... AI59: =IFERROR(IF($C57="","",INDIRECT("第"&VLOOKUP(AI$7,INDIRECT($A$7&"!A:D"),2,FALSE)&"周"&"!"&ADDRESS(ROW(),VLOOKUP(AI$7,INDIRECT($A$7&"!A:D"),4,FALSE)+4))),"")
B60: =ROW()/3-2 -> 18 | C60: =INDIRECT("员工信息表!C"&(B60+3))&IF(INDIRECT("员工信息表!O"&(B60+3))="离职","(离职)","") | D60: 上午 | E60: =IFERROR(IF($C60="","",INDIRECT("第"&VLOOKUP(E$7,INDIRECT($A$7&"!A:D"),2,FALSE)&"周"&"!"&ADDRESS(ROW(),VLOOKUP(E$7,INDIRECT($A$7&"!A:D"),4,FALSE)+4))),"") | F60: =IFERROR(IF($C60="","",INDIRECT("第"&VLOOKUP(F$7,INDIRECT($A$7&"!A:D"),2,FALSE)&"周"&"!"&ADDRESS(ROW(),VLOOKUP(F$7,INDIRECT($A$7&"!A:D"),4,FALSE)+4))),"") | G60: =IFERROR(IF($C60="","",INDIRECT("第"&VLOOKUP(G$7,INDIRECT($A$7&"!A:D"),2,FALSE)&"周"&"!"&ADDRESS(ROW(),VLOOKUP(G$7,INDIRECT($A$7&"!A:D"),4,FALSE)+4))),"") | H60: =IFERROR(IF($C60="","",INDIRECT("第"&VLOOKUP(H$7,INDIRECT($A$7&"!A:D"),2,FALSE)&"周"&"!"&ADDRESS(ROW(),VLOOKUP(H$7,INDIRECT($A$7&"!A:D"),4,FALSE)+4))),"") | I60: =IFERROR(IF($C60="","",INDIRECT("第"&VLOOKUP(I$7,INDIRECT($A$7&"!A:D"),2,FALSE)&"周"&"!"&ADDRESS(ROW(),VLOOKUP(I$7,INDIRECT($A$7&"!A:D"),4,FALSE)+4))),"") | J60: =IFERROR(IF($C60="","",INDIRECT("第"&VLOOKUP(J$7,INDIRECT($A$7&"!A:D"),2,FALSE)&"周"&"!"&ADDRESS(ROW(),VLOOKUP(J$7,INDIRECT($A$7&"!A:D"),4,FALSE)+4))),"") | K60: =IFERROR(IF($C60="","",INDIRECT("第"&VLOOKUP(K$7,INDIRECT($A$7&"!A:D"),2,FALSE)&"周"&"!"&ADDRESS(ROW(),VLOOKUP(K$7,INDIRECT($A$7&"!A:D"),4,FALSE)+4))),"") | L60: =IFERROR(IF($C60="","",INDIRECT("第"&VLOOKUP(L$7,INDIRECT($A$7&"!A:D"),2,FALSE)&"周"&"!"&ADDRESS(ROW(),VLOOKUP(L$7,INDIRECT($A$7&"!A:D"),4,FALSE)+4))),"") | ... AI60: =IFERROR(IF($C60="","",INDIRECT("第"&VLOOKUP(AI$7,INDIRECT($A$7&"!A:D"),2,FALSE)&"周"&"!"&ADDRESS(ROW(),VLOOKUP(AI$7,INDIRECT($A$7&"!A:D"),4,FALSE)+4))),"") | AJ60: =COUNTIF($E60:$AI62,AJ$8) -> 0 | AK60: =COUNTIF($E60:$AI62,AK$8) -> 0 | AL60: =COUNTIF($E60:$AI62,AL$8) -> 0 | AM60: =COUNTIF($E60:$AI62,AM$8) -> 0 | AN60: =COUNTIF($E60:$AI62,AN$8) -> 0 | AO60: =COUNTIF($E60:$AI62,AO$8) -> 0 | AP60: =COUNTIF($E60:$AI62,AP$8) -> 0 | AQ60: =COUNTIF($E60:$AI62,AQ$8) -> 0 | AR60: =COUNTIF($E60:$AI62,AR$8) -> 0
D61: 下午 | E61: =IFERROR(IF($C60="","",INDIRECT("第"&VLOOKUP(E$7,INDIRECT($A$7&"!A:D"),2,FALSE)&"周"&"!"&ADDRESS(ROW(),VLOOKUP(E$7,INDIRECT($A$7&"!A:D"),4,FALSE)+4))),"") | F61: =IFERROR(IF($C60="","",INDIRECT("第"&VLOOKUP(F$7,INDIRECT($A$7&"!A:D"),2,FALSE)&"周"&"!"&ADDRESS(ROW(),VLOOKUP(F$7,INDIRECT($A$7&"!A:D"),4,FALSE)+4))),"") | G61: =IFERROR(IF($C60="","",INDIRECT("第"&VLOOKUP(G$7,INDIRECT($A$7&"!A:D"),2,FALSE)&"周"&"!"&ADDRESS(ROW(),VLOOKUP(G$7,INDIRECT($A$7&"!A:D"),4,FALSE)+4))),"") | H61: =IFERROR(IF($C60="","",INDIRECT("第"&VLOOKUP(H$7,INDIRECT($A$7&"!A:D"),2,FALSE)&"周"&"!"&ADDRESS(ROW(),VLOOKUP(H$7,INDIRECT($A$7&"!A:D"),4,FALSE)+4))),"") | I61: =IFERROR(IF($C60="","",INDIRECT("第"&VLOOKUP(I$7,INDIRECT($A$7&"!A:D"),2,FALSE)&"周"&"!"&ADDRESS(ROW(),VLOOKUP(I$7,INDIRECT($A$7&"!A:D"),4,FALSE)+4))),"") | J61: =IFERROR(IF($C60="","",INDIRECT("第"&VLOOKUP(J$7,INDIRECT($A$7&"!A:D"),2,FALSE)&"周"&"!"&ADDRESS(ROW(),VLOOKUP(J$7,INDIRECT($A$7&"!A:D"),4,FALSE)+4))),"") | K61: =IFERROR(IF($C60="","",INDIRECT("第"&VLOOKUP(K$7,INDIRECT($A$7&"!A:D"),2,FALSE)&"周"&"!"&ADDRESS(ROW(),VLOOKUP(K$7,INDIRECT($A$7&"!A:D"),4,FALSE)+4))),"") | L61: =IFERROR(IF($C60="","",INDIRECT("第"&VLOOKUP(L$7,INDIRECT($A$7&"!A:D"),2,FALSE)&"周"&"!"&ADDRESS(ROW(),VLOOKUP(L$7,INDIRECT($A$7&"!A:D"),4,FALSE)+4))),"") | ... AI61: =IFERROR(IF($C60="","",INDIRECT("第"&VLOOKUP(AI$7,INDIRECT($A$7&"!A:D"),2,FALSE)&"周"&"!"&ADDRESS(ROW(),VLOOKUP(AI$7,INDIRECT($A$7&"!A:D"),4,FALSE)+4))),"")
D62: 晚上 | E62: =IFERROR(IF($C60="","",INDIRECT("第"&VLOOKUP(E$7,INDIRECT($A$7&"!A:D"),2,FALSE)&"周"&"!"&ADDRESS(ROW(),VLOOKUP(E$7,INDIRECT($A$7&"!A:D"),4,FALSE)+4))),"") | F62: =IFERROR(IF($C60="","",INDIRECT("第"&VLOOKUP(F$7,INDIRECT($A$7&"!A:D"),2,FALSE)&"周"&"!"&ADDRESS(ROW(),VLOOKUP(F$7,INDIRECT($A$7&"!A:D"),4,FALSE)+4))),"") | G62: =IFERROR(IF($C60="","",INDIRECT("第"&VLOOKUP(G$7,INDIRECT($A$7&"!A:D"),2,FALSE)&"周"&"!"&ADDRESS(ROW(),VLOOKUP(G$7,INDIRECT($A$7&"!A:D"),4,FALSE)+4))),"") | H62: =IFERROR(IF($C60="","",INDIRECT("第"&VLOOKUP(H$7,INDIRECT($A$7&"!A:D"),2,FALSE)&"周"&"!"&ADDRESS(ROW(),VLOOKUP(H$7,INDIRECT($A$7&"!A:D"),4,FALSE)+4))),"") | I62: =IFERROR(IF($C60="","",INDIRECT("第"&VLOOKUP(I$7,INDIRECT($A$7&"!A:D"),2,FALSE)&"周"&"!"&ADDRESS(ROW(),VLOOKUP(I$7,INDIRECT($A$7&"!A:D"),4,FALSE)+4))),"") | J62: =IFERROR(IF($C60="","",INDIRECT("第"&VLOOKUP(J$7,INDIRECT($A$7&"!A:D"),2,FALSE)&"周"&"!"&ADDRESS(ROW(),VLOOKUP(J$7,INDIRECT($A$7&"!A:D"),4,FALSE)+4))),"") | K62: =IFERROR(IF($C60="","",INDIRECT("第"&VLOOKUP(K$7,INDIRECT($A$7&"!A:D"),2,FALSE)&"周"&"!"&ADDRESS(ROW(),VLOOKUP(K$7,INDIRECT($A$7&"!A:D"),4,FALSE)+4))),"") | L62: =IFERROR(IF($C60="","",INDIRECT("第"&VLOOKUP(L$7,INDIRECT($A$7&"!A:D"),2,FALSE)&"周"&"!"&ADDRESS(ROW(),VLOOKUP(L$7,INDIRECT($A$7&"!A:D"),4,FALSE)+4))),"") | ... AI62: =IFERROR(IF($C60="","",INDIRECT("第"&VLOOKUP(AI$7,INDIRECT($A$7&"!A:D"),2,FALSE)&"周"&"!"&ADDRESS(ROW(),VLOOKUP(AI$7,INDIRECT($A$7&"!A:D"),4,FALSE)+4))),"")
B63: =ROW()/3-2 -> 19 | C63: =INDIRECT("员工信息表!C"&(B63+3))&IF(INDIRECT("员工信息表!O"&(B63+3))="离职","(离职)","") | D63: 上午 | E63: =IFERROR(IF($C63="","",INDIRECT("第"&VLOOKUP(E$7,INDIRECT($A$7&"!A:D"),2,FALSE)&"周"&"!"&ADDRESS(ROW(),VLOOKUP(E$7,INDIRECT($A$7&"!A:D"),4,FALSE)+4))),"") | F63: =IFERROR(IF($C63="","",INDIRECT("第"&VLOOKUP(F$7,INDIRECT($A$7&"!A:D"),2,FALSE)&"周"&"!"&ADDRESS(ROW(),VLOOKUP(F$7,INDIRECT($A$7&"!A:D"),4,FALSE)+4))),"") | G63: =IFERROR(IF($C63="","",INDIRECT("第"&VLOOKUP(G$7,INDIRECT($A$7&"!A:D"),2,FALSE)&"周"&"!"&ADDRESS(ROW(),VLOOKUP(G$7,INDIRECT($A$7&"!A:D"),4,FALSE)+4))),"") | H63: =IFERROR(IF($C63="","",INDIRECT("第"&VLOOKUP(H$7,INDIRECT($A$7&"!A:D"),2,FALSE)&"周"&"!"&ADDRESS(ROW(),VLOOKUP(H$7,INDIRECT($A$7&"!A:D"),4,FALSE)+4))),"") | I63: =IFERROR(IF($C63="","",INDIRECT("第"&VLOOKUP(I$7,INDIRECT($A$7&"!A:D"),2,FALSE)&"周"&"!"&ADDRESS(ROW(),VLOOKUP(I$7,INDIRECT($A$7&"!A:D"),4,FALSE)+4))),"") | J63: =IFERROR(IF($C63="","",INDIRECT("第"&VLOOKUP(J$7,INDIRECT($A$7&"!A:D"),2,FALSE)&"周"&"!"&ADDRESS(ROW(),VLOOKUP(J$7,INDIRECT($A$7&"!A:D"),4,FALSE)+4))),"") | K63: =IFERROR(IF($C63="","",INDIRECT("第"&VLOOKUP(K$7,INDIRECT($A$7&"!A:D"),2,FALSE)&"周"&"!"&ADDRESS(ROW(),VLOOKUP(K$7,INDIRECT($A$7&"!A:D"),4,FALSE)+4))),"") | L63: =IFERROR(IF($C63="","",INDIRECT("第"&VLOOKUP(L$7,INDIRECT($A$7&"!A:D"),2,FALSE)&"周"&"!"&ADDRESS(ROW(),VLOOKUP(L$7,INDIRECT($A$7&"!A:D"),4,FALSE)+4))),"") | ... AI63: =IFERROR(IF($C63="","",INDIRECT("第"&VLOOKUP(AI$7,INDIRECT($A$7&"!A:D"),2,FALSE)&"周"&"!"&ADDRESS(ROW(),VLOOKUP(AI$7,INDIRECT($A$7&"!A:D"),4,FALSE)+4))),"") | AJ63: =COUNTIF($E63:$AI65,AJ$8) -> 0 | AK63: =COUNTIF($E63:$AI65,AK$8) -> 0 | AL63: =COUNTIF($E63:$AI65,AL$8) -> 0 | AM63: =COUNTIF($E63:$AI65,AM$8) -> 0 | AN63: =COUNTIF($E63:$AI65,AN$8) -> 0 | AO63: =COUNTIF($E63:$AI65,AO$8) -> 0 | AP63: =COUNTIF($E63:$AI65,AP$8) -> 0 | AQ63: =COUNTIF($E63:$AI65,AQ$8) -> 0 | AR63: =COUNTIF($E63:$AI65,AR$8) -> 0
D64: 下午 | E64: =IFERROR(IF($C63="","",INDIRECT("第"&VLOOKUP(E$7,INDIRECT($A$7&"!A:D"),2,FALSE)&"周"&"!"&ADDRESS(ROW(),VLOOKUP(E$7,INDIRECT($A$7&"!A:D"),4,FALSE)+4))),"") | F64: =IFERROR(IF($C63="","",INDIRECT("第"&VLOOKUP(F$7,INDIRECT($A$7&"!A:D"),2,FALSE)&"周"&"!"&ADDRESS(ROW(),VLOOKUP(F$7,INDIRECT($A$7&"!A:D"),4,FALSE)+4))),"") | G64: =IFERROR(IF($C63="","",INDIRECT("第"&VLOOKUP(G$7,INDIRECT($A$7&"!A:D"),2,FALSE)&"周"&"!"&ADDRESS(ROW(),VLOOKUP(G$7,INDIRECT($A$7&"!A:D"),4,FALSE)+4))),"") | H64: =IFERROR(IF($C63="","",INDIRECT("第"&VLOOKUP(H$7,INDIRECT($A$7&"!A:D"),2,FALSE)&"周"&"!"&ADDRESS(ROW(),VLOOKUP(H$7,INDIRECT($A$7&"!A:D"),4,FALSE)+4))),"") | I64: =IFERROR(IF($C63="","",INDIRECT("第"&VLOOKUP(I$7,INDIRECT($A$7&"!A:D"),2,FALSE)&"周"&"!"&ADDRESS(ROW(),VLOOKUP(I$7,INDIRECT($A$7&"!A:D"),4,FALSE)+4))),"") | J64: =IFERROR(IF($C63="","",INDIRECT("第"&VLOOKUP(J$7,INDIRECT($A$7&"!A:D"),2,FALSE)&"周"&"!"&ADDRESS(ROW(),VLOOKUP(J$7,INDIRECT($A$7&"!A:D"),4,FALSE)+4))),"") | K64: =IFERROR(IF($C63="","",INDIRECT("第"&VLOOKUP(K$7,INDIRECT($A$7&"!A:D"),2,FALSE)&"周"&"!"&ADDRESS(ROW(),VLOOKUP(K$7,INDIRECT($A$7&"!A:D"),4,FALSE)+4))),"") | L64: =IFERROR(IF($C63="","",INDIRECT("第"&VLOOKUP(L$7,INDIRECT($A$7&"!A:D"),2,FALSE)&"周"&"!"&ADDRESS(ROW(),VLOOKUP(L$7,INDIRECT($A$7&"!A:D"),4,FALSE)+4))),"") | ... AI64: =IFERROR(IF($C63="","",INDIRECT("第"&VLOOKUP(AI$7,INDIRECT($A$7&"!A:D"),2,FALSE)&"周"&"!"&ADDRESS(ROW(),VLOOKUP(AI$7,INDIRECT($A$7&"!A:D"),4,FALSE)+4))),"")
D65: 晚上 | E65: =IFERROR(IF($C63="","",INDIRECT("第"&VLOOKUP(E$7,INDIRECT($A$7&"!A:D"),2,FALSE)&"周"&"!"&ADDRESS(ROW(),VLOOKUP(E$7,INDIRECT($A$7&"!A:D"),4,FALSE)+4))),"") | F65: =IFERROR(IF($C63="","",INDIRECT("第"&VLOOKUP(F$7,INDIRECT($A$7&"!A:D"),2,FALSE)&"周"&"!"&ADDRESS(ROW(),VLOOKUP(F$7,INDIRECT($A$7&"!A:D"),4,FALSE)+4))),"") | G65: =IFERROR(IF($C63="","",INDIRECT("第"&VLOOKUP(G$7,INDIRECT($A$7&"!A:D"),2,FALSE)&"周"&"!"&ADDRESS(ROW(),VLOOKUP(G$7,INDIRECT($A$7&"!A:D"),4,FALSE)+4))),"") | H65: =IFERROR(IF($C63="","",INDIRECT("第"&VLOOKUP(H$7,INDIRECT($A$7&"!A:D"),2,FALSE)&"周"&"!"&ADDRESS(ROW(),VLOOKUP(H$7,INDIRECT($A$7&"!A:D"),4,FALSE)+4))),"") | I65: =IFERROR(IF($C63="","",INDIRECT("第"&VLOOKUP(I$7,INDIRECT($A$7&"!A:D"),2,FALSE)&"周"&"!"&ADDRESS(ROW(),VLOOKUP(I$7,INDIRECT($A$7&"!A:D"),4,FALSE)+4))),"") | J65: =IFERROR(IF($C63="","",INDIRECT("第"&VLOOKUP(J$7,INDIRECT($A$7&"!A:D"),2,FALSE)&"周"&"!"&ADDRESS(ROW(),VLOOKUP(J$7,INDIRECT($A$7&"!A:D"),4,FALSE)+4))),"") | K65: =IFERROR(IF($C63="","",INDIRECT("第"&VLOOKUP(K$7,INDIRECT($A$7&"!A:D"),2,FALSE)&"周"&"!"&ADDRESS(ROW(),VLOOKUP(K$7,INDIRECT($A$7&"!A:D"),4,FALSE)+4))),"") | L65: =IFERROR(IF($C63="","",INDIRECT("第"&VLOOKUP(L$7,INDIRECT($A$7&"!A:D"),2,FALSE)&"周"&"!"&ADDRESS(ROW(),VLOOKUP(L$7,INDIRECT($A$7&"!A:D"),4,FALSE)+4))),"") | ... AI65: =IFERROR(IF($C63="","",INDIRECT("第"&VLOOKUP(AI$7,INDIRECT($A$7&"!A:D"),2,FALSE)&"周"&"!"&ADDRESS(ROW(),VLOOKUP(AI$7,INDIRECT($A$7&"!A:D"),4,FALSE)+4))),"")
B66: =ROW()/3-2 -> 20 | C66: =INDIRECT("员工信息表!C"&(B66+3))&IF(INDIRECT("员工信息表!O"&(B66+3))="离职","(离职)","") | D66: 上午 | E66: =IFERROR(IF($C66="","",INDIRECT("第"&VLOOKUP(E$7,INDIRECT($A$7&"!A:D"),2,FALSE)&"周"&"!"&ADDRESS(ROW(),VLOOKUP(E$7,INDIRECT($A$7&"!A:D"),4,FALSE)+4))),"") | F66: =IFERROR(IF($C66="","",INDIRECT("第"&VLOOKUP(F$7,INDIRECT($A$7&"!A:D"),2,FALSE)&"周"&"!"&ADDRESS(ROW(),VLOOKUP(F$7,INDIRECT($A$7&"!A:D"),4,FALSE)+4))),"") | G66: =IFERROR(IF($C66="","",INDIRECT("第"&VLOOKUP(G$7,INDIRECT($A$7&"!A:D"),2,FALSE)&"周"&"!"&ADDRESS(ROW(),VLOOKUP(G$7,INDIRECT($A$7&"!A:D"),4,FALSE)+4))),"") | H66: =IFERROR(IF($C66="","",INDIRECT("第"&VLOOKUP(H$7,INDIRECT($A$7&"!A:D"),2,FALSE)&"周"&"!"&ADDRESS(ROW(),VLOOKUP(H$7,INDIRECT($A$7&"!A:D"),4,FALSE)+4))),"") | I66: =IFERROR(IF($C66="","",INDIRECT("第"&VLOOKUP(I$7,INDIRECT($A$7&"!A:D"),2,FALSE)&"周"&"!"&ADDRESS(ROW(),VLOOKUP(I$7,INDIRECT($A$7&"!A:D"),4,FALSE)+4))),"") | J66: =IFERROR(IF($C66="","",INDIRECT("第"&VLOOKUP(J$7,INDIRECT($A$7&"!A:D"),2,FALSE)&"周"&"!"&ADDRESS(ROW(),VLOOKUP(J$7,INDIRECT($A$7&"!A:D"),4,FALSE)+4))),"") | K66: =IFERROR(IF($C66="","",INDIRECT("第"&VLOOKUP(K$7,INDIRECT($A$7&"!A:D"),2,FALSE)&"周"&"!"&ADDRESS(ROW(),VLOOKUP(K$7,INDIRECT($A$7&"!A:D"),4,FALSE)+4))),"") | L66: =IFERROR(IF($C66="","",INDIRECT("第"&VLOOKUP(L$7,INDIRECT($A$7&"!A:D"),2,FALSE)&"周"&"!"&ADDRESS(ROW(),VLOOKUP(L$7,INDIRECT($A$7&"!A:D"),4,FALSE)+4))),"") | ... AI66: =IFERROR(IF($C66="","",INDIRECT("第"&VLOOKUP(AI$7,INDIRECT($A$7&"!A:D"),2,FALSE)&"周"&"!"&ADDRESS(ROW(),VLOOKUP(AI$7,INDIRECT($A$7&"!A:D"),4,FALSE)+4))),"") | AJ66: =COUNTIF($E66:$AI68,AJ$8) -> 0 | AK66: =COUNTIF($E66:$AI68,AK$8) -> 0 | AL66: =COUNTIF($E66:$AI68,AL$8) -> 0 | AM66: =COUNTIF($E66:$AI68,AM$8) -> 0 | AN66: =COUNTIF($E66:$AI68,AN$8) -> 0 | AO66: =COUNTIF($E66:$AI68,AO$8) -> 0 | AP66: =COUNTIF($E66:$AI68,AP$8) -> 0 | AQ66: =COUNTIF($E66:$AI68,AQ$8) -> 0 | AR66: =COUNTIF($E66:$AI68,AR$8) -> 0
D67: 下午 | E67: =IFERROR(IF($C66="","",INDIRECT("第"&VLOOKUP(E$7,INDIRECT($A$7&"!A:D"),2,FALSE)&"周"&"!"&ADDRESS(ROW(),VLOOKUP(E$7,INDIRECT($A$7&"!A:D"),4,FALSE)+4))),"") | F67: =IFERROR(IF($C66="","",INDIRECT("第"&VLOOKUP(F$7,INDIRECT($A$7&"!A:D"),2,FALSE)&"周"&"!"&ADDRESS(ROW(),VLOOKUP(F$7,INDIRECT($A$7&"!A:D"),4,FALSE)+4))),"") | G67: =IFERROR(IF($C66="","",INDIRECT("第"&VLOOKUP(G$7,INDIRECT($A$7&"!A:D"),2,FALSE)&"周"&"!"&ADDRESS(ROW(),VLOOKUP(G$7,INDIRECT($A$7&"!A:D"),4,FALSE)+4))),"") | H67: =IFERROR(IF($C66="","",INDIRECT("第"&VLOOKUP(H$7,INDIRECT($A$7&"!A:D"),2,FALSE)&"周"&"!"&ADDRESS(ROW(),VLOOKUP(H$7,INDIRECT($A$7&"!A:D"),4,FALSE)+4))),"") | I67: =IFERROR(IF($C66="","",INDIRECT("第"&VLOOKUP(I$7,INDIRECT($A$7&"!A:D"),2,FALSE)&"周"&"!"&ADDRESS(ROW(),VLOOKUP(I$7,INDIRECT($A$7&"!A:D"),4,FALSE)+4))),"") | J67: =IFERROR(IF($C66="","",INDIRECT("第"&VLOOKUP(J$7,INDIRECT($A$7&"!A:D"),2,FALSE)&"周"&"!"&ADDRESS(ROW(),VLOOKUP(J$7,INDIRECT($A$7&"!A:D"),4,FALSE)+4))),"") | K67: =IFERROR(IF($C66="","",INDIRECT("第"&VLOOKUP(K$7,INDIRECT($A$7&"!A:D"),2,FALSE)&"周"&"!"&ADDRESS(ROW(),VLOOKUP(K$7,INDIRECT($A$7&"!A:D"),4,FALSE)+4))),"") | L67: =IFERROR(IF($C66="","",INDIRECT("第"&VLOOKUP(L$7,INDIRECT($A$7&"!A:D"),2,FALSE)&"周"&"!"&ADDRESS(ROW(),VLOOKUP(L$7,INDIRECT($A$7&"!A:D"),4,FALSE)+4))),"") | ... AI67: =IFERROR(IF($C66="","",INDIRECT("第"&VLOOKUP(AI$7,INDIRECT($A$7&"!A:D"),2,FALSE)&"周"&"!"&ADDRESS(ROW(),VLOOKUP(AI$7,INDIRECT($A$7&"!A:D"),4,FALSE)+4))),"")
D68: 晚上 | E68: =IFERROR(IF($C66="","",INDIRECT("第"&VLOOKUP(E$7,INDIRECT($A$7&"!A:D"),2,FALSE)&"周"&"!"&ADDRESS(ROW(),VLOOKUP(E$7,INDIRECT($A$7&"!A:D"),4,FALSE)+4))),"") | F68: =IFERROR(IF($C66="","",INDIRECT("第"&VLOOKUP(F$7,INDIRECT($A$7&"!A:D"),2,FALSE)&"周"&"!"&ADDRESS(ROW(),VLOOKUP(F$7,INDIRECT($A$7&"!A:D"),4,FALSE)+4))),"") | G68: =IFERROR(IF($C66="","",INDIRECT("第"&VLOOKUP(G$7,INDIRECT($A$7&"!A:D"),2,FALSE)&"周"&"!"&ADDRESS(ROW(),VLOOKUP(G$7,INDIRECT($A$7&"!A:D"),4,FALSE)+4))),"") | H68: =IFERROR(IF($C66="","",INDIRECT("第"&VLOOKUP(H$7,INDIRECT($A$7&"!A:D"),2,FALSE)&"周"&"!"&ADDRESS(ROW(),VLOOKUP(H$7,INDIRECT($A$7&"!A:D"),4,FALSE)+4))),"") | I68: =IFERROR(IF($C66="","",INDIRECT("第"&VLOOKUP(I$7,INDIRECT($A$7&"!A:D"),2,FALSE)&"周"&"!"&ADDRESS(ROW(),VLOOKUP(I$7,INDIRECT($A$7&"!A:D"),4,FALSE)+4))),"") | J68: =IFERROR(IF($C66="","",INDIRECT("第"&VLOOKUP(J$7,INDIRECT($A$7&"!A:D"),2,FALSE)&"周"&"!"&ADDRESS(ROW(),VLOOKUP(J$7,INDIRECT($A$7&"!A:D"),4,FALSE)+4))),"") | K68: =IFERROR(IF($C66="","",INDIRECT("第"&VLOOKUP(K$7,INDIRECT($A$7&"!A:D"),2,FALSE)&"周"&"!"&ADDRESS(ROW(),VLOOKUP(K$7,INDIRECT($A$7&"!A:D"),4,FALSE)+4))),"") | L68: =IFERROR(IF($C66="","",INDIRECT("第"&VLOOKUP(L$7,INDIRECT($A$7&"!A:D"),2,FALSE)&"周"&"!"&ADDRESS(ROW(),VLOOKUP(L$7,INDIRECT($A$7&"!A:D"),4,FALSE)+4))),"") | ... AI68: =IFERROR(IF($C66="","",INDIRECT("第"&VLOOKUP(AI$7,INDIRECT($A$7&"!A:D"),2,FALSE)&"周"&"!"&ADDRESS(ROW(),VLOOKUP(AI$7,INDIRECT($A$7&"!A:D"),4,FALSE)+4))),"")
B69: =ROW()/3-2 -> 21 | C69: =INDIRECT("员工信息表!C"&(B69+3))&IF(INDIRECT("员工信息表!O"&(B69+3))="离职","(离职)","") | D69: 上午 | E69: =IFERROR(IF($C69="","",INDIRECT("第"&VLOOKUP(E$7,INDIRECT($A$7&"!A:D"),2,FALSE)&"周"&"!"&ADDRESS(ROW(),VLOOKUP(E$7,INDIRECT($A$7&"!A:D"),4,FALSE)+4))),"") | F69: =IFERROR(IF($C69="","",INDIRECT("第"&VLOOKUP(F$7,INDIRECT($A$7&"!A:D"),2,FALSE)&"周"&"!"&ADDRESS(ROW(),VLOOKUP(F$7,INDIRECT($A$7&"!A:D"),4,FALSE)+4))),"") | G69: =IFERROR(IF($C69="","",INDIRECT("第"&VLOOKUP(G$7,INDIRECT($A$7&"!A:D"),2,FALSE)&"周"&"!"&ADDRESS(ROW(),VLOOKUP(G$7,INDIRECT($A$7&"!A:D"),4,FALSE)+4))),"") | H69: =IFERROR(IF($C69="","",INDIRECT("第"&VLOOKUP(H$7,INDIRECT($A$7&"!A:D"),2,FALSE)&"周"&"!"&ADDRESS(ROW(),VLOOKUP(H$7,INDIRECT($A$7&"!A:D"),4,FALSE)+4))),"") | I69: =IFERROR(IF($C69="","",INDIRECT("第"&VLOOKUP(I$7,INDIRECT($A$7&"!A:D"),2,FALSE)&"周"&"!"&ADDRESS(ROW(),VLOOKUP(I$7,INDIRECT($A$7&"!A:D"),4,FALSE)+4))),"") | J69: =IFERROR(IF($C69="","",INDIRECT("第"&VLOOKUP(J$7,INDIRECT($A$7&"!A:D"),2,FALSE)&"周"&"!"&ADDRESS(ROW(),VLOOKUP(J$7,INDIRECT($A$7&"!A:D"),4,FALSE)+4))),"") | K69: =IFERROR(IF($C69="","",INDIRECT("第"&VLOOKUP(K$7,INDIRECT($A$7&"!A:D"),2,FALSE)&"周"&"!"&ADDRESS(ROW(),VLOOKUP(K$7,INDIRECT($A$7&"!A:D"),4,FALSE)+4))),"") | L69: =IFERROR(IF($C69="","",INDIRECT("第"&VLOOKUP(L$7,INDIRECT($A$7&"!A:D"),2,FALSE)&"周"&"!"&ADDRESS(ROW(),VLOOKUP(L$7,INDIRECT($A$7&"!A:D"),4,FALSE)+4))),"") | ... AI69: =IFERROR(IF($C69="","",INDIRECT("第"&VLOOKUP(AI$7,INDIRECT($A$7&"!A:D"),2,FALSE)&"周"&"!"&ADDRESS(ROW(),VLOOKUP(AI$7,INDIRECT($A$7&"!A:D"),4,FALSE)+4))),"") | AJ69: =COUNTIF($E69:$AI71,AJ$8) -> 0 | AK69: =COUNTIF($E69:$AI71,AK$8) -> 0 | AL69: =COUNTIF($E69:$AI71,AL$8) -> 0 | AM69: =COUNTIF($E69:$AI71,AM$8) -> 0 | AN69: =COUNTIF($E69:$AI71,AN$8) -> 0 | AO69: =COUNTIF($E69:$AI71,AO$8) -> 0 | AP69: =COUNTIF($E69:$AI71,AP$8) -> 0 | AQ69: =COUNTIF($E69:$AI71,AQ$8) -> 0 | AR69: =COUNTIF($E69:$AI71,AR$8) -> 0
D70: 下午 | E70: =IFERROR(IF($C69="","",INDIRECT("第"&VLOOKUP(E$7,INDIRECT($A$7&"!A:D"),2,FALSE)&"周"&"!"&ADDRESS(ROW(),VLOOKUP(E$7,INDIRECT($A$7&"!A:D"),4,FALSE)+4))),"") | F70: =IFERROR(IF($C69="","",INDIRECT("第"&VLOOKUP(F$7,INDIRECT($A$7&"!A:D"),2,FALSE)&"周"&"!"&ADDRESS(ROW(),VLOOKUP(F$7,INDIRECT($A$7&"!A:D"),4,FALSE)+4))),"") | G70: =IFERROR(IF($C69="","",INDIRECT("第"&VLOOKUP(G$7,INDIRECT($A$7&"!A:D"),2,FALSE)&"周"&"!"&ADDRESS(ROW(),VLOOKUP(G$7,INDIRECT($A$7&"!A:D"),4,FALSE)+4))),"") | H70: =IFERROR(IF($C69="","",INDIRECT("第"&VLOOKUP(H$7,INDIRECT($A$7&"!A:D"),2,FALSE)&"周"&"!"&ADDRESS(ROW(),VLOOKUP(H$7,INDIRECT($A$7&"!A:D"),4,FALSE)+4))),"") | I70: =IFERROR(IF($C69="","",INDIRECT("第"&VLOOKUP(I$7,INDIRECT($A$7&"!A:D"),2,FALSE)&"周"&"!"&ADDRESS(ROW(),VLOOKUP(I$7,INDIRECT($A$7&"!A:D"),4,FALSE)+4))),"") | J70: =IFERROR(IF($C69="","",INDIRECT("第"&VLOOKUP(J$7,INDIRECT($A$7&"!A:D"),2,FALSE)&"周"&"!"&ADDRESS(ROW(),VLOOKUP(J$7,INDIRECT($A$7&"!A:D"),4,FALSE)+4))),"") | K70: =IFERROR(IF($C69="","",INDIRECT("第"&VLOOKUP(K$7,INDIRECT($A$7&"!A:D"),2,FALSE)&"周"&"!"&ADDRESS(ROW(),VLOOKUP(K$7,INDIRECT($A$7&"!A:D"),4,FALSE)+4))),"") | L70: =IFERROR(IF($C69="","",INDIRECT("第"&VLOOKUP(L$7,INDIRECT($A$7&"!A:D"),2,FALSE)&"周"&"!"&ADDRESS(ROW(),VLOOKUP(L$7,INDIRECT($A$7&"!A:D"),4,FALSE)+4))),"") | ... AI70: =IFERROR(IF($C69="","",INDIRECT("第"&VLOOKUP(AI$7,INDIRECT($A$7&"!A:D"),2,FALSE)&"周"&"!"&ADDRESS(ROW(),VLOOKUP(AI$7,INDIRECT($A$7&"!A:D"),4,FALSE)+4))),"")
D71: 晚上 | E71: =IFERROR(IF($C69="","",INDIRECT("第"&VLOOKUP(E$7,INDIRECT($A$7&"!A:D"),2,FALSE)&"周"&"!"&ADDRESS(ROW(),VLOOKUP(E$7,INDIRECT($A$7&"!A:D"),4,FALSE)+4))),"") | F71: =IFERROR(IF($C69="","",INDIRECT("第"&VLOOKUP(F$7,INDIRECT($A$7&"!A:D"),2,FALSE)&"周"&"!"&ADDRESS(ROW(),VLOOKUP(F$7,INDIRECT($A$7&"!A:D"),4,FALSE)+4))),"") | G71: =IFERROR(IF($C69="","",INDIRECT("第"&VLOOKUP(G$7,INDIRECT($A$7&"!A:D"),2,FALSE)&"周"&"!"&ADDRESS(ROW(),VLOOKUP(G$7,INDIRECT($A$7&"!A:D"),4,FALSE)+4))),"") | H71: =IFERROR(IF($C69="","",INDIRECT("第"&VLOOKUP(H$7,INDIRECT($A$7&"!A:D"),2,FALSE)&"周"&"!"&ADDRESS(ROW(),VLOOKUP(H$7,INDIRECT($A$7&"!A:D"),4,FALSE)+4))),"") | I71: =IFERROR(IF($C69="","",INDIRECT("第"&VLOOKUP(I$7,INDIRECT($A$7&"!A:D"),2,FALSE)&"周"&"!"&ADDRESS(ROW(),VLOOKUP(I$7,INDIRECT($A$7&"!A:D"),4,FALSE)+4))),"") | J71: =IFERROR(IF($C69="","",INDIRECT("第"&VLOOKUP(J$7,INDIRECT($A$7&"!A:D"),2,FALSE)&"周"&"!"&ADDRESS(ROW(),VLOOKUP(J$7,INDIRECT($A$7&"!A:D"),4,FALSE)+4))),"") | K71: =IFERROR(IF($C69="","",INDIRECT("第"&VLOOKUP(K$7,INDIRECT($A$7&"!A:D"),2,FALSE)&"周"&"!"&ADDRESS(ROW(),VLOOKUP(K$7,INDIRECT($A$7&"!A:D"),4,FALSE)+4))),"") | L71: =IFERROR(IF($C69="","",INDIRECT("第"&VLOOKUP(L$7,INDIRECT($A$7&"!A:D"),2,FALSE)&"周"&"!"&ADDRESS(ROW(),VLOOKUP(L$7,INDIRECT($A$7&"!A:D"),4,FALSE)+4))),"") | ... AI71: =IFERROR(IF($C69="","",INDIRECT("第"&VLOOKUP(AI$7,INDIRECT($A$7&"!A:D"),2,FALSE)&"周"&"!"&ADDRESS(ROW(),VLOOKUP(AI$7,INDIRECT($A$7&"!A:D"),4,FALSE)+4))),"")
B72: =ROW()/3-2 -> 22 | C72: =INDIRECT("员工信息表!C"&(B72+3))&IF(INDIRECT("员工信息表!O"&(B72+3))="离职","(离职)","") | D72: 上午 | E72: =IFERROR(IF($C72="","",INDIRECT("第"&VLOOKUP(E$7,INDIRECT($A$7&"!A:D"),2,FALSE)&"周"&"!"&ADDRESS(ROW(),VLOOKUP(E$7,INDIRECT($A$7&"!A:D"),4,FALSE)+4))),"") | F72: =IFERROR(IF($C72="","",INDIRECT("第"&VLOOKUP(F$7,INDIRECT($A$7&"!A:D"),2,FALSE)&"周"&"!"&ADDRESS(ROW(),VLOOKUP(F$7,INDIRECT($A$7&"!A:D"),4,FALSE)+4))),"") | G72: =IFERROR(IF($C72="","",INDIRECT("第"&VLOOKUP(G$7,INDIRECT($A$7&"!A:D"),2,FALSE)&"周"&"!"&ADDRESS(ROW(),VLOOKUP(G$7,INDIRECT($A$7&"!A:D"),4,FALSE)+4))),"") | H72: =IFERROR(IF($C72="","",INDIRECT("第"&VLOOKUP(H$7,INDIRECT($A$7&"!A:D"),2,FALSE)&"周"&"!"&ADDRESS(ROW(),VLOOKUP(H$7,INDIRECT($A$7&"!A:D"),4,FALSE)+4))),"") | I72: =IFERROR(IF($C72="","",INDIRECT("第"&VLOOKUP(I$7,INDIRECT($A$7&"!A:D"),2,FALSE)&"周"&"!"&ADDRESS(ROW(),VLOOKUP(I$7,INDIRECT($A$7&"!A:D"),4,FALSE)+4))),"") | J72: =IFERROR(IF($C72="","",INDIRECT("第"&VLOOKUP(J$7,INDIRECT($A$7&"!A:D"),2,FALSE)&"周"&"!"&ADDRESS(ROW(),VLOOKUP(J$7,INDIRECT($A$7&"!A:D"),4,FALSE)+4))),"") | K72: =IFERROR(IF($C72="","",INDIRECT("第"&VLOOKUP(K$7,INDIRECT($A$7&"!A:D"),2,FALSE)&"周"&"!"&ADDRESS(ROW(),VLOOKUP(K$7,INDIRECT($A$7&"!A:D"),4,FALSE)+4))),"") | L72: =IFERROR(IF($C72="","",INDIRECT("第"&VLOOKUP(L$7,INDIRECT($A$7&"!A:D"),2,FALSE)&"周"&"!"&ADDRESS(ROW(),VLOOKUP(L$7,INDIRECT($A$7&"!A:D"),4,FALSE)+4))),"") | ... AI72: =IFERROR(IF($C72="","",INDIRECT("第"&VLOOKUP(AI$7,INDIRECT($A$7&"!A:D"),2,FALSE)&"周"&"!"&ADDRESS(ROW(),VLOOKUP(AI$7,INDIRECT($A$7&"!A:D"),4,FALSE)+4))),"") | AJ72: =COUNTIF($E72:$AI74,AJ$8) -> 0 | AK72: =COUNTIF($E72:$AI74,AK$8) -> 0 | AL72: =COUNTIF($E72:$AI74,AL$8) -> 0 | AM72: =COUNTIF($E72:$AI74,AM$8) -> 0 | AN72: =COUNTIF($E72:$AI74,AN$8) -> 0 | AO72: =COUNTIF($E72:$AI74,AO$8) -> 0 | AP72: =COUNTIF($E72:$AI74,AP$8) -> 0 | AQ72: =COUNTIF($E72:$AI74,AQ$8) -> 0 | AR72: =COUNTIF($E72:$AI74,AR$8) -> 0
D73: 下午 | E73: =IFERROR(IF($C72="","",INDIRECT("第"&VLOOKUP(E$7,INDIRECT($A$7&"!A:D"),2,FALSE)&"周"&"!"&ADDRESS(ROW(),VLOOKUP(E$7,INDIRECT($A$7&"!A:D"),4,FALSE)+4))),"") | F73: =IFERROR(IF($C72="","",INDIRECT("第"&VLOOKUP(F$7,INDIRECT($A$7&"!A:D"),2,FALSE)&"周"&"!"&ADDRESS(ROW(),VLOOKUP(F$7,INDIRECT($A$7&"!A:D"),4,FALSE)+4))),"") | G73: =IFERROR(IF($C72="","",INDIRECT("第"&VLOOKUP(G$7,INDIRECT($A$7&"!A:D"),2,FALSE)&"周"&"!"&ADDRESS(ROW(),VLOOKUP(G$7,INDIRECT($A$7&"!A:D"),4,FALSE)+4))),"") | H73: =IFERROR(IF($C72="","",INDIRECT("第"&VLOOKUP(H$7,INDIRECT($A$7&"!A:D"),2,FALSE)&"周"&"!"&ADDRESS(ROW(),VLOOKUP(H$7,INDIRECT($A$7&"!A:D"),4,FALSE)+4))),"") | I73: =IFERROR(IF($C72="","",INDIRECT("第"&VLOOKUP(I$7,INDIRECT($A$7&"!A:D"),2,FALSE)&"周"&"!"&ADDRESS(ROW(),VLOOKUP(I$7,INDIRECT($A$7&"!A:D"),4,FALSE)+4))),"") | J73: =IFERROR(IF($C72="","",INDIRECT("第"&VLOOKUP(J$7,INDIRECT($A$7&"!A:D"),2,FALSE)&"周"&"!"&ADDRESS(ROW(),VLOOKUP(J$7,INDIRECT($A$7&"!A:D"),4,FALSE)+4))),"") | K73: =IFERROR(IF($C72="","",INDIRECT("第"&VLOOKUP(K$7,INDIRECT($A$7&"!A:D"),2,FALSE)&"周"&"!"&ADDRESS(ROW(),VLOOKUP(K$7,INDIRECT($A$7&"!A:D"),4,FALSE)+4))),"") | L73: =IFERROR(IF($C72="","",INDIRECT("第"&VLOOKUP(L$7,INDIRECT($A$7&"!A:D"),2,FALSE)&"周"&"!"&ADDRESS(ROW(),VLOOKUP(L$7,INDIRECT($A$7&"!A:D"),4,FALSE)+4))),"") | ... AI73: =IFERROR(IF($C72="","",INDIRECT("第"&VLOOKUP(AI$7,INDIRECT($A$7&"!A:D"),2,FALSE)&"周"&"!"&ADDRESS(ROW(),VLOOKUP(AI$7,INDIRECT($A$7&"!A:D"),4,FALSE)+4))),"")
D74: 晚上 | E74: =IFERROR(IF($C72="","",INDIRECT("第"&VLOOKUP(E$7,INDIRECT($A$7&"!A:D"),2,FALSE)&"周"&"!"&ADDRESS(ROW(),VLOOKUP(E$7,INDIRECT($A$7&"!A:D"),4,FALSE)+4))),"") | F74: =IFERROR(IF($C72="","",INDIRECT("第"&VLOOKUP(F$7,INDIRECT($A$7&"!A:D"),2,FALSE)&"周"&"!"&ADDRESS(ROW(),VLOOKUP(F$7,INDIRECT($A$7&"!A:D"),4,FALSE)+4))),"") | G74: =IFERROR(IF($C72="","",INDIRECT("第"&VLOOKUP(G$7,INDIRECT($A$7&"!A:D"),2,FALSE)&"周"&"!"&ADDRESS(ROW(),VLOOKUP(G$7,INDIRECT($A$7&"!A:D"),4,FALSE)+4))),"") | H74: =IFERROR(IF($C72="","",INDIRECT("第"&VLOOKUP(H$7,INDIRECT($A$7&"!A:D"),2,FALSE)&"周"&"!"&ADDRESS(ROW(),VLOOKUP(H$7,INDIRECT($A$7&"!A:D"),4,FALSE)+4))),"") | I74: =IFERROR(IF($C72="","",INDIRECT("第"&VLOOKUP(I$7,INDIRECT($A$7&"!A:D"),2,FALSE)&"周"&"!"&ADDRESS(ROW(),VLOOKUP(I$7,INDIRECT($A$7&"!A:D"),4,FALSE)+4))),"") | J74: =IFERROR(IF($C72="","",INDIRECT("第"&VLOOKUP(J$7,INDIRECT($A$7&"!A:D"),2,FALSE)&"周"&"!"&ADDRESS(ROW(),VLOOKUP(J$7,INDIRECT($A$7&"!A:D"),4,FALSE)+4))),"") | K74: =IFERROR(IF($C72="","",INDIRECT("第"&VLOOKUP(K$7,INDIRECT($A$7&"!A:D"),2,FALSE)&"周"&"!"&ADDRESS(ROW(),VLOOKUP(K$7,INDIRECT($A$7&"!A:D"),4,FALSE)+4))),"") | L74: =IFERROR(IF($C72="","",INDIRECT("第"&VLOOKUP(L$7,INDIRECT($A$7&"!A:D"),2,FALSE)&"周"&"!"&ADDRESS(ROW(),VLOOKUP(L$7,INDIRECT($A$7&"!A:D"),4,FALSE)+4))),"") | ... AI74: =IFERROR(IF($C72="","",INDIRECT("第"&VLOOKUP(AI$7,INDIRECT($A$7&"!A:D"),2,FALSE)&"周"&"!"&ADDRESS(ROW(),VLOOKUP(AI$7,INDIRECT($A$7&"!A:D"),4,FALSE)+4))),"")
B75: =ROW()/3-2 -> 23 | C75: =INDIRECT("员工信息表!C"&(B75+3))&IF(INDIRECT("员工信息表!O"&(B75+3))="离职","(离职)","") | D75: 上午 | E75: =IFERROR(IF($C75="","",INDIRECT("第"&VLOOKUP(E$7,INDIRECT($A$7&"!A:D"),2,FALSE)&"周"&"!"&ADDRESS(ROW(),VLOOKUP(E$7,INDIRECT($A$7&"!A:D"),4,FALSE)+4))),"") | F75: =IFERROR(IF($C75="","",INDIRECT("第"&VLOOKUP(F$7,INDIRECT($A$7&"!A:D"),2,FALSE)&"周"&"!"&ADDRESS(ROW(),VLOOKUP(F$7,INDIRECT($A$7&"!A:D"),4,FALSE)+4))),"") | G75: =IFERROR(IF($C75="","",INDIRECT("第"&VLOOKUP(G$7,INDIRECT($A$7&"!A:D"),2,FALSE)&"周"&"!"&ADDRESS(ROW(),VLOOKUP(G$7,INDIRECT($A$7&"!A:D"),4,FALSE)+4))),"") | H75: =IFERROR(IF($C75="","",INDIRECT("第"&VLOOKUP(H$7,INDIRECT($A$7&"!A:D"),2,FALSE)&"周"&"!"&ADDRESS(ROW(),VLOOKUP(H$7,INDIRECT($A$7&"!A:D"),4,FALSE)+4))),"") | I75: =IFERROR(IF($C75="","",INDIRECT("第"&VLOOKUP(I$7,INDIRECT($A$7&"!A:D"),2,FALSE)&"周"&"!"&ADDRESS(ROW(),VLOOKUP(I$7,INDIRECT($A$7&"!A:D"),4,FALSE)+4))),"") | J75: =IFERROR(IF($C75="","",INDIRECT("第"&VLOOKUP(J$7,INDIRECT($A$7&"!A:D"),2,FALSE)&"周"&"!"&ADDRESS(ROW(),VLOOKUP(J$7,INDIRECT($A$7&"!A:D"),4,FALSE)+4))),"") | K75: =IFERROR(IF($C75="","",INDIRECT("第"&VLOOKUP(K$7,INDIRECT($A$7&"!A:D"),2,FALSE)&"周"&"!"&ADDRESS(ROW(),VLOOKUP(K$7,INDIRECT($A$7&"!A:D"),4,FALSE)+4))),"") | L75: =IFERROR(IF($C75="","",INDIRECT("第"&VLOOKUP(L$7,INDIRECT($A$7&"!A:D"),2,FALSE)&"周"&"!"&ADDRESS(ROW(),VLOOKUP(L$7,INDIRECT($A$7&"!A:D"),4,FALSE)+4))),"") | ... AI75: =IFERROR(IF($C75="","",INDIRECT("第"&VLOOKUP(AI$7,INDIRECT($A$7&"!A:D"),2,FALSE)&"周"&"!"&ADDRESS(ROW(),VLOOKUP(AI$7,INDIRECT($A$7&"!A:D"),4,FALSE)+4))),"") | AJ75: =COUNTIF($E75:$AI77,AJ$8) -> 0 | AK75: =COUNTIF($E75:$AI77,AK$8) -> 0 | AL75: =COUNTIF($E75:$AI77,AL$8) -> 0 | AM75: =COUNTIF($E75:$AI77,AM$8) -> 0 | AN75: =COUNTIF($E75:$AI77,AN$8) -> 0 | AO75: =COUNTIF($E75:$AI77,AO$8) -> 0 | AP75: =COUNTIF($E75:$AI77,AP$8) -> 0 | AQ75: =COUNTIF($E75:$AI77,AQ$8) -> 0 | AR75: =COUNTIF($E75:$AI77,AR$8) -> 0
D76: 下午 | E76: =IFERROR(IF($C75="","",INDIRECT("第"&VLOOKUP(E$7,INDIRECT($A$7&"!A:D"),2,FALSE)&"周"&"!"&ADDRESS(ROW(),VLOOKUP(E$7,INDIRECT($A$7&"!A:D"),4,FALSE)+4))),"") | F76: =IFERROR(IF($C75="","",INDIRECT("第"&VLOOKUP(F$7,INDIRECT($A$7&"!A:D"),2,FALSE)&"周"&"!"&ADDRESS(ROW(),VLOOKUP(F$7,INDIRECT($A$7&"!A:D"),4,FALSE)+4))),"") | G76: =IFERROR(IF($C75="","",INDIRECT("第"&VLOOKUP(G$7,INDIRECT($A$7&"!A:D"),2,FALSE)&"周"&"!"&ADDRESS(ROW(),VLOOKUP(G$7,INDIRECT($A$7&"!A:D"),4,FALSE)+4))),"") | H76: =IFERROR(IF($C75="","",INDIRECT("第"&VLOOKUP(H$7,INDIRECT($A$7&"!A:D"),2,FALSE)&"周"&"!"&ADDRESS(ROW(),VLOOKUP(H$7,INDIRECT($A$7&"!A:D"),4,FALSE)+4))),"") | I76: =IFERROR(IF($C75="","",INDIRECT("第"&VLOOKUP(I$7,INDIRECT($A$7&"!A:D"),2,FALSE)&"周"&"!"&ADDRESS(ROW(),VLOOKUP(I$7,INDIRECT($A$7&"!A:D"),4,FALSE)+4))),"") | J76: =IFERROR(IF($C75="","",INDIRECT("第"&VLOOKUP(J$7,INDIRECT($A$7&"!A:D"),2,FALSE)&"周"&"!"&ADDRESS(ROW(),VLOOKUP(J$7,INDIRECT($A$7&"!A:D"),4,FALSE)+4))),"") | K76: =IFERROR(IF($C75="","",INDIRECT("第"&VLOOKUP(K$7,INDIRECT($A$7&"!A:D"),2,FALSE)&"周"&"!"&ADDRESS(ROW(),VLOOKUP(K$7,INDIRECT($A$7&"!A:D"),4,FALSE)+4))),"") | L76: =IFERROR(IF($C75="","",INDIRECT("第"&VLOOKUP(L$7,INDIRECT($A$7&"!A:D"),2,FALSE)&"周"&"!"&ADDRESS(ROW(),VLOOKUP(L$7,INDIRECT($A$7&"!A:D"),4,FALSE)+4))),"") | ... AI76: =IFERROR(IF($C75="","",INDIRECT("第"&VLOOKUP(AI$7,INDIRECT($A$7&"!A:D"),2,FALSE)&"周"&"!"&ADDRESS(ROW(),VLOOKUP(AI$7,INDIRECT($A$7&"!A:D"),4,FALSE)+4))),"")
D77: 晚上 | E77: =IFERROR(IF($C75="","",INDIRECT("第"&VLOOKUP(E$7,INDIRECT($A$7&"!A:D"),2,FALSE)&"周"&"!"&ADDRESS(ROW(),VLOOKUP(E$7,INDIRECT($A$7&"!A:D"),4,FALSE)+4))),"") | F77: =IFERROR(IF($C75="","",INDIRECT("第"&VLOOKUP(F$7,INDIRECT($A$7&"!A:D"),2,FALSE)&"周"&"!"&ADDRESS(ROW(),VLOOKUP(F$7,INDIRECT($A$7&"!A:D"),4,FALSE)+4))),"") | G77: =IFERROR(IF($C75="","",INDIRECT("第"&VLOOKUP(G$7,INDIRECT($A$7&"!A:D"),2,FALSE)&"周"&"!"&ADDRESS(ROW(),VLOOKUP(G$7,INDIRECT($A$7&"!A:D"),4,FALSE)+4))),"") | H77: =IFERROR(IF($C75="","",INDIRECT("第"&VLOOKUP(H$7,INDIRECT($A$7&"!A:D"),2,FALSE)&"周"&"!"&ADDRESS(ROW(),VLOOKUP(H$7,INDIRECT($A$7&"!A:D"),4,FALSE)+4))),"") | I77: =IFERROR(IF($C75="","",INDIRECT("第"&VLOOKUP(I$7,INDIRECT($A$7&"!A:D"),2,FALSE)&"周"&"!"&ADDRESS(ROW(),VLOOKUP(I$7,INDIRECT($A$7&"!A:D"),4,FALSE)+4))),"") | J77: =IFERROR(IF($C75="","",INDIRECT("第"&VLOOKUP(J$7,INDIRECT($A$7&"!A:D"),2,FALSE)&"周"&"!"&ADDRESS(ROW(),VLOOKUP(J$7,INDIRECT($A$7&"!A:D"),4,FALSE)+4))),"") | K77: =IFERROR(IF($C75="","",INDIRECT("第"&VLOOKUP(K$7,INDIRECT($A$7&"!A:D"),2,FALSE)&"周"&"!"&ADDRESS(ROW(),VLOOKUP(K$7,INDIRECT($A$7&"!A:D"),4,FALSE)+4))),"") | L77: =IFERROR(IF($C75="","",INDIRECT("第"&VLOOKUP(L$7,INDIRECT($A$7&"!A:D"),2,FALSE)&"周"&"!"&ADDRESS(ROW(),VLOOKUP(L$7,INDIRECT($A$7&"!A:D"),4,FALSE)+4))),"") | ... AI77: =IFERROR(IF($C75="","",INDIRECT("第"&VLOOKUP(AI$7,INDIRECT($A$7&"!A:D"),2,FALSE)&"周"&"!"&ADDRESS(ROW(),VLOOKUP(AI$7,INDIRECT($A$7&"!A:D"),4,FALSE)+4))),"")
B78: =ROW()/3-2 -> 24 | C78: =INDIRECT("员工信息表!C"&(B78+3))&IF(INDIRECT("员工信息表!O"&(B78+3))="离职","(离职)","") | D78: 上午 | E78: =IFERROR(IF($C78="","",INDIRECT("第"&VLOOKUP(E$7,INDIRECT($A$7&"!A:D"),2,FALSE)&"周"&"!"&ADDRESS(ROW(),VLOOKUP(E$7,INDIRECT($A$7&"!A:D"),4,FALSE)+4))),"") | F78: =IFERROR(IF($C78="","",INDIRECT("第"&VLOOKUP(F$7,INDIRECT($A$7&"!A:D"),2,FALSE)&"周"&"!"&ADDRESS(ROW(),VLOOKUP(F$7,INDIRECT($A$7&"!A:D"),4,FALSE)+4))),"") | G78: =IFERROR(IF($C78="","",INDIRECT("第"&VLOOKUP(G$7,INDIRECT($A$7&"!A:D"),2,FALSE)&"周"&"!"&ADDRESS(ROW(),VLOOKUP(G$7,INDIRECT($A$7&"!A:D"),4,FALSE)+4))),"") | H78: =IFERROR(IF($C78="","",INDIRECT("第"&VLOOKUP(H$7,INDIRECT($A$7&"!A:D"),2,FALSE)&"周"&"!"&ADDRESS(ROW(),VLOOKUP(H$7,INDIRECT($A$7&"!A:D"),4,FALSE)+4))),"") | I78: =IFERROR(IF($C78="","",INDIRECT("第"&VLOOKUP(I$7,INDIRECT($A$7&"!A:D"),2,FALSE)&"周"&"!"&ADDRESS(ROW(),VLOOKUP(I$7,INDIRECT($A$7&"!A:D"),4,FALSE)+4))),"") | J78: =IFERROR(IF($C78="","",INDIRECT("第"&VLOOKUP(J$7,INDIRECT($A$7&"!A:D"),2,FALSE)&"周"&"!"&ADDRESS(ROW(),VLOOKUP(J$7,INDIRECT($A$7&"!A:D"),4,FALSE)+4))),"") | K78: =IFERROR(IF($C78="","",INDIRECT("第"&VLOOKUP(K$7,INDIRECT($A$7&"!A:D"),2,FALSE)&"周"&"!"&ADDRESS(ROW(),VLOOKUP(K$7,INDIRECT($A$7&"!A:D"),4,FALSE)+4))),"") | L78: =IFERROR(IF($C78="","",INDIRECT("第"&VLOOKUP(L$7,INDIRECT($A$7&"!A:D"),2,FALSE)&"周"&"!"&ADDRESS(ROW(),VLOOKUP(L$7,INDIRECT($A$7&"!A:D"),4,FALSE)+4))),"") | ... AI78: =IFERROR(IF($C78="","",INDIRECT("第"&VLOOKUP(AI$7,INDIRECT($A$7&"!A:D"),2,FALSE)&"周"&"!"&ADDRESS(ROW(),VLOOKUP(AI$7,INDIRECT($A$7&"!A:D"),4,FALSE)+4))),"") | AJ78: =COUNTIF($E78:$AI80,AJ$8) -> 0 | AK78: =COUNTIF($E78:$AI80,AK$8) -> 0 | AL78: =COUNTIF($E78:$AI80,AL$8) -> 0 | AM78: =COUNTIF($E78:$AI80,AM$8) -> 0 | AN78: =COUNTIF($E78:$AI80,AN$8) -> 0 | AO78: =COUNTIF($E78:$AI80,AO$8) -> 0 | AP78: =COUNTIF($E78:$AI80,AP$8) -> 0 | AQ78: =COUNTIF($E78:$AI80,AQ$8) -> 0 | AR78: =COUNTIF($E78:$AI80,AR$8) -> 0
D79: 下午 | E79: =IFERROR(IF($C78="","",INDIRECT("第"&VLOOKUP(E$7,INDIRECT($A$7&"!A:D"),2,FALSE)&"周"&"!"&ADDRESS(ROW(),VLOOKUP(E$7,INDIRECT($A$7&"!A:D"),4,FALSE)+4))),"") | F79: =IFERROR(IF($C78="","",INDIRECT("第"&VLOOKUP(F$7,INDIRECT($A$7&"!A:D"),2,FALSE)&"周"&"!"&ADDRESS(ROW(),VLOOKUP(F$7,INDIRECT($A$7&"!A:D"),4,FALSE)+4))),"") | G79: =IFERROR(IF($C78="","",INDIRECT("第"&VLOOKUP(G$7,INDIRECT($A$7&"!A:D"),2,FALSE)&"周"&"!"&ADDRESS(ROW(),VLOOKUP(G$7,INDIRECT($A$7&"!A:D"),4,FALSE)+4))),"") | H79: =IFERROR(IF($C78="","",INDIRECT("第"&VLOOKUP(H$7,INDIRECT($A$7&"!A:D"),2,FALSE)&"周"&"!"&ADDRESS(ROW(),VLOOKUP(H$7,INDIRECT($A$7&"!A:D"),4,FALSE)+4))),"") | I79: =IFERROR(IF($C78="","",INDIRECT("第"&VLOOKUP(I$7,INDIRECT($A$7&"!A:D"),2,FALSE)&"周"&"!"&ADDRESS(ROW(),VLOOKUP(I$7,INDIRECT($A$7&"!A:D"),4,FALSE)+4))),"") | J79: =IFERROR(IF($C78="","",INDIRECT("第"&VLOOKUP(J$7,INDIRECT($A$7&"!A:D"),2,FALSE)&"周"&"!"&ADDRESS(ROW(),VLOOKUP(J$7,INDIRECT($A$7&"!A:D"),4,FALSE)+4))),"") | K79: =IFERROR(IF($C78="","",INDIRECT("第"&VLOOKUP(K$7,INDIRECT($A$7&"!A:D"),2,FALSE)&"周"&"!"&ADDRESS(ROW(),VLOOKUP(K$7,INDIRECT($A$7&"!A:D"),4,FALSE)+4))),"") | L79: =IFERROR(IF($C78="","",INDIRECT("第"&VLOOKUP(L$7,INDIRECT($A$7&"!A:D"),2,FALSE)&"周"&"!"&ADDRESS(ROW(),VLOOKUP(L$7,INDIRECT($A$7&"!A:D"),4,FALSE)+4))),"") | ... AI79: =IFERROR(IF($C78="","",INDIRECT("第"&VLOOKUP(AI$7,INDIRECT($A$7&"!A:D"),2,FALSE)&"周"&"!"&ADDRESS(ROW(),VLOOKUP(AI$7,INDIRECT($A$7&"!A:D"),4,FALSE)+4))),"")
D80: 晚上 | E80: =IFERROR(IF($C78="","",INDIRECT("第"&VLOOKUP(E$7,INDIRECT($A$7&"!A:D"),2,FALSE)&"周"&"!"&ADDRESS(ROW(),VLOOKUP(E$7,INDIRECT($A$7&"!A:D"),4,FALSE)+4))),"") | F80: =IFERROR(IF($C78="","",INDIRECT("第"&VLOOKUP(F$7,INDIRECT($A$7&"!A:D"),2,FALSE)&"周"&"!"&ADDRESS(ROW(),VLOOKUP(F$7,INDIRECT($A$7&"!A:D"),4,FALSE)+4))),"") | G80: =IFERROR(IF($C78="","",INDIRECT("第"&VLOOKUP(G$7,INDIRECT($A$7&"!A:D"),2,FALSE)&"周"&"!"&ADDRESS(ROW(),VLOOKUP(G$7,INDIRECT($A$7&"!A:D"),4,FALSE)+4))),"") | H80: =IFERROR(IF($C78="","",INDIRECT("第"&VLOOKUP(H$7,INDIRECT($A$7&"!A:D"),2,FALSE)&"周"&"!"&ADDRESS(ROW(),VLOOKUP(H$7,INDIRECT($A$7&"!A:D"),4,FALSE)+4))),"") | I80: =IFERROR(IF($C78="","",INDIRECT("第"&VLOOKUP(I$7,INDIRECT($A$7&"!A:D"),2,FALSE)&"周"&"!"&ADDRESS(ROW(),VLOOKUP(I$7,INDIRECT($A$7&"!A:D"),4,FALSE)+4))),"") | J80: =IFERROR(IF($C78="","",INDIRECT("第"&VLOOKUP(J$7,INDIRECT($A$7&"!A:D"),2,FALSE)&"周"&"!"&ADDRESS(ROW(),VLOOKUP(J$7,INDIRECT($A$7&"!A:D"),4,FALSE)+4))),"") | K80: =IFERROR(IF($C78="","",INDIRECT("第"&VLOOKUP(K$7,INDIRECT($A$7&"!A:D"),2,FALSE)&"周"&"!"&ADDRESS(ROW(),VLOOKUP(K$7,INDIRECT($A$7&"!A:D"),4,FALSE)+4))),"") | L80: =IFERROR(IF($C78="","",INDIRECT("第"&VLOOKUP(L$7,INDIRECT($A$7&"!A:D"),2,FALSE)&"周"&"!"&ADDRESS(ROW(),VLOOKUP(L$7,INDIRECT($A$7&"!A:D"),4,FALSE)+4))),"") | ... AI80: =IFERROR(IF($C78="","",INDIRECT("第"&VLOOKUP(AI$7,INDIRECT($A$7&"!A:D"),2,FALSE)&"周"&"!"&ADDRESS(ROW(),VLOOKUP(AI$7,INDIRECT($A$7&"!A:D"),4,FALSE)+4))),"")
B81: =ROW()/3-2 -> 25 | C81: =INDIRECT("员工信息表!C"&(B81+3))&IF(INDIRECT("员工信息表!O"&(B81+3))="离职","(离职)","") | D81: 上午 | E81: =IFERROR(IF($C81="","",INDIRECT("第"&VLOOKUP(E$7,INDIRECT($A$7&"!A:D"),2,FALSE)&"周"&"!"&ADDRESS(ROW(),VLOOKUP(E$7,INDIRECT($A$7&"!A:D"),4,FALSE)+4))),"") | F81: =IFERROR(IF($C81="","",INDIRECT("第"&VLOOKUP(F$7,INDIRECT($A$7&"!A:D"),2,FALSE)&"周"&"!"&ADDRESS(ROW(),VLOOKUP(F$7,INDIRECT($A$7&"!A:D"),4,FALSE)+4))),"") | G81: =IFERROR(IF($C81="","",INDIRECT("第"&VLOOKUP(G$7,INDIRECT($A$7&"!A:D"),2,FALSE)&"周"&"!"&ADDRESS(ROW(),VLOOKUP(G$7,INDIRECT($A$7&"!A:D"),4,FALSE)+4))),"") | H81: =IFERROR(IF($C81="","",INDIRECT("第"&VLOOKUP(H$7,INDIRECT($A$7&"!A:D"),2,FALSE)&"周"&"!"&ADDRESS(ROW(),VLOOKUP(H$7,INDIRECT($A$7&"!A:D"),4,FALSE)+4))),"") | I81: =IFERROR(IF($C81="","",INDIRECT("第"&VLOOKUP(I$7,INDIRECT($A$7&"!A:D"),2,FALSE)&"周"&"!"&ADDRESS(ROW(),VLOOKUP(I$7,INDIRECT($A$7&"!A:D"),4,FALSE)+4))),"") | J81: =IFERROR(IF($C81="","",INDIRECT("第"&VLOOKUP(J$7,INDIRECT($A$7&"!A:D"),2,FALSE)&"周"&"!"&ADDRESS(ROW(),VLOOKUP(J$7,INDIRECT($A$7&"!A:D"),4,FALSE)+4))),"") | K81: =IFERROR(IF($C81="","",INDIRECT("第"&VLOOKUP(K$7,INDIRECT($A$7&"!A:D"),2,FALSE)&"周"&"!"&ADDRESS(ROW(),VLOOKUP(K$7,INDIRECT($A$7&"!A:D"),4,FALSE)+4))),"") | L81: =IFERROR(IF($C81="","",INDIRECT("第"&VLOOKUP(L$7,INDIRECT($A$7&"!A:D"),2,FALSE)&"周"&"!"&ADDRESS(ROW(),VLOOKUP(L$7,INDIRECT($A$7&"!A:D"),4,FALSE)+4))),"") | ... AI81: =IFERROR(IF($C81="","",INDIRECT("第"&VLOOKUP(AI$7,INDIRECT($A$7&"!A:D"),2,FALSE)&"周"&"!"&ADDRESS(ROW(),VLOOKUP(AI$7,INDIRECT($A$7&"!A:D"),4,FALSE)+4))),"") | AJ81: =COUNTIF($E81:$AI83,AJ$8) -> 0 | AK81: =COUNTIF($E81:$AI83,AK$8) -> 0 | AL81: =COUNTIF($E81:$AI83,AL$8) -> 0 | AM81: =COUNTIF($E81:$AI83,AM$8) -> 0 | AN81: =COUNTIF($E81:$AI83,AN$8) -> 0 | AO81: =COUNTIF($E81:$AI83,AO$8) -> 0 | AP81: =COUNTIF($E81:$AI83,AP$8) -> 0 | AQ81: =COUNTIF($E81:$AI83,AQ$8) -> 0 | AR81: =COUNTIF($E81:$AI83,AR$8) -> 0
D82: 下午 | E82: =IFERROR(IF($C81="","",INDIRECT("第"&VLOOKUP(E$7,INDIRECT($A$7&"!A:D"),2,FALSE)&"周"&"!"&ADDRESS(ROW(),VLOOKUP(E$7,INDIRECT($A$7&"!A:D"),4,FALSE)+4))),"") | F82: =IFERROR(IF($C81="","",INDIRECT("第"&VLOOKUP(F$7,INDIRECT($A$7&"!A:D"),2,FALSE)&"周"&"!"&ADDRESS(ROW(),VLOOKUP(F$7,INDIRECT($A$7&"!A:D"),4,FALSE)+4))),"") | G82: =IFERROR(IF($C81="","",INDIRECT("第"&VLOOKUP(G$7,INDIRECT($A$7&"!A:D"),2,FALSE)&"周"&"!"&ADDRESS(ROW(),VLOOKUP(G$7,INDIRECT($A$7&"!A:D"),4,FALSE)+4))),"") | H82: =IFERROR(IF($C81="","",INDIRECT("第"&VLOOKUP(H$7,INDIRECT($A$7&"!A:D"),2,FALSE)&"周"&"!"&ADDRESS(ROW(),VLOOKUP(H$7,INDIRECT($A$7&"!A:D"),4,FALSE)+4))),"") | I82: =IFERROR(IF($C81="","",INDIRECT("第"&VLOOKUP(I$7,INDIRECT($A$7&"!A:D"),2,FALSE)&"周"&"!"&ADDRESS(ROW(),VLOOKUP(I$7,INDIRECT($A$7&"!A:D"),4,FALSE)+4))),"") | J82: =IFERROR(IF($C81="","",INDIRECT("第"&VLOOKUP(J$7,INDIRECT($A$7&"!A:D"),2,FALSE)&"周"&"!"&ADDRESS(ROW(),VLOOKUP(J$7,INDIRECT($A$7&"!A:D"),4,FALSE)+4))),"") | K82: =IFERROR(IF($C81="","",INDIRECT("第"&VLOOKUP(K$7,INDIRECT($A$7&"!A:D"),2,FALSE)&"周"&"!"&ADDRESS(ROW(),VLOOKUP(K$7,INDIRECT($A$7&"!A:D"),4,FALSE)+4))),"") | L82: =IFERROR(IF($C81="","",INDIRECT("第"&VLOOKUP(L$7,INDIRECT($A$7&"!A:D"),2,FALSE)&"周"&"!"&ADDRESS(ROW(),VLOOKUP(L$7,INDIRECT($A$7&"!A:D"),4,FALSE)+4))),"") | ... AI82: =IFERROR(IF($C81="","",INDIRECT("第"&VLOOKUP(AI$7,INDIRECT($A$7&"!A:D"),2,FALSE)&"周"&"!"&ADDRESS(ROW(),VLOOKUP(AI$7,INDIRECT($A$7&"!A:D"),4,FALSE)+4))),"")
D83: 晚上 | E83: =IFERROR(IF($C81="","",INDIRECT("第"&VLOOKUP(E$7,INDIRECT($A$7&"!A:D"),2,FALSE)&"周"&"!"&ADDRESS(ROW(),VLOOKUP(E$7,INDIRECT($A$7&"!A:D"),4,FALSE)+4))),"") | F83: =IFERROR(IF($C81="","",INDIRECT("第"&VLOOKUP(F$7,INDIRECT($A$7&"!A:D"),2,FALSE)&"周"&"!"&ADDRESS(ROW(),VLOOKUP(F$7,INDIRECT($A$7&"!A:D"),4,FALSE)+4))),"") | G83: =IFERROR(IF($C81="","",INDIRECT("第"&VLOOKUP(G$7,INDIRECT($A$7&"!A:D"),2,FALSE)&"周"&"!"&ADDRESS(ROW(),VLOOKUP(G$7,INDIRECT($A$7&"!A:D"),4,FALSE)+4))),"") | H83: =IFERROR(IF($C81="","",INDIRECT("第"&VLOOKUP(H$7,INDIRECT($A$7&"!A:D"),2,FALSE)&"周"&"!"&ADDRESS(ROW(),VLOOKUP(H$7,INDIRECT($A$7&"!A:D"),4,FALSE)+4))),"") | I83: =IFERROR(IF($C81="","",INDIRECT("第"&VLOOKUP(I$7,INDIRECT($A$7&"!A:D"),2,FALSE)&"周"&"!"&ADDRESS(ROW(),VLOOKUP(I$7,INDIRECT($A$7&"!A:D"),4,FALSE)+4))),"") | J83: =IFERROR(IF($C81="","",INDIRECT("第"&VLOOKUP(J$7,INDIRECT($A$7&"!A:D"),2,FALSE)&"周"&"!"&ADDRESS(ROW(),VLOOKUP(J$7,INDIRECT($A$7&"!A:D"),4,FALSE)+4))),"") | K83: =IFERROR(IF($C81="","",INDIRECT("第"&VLOOKUP(K$7,INDIRECT($A$7&"!A:D"),2,FALSE)&"周"&"!"&ADDRESS(ROW(),VLOOKUP(K$7,INDIRECT($A$7&"!A:D"),4,FALSE)+4))),"") | L83: =IFERROR(IF($C81="","",INDIRECT("第"&VLOOKUP(L$7,INDIRECT($A$7&"!A:D"),2,FALSE)&"周"&"!"&ADDRESS(ROW(),VLOOKUP(L$7,INDIRECT($A$7&"!A:D"),4,FALSE)+4))),"") | ... AI83: =IFERROR(IF($C81="","",INDIRECT("第"&VLOOKUP(AI$7,INDIRECT($A$7&"!A:D"),2,FALSE)&"周"&"!"&ADDRESS(ROW(),VLOOKUP(AI$7,INDIRECT($A$7&"!A:D"),4,FALSE)+4))),"")
B84: =ROW()/3-2 -> 26 | C84: =INDIRECT("员工信息表!C"&(B84+3))&IF(INDIRECT("员工信息表!O"&(B84+3))="离职","(离职)","") | D84: 上午 | E84: =IFERROR(IF($C84="","",INDIRECT("第"&VLOOKUP(E$7,INDIRECT($A$7&"!A:D"),2,FALSE)&"周"&"!"&ADDRESS(ROW(),VLOOKUP(E$7,INDIRECT($A$7&"!A:D"),4,FALSE)+4))),"") | F84: =IFERROR(IF($C84="","",INDIRECT("第"&VLOOKUP(F$7,INDIRECT($A$7&"!A:D"),2,FALSE)&"周"&"!"&ADDRESS(ROW(),VLOOKUP(F$7,INDIRECT($A$7&"!A:D"),4,FALSE)+4))),"") | G84: =IFERROR(IF($C84="","",INDIRECT("第"&VLOOKUP(G$7,INDIRECT($A$7&"!A:D"),2,FALSE)&"周"&"!"&ADDRESS(ROW(),VLOOKUP(G$7,INDIRECT($A$7&"!A:D"),4,FALSE)+4))),"") | H84: =IFERROR(IF($C84="","",INDIRECT("第"&VLOOKUP(H$7,INDIRECT($A$7&"!A:D"),2,FALSE)&"周"&"!"&ADDRESS(ROW(),VLOOKUP(H$7,INDIRECT($A$7&"!A:D"),4,FALSE)+4))),"") | I84: =IFERROR(IF($C84="","",INDIRECT("第"&VLOOKUP(I$7,INDIRECT($A$7&"!A:D"),2,FALSE)&"周"&"!"&ADDRESS(ROW(),VLOOKUP(I$7,INDIRECT($A$7&"!A:D"),4,FALSE)+4))),"") | J84: =IFERROR(IF($C84="","",INDIRECT("第"&VLOOKUP(J$7,INDIRECT($A$7&"!A:D"),2,FALSE)&"周"&"!"&ADDRESS(ROW(),VLOOKUP(J$7,INDIRECT($A$7&"!A:D"),4,FALSE)+4))),"") | K84: =IFERROR(IF($C84="","",INDIRECT("第"&VLOOKUP(K$7,INDIRECT($A$7&"!A:D"),2,FALSE)&"周"&"!"&ADDRESS(ROW(),VLOOKUP(K$7,INDIRECT($A$7&"!A:D"),4,FALSE)+4))),"") | L84: =IFERROR(IF($C84="","",INDIRECT("第"&VLOOKUP(L$7,INDIRECT($A$7&"!A:D"),2,FALSE)&"周"&"!"&ADDRESS(ROW(),VLOOKUP(L$7,INDIRECT($A$7&"!A:D"),4,FALSE)+4))),"") | ... AI84: =IFERROR(IF($C84="","",INDIRECT("第"&VLOOKUP(AI$7,INDIRECT($A$7&"!A:D"),2,FALSE)&"周"&"!"&ADDRESS(ROW(),VLOOKUP(AI$7,INDIRECT($A$7&"!A:D"),4,FALSE)+4))),"") | AJ84: =COUNTIF($E84:$AI86,AJ$8) -> 0 | AK84: =COUNTIF($E84:$AI86,AK$8) -> 0 | AL84: =COUNTIF($E84:$AI86,AL$8) -> 0 | AM84: =COUNTIF($E84:$AI86,AM$8) -> 0 | AN84: =COUNTIF($E84:$AI86,AN$8) -> 0 | AO84: =COUNTIF($E84:$AI86,AO$8) -> 0 | AP84: =COUNTIF($E84:$AI86,AP$8) -> 0 | AQ84: =COUNTIF($E84:$AI86,AQ$8) -> 0 | AR84: =COUNTIF($E84:$AI86,AR$8) -> 0
D85: 下午 | E85: =IFERROR(IF($C84="","",INDIRECT("第"&VLOOKUP(E$7,INDIRECT($A$7&"!A:D"),2,FALSE)&"周"&"!"&ADDRESS(ROW(),VLOOKUP(E$7,INDIRECT($A$7&"!A:D"),4,FALSE)+4))),"") | F85: =IFERROR(IF($C84="","",INDIRECT("第"&VLOOKUP(F$7,INDIRECT($A$7&"!A:D"),2,FALSE)&"周"&"!"&ADDRESS(ROW(),VLOOKUP(F$7,INDIRECT($A$7&"!A:D"),4,FALSE)+4))),"") | G85: =IFERROR(IF($C84="","",INDIRECT("第"&VLOOKUP(G$7,INDIRECT($A$7&"!A:D"),2,FALSE)&"周"&"!"&ADDRESS(ROW(),VLOOKUP(G$7,INDIRECT($A$7&"!A:D"),4,FALSE)+4))),"") | H85: =IFERROR(IF($C84="","",INDIRECT("第"&VLOOKUP(H$7,INDIRECT($A$7&"!A:D"),2,FALSE)&"周"&"!"&ADDRESS(ROW(),VLOOKUP(H$7,INDIRECT($A$7&"!A:D"),4,FALSE)+4))),"") | I85: =IFERROR(IF($C84="","",INDIRECT("第"&VLOOKUP(I$7,INDIRECT($A$7&"!A:D"),2,FALSE)&"周"&"!"&ADDRESS(ROW(),VLOOKUP(I$7,INDIRECT($A$7&"!A:D"),4,FALSE)+4))),"") | J85: =IFERROR(IF($C84="","",INDIRECT("第"&VLOOKUP(J$7,INDIRECT($A$7&"!A:D"),2,FALSE)&"周"&"!"&ADDRESS(ROW(),VLOOKUP(J$7,INDIRECT($A$7&"!A:D"),4,FALSE)+4))),"") | K85: =IFERROR(IF($C84="","",INDIRECT("第"&VLOOKUP(K$7,INDIRECT($A$7&"!A:D"),2,FALSE)&"周"&"!"&ADDRESS(ROW(),VLOOKUP(K$7,INDIRECT($A$7&"!A:D"),4,FALSE)+4))),"") | L85: =IFERROR(IF($C84="","",INDIRECT("第"&VLOOKUP(L$7,INDIRECT($A$7&"!A:D"),2,FALSE)&"周"&"!"&ADDRESS(ROW(),VLOOKUP(L$7,INDIRECT($A$7&"!A:D"),4,FALSE)+4))),"") | ... AI85: =IFERROR(IF($C84="","",INDIRECT("第"&VLOOKUP(AI$7,INDIRECT($A$7&"!A:D"),2,FALSE)&"周"&"!"&ADDRESS(ROW(),VLOOKUP(AI$7,INDIRECT($A$7&"!A:D"),4,FALSE)+4))),"")
D86: 晚上 | E86: =IFERROR(IF($C84="","",INDIRECT("第"&VLOOKUP(E$7,INDIRECT($A$7&"!A:D"),2,FALSE)&"周"&"!"&ADDRESS(ROW(),VLOOKUP(E$7,INDIRECT($A$7&"!A:D"),4,FALSE)+4))),"") | F86: =IFERROR(IF($C84="","",INDIRECT("第"&VLOOKUP(F$7,INDIRECT($A$7&"!A:D"),2,FALSE)&"周"&"!"&ADDRESS(ROW(),VLOOKUP(F$7,INDIRECT($A$7&"!A:D"),4,FALSE)+4))),"") | G86: =IFERROR(IF($C84="","",INDIRECT("第"&VLOOKUP(G$7,INDIRECT($A$7&"!A:D"),2,FALSE)&"周"&"!"&ADDRESS(ROW(),VLOOKUP(G$7,INDIRECT($A$7&"!A:D"),4,FALSE)+4))),"") | H86: =IFERROR(IF($C84="","",INDIRECT("第"&VLOOKUP(H$7,INDIRECT($A$7&"!A:D"),2,FALSE)&"周"&"!"&ADDRESS(ROW(),VLOOKUP(H$7,INDIRECT($A$7&"!A:D"),4,FALSE)+4))),"") | I86: =IFERROR(IF($C84="","",INDIRECT("第"&VLOOKUP(I$7,INDIRECT($A$7&"!A:D"),2,FALSE)&"周"&"!"&ADDRESS(ROW(),VLOOKUP(I$7,INDIRECT($A$7&"!A:D"),4,FALSE)+4))),"") | J86: =IFERROR(IF($C84="","",INDIRECT("第"&VLOOKUP(J$7,INDIRECT($A$7&"!A:D"),2,FALSE)&"周"&"!"&ADDRESS(ROW(),VLOOKUP(J$7,INDIRECT($A$7&"!A:D"),4,FALSE)+4))),"") | K86: =IFERROR(IF($C84="","",INDIRECT("第"&VLOOKUP(K$7,INDIRECT($A$7&"!A:D"),2,FALSE)&"周"&"!"&ADDRESS(ROW(),VLOOKUP(K$7,INDIRECT($A$7&"!A:D"),4,FALSE)+4))),"") | L86: =IFERROR(IF($C84="","",INDIRECT("第"&VLOOKUP(L$7,INDIRECT($A$7&"!A:D"),2,FALSE)&"周"&"!"&ADDRESS(ROW(),VLOOKUP(L$7,INDIRECT($A$7&"!A:D"),4,FALSE)+4))),"") | ... AI86: =IFERROR(IF($C84="","",INDIRECT("第"&VLOOKUP(AI$7,INDIRECT($A$7&"!A:D"),2,FALSE)&"周"&"!"&ADDRESS(ROW(),VLOOKUP(AI$7,INDIRECT($A$7&"!A:D"),4,FALSE)+4))),"")
B87: =ROW()/3-2 -> 27 | C87: =INDIRECT("员工信息表!C"&(B87+3))&IF(INDIRECT("员工信息表!O"&(B87+3))="离职","(离职)","") | D87: 上午 | E87: =IFERROR(IF($C87="","",INDIRECT("第"&VLOOKUP(E$7,INDIRECT($A$7&"!A:D"),2,FALSE)&"周"&"!"&ADDRESS(ROW(),VLOOKUP(E$7,INDIRECT($A$7&"!A:D"),4,FALSE)+4))),"") | F87: =IFERROR(IF($C87="","",INDIRECT("第"&VLOOKUP(F$7,INDIRECT($A$7&"!A:D"),2,FALSE)&"周"&"!"&ADDRESS(ROW(),VLOOKUP(F$7,INDIRECT($A$7&"!A:D"),4,FALSE)+4))),"") | G87: =IFERROR(IF($C87="","",INDIRECT("第"&VLOOKUP(G$7,INDIRECT($A$7&"!A:D"),2,FALSE)&"周"&"!"&ADDRESS(ROW(),VLOOKUP(G$7,INDIRECT($A$7&"!A:D"),4,FALSE)+4))),"") | H87: =IFERROR(IF($C87="","",INDIRECT("第"&VLOOKUP(H$7,INDIRECT($A$7&"!A:D"),2,FALSE)&"周"&"!"&ADDRESS(ROW(),VLOOKUP(H$7,INDIRECT($A$7&"!A:D"),4,FALSE)+4))),"") | I87: =IFERROR(IF($C87="","",INDIRECT("第"&VLOOKUP(I$7,INDIRECT($A$7&"!A:D"),2,FALSE)&"周"&"!"&ADDRESS(ROW(),VLOOKUP(I$7,INDIRECT($A$7&"!A:D"),4,FALSE)+4))),"") | J87: =IFERROR(IF($C87="","",INDIRECT("第"&VLOOKUP(J$7,INDIRECT($A$7&"!A:D"),2,FALSE)&"周"&"!"&ADDRESS(ROW(),VLOOKUP(J$7,INDIRECT($A$7&"!A:D"),4,FALSE)+4))),"") | K87: =IFERROR(IF($C87="","",INDIRECT("第"&VLOOKUP(K$7,INDIRECT($A$7&"!A:D"),2,FALSE)&"周"&"!"&ADDRESS(ROW(),VLOOKUP(K$7,INDIRECT($A$7&"!A:D"),4,FALSE)+4))),"") | L87: =IFERROR(IF($C87="","",INDIRECT("第"&VLOOKUP(L$7,INDIRECT($A$7&"!A:D"),2,FALSE)&"周"&"!"&ADDRESS(ROW(),VLOOKUP(L$7,INDIRECT($A$7&"!A:D"),4,FALSE)+4))),"") | ... AI87: =IFERROR(IF($C87="","",INDIRECT("第"&VLOOKUP(AI$7,INDIRECT($A$7&"!A:D"),2,FALSE)&"周"&"!"&ADDRESS(ROW(),VLOOKUP(AI$7,INDIRECT($A$7&"!A:D"),4,FALSE)+4))),"") | AJ87: =COUNTIF($E87:$AI89,AJ$8) -> 0 | AK87: =COUNTIF($E87:$AI89,AK$8) -> 0 | AL87: =COUNTIF($E87:$AI89,AL$8) -> 0 | AM87: =COUNTIF($E87:$AI89,AM$8) -> 0 | AN87: =COUNTIF($E87:$AI89,AN$8) -> 0 | AO87: =COUNTIF($E87:$AI89,AO$8) -> 0 | AP87: =COUNTIF($E87:$AI89,AP$8) -> 0 | AQ87: =COUNTIF($E87:$AI89,AQ$8) -> 0 | AR87: =COUNTIF($E87:$AI89,AR$8) -> 0
D88: 下午 | E88: =IFERROR(IF($C87="","",INDIRECT("第"&VLOOKUP(E$7,INDIRECT($A$7&"!A:D"),2,FALSE)&"周"&"!"&ADDRESS(ROW(),VLOOKUP(E$7,INDIRECT($A$7&"!A:D"),4,FALSE)+4))),"") | F88: =IFERROR(IF($C87="","",INDIRECT("第"&VLOOKUP(F$7,INDIRECT($A$7&"!A:D"),2,FALSE)&"周"&"!"&ADDRESS(ROW(),VLOOKUP(F$7,INDIRECT($A$7&"!A:D"),4,FALSE)+4))),"") | G88: =IFERROR(IF($C87="","",INDIRECT("第"&VLOOKUP(G$7,INDIRECT($A$7&"!A:D"),2,FALSE)&"周"&"!"&ADDRESS(ROW(),VLOOKUP(G$7,INDIRECT($A$7&"!A:D"),4,FALSE)+4))),"") | H88: =IFERROR(IF($C87="","",INDIRECT("第"&VLOOKUP(H$7,INDIRECT($A$7&"!A:D"),2,FALSE)&"周"&"!"&ADDRESS(ROW(),VLOOKUP(H$7,INDIRECT($A$7&"!A:D"),4,FALSE)+4))),"") | I88: =IFERROR(IF($C87="","",INDIRECT("第"&VLOOKUP(I$7,INDIRECT($A$7&"!A:D"),2,FALSE)&"周"&"!"&ADDRESS(ROW(),VLOOKUP(I$7,INDIRECT($A$7&"!A:D"),4,FALSE)+4))),"") | J88: =IFERROR(IF($C87="","",INDIRECT("第"&VLOOKUP(J$7,INDIRECT($A$7&"!A:D"),2,FALSE)&"周"&"!"&ADDRESS(ROW(),VLOOKUP(J$7,INDIRECT($A$7&"!A:D"),4,FALSE)+4))),"") | K88: =IFERROR(IF($C87="","",INDIRECT("第"&VLOOKUP(K$7,INDIRECT($A$7&"!A:D"),2,FALSE)&"周"&"!"&ADDRESS(ROW(),VLOOKUP(K$7,INDIRECT($A$7&"!A:D"),4,FALSE)+4))),"") | L88: =IFERROR(IF($C87="","",INDIRECT("第"&VLOOKUP(L$7,INDIRECT($A$7&"!A:D"),2,FALSE)&"周"&"!"&ADDRESS(ROW(),VLOOKUP(L$7,INDIRECT($A$7&"!A:D"),4,FALSE)+4))),"") | ... AI88: =IFERROR(IF($C87="","",INDIRECT("第"&VLOOKUP(AI$7,INDIRECT($A$7&"!A:D"),2,FALSE)&"周"&"!"&ADDRESS(ROW(),VLOOKUP(AI$7,INDIRECT($A$7&"!A:D"),4,FALSE)+4))),"")
D89: 晚上 | E89: =IFERROR(IF($C87="","",INDIRECT("第"&VLOOKUP(E$7,INDIRECT($A$7&"!A:D"),2,FALSE)&"周"&"!"&ADDRESS(ROW(),VLOOKUP(E$7,INDIRECT($A$7&"!A:D"),4,FALSE)+4))),"") | F89: =IFERROR(IF($C87="","",INDIRECT("第"&VLOOKUP(F$7,INDIRECT($A$7&"!A:D"),2,FALSE)&"周"&"!"&ADDRESS(ROW(),VLOOKUP(F$7,INDIRECT($A$7&"!A:D"),4,FALSE)+4))),"") | G89: =IFERROR(IF($C87="","",INDIRECT("第"&VLOOKUP(G$7,INDIRECT($A$7&"!A:D"),2,FALSE)&"周"&"!"&ADDRESS(ROW(),VLOOKUP(G$7,INDIRECT($A$7&"!A:D"),4,FALSE)+4))),"") | H89: =IFERROR(IF($C87="","",INDIRECT("第"&VLOOKUP(H$7,INDIRECT($A$7&"!A:D"),2,FALSE)&"周"&"!"&ADDRESS(ROW(),VLOOKUP(H$7,INDIRECT($A$7&"!A:D"),4,FALSE)+4))),"") | I89: =IFERROR(IF($C87="","",INDIRECT("第"&VLOOKUP(I$7,INDIRECT($A$7&"!A:D"),2,FALSE)&"周"&"!"&ADDRESS(ROW(),VLOOKUP(I$7,INDIRECT($A$7&"!A:D"),4,FALSE)+4))),"") | J89: =IFERROR(IF($C87="","",INDIRECT("第"&VLOOKUP(J$7,INDIRECT($A$7&"!A:D"),2,FALSE)&"周"&"!"&ADDRESS(ROW(),VLOOKUP(J$7,INDIRECT($A$7&"!A:D"),4,FALSE)+4))),"") | K89: =IFERROR(IF($C87="","",INDIRECT("第"&VLOOKUP(K$7,INDIRECT($A$7&"!A:D"),2,FALSE)&"周"&"!"&ADDRESS(ROW(),VLOOKUP(K$7,INDIRECT($A$7&"!A:D"),4,FALSE)+4))),"") | L89: =IFERROR(IF($C87="","",INDIRECT("第"&VLOOKUP(L$7,INDIRECT($A$7&"!A:D"),2,FALSE)&"周"&"!"&ADDRESS(ROW(),VLOOKUP(L$7,INDIRECT($A$7&"!A:D"),4,FALSE)+4))),"") | ... AI89: =IFERROR(IF($C87="","",INDIRECT("第"&VLOOKUP(AI$7,INDIRECT($A$7&"!A:D"),2,FALSE)&"周"&"!"&ADDRESS(ROW(),VLOOKUP(AI$7,INDIRECT($A$7&"!A:D"),4,FALSE)+4))),"")
B90: =ROW()/3-2 -> 28 | C90: =INDIRECT("员工信息表!C"&(B90+3))&IF(INDIRECT("员工信息表!O"&(B90+3))="离职","(离职)","") | D90: 上午 | E90: =IFERROR(IF($C90="","",INDIRECT("第"&VLOOKUP(E$7,INDIRECT($A$7&"!A:D"),2,FALSE)&"周"&"!"&ADDRESS(ROW(),VLOOKUP(E$7,INDIRECT($A$7&"!A:D"),4,FALSE)+4))),"") | F90: =IFERROR(IF($C90="","",INDIRECT("第"&VLOOKUP(F$7,INDIRECT($A$7&"!A:D"),2,FALSE)&"周"&"!"&ADDRESS(ROW(),VLOOKUP(F$7,INDIRECT($A$7&"!A:D"),4,FALSE)+4))),"") | G90: =IFERROR(IF($C90="","",INDIRECT("第"&VLOOKUP(G$7,INDIRECT($A$7&"!A:D"),2,FALSE)&"周"&"!"&ADDRESS(ROW(),VLOOKUP(G$7,INDIRECT($A$7&"!A:D"),4,FALSE)+4))),"") | H90: =IFERROR(IF($C90="","",INDIRECT("第"&VLOOKUP(H$7,INDIRECT($A$7&"!A:D"),2,FALSE)&"周"&"!"&ADDRESS(ROW(),VLOOKUP(H$7,INDIRECT($A$7&"!A:D"),4,FALSE)+4))),"") | I90: =IFERROR(IF($C90="","",INDIRECT("第"&VLOOKUP(I$7,INDIRECT($A$7&"!A:D"),2,FALSE)&"周"&"!"&ADDRESS(ROW(),VLOOKUP(I$7,INDIRECT($A$7&"!A:D"),4,FALSE)+4))),"") | J90: =IFERROR(IF($C90="","",INDIRECT("第"&VLOOKUP(J$7,INDIRECT($A$7&"!A:D"),2,FALSE)&"周"&"!"&ADDRESS(ROW(),VLOOKUP(J$7,INDIRECT($A$7&"!A:D"),4,FALSE)+4))),"") | K90: =IFERROR(IF($C90="","",INDIRECT("第"&VLOOKUP(K$7,INDIRECT($A$7&"!A:D"),2,FALSE)&"周"&"!"&ADDRESS(ROW(),VLOOKUP(K$7,INDIRECT($A$7&"!A:D"),4,FALSE)+4))),"") | L90: =IFERROR(IF($C90="","",INDIRECT("第"&VLOOKUP(L$7,INDIRECT($A$7&"!A:D"),2,FALSE)&"周"&"!"&ADDRESS(ROW(),VLOOKUP(L$7,INDIRECT($A$7&"!A:D"),4,FALSE)+4))),"") | ... AI90: =IFERROR(IF($C90="","",INDIRECT("第"&VLOOKUP(AI$7,INDIRECT($A$7&"!A:D"),2,FALSE)&"周"&"!"&ADDRESS(ROW(),VLOOKUP(AI$7,INDIRECT($A$7&"!A:D"),4,FALSE)+4))),"") | AJ90: =COUNTIF($E90:$AI92,AJ$8) -> 0 | AK90: =COUNTIF($E90:$AI92,AK$8) -> 0 | AL90: =COUNTIF($E90:$AI92,AL$8) -> 0 | AM90: =COUNTIF($E90:$AI92,AM$8) -> 0 | AN90: =COUNTIF($E90:$AI92,AN$8) -> 0 | AO90: =COUNTIF($E90:$AI92,AO$8) -> 0 | AP90: =COUNTIF($E90:$AI92,AP$8) -> 0 | AQ90: =COUNTIF($E90:$AI92,AQ$8) -> 0 | AR90: =COUNTIF($E90:$AI92,AR$8) -> 0
D91: 下午 | E91: =IFERROR(IF($C90="","",INDIRECT("第"&VLOOKUP(E$7,INDIRECT($A$7&"!A:D"),2,FALSE)&"周"&"!"&ADDRESS(ROW(),VLOOKUP(E$7,INDIRECT($A$7&"!A:D"),4,FALSE)+4))),"") | F91: =IFERROR(IF($C90="","",INDIRECT("第"&VLOOKUP(F$7,INDIRECT($A$7&"!A:D"),2,FALSE)&"周"&"!"&ADDRESS(ROW(),VLOOKUP(F$7,INDIRECT($A$7&"!A:D"),4,FALSE)+4))),"") | G91: =IFERROR(IF($C90="","",INDIRECT("第"&VLOOKUP(G$7,INDIRECT($A$7&"!A:D"),2,FALSE)&"周"&"!"&ADDRESS(ROW(),VLOOKUP(G$7,INDIRECT($A$7&"!A:D"),4,FALSE)+4))),"") | H91: =IFERROR(IF($C90="","",INDIRECT("第"&VLOOKUP(H$7,INDIRECT($A$7&"!A:D"),2,FALSE)&"周"&"!"&ADDRESS(ROW(),VLOOKUP(H$7,INDIRECT($A$7&"!A:D"),4,FALSE)+4))),"") | I91: =IFERROR(IF($C90="","",INDIRECT("第"&VLOOKUP(I$7,INDIRECT($A$7&"!A:D"),2,FALSE)&"周"&"!"&ADDRESS(ROW(),VLOOKUP(I$7,INDIRECT($A$7&"!A:D"),4,FALSE)+4))),"") | J91: =IFERROR(IF($C90="","",INDIRECT("第"&VLOOKUP(J$7,INDIRECT($A$7&"!A:D"),2,FALSE)&"周"&"!"&ADDRESS(ROW(),VLOOKUP(J$7,INDIRECT($A$7&"!A:D"),4,FALSE)+4))),"") | K91: =IFERROR(IF($C90="","",INDIRECT("第"&VLOOKUP(K$7,INDIRECT($A$7&"!A:D"),2,FALSE)&"周"&"!"&ADDRESS(ROW(),VLOOKUP(K$7,INDIRECT($A$7&"!A:D"),4,FALSE)+4))),"") | L91: =IFERROR(IF($C90="","",INDIRECT("第"&VLOOKUP(L$7,INDIRECT($A$7&"!A:D"),2,FALSE)&"周"&"!"&ADDRESS(ROW(),VLOOKUP(L$7,INDIRECT($A$7&"!A:D"),4,FALSE)+4))),"") | ... AI91: =IFERROR(IF($C90="","",INDIRECT("第"&VLOOKUP(AI$7,INDIRECT($A$7&"!A:D"),2,FALSE)&"周"&"!"&ADDRESS(ROW(),VLOOKUP(AI$7,INDIRECT($A$7&"!A:D"),4,FALSE)+4))),"")
D92: 晚上 | E92: =IFERROR(IF($C90="","",INDIRECT("第"&VLOOKUP(E$7,INDIRECT($A$7&"!A:D"),2,FALSE)&"周"&"!"&ADDRESS(ROW(),VLOOKUP(E$7,INDIRECT($A$7&"!A:D"),4,FALSE)+4))),"") | F92: =IFERROR(IF($C90="","",INDIRECT("第"&VLOOKUP(F$7,INDIRECT($A$7&"!A:D"),2,FALSE)&"周"&"!"&ADDRESS(ROW(),VLOOKUP(F$7,INDIRECT($A$7&"!A:D"),4,FALSE)+4))),"") | G92: =IFERROR(IF($C90="","",INDIRECT("第"&VLOOKUP(G$7,INDIRECT($A$7&"!A:D"),2,FALSE)&"周"&"!"&ADDRESS(ROW(),VLOOKUP(G$7,INDIRECT($A$7&"!A:D"),4,FALSE)+4))),"") | H92: =IFERROR(IF($C90="","",INDIRECT("第"&VLOOKUP(H$7,INDIRECT($A$7&"!A:D"),2,FALSE)&"周"&"!"&ADDRESS(ROW(),VLOOKUP(H$7,INDIRECT($A$7&"!A:D"),4,FALSE)+4))),"") | I92: =IFERROR(IF($C90="","",INDIRECT("第"&VLOOKUP(I$7,INDIRECT($A$7&"!A:D"),2,FALSE)&"周"&"!"&ADDRESS(ROW(),VLOOKUP(I$7,INDIRECT($A$7&"!A:D"),4,FALSE)+4))),"") | J92: =IFERROR(IF($C90="","",INDIRECT("第"&VLOOKUP(J$7,INDIRECT($A$7&"!A:D"),2,FALSE)&"周"&"!"&ADDRESS(ROW(),VLOOKUP(J$7,INDIRECT($A$7&"!A:D"),4,FALSE)+4))),"") | K92: =IFERROR(IF($C90="","",INDIRECT("第"&VLOOKUP(K$7,INDIRECT($A$7&"!A:D"),2,FALSE)&"周"&"!"&ADDRESS(ROW(),VLOOKUP(K$7,INDIRECT($A$7&"!A:D"),4,FALSE)+4))),"") | L92: =IFERROR(IF($C90="","",INDIRECT("第"&VLOOKUP(L$7,INDIRECT($A$7&"!A:D"),2,FALSE)&"周"&"!"&ADDRESS(ROW(),VLOOKUP(L$7,INDIRECT($A$7&"!A:D"),4,FALSE)+4))),"") | ... AI92: =IFERROR(IF($C90="","",INDIRECT("第"&VLOOKUP(AI$7,INDIRECT($A$7&"!A:D"),2,FALSE)&"周"&"!"&ADDRESS(ROW(),VLOOKUP(AI$7,INDIRECT($A$7&"!A:D"),4,FALSE)+4))),"")
B93: =ROW()/3-2 -> 29 | C93: =INDIRECT("员工信息表!C"&(B93+3))&IF(INDIRECT("员工信息表!O"&(B93+3))="离职","(离职)","") | D93: 上午 | E93: =IFERROR(IF($C93="","",INDIRECT("第"&VLOOKUP(E$7,INDIRECT($A$7&"!A:D"),2,FALSE)&"周"&"!"&ADDRESS(ROW(),VLOOKUP(E$7,INDIRECT($A$7&"!A:D"),4,FALSE)+4))),"") | F93: =IFERROR(IF($C93="","",INDIRECT("第"&VLOOKUP(F$7,INDIRECT($A$7&"!A:D"),2,FALSE)&"周"&"!"&ADDRESS(ROW(),VLOOKUP(F$7,INDIRECT($A$7&"!A:D"),4,FALSE)+4))),"") | G93: =IFERROR(IF($C93="","",INDIRECT("第"&VLOOKUP(G$7,INDIRECT($A$7&"!A:D"),2,FALSE)&"周"&"!"&ADDRESS(ROW(),VLOOKUP(G$7,INDIRECT($A$7&"!A:D"),4,FALSE)+4))),"") | H93: =IFERROR(IF($C93="","",INDIRECT("第"&VLOOKUP(H$7,INDIRECT($A$7&"!A:D"),2,FALSE)&"周"&"!"&ADDRESS(ROW(),VLOOKUP(H$7,INDIRECT($A$7&"!A:D"),4,FALSE)+4))),"") | I93: =IFERROR(IF($C93="","",INDIRECT("第"&VLOOKUP(I$7,INDIRECT($A$7&"!A:D"),2,FALSE)&"周"&"!"&ADDRESS(ROW(),VLOOKUP(I$7,INDIRECT($A$7&"!A:D"),4,FALSE)+4))),"") | J93: =IFERROR(IF($C93="","",INDIRECT("第"&VLOOKUP(J$7,INDIRECT($A$7&"!A:D"),2,FALSE)&"周"&"!"&ADDRESS(ROW(),VLOOKUP(J$7,INDIRECT($A$7&"!A:D"),4,FALSE)+4))),"") | K93: =IFERROR(IF($C93="","",INDIRECT("第"&VLOOKUP(K$7,INDIRECT($A$7&"!A:D"),2,FALSE)&"周"&"!"&ADDRESS(ROW(),VLOOKUP(K$7,INDIRECT($A$7&"!A:D"),4,FALSE)+4))),"") | L93: =IFERROR(IF($C93="","",INDIRECT("第"&VLOOKUP(L$7,INDIRECT($A$7&"!A:D"),2,FALSE)&"周"&"!"&ADDRESS(ROW(),VLOOKUP(L$7,INDIRECT($A$7&"!A:D"),4,FALSE)+4))),"") | ... AI93: =IFERROR(IF($C93="","",INDIRECT("第"&VLOOKUP(AI$7,INDIRECT($A$7&"!A:D"),2,FALSE)&"周"&"!"&ADDRESS(ROW(),VLOOKUP(AI$7,INDIRECT($A$7&"!A:D"),4,FALSE)+4))),"") | AJ93: =COUNTIF($E93:$AI95,AJ$8) -> 0 | AK93: =COUNTIF($E93:$AI95,AK$8) -> 0 | AL93: =COUNTIF($E93:$AI95,AL$8) -> 0 | AM93: =COUNTIF($E93:$AI95,AM$8) -> 0 | AN93: =COUNTIF($E93:$AI95,AN$8) -> 0 | AO93: =COUNTIF($E93:$AI95,AO$8) -> 0 | AP93: =COUNTIF($E93:$AI95,AP$8) -> 0 | AQ93: =COUNTIF($E93:$AI95,AQ$8) -> 0 | AR93: =COUNTIF($E93:$AI95,AR$8) -> 0
D94: 下午 | E94: =IFERROR(IF($C93="","",INDIRECT("第"&VLOOKUP(E$7,INDIRECT($A$7&"!A:D"),2,FALSE)&"周"&"!"&ADDRESS(ROW(),VLOOKUP(E$7,INDIRECT($A$7&"!A:D"),4,FALSE)+4))),"") | F94: =IFERROR(IF($C93="","",INDIRECT("第"&VLOOKUP(F$7,INDIRECT($A$7&"!A:D"),2,FALSE)&"周"&"!"&ADDRESS(ROW(),VLOOKUP(F$7,INDIRECT($A$7&"!A:D"),4,FALSE)+4))),"") | G94: =IFERROR(IF($C93="","",INDIRECT("第"&VLOOKUP(G$7,INDIRECT($A$7&"!A:D"),2,FALSE)&"周"&"!"&ADDRESS(ROW(),VLOOKUP(G$7,INDIRECT($A$7&"!A:D"),4,FALSE)+4))),"") | H94: =IFERROR(IF($C93="","",INDIRECT("第"&VLOOKUP(H$7,INDIRECT($A$7&"!A:D"),2,FALSE)&"周"&"!"&ADDRESS(ROW(),VLOOKUP(H$7,INDIRECT($A$7&"!A:D"),4,FALSE)+4))),"") | I94: =IFERROR(IF($C93="","",INDIRECT("第"&VLOOKUP(I$7,INDIRECT($A$7&"!A:D"),2,FALSE)&"周"&"!"&ADDRESS(ROW(),VLOOKUP(I$7,INDIRECT($A$7&"!A:D"),4,FALSE)+4))),"") | J94: =IFERROR(IF($C93="","",INDIRECT("第"&VLOOKUP(J$7,INDIRECT($A$7&"!A:D"),2,FALSE)&"周"&"!"&ADDRESS(ROW(),VLOOKUP(J$7,INDIRECT($A$7&"!A:D"),4,FALSE)+4))),"") | K94: =IFERROR(IF($C93="","",INDIRECT("第"&VLOOKUP(K$7,INDIRECT($A$7&"!A:D"),2,FALSE)&"周"&"!"&ADDRESS(ROW(),VLOOKUP(K$7,INDIRECT($A$7&"!A:D"),4,FALSE)+4))),"") | L94: =IFERROR(IF($C93="","",INDIRECT("第"&VLOOKUP(L$7,INDIRECT($A$7&"!A:D"),2,FALSE)&"周"&"!"&ADDRESS(ROW(),VLOOKUP(L$7,INDIRECT($A$7&"!A:D"),4,FALSE)+4))),"") | ... AI94: =IFERROR(IF($C93="","",INDIRECT("第"&VLOOKUP(AI$7,INDIRECT($A$7&"!A:D"),2,FALSE)&"周"&"!"&ADDRESS(ROW(),VLOOKUP(AI$7,INDIRECT($A$7&"!A:D"),4,FALSE)+4))),"")
D95: 晚上 | E95: =IFERROR(IF($C93="","",INDIRECT("第"&VLOOKUP(E$7,INDIRECT($A$7&"!A:D"),2,FALSE)&"周"&"!"&ADDRESS(ROW(),VLOOKUP(E$7,INDIRECT($A$7&"!A:D"),4,FALSE)+4))),"") | F95: =IFERROR(IF($C93="","",INDIRECT("第"&VLOOKUP(F$7,INDIRECT($A$7&"!A:D"),2,FALSE)&"周"&"!"&ADDRESS(ROW(),VLOOKUP(F$7,INDIRECT($A$7&"!A:D"),4,FALSE)+4))),"") | G95: =IFERROR(IF($C93="","",INDIRECT("第"&VLOOKUP(G$7,INDIRECT($A$7&"!A:D"),2,FALSE)&"周"&"!"&ADDRESS(ROW(),VLOOKUP(G$7,INDIRECT($A$7&"!A:D"),4,FALSE)+4))),"") | H95: =IFERROR(IF($C93="","",INDIRECT("第"&VLOOKUP(H$7,INDIRECT($A$7&"!A:D"),2,FALSE)&"周"&"!"&ADDRESS(ROW(),VLOOKUP(H$7,INDIRECT($A$7&"!A:D"),4,FALSE)+4))),"") | I95: =IFERROR(IF($C93="","",INDIRECT("第"&VLOOKUP(I$7,INDIRECT($A$7&"!A:D"),2,FALSE)&"周"&"!"&ADDRESS(ROW(),VLOOKUP(I$7,INDIRECT($A$7&"!A:D"),4,FALSE)+4))),"") | J95: =IFERROR(IF($C93="","",INDIRECT("第"&VLOOKUP(J$7,INDIRECT($A$7&"!A:D"),2,FALSE)&"周"&"!"&ADDRESS(ROW(),VLOOKUP(J$7,INDIRECT($A$7&"!A:D"),4,FALSE)+4))),"") | K95: =IFERROR(IF($C93="","",INDIRECT("第"&VLOOKUP(K$7,INDIRECT($A$7&"!A:D"),2,FALSE)&"周"&"!"&ADDRESS(ROW(),VLOOKUP(K$7,INDIRECT($A$7&"!A:D"),4,FALSE)+4))),"") | L95: =IFERROR(IF($C93="","",INDIRECT("第"&VLOOKUP(L$7,INDIRECT($A$7&"!A:D"),2,FALSE)&"周"&"!"&ADDRESS(ROW(),VLOOKUP(L$7,INDIRECT($A$7&"!A:D"),4,FALSE)+4))),"") | ... AI95: =IFERROR(IF($C93="","",INDIRECT("第"&VLOOKUP(AI$7,INDIRECT($A$7&"!A:D"),2,FALSE)&"周"&"!"&ADDRESS(ROW(),VLOOKUP(AI$7,INDIRECT($A$7&"!A:D"),4,FALSE)+4))),"")
B96: =ROW()/3-2 -> 30 | C96: =INDIRECT("员工信息表!C"&(B96+3))&IF(INDIRECT("员工信息表!O"&(B96+3))="离职","(离职)","") | D96: 上午 | E96: =IFERROR(IF($C96="","",INDIRECT("第"&VLOOKUP(E$7,INDIRECT($A$7&"!A:D"),2,FALSE)&"周"&"!"&ADDRESS(ROW(),VLOOKUP(E$7,INDIRECT($A$7&"!A:D"),4,FALSE)+4))),"") | F96: =IFERROR(IF($C96="","",INDIRECT("第"&VLOOKUP(F$7,INDIRECT($A$7&"!A:D"),2,FALSE)&"周"&"!"&ADDRESS(ROW(),VLOOKUP(F$7,INDIRECT($A$7&"!A:D"),4,FALSE)+4))),"") | G96: =IFERROR(IF($C96="","",INDIRECT("第"&VLOOKUP(G$7,INDIRECT($A$7&"!A:D"),2,FALSE)&"周"&"!"&ADDRESS(ROW(),VLOOKUP(G$7,INDIRECT($A$7&"!A:D"),4,FALSE)+4))),"") | H96: =IFERROR(IF($C96="","",INDIRECT("第"&VLOOKUP(H$7,INDIRECT($A$7&"!A:D"),2,FALSE)&"周"&"!"&ADDRESS(ROW(),VLOOKUP(H$7,INDIRECT($A$7&"!A:D"),4,FALSE)+4))),"") | I96: =IFERROR(IF($C96="","",INDIRECT("第"&VLOOKUP(I$7,INDIRECT($A$7&"!A:D"),2,FALSE)&"周"&"!"&ADDRESS(ROW(),VLOOKUP(I$7,INDIRECT($A$7&"!A:D"),4,FALSE)+4))),"") | J96: =IFERROR(IF($C96="","",INDIRECT("第"&VLOOKUP(J$7,INDIRECT($A$7&"!A:D"),2,FALSE)&"周"&"!"&ADDRESS(ROW(),VLOOKUP(J$7,INDIRECT($A$7&"!A:D"),4,FALSE)+4))),"") | K96: =IFERROR(IF($C96="","",INDIRECT("第"&VLOOKUP(K$7,INDIRECT($A$7&"!A:D"),2,FALSE)&"周"&"!"&ADDRESS(ROW(),VLOOKUP(K$7,INDIRECT($A$7&"!A:D"),4,FALSE)+4))),"") | L96: =IFERROR(IF($C96="","",INDIRECT("第"&VLOOKUP(L$7,INDIRECT($A$7&"!A:D"),2,FALSE)&"周"&"!"&ADDRESS(ROW(),VLOOKUP(L$7,INDIRECT($A$7&"!A:D"),4,FALSE)+4))),"") | ... AI96: =IFERROR(IF($C96="","",INDIRECT("第"&VLOOKUP(AI$7,INDIRECT($A$7&"!A:D"),2,FALSE)&"周"&"!"&ADDRESS(ROW(),VLOOKUP(AI$7,INDIRECT($A$7&"!A:D"),4,FALSE)+4))),"") | AJ96: =COUNTIF($E96:$AI98,AJ$8) -> 0 | AK96: =COUNTIF($E96:$AI98,AK$8) -> 0 | AL96: =COUNTIF($E96:$AI98,AL$8) -> 0 | AM96: =COUNTIF($E96:$AI98,AM$8) -> 0 | AN96: =COUNTIF($E96:$AI98,AN$8) -> 0 | AO96: =COUNTIF($E96:$AI98,AO$8) -> 0 | AP96: =COUNTIF($E96:$AI98,AP$8) -> 0 | AQ96: =COUNTIF($E96:$AI98,AQ$8) -> 0 | AR96: =COUNTIF($E96:$AI98,AR$8) -> 0
D97: 下午 | E97: =IFERROR(IF($C96="","",INDIRECT("第"&VLOOKUP(E$7,INDIRECT($A$7&"!A:D"),2,FALSE)&"周"&"!"&ADDRESS(ROW(),VLOOKUP(E$7,INDIRECT($A$7&"!A:D"),4,FALSE)+4))),"") | F97: =IFERROR(IF($C96="","",INDIRECT("第"&VLOOKUP(F$7,INDIRECT($A$7&"!A:D"),2,FALSE)&"周"&"!"&ADDRESS(ROW(),VLOOKUP(F$7,INDIRECT($A$7&"!A:D"),4,FALSE)+4))),"") | G97: =IFERROR(IF($C96="","",INDIRECT("第"&VLOOKUP(G$7,INDIRECT($A$7&"!A:D"),2,FALSE)&"周"&"!"&ADDRESS(ROW(),VLOOKUP(G$7,INDIRECT($A$7&"!A:D"),4,FALSE)+4))),"") | H97: =IFERROR(IF($C96="","",INDIRECT("第"&VLOOKUP(H$7,INDIRECT($A$7&"!A:D"),2,FALSE)&"周"&"!"&ADDRESS(ROW(),VLOOKUP(H$7,INDIRECT($A$7&"!A:D"),4,FALSE)+4))),"") | I97: =IFERROR(IF($C96="","",INDIRECT("第"&VLOOKUP(I$7,INDIRECT($A$7&"!A:D"),2,FALSE)&"周"&"!"&ADDRESS(ROW(),VLOOKUP(I$7,INDIRECT($A$7&"!A:D"),4,FALSE)+4))),"") | J97: =IFERROR(IF($C96="","",INDIRECT("第"&VLOOKUP(J$7,INDIRECT($A$7&"!A:D"),2,FALSE)&"周"&"!"&ADDRESS(ROW(),VLOOKUP(J$7,INDIRECT($A$7&"!A:D"),4,FALSE)+4))),"") | K97: =IFERROR(IF($C96="","",INDIRECT("第"&VLOOKUP(K$7,INDIRECT($A$7&"!A:D"),2,FALSE)&"周"&"!"&ADDRESS(ROW(),VLOOKUP(K$7,INDIRECT($A$7&"!A:D"),4,FALSE)+4))),"") | L97: =IFERROR(IF($C96="","",INDIRECT("第"&VLOOKUP(L$7,INDIRECT($A$7&"!A:D"),2,FALSE)&"周"&"!"&ADDRESS(ROW(),VLOOKUP(L$7,INDIRECT($A$7&"!A:D"),4,FALSE)+4))),"") | ... AI97: =IFERROR(IF($C96="","",INDIRECT("第"&VLOOKUP(AI$7,INDIRECT($A$7&"!A:D"),2,FALSE)&"周"&"!"&ADDRESS(ROW(),VLOOKUP(AI$7,INDIRECT($A$7&"!A:D"),4,FALSE)+4))),"")
D98: 晚上 | E98: =IFERROR(IF($C96="","",INDIRECT("第"&VLOOKUP(E$7,INDIRECT($A$7&"!A:D"),2,FALSE)&"周"&"!"&ADDRESS(ROW(),VLOOKUP(E$7,INDIRECT($A$7&"!A:D"),4,FALSE)+4))),"") | F98: =IFERROR(IF($C96="","",INDIRECT("第"&VLOOKUP(F$7,INDIRECT($A$7&"!A:D"),2,FALSE)&"周"&"!"&ADDRESS(ROW(),VLOOKUP(F$7,INDIRECT($A$7&"!A:D"),4,FALSE)+4))),"") | G98: =IFERROR(IF($C96="","",INDIRECT("第"&VLOOKUP(G$7,INDIRECT($A$7&"!A:D"),2,FALSE)&"周"&"!"&ADDRESS(ROW(),VLOOKUP(G$7,INDIRECT($A$7&"!A:D"),4,FALSE)+4))),"") | H98: =IFERROR(IF($C96="","",INDIRECT("第"&VLOOKUP(H$7,INDIRECT($A$7&"!A:D"),2,FALSE)&"周"&"!"&ADDRESS(ROW(),VLOOKUP(H$7,INDIRECT($A$7&"!A:D"),4,FALSE)+4))),"") | I98: =IFERROR(IF($C96="","",INDIRECT("第"&VLOOKUP(I$7,INDIRECT($A$7&"!A:D"),2,FALSE)&"周"&"!"&ADDRESS(ROW(),VLOOKUP(I$7,INDIRECT($A$7&"!A:D"),4,FALSE)+4))),"") | J98: =IFERROR(IF($C96="","",INDIRECT("第"&VLOOKUP(J$7,INDIRECT($A$7&"!A:D"),2,FALSE)&"周"&"!"&ADDRESS(ROW(),VLOOKUP(J$7,INDIRECT($A$7&"!A:D"),4,FALSE)+4))),"") | K98: =IFERROR(IF($C96="","",INDIRECT("第"&VLOOKUP(K$7,INDIRECT($A$7&"!A:D"),2,FALSE)&"周"&"!"&ADDRESS(ROW(),VLOOKUP(K$7,INDIRECT($A$7&"!A:D"),4,FALSE)+4))),"") | L98: =IFERROR(IF($C96="","",INDIRECT("第"&VLOOKUP(L$7,INDIRECT($A$7&"!A:D"),2,FALSE)&"周"&"!"&ADDRESS(ROW(),VLOOKUP(L$7,INDIRECT($A$7&"!A:D"),4,FALSE)+4))),"") | ... AI98: =IFERROR(IF($C96="","",INDIRECT("第"&VLOOKUP(AI$7,INDIRECT($A$7&"!A:D"),2,FALSE)&"周"&"!"&ADDRESS(ROW(),VLOOKUP(AI$7,INDIRECT($A$7&"!A:D"),4,FALSE)+4))),"")
B99: =ROW()/3-2 -> 31 | C99: =INDIRECT("员工信息表!C"&(B99+3))&IF(INDIRECT("员工信息表!O"&(B99+3))="离职","(离职)","") | D99: 上午 | E99: =IFERROR(IF($C99="","",INDIRECT("第"&VLOOKUP(E$7,INDIRECT($A$7&"!A:D"),2,FALSE)&"周"&"!"&ADDRESS(ROW(),VLOOKUP(E$7,INDIRECT($A$7&"!A:D"),4,FALSE)+4))),"") | F99: =IFERROR(IF($C99="","",INDIRECT("第"&VLOOKUP(F$7,INDIRECT($A$7&"!A:D"),2,FALSE)&"周"&"!"&ADDRESS(ROW(),VLOOKUP(F$7,INDIRECT($A$7&"!A:D"),4,FALSE)+4))),"") | G99: =IFERROR(IF($C99="","",INDIRECT("第"&VLOOKUP(G$7,INDIRECT($A$7&"!A:D"),2,FALSE)&"周"&"!"&ADDRESS(ROW(),VLOOKUP(G$7,INDIRECT($A$7&"!A:D"),4,FALSE)+4))),"") | H99: =IFERROR(IF($C99="","",INDIRECT("第"&VLOOKUP(H$7,INDIRECT($A$7&"!A:D"),2,FALSE)&"周"&"!"&ADDRESS(ROW(),VLOOKUP(H$7,INDIRECT($A$7&"!A:D"),4,FALSE)+4))),"") | I99: =IFERROR(IF($C99="","",INDIRECT("第"&VLOOKUP(I$7,INDIRECT($A$7&"!A:D"),2,FALSE)&"周"&"!"&ADDRESS(ROW(),VLOOKUP(I$7,INDIRECT($A$7&"!A:D"),4,FALSE)+4))),"") | J99: =IFERROR(IF($C99="","",INDIRECT("第"&VLOOKUP(J$7,INDIRECT($A$7&"!A:D"),2,FALSE)&"周"&"!"&ADDRESS(ROW(),VLOOKUP(J$7,INDIRECT($A$7&"!A:D"),4,FALSE)+4))),"") | K99: =IFERROR(IF($C99="","",INDIRECT("第"&VLOOKUP(K$7,INDIRECT($A$7&"!A:D"),2,FALSE)&"周"&"!"&ADDRESS(ROW(),VLOOKUP(K$7,INDIRECT($A$7&"!A:D"),4,FALSE)+4))),"") | L99: =IFERROR(IF($C99="","",INDIRECT("第"&VLOOKUP(L$7,INDIRECT($A$7&"!A:D"),2,FALSE)&"周"&"!"&ADDRESS(ROW(),VLOOKUP(L$7,INDIRECT($A$7&"!A:D"),4,FALSE)+4))),"") | ... AI99: =IFERROR(IF($C99="","",INDIRECT("第"&VLOOKUP(AI$7,INDIRECT($A$7&"!A:D"),2,FALSE)&"周"&"!"&ADDRESS(ROW(),VLOOKUP(AI$7,INDIRECT($A$7&"!A:D"),4,FALSE)+4))),"") | AJ99: =COUNTIF($E99:$AI101,AJ$8) -> 0 | AK99: =COUNTIF($E99:$AI101,AK$8) -> 0 | AL99: =COUNTIF($E99:$AI101,AL$8) -> 0 | AM99: =COUNTIF($E99:$AI101,AM$8) -> 0 | AN99: =COUNTIF($E99:$AI101,AN$8) -> 0 | AO99: =COUNTIF($E99:$AI101,AO$8) -> 0 | AP99: =COUNTIF($E99:$AI101,AP$8) -> 0 | AQ99: =COUNTIF($E99:$AI101,AQ$8) -> 0 | AR99: =COUNTIF($E99:$AI101,AR$8) -> 0
D100: 下午 | E100: =IFERROR(IF($C99="","",INDIRECT("第"&VLOOKUP(E$7,INDIRECT($A$7&"!A:D"),2,FALSE)&"周"&"!"&ADDRESS(ROW(),VLOOKUP(E$7,INDIRECT($A$7&"!A:D"),4,FALSE)+4))),"") | F100: =IFERROR(IF($C99="","",INDIRECT("第"&VLOOKUP(F$7,INDIRECT($A$7&"!A:D"),2,FALSE)&"周"&"!"&ADDRESS(ROW(),VLOOKUP(F$7,INDIRECT($A$7&"!A:D"),4,FALSE)+4))),"") | G100: =IFERROR(IF($C99="","",INDIRECT("第"&VLOOKUP(G$7,INDIRECT($A$7&"!A:D"),2,FALSE)&"周"&"!"&ADDRESS(ROW(),VLOOKUP(G$7,INDIRECT($A$7&"!A:D"),4,FALSE)+4))),"") | H100: =IFERROR(IF($C99="","",INDIRECT("第"&VLOOKUP(H$7,INDIRECT($A$7&"!A:D"),2,FALSE)&"周"&"!"&ADDRESS(ROW(),VLOOKUP(H$7,INDIRECT($A$7&"!A:D"),4,FALSE)+4))),"") | I100: =IFERROR(IF($C99="","",INDIRECT("第"&VLOOKUP(I$7,INDIRECT($A$7&"!A:D"),2,FALSE)&"周"&"!"&ADDRESS(ROW(),VLOOKUP(I$7,INDIRECT($A$7&"!A:D"),4,FALSE)+4))),"") | J100: =IFERROR(IF($C99="","",INDIRECT("第"&VLOOKUP(J$7,INDIRECT($A$7&"!A:D"),2,FALSE)&"周"&"!"&ADDRESS(ROW(),VLOOKUP(J$7,INDIRECT($A$7&"!A:D"),4,FALSE)+4))),"") | K100: =IFERROR(IF($C99="","",INDIRECT("第"&VLOOKUP(K$7,INDIRECT($A$7&"!A:D"),2,FALSE)&"周"&"!"&ADDRESS(ROW(),VLOOKUP(K$7,INDIRECT($A$7&"!A:D"),4,FALSE)+4))),"") | L100: =IFERROR(IF($C99="","",INDIRECT("第"&VLOOKUP(L$7,INDIRECT($A$7&"!A:D"),2,FALSE)&"周"&"!"&ADDRESS(ROW(),VLOOKUP(L$7,INDIRECT($A$7&"!A:D"),4,FALSE)+4))),"") | ... AI100: =IFERROR(IF($C99="","",INDIRECT("第"&VLOOKUP(AI$7,INDIRECT($A$7&"!A:D"),2,FALSE)&"周"&"!"&ADDRESS(ROW(),VLOOKUP(AI$7,INDIRECT($A$7&"!A:D"),4,FALSE)+4))),"")
D101: 晚上 | E101: =IFERROR(IF($C99="","",INDIRECT("第"&VLOOKUP(E$7,INDIRECT($A$7&"!A:D"),2,FALSE)&"周"&"!"&ADDRESS(ROW(),VLOOKUP(E$7,INDIRECT($A$7&"!A:D"),4,FALSE)+4))),"") | F101: =IFERROR(IF($C99="","",INDIRECT("第"&VLOOKUP(F$7,INDIRECT($A$7&"!A:D"),2,FALSE)&"周"&"!"&ADDRESS(ROW(),VLOOKUP(F$7,INDIRECT($A$7&"!A:D"),4,FALSE)+4))),"") | G101: =IFERROR(IF($C99="","",INDIRECT("第"&VLOOKUP(G$7,INDIRECT($A$7&"!A:D"),2,FALSE)&"周"&"!"&ADDRESS(ROW(),VLOOKUP(G$7,INDIRECT($A$7&"!A:D"),4,FALSE)+4))),"") | H101: =IFERROR(IF($C99="","",INDIRECT("第"&VLOOKUP(H$7,INDIRECT($A$7&"!A:D"),2,FALSE)&"周"&"!"&ADDRESS(ROW(),VLOOKUP(H$7,INDIRECT($A$7&"!A:D"),4,FALSE)+4))),"") | I101: =IFERROR(IF($C99="","",INDIRECT("第"&VLOOKUP(I$7,INDIRECT($A$7&"!A:D"),2,FALSE)&"周"&"!"&ADDRESS(ROW(),VLOOKUP(I$7,INDIRECT($A$7&"!A:D"),4,FALSE)+4))),"") | J101: =IFERROR(IF($C99="","",INDIRECT("第"&VLOOKUP(J$7,INDIRECT($A$7&"!A:D"),2,FALSE)&"周"&"!"&ADDRESS(ROW(),VLOOKUP(J$7,INDIRECT($A$7&"!A:D"),4,FALSE)+4))),"") | K101: =IFERROR(IF($C99="","",INDIRECT("第"&VLOOKUP(K$7,INDIRECT($A$7&"!A:D"),2,FALSE)&"周"&"!"&ADDRESS(ROW(),VLOOKUP(K$7,INDIRECT($A$7&"!A:D"),4,FALSE)+4))),"") | L101: =IFERROR(IF($C99="","",INDIRECT("第"&VLOOKUP(L$7,INDIRECT($A$7&"!A:D"),2,FALSE)&"周"&"!"&ADDRESS(ROW(),VLOOKUP(L$7,INDIRECT($A$7&"!A:D"),4,FALSE)+4))),"") | ... AI101: =IFERROR(IF($C99="","",INDIRECT("第"&VLOOKUP(AI$7,INDIRECT($A$7&"!A:D"),2,FALSE)&"周"&"!"&ADDRESS(ROW(),VLOOKUP(AI$7,INDIRECT($A$7&"!A:D"),4,FALSE)+4))),"")
B102: =ROW()/3-2 -> 32 | C102: =INDIRECT("员工信息表!C"&(B102+3))&IF(INDIRECT("员工信息表!O"&(B102+3))="离职","(离职)","") | D102: 上午 | E102: =IFERROR(IF($C102="","",INDIRECT("第"&VLOOKUP(E$7,INDIRECT($A$7&"!A:D"),2,FALSE)&"周"&"!"&ADDRESS(ROW(),VLOOKUP(E$7,INDIRECT($A$7&"!A:D"),4,FALSE)+4))),"") | F102: =IFERROR(IF($C102="","",INDIRECT("第"&VLOOKUP(F$7,INDIRECT($A$7&"!A:D"),2,FALSE)&"周"&"!"&ADDRESS(ROW(),VLOOKUP(F$7,INDIRECT($A$7&"!A:D"),4,FALSE)+4))),"") | G102: =IFERROR(IF($C102="","",INDIRECT("第"&VLOOKUP(G$7,INDIRECT($A$7&"!A:D"),2,FALSE)&"周"&"!"&ADDRESS(ROW(),VLOOKUP(G$7,INDIRECT($A$7&"!A:D"),4,FALSE)+4))),"") | H102: =IFERROR(IF($C102="","",INDIRECT("第"&VLOOKUP(H$7,INDIRECT($A$7&"!A:D"),2,FALSE)&"周"&"!"&ADDRESS(ROW(),VLOOKUP(H$7,INDIRECT($A$7&"!A:D"),4,FALSE)+4))),"") | I102: =IFERROR(IF($C102="","",INDIRECT("第"&VLOOKUP(I$7,INDIRECT($A$7&"!A:D"),2,FALSE)&"周"&"!"&ADDRESS(ROW(),VLOOKUP(I$7,INDIRECT($A$7&"!A:D"),4,FALSE)+4))),"") | J102: =IFERROR(IF($C102="","",INDIRECT("第"&VLOOKUP(J$7,INDIRECT($A$7&"!A:D"),2,FALSE)&"周"&"!"&ADDRESS(ROW(),VLOOKUP(J$7,INDIRECT($A$7&"!A:D"),4,FALSE)+4))),"") | K102: =IFERROR(IF($C102="","",INDIRECT("第"&VLOOKUP(K$7,INDIRECT($A$7&"!A:D"),2,FALSE)&"周"&"!"&ADDRESS(ROW(),VLOOKUP(K$7,INDIRECT($A$7&"!A:D"),4,FALSE)+4))),"") | L102: =IFERROR(IF($C102="","",INDIRECT("第"&VLOOKUP(L$7,INDIRECT($A$7&"!A:D"),2,FALSE)&"周"&"!"&ADDRESS(ROW(),VLOOKUP(L$7,INDIRECT($A$7&"!A:D"),4,FALSE)+4))),"") | ... AI102: =IFERROR(IF($C102="","",INDIRECT("第"&VLOOKUP(AI$7,INDIRECT($A$7&"!A:D"),2,FALSE)&"周"&"!"&ADDRESS(ROW(),VLOOKUP(AI$7,INDIRECT($A$7&"!A:D"),4,FALSE)+4))),"") | AJ102: =COUNTIF($E102:$AI104,AJ$8) -> 0 | AK102: =COUNTIF($E102:$AI104,AK$8) -> 0 | AL102: =COUNTIF($E102:$AI104,AL$8) -> 0 | AM102: =COUNTIF($E102:$AI104,AM$8) -> 0 | AN102: =COUNTIF($E102:$AI104,AN$8) -> 0 | AO102: =COUNTIF($E102:$AI104,AO$8) -> 0 | AP102: =COUNTIF($E102:$AI104,AP$8) -> 0 | AQ102: =COUNTIF($E102:$AI104,AQ$8) -> 0 | AR102: =COUNTIF($E102:$AI104,AR$8) -> 0
D103: 下午 | E103: =IFERROR(IF($C102="","",INDIRECT("第"&VLOOKUP(E$7,INDIRECT($A$7&"!A:D"),2,FALSE)&"周"&"!"&ADDRESS(ROW(),VLOOKUP(E$7,INDIRECT($A$7&"!A:D"),4,FALSE)+4))),"") | F103: =IFERROR(IF($C102="","",INDIRECT("第"&VLOOKUP(F$7,INDIRECT($A$7&"!A:D"),2,FALSE)&"周"&"!"&ADDRESS(ROW(),VLOOKUP(F$7,INDIRECT($A$7&"!A:D"),4,FALSE)+4))),"") | G103: =IFERROR(IF($C102="","",INDIRECT("第"&VLOOKUP(G$7,INDIRECT($A$7&"!A:D"),2,FALSE)&"周"&"!"&ADDRESS(ROW(),VLOOKUP(G$7,INDIRECT($A$7&"!A:D"),4,FALSE)+4))),"") | H103: =IFERROR(IF($C102="","",INDIRECT("第"&VLOOKUP(H$7,INDIRECT($A$7&"!A:D"),2,FALSE)&"周"&"!"&ADDRESS(ROW(),VLOOKUP(H$7,INDIRECT($A$7&"!A:D"),4,FALSE)+4))),"") | I103: =IFERROR(IF($C102="","",INDIRECT("第"&VLOOKUP(I$7,INDIRECT($A$7&"!A:D"),2,FALSE)&"周"&"!"&ADDRESS(ROW(),VLOOKUP(I$7,INDIRECT($A$7&"!A:D"),4,FALSE)+4))),"") | J103: =IFERROR(IF($C102="","",INDIRECT("第"&VLOOKUP(J$7,INDIRECT($A$7&"!A:D"),2,FALSE)&"周"&"!"&ADDRESS(ROW(),VLOOKUP(J$7,INDIRECT($A$7&"!A:D"),4,FALSE)+4))),"") | K103: =IFERROR(IF($C102="","",INDIRECT("第"&VLOOKUP(K$7,INDIRECT($A$7&"!A:D"),2,FALSE)&"周"&"!"&ADDRESS(ROW(),VLOOKUP(K$7,INDIRECT($A$7&"!A:D"),4,FALSE)+4))),"") | L103: =IFERROR(IF($C102="","",INDIRECT("第"&VLOOKUP(L$7,INDIRECT($A$7&"!A:D"),2,FALSE)&"周"&"!"&ADDRESS(ROW(),VLOOKUP(L$7,INDIRECT($A$7&"!A:D"),4,FALSE)+4))),"") | ... AI103: =IFERROR(IF($C102="","",INDIRECT("第"&VLOOKUP(AI$7,INDIRECT($A$7&"!A:D"),2,FALSE)&"周"&"!"&ADDRESS(ROW(),VLOOKUP(AI$7,INDIRECT($A$7&"!A:D"),4,FALSE)+4))),"")
D104: 晚上 | E104: =IFERROR(IF($C102="","",INDIRECT("第"&VLOOKUP(E$7,INDIRECT($A$7&"!A:D"),2,FALSE)&"周"&"!"&ADDRESS(ROW(),VLOOKUP(E$7,INDIRECT($A$7&"!A:D"),4,FALSE)+4))),"") | F104: =IFERROR(IF($C102="","",INDIRECT("第"&VLOOKUP(F$7,INDIRECT($A$7&"!A:D"),2,FALSE)&"周"&"!"&ADDRESS(ROW(),VLOOKUP(F$7,INDIRECT($A$7&"!A:D"),4,FALSE)+4))),"") | G104: =IFERROR(IF($C102="","",INDIRECT("第"&VLOOKUP(G$7,INDIRECT($A$7&"!A:D"),2,FALSE)&"周"&"!"&ADDRESS(ROW(),VLOOKUP(G$7,INDIRECT($A$7&"!A:D"),4,FALSE)+4))),"") | H104: =IFERROR(IF($C102="","",INDIRECT("第"&VLOOKUP(H$7,INDIRECT($A$7&"!A:D"),2,FALSE)&"周"&"!"&ADDRESS(ROW(),VLOOKUP(H$7,INDIRECT($A$7&"!A:D"),4,FALSE)+4))),"") | I104: =IFERROR(IF($C102="","",INDIRECT("第"&VLOOKUP(I$7,INDIRECT($A$7&"!A:D"),2,FALSE)&"周"&"!"&ADDRESS(ROW(),VLOOKUP(I$7,INDIRECT($A$7&"!A:D"),4,FALSE)+4))),"") | J104: =IFERROR(IF($C102="","",INDIRECT("第"&VLOOKUP(J$7,INDIRECT($A$7&"!A:D"),2,FALSE)&"周"&"!"&ADDRESS(ROW(),VLOOKUP(J$7,INDIRECT($A$7&"!A:D"),4,FALSE)+4))),"") | K104: =IFERROR(IF($C102="","",INDIRECT("第"&VLOOKUP(K$7,INDIRECT($A$7&"!A:D"),2,FALSE)&"周"&"!"&ADDRESS(ROW(),VLOOKUP(K$7,INDIRECT($A$7&"!A:D"),4,FALSE)+4))),"") | L104: =IFERROR(IF($C102="","",INDIRECT("第"&VLOOKUP(L$7,INDIRECT($A$7&"!A:D"),2,FALSE)&"周"&"!"&ADDRESS(ROW(),VLOOKUP(L$7,INDIRECT($A$7&"!A:D"),4,FALSE)+4))),"") | ... AI104: =IFERROR(IF($C102="","",INDIRECT("第"&VLOOKUP(AI$7,INDIRECT($A$7&"!A:D"),2,FALSE)&"周"&"!"&ADDRESS(ROW(),VLOOKUP(AI$7,INDIRECT($A$7&"!A:D"),4,FALSE)+4))),"")
B105: =ROW()/3-2 -> 33 | C105: =INDIRECT("员工信息表!C"&(B105+3))&IF(INDIRECT("员工信息表!O"&(B105+3))="离职","(离职)","") | D105: 上午 | E105: =IFERROR(IF($C105="","",INDIRECT("第"&VLOOKUP(E$7,INDIRECT($A$7&"!A:D"),2,FALSE)&"周"&"!"&ADDRESS(ROW(),VLOOKUP(E$7,INDIRECT($A$7&"!A:D"),4,FALSE)+4))),"") | F105: =IFERROR(IF($C105="","",INDIRECT("第"&VLOOKUP(F$7,INDIRECT($A$7&"!A:D"),2,FALSE)&"周"&"!"&ADDRESS(ROW(),VLOOKUP(F$7,INDIRECT($A$7&"!A:D"),4,FALSE)+4))),"") | G105: =IFERROR(IF($C105="","",INDIRECT("第"&VLOOKUP(G$7,INDIRECT($A$7&"!A:D"),2,FALSE)&"周"&"!"&ADDRESS(ROW(),VLOOKUP(G$7,INDIRECT($A$7&"!A:D"),4,FALSE)+4))),"") | H105: =IFERROR(IF($C105="","",INDIRECT("第"&VLOOKUP(H$7,INDIRECT($A$7&"!A:D"),2,FALSE)&"周"&"!"&ADDRESS(ROW(),VLOOKUP(H$7,INDIRECT($A$7&"!A:D"),4,FALSE)+4))),"") | I105: =IFERROR(IF($C105="","",INDIRECT("第"&VLOOKUP(I$7,INDIRECT($A$7&"!A:D"),2,FALSE)&"周"&"!"&ADDRESS(ROW(),VLOOKUP(I$7,INDIRECT($A$7&"!A:D"),4,FALSE)+4))),"") | J105: =IFERROR(IF($C105="","",INDIRECT("第"&VLOOKUP(J$7,INDIRECT($A$7&"!A:D"),2,FALSE)&"周"&"!"&ADDRESS(ROW(),VLOOKUP(J$7,INDIRECT($A$7&"!A:D"),4,FALSE)+4))),"") | K105: =IFERROR(IF($C105="","",INDIRECT("第"&VLOOKUP(K$7,INDIRECT($A$7&"!A:D"),2,FALSE)&"周"&"!"&ADDRESS(ROW(),VLOOKUP(K$7,INDIRECT($A$7&"!A:D"),4,FALSE)+4))),"") | L105: =IFERROR(IF($C105="","",INDIRECT("第"&VLOOKUP(L$7,INDIRECT($A$7&"!A:D"),2,FALSE)&"周"&"!"&ADDRESS(ROW(),VLOOKUP(L$7,INDIRECT($A$7&"!A:D"),4,FALSE)+4))),"") | ... AI105: =IFERROR(IF($C105="","",INDIRECT("第"&VLOOKUP(AI$7,INDIRECT($A$7&"!A:D"),2,FALSE)&"周"&"!"&ADDRESS(ROW(),VLOOKUP(AI$7,INDIRECT($A$7&"!A:D"),4,FALSE)+4))),"") | AJ105: =COUNTIF($E105:$AI107,AJ$8) -> 0 | AK105: =COUNTIF($E105:$AI107,AK$8) -> 0 | AL105: =COUNTIF($E105:$AI107,AL$8) -> 0 | AM105: =COUNTIF($E105:$AI107,AM$8) -> 0 | AN105: =COUNTIF($E105:$AI107,AN$8) -> 0 | AO105: =COUNTIF($E105:$AI107,AO$8) -> 0 | AP105: =COUNTIF($E105:$AI107,AP$8) -> 0 | AQ105: =COUNTIF($E105:$AI107,AQ$8) -> 0 | AR105: =COUNTIF($E105:$AI107,AR$8) -> 0
...

Sheet 个人全年考勤记录
A5: =INDEX(员工信息表!B:B,MATCH(G5,员工信息表!C:C,0)) -> #N/A | D5: =A7&"年" -> 2018年 | G5: 工友1 | J5: 全年考勤记录 | O5: 请在WPS稻壳，www.docer.com 搜索“八不戒”，下载所需文档。或点击 chn.docer.com/works?userid=202850317
A7: =系统设置!E5 -> 2018 | B7: 日期 | C7: 时间 | D7: 1 | E7: 2 | F7: 3 | G7: 4 | H7: 5 | I7: 6 | J7: 7 | K7: 8 | L7: 9 | M7: 10 | N7: 11 | O7: 12 | P7: 13 | Q7: 14 | R7: 15 | S7: 16 | T7: 17 | U7: 18 | V7: 19 | W7: 20 | X7: 21 | Y7: 22 | Z7: 23 | AA7: 24 | AB7: 25 | AC7: 26 | AD7: 27 | AE7: 28 | AF7: 29 | AG7: 30 | AH7: 31 | AI7: 出勤统计
B8: 月份 | AI8: 出勤 | AJ8: 加班 | AK8: 休假 | AL8: 事假 | AM8: 病假 | AN8: 出差 | AO8: 缺勤 | AP8: 迟到 | AQ8: 早退
A9: 1 | B9: =A9&"月" -> 1月 | C9: 上午 | D9: =IFERROR(INDIRECT("第"&VLOOKUP(DATEVALUE($A$7&"-"&$A9&"-"&D$7),INDIRECT($A$7&"!A:D"),2,FALSE)&"周!"&ADDRESS(MATCH($A$5,INDIRECT("第"&VLOOKUP(DATEVALUE($A$7&"-"&$A9&"-"&D$7),INDIRECT($A$7&"!A:D"),2,FALSE)&"周!B:B"),0),VLOOKUP(DATEVALUE($A$7&"-"&$A9&"-"&D$7),INDIRECT($A$7&"!A:D"),4,FALSE)+4)),"") | E9: =IFERROR(INDIRECT("第"&VLOOKUP(DATEVALUE($A$7&"-"&$A9&"-"&E$7),INDIRECT($A$7&"!A:D"),2,FALSE)&"周!"&ADDRESS(MATCH($A$5,INDIRECT("第"&VLOOKUP(DATEVALUE($A$7&"-"&$A9&"-"&E$7),INDIRECT($A$7&"!A:D"),2,FALSE)&"周!B:B"),0),VLOOKUP(DATEVALUE($A$7&"-"&$A9&"-"&E$7),INDIRECT($A$7&"!A:D"),4,FALSE)+4)),"") | F9: =IFERROR(INDIRECT("第"&VLOOKUP(DATEVALUE($A$7&"-"&$A9&"-"&F$7),INDIRECT($A$7&"!A:D"),2,FALSE)&"周!"&ADDRESS(MATCH($A$5,INDIRECT("第"&VLOOKUP(DATEVALUE($A$7&"-"&$A9&"-"&F$7),INDIRECT($A$7&"!A:D"),2,FALSE)&"周!B:B"),0),VLOOKUP(DATEVALUE($A$7&"-"&$A9&"-"&F$7),INDIRECT($A$7&"!A:D"),4,FALSE)+4)),"") | G9: =IFERROR(INDIRECT("第"&VLOOKUP(DATEVALUE($A$7&"-"&$A9&"-"&G$7),INDIRECT($A$7&"!A:D"),2,FALSE)&"周!"&ADDRESS(MATCH($A$5,INDIRECT("第"&VLOOKUP(DATEVALUE($A$7&"-"&$A9&"-"&G$7),INDIRECT($A$7&"!A:D"),2,FALSE)&"周!B:B"),0),VLOOKUP(DATEVALUE($A$7&"-"&$A9&"-"&G$7),INDIRECT($A$7&"!A:D"),4,FALSE)+4)),"") | H9: =IFERROR(INDIRECT("第"&VLOOKUP(DATEVALUE($A$7&"-"&$A9&"-"&H$7),INDIRECT($A$7&"!A:D"),2,FALSE)&"周!"&ADDRESS(MATCH($A$5,INDIRECT("第"&VLOOKUP(DATEVALUE($A$7&"-"&$A9&"-"&H$7),INDIRECT($A$7&"!A:D"),2,FALSE)&"周!B:B"),0),VLOOKUP(DATEVALUE($A$7&"-"&$A9&"-"&H$7),INDIRECT($A$7&"!A:D"),4,FALSE)+4)),"") | I9: =IFERROR(INDIRECT("第"&VLOOKUP(DATEVALUE($A$7&"-"&$A9&"-"&I$7),INDIRECT($A$7&"!A:D"),2,FALSE)&"周!"&ADDRESS(MATCH($A$5,INDIRECT("第"&VLOOKUP(DATEVALUE($A$7&"-"&$A9&"-"&I$7),INDIRECT($A$7&"!A:D"),2,FALSE)&"周!B:B"),0),VLOOKUP(DATEVALUE($A$7&"-"&$A9&"-"&I$7),INDIRECT($A$7&"!A:D"),4,FALSE)+4)),"") | J9: =IFERROR(INDIRECT("第"&VLOOKUP(DATEVALUE($A$7&"-"&$A9&"-"&J$7),INDIRECT($A$7&"!A:D"),2,FALSE)&"周!"&ADDRESS(MATCH($A$5,INDIRECT("第"&VLOOKUP(DATEVALUE($A$7&"-"&$A9&"-"&J$7),INDIRECT($A$7&"!A:D"),2,FALSE)&"周!B:B"),0),VLOOKUP(DATEVALUE($A$7&"-"&$A9&"-"&J$7),INDIRECT($A$7&"!A:D"),4,FALSE)+4)),"") | K9: =IFERROR(INDIRECT("第"&VLOOKUP(DATEVALUE($A$7&"-"&$A9&"-"&K$7),INDIRECT($A$7&"!A:D"),2,FALSE)&"周!"&ADDRESS(MATCH($A$5,INDIRECT("第"&VLOOKUP(DATEVALUE($A$7&"-"&$A9&"-"&K$7),INDIRECT($A$7&"!A:D"),2,FALSE)&"周!B:B"),0),VLOOKUP(DATEVALUE($A$7&"-"&$A9&"-"&K$7),INDIRECT($A$7&"!A:D"),4,FALSE)+4)),"") | ... AH9: =IFERROR(INDIRECT("第"&VLOOKUP(DATEVALUE($A$7&"-"&$A9&"-"&AH$7),INDIRECT($A$7&"!A:D"),2,FALSE)&"周!"&ADDRESS(MATCH($A$5,INDIRECT("第"&VLOOKUP(DATEVALUE($A$7&"-"&$A9&"-"&AH$7),INDIRECT($A$7&"!A:D"),2,FALSE)&"周!B:B"),0),VLOOKUP(DATEVALUE($A$7&"-"&$A9&"-"&AH$7),INDIRECT($A$7&"!A:D"),4,FALSE)+4)),"") | AI9: =COUNTIF($D9:$AH11,AI$8) -> 0 | AJ9: =COUNTIF($D9:$AH11,AJ$8) -> 0 | AK9: =COUNTIF($D9:$AH11,AK$8) -> 0 | AL9: =COUNTIF($D9:$AH11,AL$8) -> 0 | AM9: =COUNTIF($D9:$AH11,AM$8) -> 0 | AN9: =COUNTIF($D9:$AH11,AN$8) -> 0 | AO9: =COUNTIF($D9:$AH11,AO$8) -> 0 | AP9: =COUNTIF($D9:$AH11,AP$8) -> 0 | AQ9: =COUNTIF($D9:$AH11,AQ$8) -> 0
C10: 下午 | D10: =IFERROR(INDIRECT("第"&VLOOKUP(DATEVALUE($A$7&"-"&$A9&"-"&D$7),INDIRECT($A$7&"!A:D"),2,FALSE)&"周!"&ADDRESS(MATCH($A$5,INDIRECT("第"&VLOOKUP(DATEVALUE($A$7&"-"&$A9&"-"&D$7),INDIRECT($A$7&"!A:D"),2,FALSE)&"周!B:B"),0)+1,VLOOKUP(DATEVALUE($A$7&"-"&$A9&"-"&D$7),INDIRECT($A$7&"!A:D"),4,FALSE)+4)),"") | E10: =IFERROR(INDIRECT("第"&VLOOKUP(DATEVALUE($A$7&"-"&$A9&"-"&E$7),INDIRECT($A$7&"!A:D"),2,FALSE)&"周!"&ADDRESS(MATCH($A$5,INDIRECT("第"&VLOOKUP(DATEVALUE($A$7&"-"&$A9&"-"&E$7),INDIRECT($A$7&"!A:D"),2,FALSE)&"周!B:B"),0)+1,VLOOKUP(DATEVALUE($A$7&"-"&$A9&"-"&E$7),INDIRECT($A$7&"!A:D"),4,FALSE)+4)),"") | F10: =IFERROR(INDIRECT("第"&VLOOKUP(DATEVALUE($A$7&"-"&$A9&"-"&F$7),INDIRECT($A$7&"!A:D"),2,FALSE)&"周!"&ADDRESS(MATCH($A$5,INDIRECT("第"&VLOOKUP(DATEVALUE($A$7&"-"&$A9&"-"&F$7),INDIRECT($A$7&"!A:D"),2,FALSE)&"周!B:B"),0)+1,VLOOKUP(DATEVALUE($A$7&"-"&$A9&"-"&F$7),INDIRECT($A$7&"!A:D"),4,FALSE)+4)),"") | G10: =IFERROR(INDIRECT("第"&VLOOKUP(DATEVALUE($A$7&"-"&$A9&"-"&G$7),INDIRECT($A$7&"!A:D"),2,FALSE)&"周!"&ADDRESS(MATCH($A$5,INDIRECT("第"&VLOOKUP(DATEVALUE($A$7&"-"&$A9&"-"&G$7),INDIRECT($A$7&"!A:D"),2,FALSE)&"周!B:B"),0)+1,VLOOKUP(DATEVALUE($A$7&"-"&$A9&"-"&G$7),INDIRECT($A$7&"!A:D"),4,FALSE)+4)),"") | H10: =IFERROR(INDIRECT("第"&VLOOKUP(DATEVALUE($A$7&"-"&$A9&"-"&H$7),INDIRECT($A$7&"!A:D"),2,FALSE)&"周!"&ADDRESS(MATCH($A$5,INDIRECT("第"&VLOOKUP(DATEVALUE($A$7&"-"&$A9&"-"&H$7),INDIRECT($A$7&"!A:D"),2,FALSE)&"周!B:B"),0)+1,VLOOKUP(DATEVALUE($A$7&"-"&$A9&"-"&H$7),INDIRECT($A$7&"!A:D"),4,FALSE)+4)),"") | I10: =IFERROR(INDIRECT("第"&VLOOKUP(DATEVALUE($A$7&"-"&$A9&"-"&I$7),INDIRECT($A$7&"!A:D"),2,FALSE)&"周!"&ADDRESS(MATCH($A$5,INDIRECT("第"&VLOOKUP(DATEVALUE($A$7&"-"&$A9&"-"&I$7),INDIRECT($A$7&"!A:D"),2,FALSE)&"周!B:B"),0)+1,VLOOKUP(DATEVALUE($A$7&"-"&$A9&"-"&I$7),INDIRECT($A$7&"!A:D"),4,FALSE)+4)),"") | J10: =IFERROR(INDIRECT("第"&VLOOKUP(DATEVALUE($A$7&"-"&$A9&"-"&J$7),INDIRECT($A$7&"!A:D"),2,FALSE)&"周!"&ADDRESS(MATCH($A$5,INDIRECT("第"&VLOOKUP(DATEVALUE($A$7&"-"&$A9&"-"&J$7),INDIRECT($A$7&"!A:D"),2,FALSE)&"周!B:B"),0)+1,VLOOKUP(DATEVALUE($A$7&"-"&$A9&"-"&J$7),INDIRECT($A$7&"!A:D"),4,FALSE)+4)),"") | K10: =IFERROR(INDIRECT("第"&VLOOKUP(DATEVALUE($A$7&"-"&$A9&"-"&K$7),INDIRECT($A$7&"!A:D"),2,FALSE)&"周!"&ADDRESS(MATCH($A$5,INDIRECT("第"&VLOOKUP(DATEVALUE($A$7&"-"&$A9&"-"&K$7),INDIRECT($A$7&"!A:D"),2,FALSE)&"周!B:B"),0)+1,VLOOKUP(DATEVALUE($A$7&"-"&$A9&"-"&K$7),INDIRECT($A$7&"!A:D"),4,FALSE)+4)),"") | ... AH10: =IFERROR(INDIRECT("第"&VLOOKUP(DATEVALUE($A$7&"-"&$A9&"-"&AH$7),INDIRECT($A$7&"!A:D"),2,FALSE)&"周!"&ADDRESS(MATCH($A$5,INDIRECT("第"&VLOOKUP(DATEVALUE($A$7&"-"&$A9&"-"&AH$7),INDIRECT($A$7&"!A:D"),2,FALSE)&"周!B:B"),0)+1,VLOOKUP(DATEVALUE($A$7&"-"&$A9&"-"&AH$7),INDIRECT($A$7&"!A:D"),4,FALSE)+4)),"")
C11: 晚上 | D11: =IFERROR(INDIRECT("第"&VLOOKUP(DATEVALUE($A$7&"-"&$A9&"-"&D$7),INDIRECT($A$7&"!A:D"),2,FALSE)&"周!"&ADDRESS(MATCH($A$5,INDIRECT("第"&VLOOKUP(DATEVALUE($A$7&"-"&$A9&"-"&D$7),INDIRECT($A$7&"!A:D"),2,FALSE)&"周!B:B"),0)+2,VLOOKUP(DATEVALUE($A$7&"-"&$A9&"-"&D$7),INDIRECT($A$7&"!A:D"),4,FALSE)+4)),"") | E11: =IFERROR(INDIRECT("第"&VLOOKUP(DATEVALUE($A$7&"-"&$A9&"-"&E$7),INDIRECT($A$7&"!A:D"),2,FALSE)&"周!"&ADDRESS(MATCH($A$5,INDIRECT("第"&VLOOKUP(DATEVALUE($A$7&"-"&$A9&"-"&E$7),INDIRECT($A$7&"!A:D"),2,FALSE)&"周!B:B"),0)+2,VLOOKUP(DATEVALUE($A$7&"-"&$A9&"-"&E$7),INDIRECT($A$7&"!A:D"),4,FALSE)+4)),"") | F11: =IFERROR(INDIRECT("第"&VLOOKUP(DATEVALUE($A$7&"-"&$A9&"-"&F$7),INDIRECT($A$7&"!A:D"),2,FALSE)&"周!"&ADDRESS(MATCH($A$5,INDIRECT("第"&VLOOKUP(DATEVALUE($A$7&"-"&$A9&"-"&F$7),INDIRECT($A$7&"!A:D"),2,FALSE)&"周!B:B"),0)+2,VLOOKUP(DATEVALUE($A$7&"-"&$A9&"-"&F$7),INDIRECT($A$7&"!A:D"),4,FALSE)+4)),"") | G11: =IFERROR(INDIRECT("第"&VLOOKUP(DATEVALUE($A$7&"-"&$A9&"-"&G$7),INDIRECT($A$7&"!A:D"),2,FALSE)&"周!"&ADDRESS(MATCH($A$5,INDIRECT("第"&VLOOKUP(DATEVALUE($A$7&"-"&$A9&"-"&G$7),INDIRECT($A$7&"!A:D"),2,FALSE)&"周!B:B"),0)+2,VLOOKUP(DATEVALUE($A$7&"-"&$A9&"-"&G$7),INDIRECT($A$7&"!A:D"),4,FALSE)+4)),"") | H11: =IFERROR(INDIRECT("第"&VLOOKUP(DATEVALUE($A$7&"-"&$A9&"-"&H$7),INDIRECT($A$7&"!A:D"),2,FALSE)&"周!"&ADDRESS(MATCH($A$5,INDIRECT("第"&VLOOKUP(DATEVALUE($A$7&"-"&$A9&"-"&H$7),INDIRECT($A$7&"!A:D"),2,FALSE)&"周!B:B"),0)+2,VLOOKUP(DATEVALUE($A$7&"-"&$A9&"-"&H$7),INDIRECT($A$7&"!A:D"),4,FALSE)+4)),"") | I11: =IFERROR(INDIRECT("第"&VLOOKUP(DATEVALUE($A$7&"-"&$A9&"-"&I$7),INDIRECT($A$7&"!A:D"),2,FALSE)&"周!"&ADDRESS(MATCH($A$5,INDIRECT("第"&VLOOKUP(DATEVALUE($A$7&"-"&$A9&"-"&I$7),INDIRECT($A$7&"!A:D"),2,FALSE)&"周!B:B"),0)+2,VLOOKUP(DATEVALUE($A$7&"-"&$A9&"-"&I$7),INDIRECT($A$7&"!A:D"),4,FALSE)+4)),"") | J11: =IFERROR(INDIRECT("第"&VLOOKUP(DATEVALUE($A$7&"-"&$A9&"-"&J$7),INDIRECT($A$7&"!A:D"),2,FALSE)&"周!"&ADDRESS(MATCH($A$5,INDIRECT("第"&VLOOKUP(DATEVALUE($A$7&"-"&$A9&"-"&J$7),INDIRECT($A$7&"!A:D"),2,FALSE)&"周!B:B"),0)+2,VLOOKUP(DATEVALUE($A$7&"-"&$A9&"-"&J$7),INDIRECT($A$7&"!A:D"),4,FALSE)+4)),"") | K11: =IFERROR(INDIRECT("第"&VLOOKUP(DATEVALUE($A$7&"-"&$A9&"-"&K$7),INDIRECT($A$7&"!A:D"),2,FALSE)&"周!"&ADDRESS(MATCH($A$5,INDIRECT("第"&VLOOKUP(DATEVALUE($A$7&"-"&$A9&"-"&K$7),INDIRECT($A$7&"!A:D"),2,FALSE)&"周!B:B"),0)+2,VLOOKUP(DATEVALUE($A$7&"-"&$A9&"-"&K$7),INDIRECT($A$7&"!A:D"),4,FALSE)+4)),"") | ... AH11: =IFERROR(INDIRECT("第"&VLOOKUP(DATEVALUE($A$7&"-"&$A9&"-"&AH$7),INDIRECT($A$7&"!A:D"),2,FALSE)&"周!"&ADDRESS(MATCH($A$5,INDIRECT("第"&VLOOKUP(DATEVALUE($A$7&"-"&$A9&"-"&AH$7),INDIRECT($A$7&"!A:D"),2,FALSE)&"周!B:B"),0)+2,VLOOKUP(DATEVALUE($A$7&"-"&$A9&"-"&AH$7),INDIRECT($A$7&"!A:D"),4,FALSE)+4)),"")
A12: 2 | B12: =A12&"月" -> 2月 | C12: 上午 | D12: =IFERROR(INDIRECT("第"&VLOOKUP(DATEVALUE($A$7&"-"&$A12&"-"&D$7),INDIRECT($A$7&"!A:D"),2,FALSE)&"周!"&ADDRESS(MATCH($A$5,INDIRECT("第"&VLOOKUP(DATEVALUE($A$7&"-"&$A12&"-"&D$7),INDIRECT($A$7&"!A:D"),2,FALSE)&"周!B:B"),0),VLOOKUP(DATEVALUE($A$7&"-"&$A12&"-"&D$7),INDIRECT($A$7&"!A:D"),4,FALSE)+4)),"") | E12: =IFERROR(INDIRECT("第"&VLOOKUP(DATEVALUE($A$7&"-"&$A12&"-"&E$7),INDIRECT($A$7&"!A:D"),2,FALSE)&"周!"&ADDRESS(MATCH($A$5,INDIRECT("第"&VLOOKUP(DATEVALUE($A$7&"-"&$A12&"-"&E$7),INDIRECT($A$7&"!A:D"),2,FALSE)&"周!B:B"),0),VLOOKUP(DATEVALUE($A$7&"-"&$A12&"-"&E$7),INDIRECT($A$7&"!A:D"),4,FALSE)+4)),"") | F12: =IFERROR(INDIRECT("第"&VLOOKUP(DATEVALUE($A$7&"-"&$A12&"-"&F$7),INDIRECT($A$7&"!A:D"),2,FALSE)&"周!"&ADDRESS(MATCH($A$5,INDIRECT("第"&VLOOKUP(DATEVALUE($A$7&"-"&$A12&"-"&F$7),INDIRECT($A$7&"!A:D"),2,FALSE)&"周!B:B"),0),VLOOKUP(DATEVALUE($A$7&"-"&$A12&"-"&F$7),INDIRECT($A$7&"!A:D"),4,FALSE)+4)),"") | G12: =IFERROR(INDIRECT("第"&VLOOKUP(DATEVALUE($A$7&"-"&$A12&"-"&G$7),INDIRECT($A$7&"!A:D"),2,FALSE)&"周!"&ADDRESS(MATCH($A$5,INDIRECT("第"&VLOOKUP(DATEVALUE($A$7&"-"&$A12&"-"&G$7),INDIRECT($A$7&"!A:D"),2,FALSE)&"周!B:B"),0),VLOOKUP(DATEVALUE($A$7&"-"&$A12&"-"&G$7),INDIRECT($A$7&"!A:D"),4,FALSE)+4)),"") | H12: =IFERROR(INDIRECT("第"&VLOOKUP(DATEVALUE($A$7&"-"&$A12&"-"&H$7),INDIRECT($A$7&"!A:D"),2,FALSE)&"周!"&ADDRESS(MATCH($A$5,INDIRECT("第"&VLOOKUP(DATEVALUE($A$7&"-"&$A12&"-"&H$7),INDIRECT($A$7&"!A:D"),2,FALSE)&"周!B:B"),0),VLOOKUP(DATEVALUE($A$7&"-"&$A12&"-"&H$7),INDIRECT($A$7&"!A:D"),4,FALSE)+4)),"") | I12: =IFERROR(INDIRECT("第"&VLOOKUP(DATEVALUE($A$7&"-"&$A12&"-"&I$7),INDIRECT($A$7&"!A:D"),2,FALSE)&"周!"&ADDRESS(MATCH($A$5,INDIRECT("第"&VLOOKUP(DATEVALUE($A$7&"-"&$A12&"-"&I$7),INDIRECT($A$7&"!A:D"),2,FALSE)&"周!B:B"),0),VLOOKUP(DATEVALUE($A$7&"-"&$A12&"-"&I$7),INDIRECT($A$7&"!A:D"),4,FALSE)+4)),"") | J12: =IFERROR(INDIRECT("第"&VLOOKUP(DATEVALUE($A$7&"-"&$A12&"-"&J$7),INDIRECT($A$7&"!A:D"),2,FALSE)&"周!"&ADDRESS(MATCH($A$5,INDIRECT("第"&VLOOKUP(DATEVALUE($A$7&"-"&$A12&"-"&J$7),INDIRECT($A$7&"!A:D"),2,FALSE)&"周!B:B"),0),VLOOKUP(DATEVALUE($A$7&"-"&$A12&"-"&J$7),INDIRECT($A$7&"!A:D"),4,FALSE)+4)),"") | K12: =IFERROR(INDIRECT("第"&VLOOKUP(DATEVALUE($A$7&"-"&$A12&"-"&K$7),INDIRECT($A$7&"!A:D"),2,FALSE)&"周!"&ADDRESS(MATCH($A$5,INDIRECT("第"&VLOOKUP(DATEVALUE($A$7&"-"&$A12&"-"&K$7),INDIRECT($A$7&"!A:D"),2,FALSE)&"周!B:B"),0),VLOOKUP(DATEVALUE($A$7&"-"&$A12&"-"&K$7),INDIRECT($A$7&"!A:D"),4,FALSE)+4)),"") | ... AH12: =IFERROR(INDIRECT("第"&VLOOKUP(DATEVALUE($A$7&"-"&$A12&"-"&AH$7),INDIRECT($A$7&"!A:D"),2,FALSE)&"周!"&ADDRESS(MATCH($A$5,INDIRECT("第"&VLOOKUP(DATEVALUE($A$7&"-"&$A12&"-"&AH$7),INDIRECT($A$7&"!A:D"),2,FALSE)&"周!B:B"),0),VLOOKUP(DATEVALUE($A$7&"-"&$A12&"-"&AH$7),INDIRECT($A$7&"!A:D"),4,FALSE)+4)),"") | AI12: =COUNTIF($D12:$AH14,AI$8) -> 0 | AJ12: =COUNTIF($D12:$AH14,AJ$8) -> 0 | AK12: =COUNTIF($D12:$AH14,AK$8) -> 0 | AL12: =COUNTIF($D12:$AH14,AL$8) -> 0 | AM12: =COUNTIF($D12:$AH14,AM$8) -> 0 | AN12: =COUNTIF($D12:$AH14,AN$8) -> 0 | AO12: =COUNTIF($D12:$AH14,AO$8) -> 0 | AP12: =COUNTIF($D12:$AH14,AP$8) -> 0 | AQ12: =COUNTIF($D12:$AH14,AQ$8) -> 0
C13: 下午 | D13: =IFERROR(INDIRECT("第"&VLOOKUP(DATEVALUE($A$7&"-"&$A12&"-"&D$7),INDIRECT($A$7&"!A:D"),2,FALSE)&"周!"&ADDRESS(MATCH($A$5,INDIRECT("第"&VLOOKUP(DATEVALUE($A$7&"-"&$A12&"-"&D$7),INDIRECT($A$7&"!A:D"),2,FALSE)&"周!B:B"),0)+1,VLOOKUP(DATEVALUE($A$7&"-"&$A12&"-"&D$7),INDIRECT($A$7&"!A:D"),4,FALSE)+4)),"") | E13: =IFERROR(INDIRECT("第"&VLOOKUP(DATEVALUE($A$7&"-"&$A12&"-"&E$7),INDIRECT($A$7&"!A:D"),2,FALSE)&"周!"&ADDRESS(MATCH($A$5,INDIRECT("第"&VLOOKUP(DATEVALUE($A$7&"-"&$A12&"-"&E$7),INDIRECT($A$7&"!A:D"),2,FALSE)&"周!B:B"),0)+1,VLOOKUP(DATEVALUE($A$7&"-"&$A12&"-"&E$7),INDIRECT($A$7&"!A:D"),4,FALSE)+4)),"") | F13: =IFERROR(INDIRECT("第"&VLOOKUP(DATEVALUE($A$7&"-"&$A12&"-"&F$7),INDIRECT($A$7&"!A:D"),2,FALSE)&"周!"&ADDRESS(MATCH($A$5,INDIRECT("第"&VLOOKUP(DATEVALUE($A$7&"-"&$A12&"-"&F$7),INDIRECT($A$7&"!A:D"),2,FALSE)&"周!B:B"),0)+1,VLOOKUP(DATEVALUE($A$7&"-"&$A12&"-"&F$7),INDIRECT($A$7&"!A:D"),4,FALSE)+4)),"") | G13: =IFERROR(INDIRECT("第"&VLOOKUP(DATEVALUE($A$7&"-"&$A12&"-"&G$7),INDIRECT($A$7&"!A:D"),2,FALSE)&"周!"&ADDRESS(MATCH($A$5,INDIRECT("第"&VLOOKUP(DATEVALUE($A$7&"-"&$A12&"-"&G$7),INDIRECT($A$7&"!A:D"),2,FALSE)&"周!B:B"),0)+1,VLOOKUP(DATEVALUE($A$7&"-"&$A12&"-"&G$7),INDIRECT($A$7&"!A:D"),4,FALSE)+4)),"") | H13: =IFERROR(INDIRECT("第"&VLOOKUP(DATEVALUE($A$7&"-"&$A12&"-"&H$7),INDIRECT($A$7&"!A:D"),2,FALSE)&"周!"&ADDRESS(MATCH($A$5,INDIRECT("第"&VLOOKUP(DATEVALUE($A$7&"-"&$A12&"-"&H$7),INDIRECT($A$7&"!A:D"),2,FALSE)&"周!B:B"),0)+1,VLOOKUP(DATEVALUE($A$7&"-"&$A12&"-"&H$7),INDIRECT($A$7&"!A:D"),4,FALSE)+4)),"") | I13: =IFERROR(INDIRECT("第"&VLOOKUP(DATEVALUE($A$7&"-"&$A12&"-"&I$7),INDIRECT($A$7&"!A:D"),2,FALSE)&"周!"&ADDRESS(MATCH($A$5,INDIRECT("第"&VLOOKUP(DATEVALUE($A$7&"-"&$A12&"-"&I$7),INDIRECT($A$7&"!A:D"),2,FALSE)&"周!B:B"),0)+1,VLOOKUP(DATEVALUE($A$7&"-"&$A12&"-"&I$7),INDIRECT($A$7&"!A:D"),4,FALSE)+4)),"") | J13: =IFERROR(INDIRECT("第"&VLOOKUP(DATEVALUE($A$7&"-"&$A12&"-"&J$7),INDIRECT($A$7&"!A:D"),2,FALSE)&"周!"&ADDRESS(MATCH($A$5,INDIRECT("第"&VLOOKUP(DATEVALUE($A$7&"-"&$A12&"-"&J$7),INDIRECT($A$7&"!A:D"),2,FALSE)&"周!B:B"),0)+1,VLOOKUP(DATEVALUE($A$7&"-"&$A12&"-"&J$7),INDIRECT($A$7&"!A:D"),4,FALSE)+4)),"") | K13: =IFERROR(INDIRECT("第"&VLOOKUP(DATEVALUE($A$7&"-"&$A12&"-"&K$7),INDIRECT($A$7&"!A:D"),2,FALSE)&"周!"&ADDRESS(MATCH($A$5,INDIRECT("第"&VLOOKUP(DATEVALUE($A$7&"-"&$A12&"-"&K$7),INDIRECT($A$7&"!A:D"),2,FALSE)&"周!B:B"),0)+1,VLOOKUP(DATEVALUE($A$7&"-"&$A12&"-"&K$7),INDIRECT($A$7&"!A:D"),4,FALSE)+4)),"") | ... AH13: =IFERROR(INDIRECT("第"&VLOOKUP(DATEVALUE($A$7&"-"&$A12&"-"&AH$7),INDIRECT($A$7&"!A:D"),2,FALSE)&"周!"&ADDRESS(MATCH($A$5,INDIRECT("第"&VLOOKUP(DATEVALUE($A$7&"-"&$A12&"-"&AH$7),INDIRECT($A$7&"!A:D"),2,FALSE)&"周!B:B"),0)+1,VLOOKUP(DATEVALUE($A$7&"-"&$A12&"-"&AH$7),INDIRECT($A$7&"!A:D"),4,FALSE)+4)),"")
C14: 晚上 | D14: =IFERROR(INDIRECT("第"&VLOOKUP(DATEVALUE($A$7&"-"&$A12&"-"&D$7),INDIRECT($A$7&"!A:D"),2,FALSE)&"周!"&ADDRESS(MATCH($A$5,INDIRECT("第"&VLOOKUP(DATEVALUE($A$7&"-"&$A12&"-"&D$7),INDIRECT($A$7&"!A:D"),2,FALSE)&"周!B:B"),0)+2,VLOOKUP(DATEVALUE($A$7&"-"&$A12&"-"&D$7),INDIRECT($A$7&"!A:D"),4,FALSE)+4)),"") | E14: =IFERROR(INDIRECT("第"&VLOOKUP(DATEVALUE($A$7&"-"&$A12&"-"&E$7),INDIRECT($A$7&"!A:D"),2,FALSE)&"周!"&ADDRESS(MATCH($A$5,INDIRECT("第"&VLOOKUP(DATEVALUE($A$7&"-"&$A12&"-"&E$7),INDIRECT($A$7&"!A:D"),2,FALSE)&"周!B:B"),0)+2,VLOOKUP(DATEVALUE($A$7&"-"&$A12&"-"&E$7),INDIRECT($A$7&"!A:D"),4,FALSE)+4)),"") | F14: =IFERROR(INDIRECT("第"&VLOOKUP(DATEVALUE($A$7&"-"&$A12&"-"&F$7),INDIRECT($A$7&"!A:D"),2,FALSE)&"周!"&ADDRESS(MATCH($A$5,INDIRECT("第"&VLOOKUP(DATEVALUE($A$7&"-"&$A12&"-"&F$7),INDIRECT($A$7&"!A:D"),2,FALSE)&"周!B:B"),0)+2,VLOOKUP(DATEVALUE($A$7&"-"&$A12&"-"&F$7),INDIRECT($A$7&"!A:D"),4,FALSE)+4)),"") | G14: =IFERROR(INDIRECT("第"&VLOOKUP(DATEVALUE($A$7&"-"&$A12&"-"&G$7),INDIRECT($A$7&"!A:D"),2,FALSE)&"周!"&ADDRESS(MATCH($A$5,INDIRECT("第"&VLOOKUP(DATEVALUE($A$7&"-"&$A12&"-"&G$7),INDIRECT($A$7&"!A:D"),2,FALSE)&"周!B:B"),0)+2,VLOOKUP(DATEVALUE($A$7&"-"&$A12&"-"&G$7),INDIRECT($A$7&"!A:D"),4,FALSE)+4)),"") | H14: =IFERROR(INDIRECT("第"&VLOOKUP(DATEVALUE($A$7&"-"&$A12&"-"&H$7),INDIRECT($A$7&"!A:D"),2,FALSE)&"周!"&ADDRESS(MATCH($A$5,INDIRECT("第"&VLOOKUP(DATEVALUE($A$7&"-"&$A12&"-"&H$7),INDIRECT($A$7&"!A:D"),2,FALSE)&"周!B:B"),0)+2,VLOOKUP(DATEVALUE($A$7&"-"&$A12&"-"&H$7),INDIRECT($A$7&"!A:D"),4,FALSE)+4)),"") | I14: =IFERROR(INDIRECT("第"&VLOOKUP(DATEVALUE($A$7&"-"&$A12&"-"&I$7),INDIRECT($A$7&"!A:D"),2,FALSE)&"周!"&ADDRESS(MATCH($A$5,INDIRECT("第"&VLOOKUP(DATEVALUE($A$7&"-"&$A12&"-"&I$7),INDIRECT($A$7&"!A:D"),2,FALSE)&"周!B:B"),0)+2,VLOOKUP(DATEVALUE($A$7&"-"&$A12&"-"&I$7),INDIRECT($A$7&"!A:D"),4,FALSE)+4)),"") | J14: =IFERROR(INDIRECT("第"&VLOOKUP(DATEVALUE($A$7&"-"&$A12&"-"&J$7),INDIRECT($A$7&"!A:D"),2,FALSE)&"周!"&ADDRESS(MATCH($A$5,INDIRECT("第"&VLOOKUP(DATEVALUE($A$7&"-"&$A12&"-"&J$7),INDIRECT($A$7&"!A:D"),2,FALSE)&"周!B:B"),0)+2,VLOOKUP(DATEVALUE($A$7&"-"&$A12&"-"&J$7),INDIRECT($A$7&"!A:D"),4,FALSE)+4)),"") | K14: =IFERROR(INDIRECT("第"&VLOOKUP(DATEVALUE($A$7&"-"&$A12&"-"&K$7),INDIRECT($A$7&"!A:D"),2,FALSE)&"周!"&ADDRESS(MATCH($A$5,INDIRECT("第"&VLOOKUP(DATEVALUE($A$7&"-"&$A12&"-"&K$7),INDIRECT($A$7&"!A:D"),2,FALSE)&"周!B:B"),0)+2,VLOOKUP(DATEVALUE($A$7&"-"&$A12&"-"&K$7),INDIRECT($A$7&"!A:D"),4,FALSE)+4)),"") | ... AH14: =IFERROR(INDIRECT("第"&VLOOKUP(DATEVALUE($A$7&"-"&$A12&"-"&AH$7),INDIRECT($A$7&"!A:D"),2,FALSE)&"周!"&ADDRESS(MATCH($A$5,INDIRECT("第"&VLOOKUP(DATEVALUE($A$7&"-"&$A12&"-"&AH$7),INDIRECT($A$7&"!A:D"),2,FALSE)&"周!B:B"),0)+2,VLOOKUP(DATEVALUE($A$7&"-"&$A12&"-"&AH$7),INDIRECT($A$7&"!A:D"),4,FALSE)+4)),"")
A15: 3 | B15: =A15&"月" -> 3月 | C15: 上午 | D15: =IFERROR(INDIRECT("第"&VLOOKUP(DATEVALUE($A$7&"-"&$A15&"-"&D$7),INDIRECT($A$7&"!A:D"),2,FALSE)&"周!"&ADDRESS(MATCH($A$5,INDIRECT("第"&VLOOKUP(DATEVALUE($A$7&"-"&$A15&"-"&D$7),INDIRECT($A$7&"!A:D"),2,FALSE)&"周!B:B"),0),VLOOKUP(DATEVALUE($A$7&"-"&$A15&"-"&D$7),INDIRECT($A$7&"!A:D"),4,FALSE)+4)),"") | E15: =IFERROR(INDIRECT("第"&VLOOKUP(DATEVALUE($A$7&"-"&$A15&"-"&E$7),INDIRECT($A$7&"!A:D"),2,FALSE)&"周!"&ADDRESS(MATCH($A$5,INDIRECT("第"&VLOOKUP(DATEVALUE($A$7&"-"&$A15&"-"&E$7),INDIRECT($A$7&"!A:D"),2,FALSE)&"周!B:B"),0),VLOOKUP(DATEVALUE($A$7&"-"&$A15&"-"&E$7),INDIRECT($A$7&"!A:D"),4,FALSE)+4)),"") | F15: =IFERROR(INDIRECT("第"&VLOOKUP(DATEVALUE($A$7&"-"&$A15&"-"&F$7),INDIRECT($A$7&"!A:D"),2,FALSE)&"周!"&ADDRESS(MATCH($A$5,INDIRECT("第"&VLOOKUP(DATEVALUE($A$7&"-"&$A15&"-"&F$7),INDIRECT($A$7&"!A:D"),2,FALSE)&"周!B:B"),0),VLOOKUP(DATEVALUE($A$7&"-"&$A15&"-"&F$7),INDIRECT($A$7&"!A:D"),4,FALSE)+4)),"") | G15: =IFERROR(INDIRECT("第"&VLOOKUP(DATEVALUE($A$7&"-"&$A15&"-"&G$7),INDIRECT($A$7&"!A:D"),2,FALSE)&"周!"&ADDRESS(MATCH($A$5,INDIRECT("第"&VLOOKUP(DATEVALUE($A$7&"-"&$A15&"-"&G$7),INDIRECT($A$7&"!A:D"),2,FALSE)&"周!B:B"),0),VLOOKUP(DATEVALUE($A$7&"-"&$A15&"-"&G$7),INDIRECT($A$7&"!A:D"),4,FALSE)+4)),"") | H15: =IFERROR(INDIRECT("第"&VLOOKUP(DATEVALUE($A$7&"-"&$A15&"-"&H$7),INDIRECT($A$7&"!A:D"),2,FALSE)&"周!"&ADDRESS(MATCH($A$5,INDIRECT("第"&VLOOKUP(DATEVALUE($A$7&"-"&$A15&"-"&H$7),INDIRECT($A$7&"!A:D"),2,FALSE)&"周!B:B"),0),VLOOKUP(DATEVALUE($A$7&"-"&$A15&"-"&H$7),INDIRECT($A$7&"!A:D"),4,FALSE)+4)),"") | I15: =IFERROR(INDIRECT("第"&VLOOKUP(DATEVALUE($A$7&"-"&$A15&"-"&I$7),INDIRECT($A$7&"!A:D"),2,FALSE)&"周!"&ADDRESS(MATCH($A$5,INDIRECT("第"&VLOOKUP(DATEVALUE($A$7&"-"&$A15&"-"&I$7),INDIRECT($A$7&"!A:D"),2,FALSE)&"周!B:B"),0),VLOOKUP(DATEVALUE($A$7&"-"&$A15&"-"&I$7),INDIRECT($A$7&"!A:D"),4,FALSE)+4)),"") | J15: =IFERROR(INDIRECT("第"&VLOOKUP(DATEVALUE($A$7&"-"&$A15&"-"&J$7),INDIRECT($A$7&"!A:D"),2,FALSE)&"周!"&ADDRESS(MATCH($A$5,INDIRECT("第"&VLOOKUP(DATEVALUE($A$7&"-"&$A15&"-"&J$7),INDIRECT($A$7&"!A:D"),2,FALSE)&"周!B:B"),0),VLOOKUP(DATEVALUE($A$7&"-"&$A15&"-"&J$7),INDIRECT($A$7&"!A:D"),4,FALSE)+4)),"") | K15: =IFERROR(INDIRECT("第"&VLOOKUP(DATEVALUE($A$7&"-"&$A15&"-"&K$7),INDIRECT($A$7&"!A:D"),2,FALSE)&"周!"&ADDRESS(MATCH($A$5,INDIRECT("第"&VLOOKUP(DATEVALUE($A$7&"-"&$A15&"-"&K$7),INDIRECT($A$7&"!A:D"),2,FALSE)&"周!B:B"),0),VLOOKUP(DATEVALUE($A$7&"-"&$A15&"-"&K$7),INDIRECT($A$7&"!A:D"),4,FALSE)+4)),"") | ... AH15: =IFERROR(INDIRECT("第"&VLOOKUP(DATEVALUE($A$7&"-"&$A15&"-"&AH$7),INDIRECT($A$7&"!A:D"),2,FALSE)&"周!"&ADDRESS(MATCH($A$5,INDIRECT("第"&VLOOKUP(DATEVALUE($A$7&"-"&$A15&"-"&AH$7),INDIRECT($A$7&"!A:D"),2,FALSE)&"周!B:B"),0),VLOOKUP(DATEVALUE($A$7&"-"&$A15&"-"&AH$7),INDIRECT($A$7&"!A:D"),4,FALSE)+4)),"") | AI15: =COUNTIF($D15:$AH17,AI$8) -> 0 | AJ15: =COUNTIF($D15:$AH17,AJ$8) -> 0 | AK15: =COUNTIF($D15:$AH17,AK$8) -> 0 | AL15: =COUNTIF($D15:$AH17,AL$8) -> 0 | AM15: =COUNTIF($D15:$AH17,AM$8) -> 0 | AN15: =COUNTIF($D15:$AH17,AN$8) -> 0 | AO15: =COUNTIF($D15:$AH17,AO$8) -> 0 | AP15: =COUNTIF($D15:$AH17,AP$8) -> 0 | AQ15: =COUNTIF($D15:$AH17,AQ$8) -> 0
C16: 下午 | D16: =IFERROR(INDIRECT("第"&VLOOKUP(DATEVALUE($A$7&"-"&$A15&"-"&D$7),INDIRECT($A$7&"!A:D"),2,FALSE)&"周!"&ADDRESS(MATCH($A$5,INDIRECT("第"&VLOOKUP(DATEVALUE($A$7&"-"&$A15&"-"&D$7),INDIRECT($A$7&"!A:D"),2,FALSE)&"周!B:B"),0)+1,VLOOKUP(DATEVALUE($A$7&"-"&$A15&"-"&D$7),INDIRECT($A$7&"!A:D"),4,FALSE)+4)),"") | E16: =IFERROR(INDIRECT("第"&VLOOKUP(DATEVALUE($A$7&"-"&$A15&"-"&E$7),INDIRECT($A$7&"!A:D"),2,FALSE)&"周!"&ADDRESS(MATCH($A$5,INDIRECT("第"&VLOOKUP(DATEVALUE($A$7&"-"&$A15&"-"&E$7),INDIRECT($A$7&"!A:D"),2,FALSE)&"周!B:B"),0)+1,VLOOKUP(DATEVALUE($A$7&"-"&$A15&"-"&E$7),INDIRECT($A$7&"!A:D"),4,FALSE)+4)),"") | F16: =IFERROR(INDIRECT("第"&VLOOKUP(DATEVALUE($A$7&"-"&$A15&"-"&F$7),INDIRECT($A$7&"!A:D"),2,FALSE)&"周!"&ADDRESS(MATCH($A$5,INDIRECT("第"&VLOOKUP(DATEVALUE($A$7&"-"&$A15&"-"&F$7),INDIRECT($A$7&"!A:D"),2,FALSE)&"周!B:B"),0)+1,VLOOKUP(DATEVALUE($A$7&"-"&$A15&"-"&F$7),INDIRECT($A$7&"!A:D"),4,FALSE)+4)),"") | G16: =IFERROR(INDIRECT("第"&VLOOKUP(DATEVALUE($A$7&"-"&$A15&"-"&G$7),INDIRECT($A$7&"!A:D"),2,FALSE)&"周!"&ADDRESS(MATCH($A$5,INDIRECT("第"&VLOOKUP(DATEVALUE($A$7&"-"&$A15&"-"&G$7),INDIRECT($A$7&"!A:D"),2,FALSE)&"周!B:B"),0)+1,VLOOKUP(DATEVALUE($A$7&"-"&$A15&"-"&G$7),INDIRECT($A$7&"!A:D"),4,FALSE)+4)),"") | H16: =IFERROR(INDIRECT("第"&VLOOKUP(DATEVALUE($A$7&"-"&$A15&"-"&H$7),INDIRECT($A$7&"!A:D"),2,FALSE)&"周!"&ADDRESS(MATCH($A$5,INDIRECT("第"&VLOOKUP(DATEVALUE($A$7&"-"&$A15&"-"&H$7),INDIRECT($A$7&"!A:D"),2,FALSE)&"周!B:B"),0)+1,VLOOKUP(DATEVALUE($A$7&"-"&$A15&"-"&H$7),INDIRECT($A$7&"!A:D"),4,FALSE)+4)),"") | I16: =IFERROR(INDIRECT("第"&VLOOKUP(DATEVALUE($A$7&"-"&$A15&"-"&I$7),INDIRECT($A$7&"!A:D"),2,FALSE)&"周!"&ADDRESS(MATCH($A$5,INDIRECT("第"&VLOOKUP(DATEVALUE($A$7&"-"&$A15&"-"&I$7),INDIRECT($A$7&"!A:D"),2,FALSE)&"周!B:B"),0)+1,VLOOKUP(DATEVALUE($A$7&"-"&$A15&"-"&I$7),INDIRECT($A$7&"!A:D"),4,FALSE)+4)),"") | J16: =IFERROR(INDIRECT("第"&VLOOKUP(DATEVALUE($A$7&"-"&$A15&"-"&J$7),INDIRECT($A$7&"!A:D"),2,FALSE)&"周!"&ADDRESS(MATCH($A$5,INDIRECT("第"&VLOOKUP(DATEVALUE($A$7&"-"&$A15&"-"&J$7),INDIRECT($A$7&"!A:D"),2,FALSE)&"周!B:B"),0)+1,VLOOKUP(DATEVALUE($A$7&"-"&$A15&"-"&J$7),INDIRECT($A$7&"!A:D"),4,FALSE)+4)),"") | K16: =IFERROR(INDIRECT("第"&VLOOKUP(DATEVALUE($A$7&"-"&$A15&"-"&K$7),INDIRECT($A$7&"!A:D"),2,FALSE)&"周!"&ADDRESS(MATCH($A$5,INDIRECT("第"&VLOOKUP(DATEVALUE($A$7&"-"&$A15&"-"&K$7),INDIRECT($A$7&"!A:D"),2,FALSE)&"周!B:B"),0)+1,VLOOKUP(DATEVALUE($A$7&"-"&$A15&"-"&K$7),INDIRECT($A$7&"!A:D"),4,FALSE)+4)),"") | ... AH16: =IFERROR(INDIRECT("第"&VLOOKUP(DATEVALUE($A$7&"-"&$A15&"-"&AH$7),INDIRECT($A$7&"!A:D"),2,FALSE)&"周!"&ADDRESS(MATCH($A$5,INDIRECT("第"&VLOOKUP(DATEVALUE($A$7&"-"&$A15&"-"&AH$7),INDIRECT($A$7&"!A:D"),2,FALSE)&"周!B:B"),0)+1,VLOOKUP(DATEVALUE($A$7&"-"&$A15&"-"&AH$7),INDIRECT($A$7&"!A:D"),4,FALSE)+4)),"")
C17: 晚上 | D17: =IFERROR(INDIRECT("第"&VLOOKUP(DATEVALUE($A$7&"-"&$A15&"-"&D$7),INDIRECT($A$7&"!A:D"),2,FALSE)&"周!"&ADDRESS(MATCH($A$5,INDIRECT("第"&VLOOKUP(DATEVALUE($A$7&"-"&$A15&"-"&D$7),INDIRECT($A$7&"!A:D"),2,FALSE)&"周!B:B"),0)+2,VLOOKUP(DATEVALUE($A$7&"-"&$A15&"-"&D$7),INDIRECT($A$7&"!A:D"),4,FALSE)+4)),"") | E17: =IFERROR(INDIRECT("第"&VLOOKUP(DATEVALUE($A$7&"-"&$A15&"-"&E$7),INDIRECT($A$7&"!A:D"),2,FALSE)&"周!"&ADDRESS(MATCH($A$5,INDIRECT("第"&VLOOKUP(DATEVALUE($A$7&"-"&$A15&"-"&E$7),INDIRECT($A$7&"!A:D"),2,FALSE)&"周!B:B"),0)+2,VLOOKUP(DATEVALUE($A$7&"-"&$A15&"-"&E$7),INDIRECT($A$7&"!A:D"),4,FALSE)+4)),"") | F17: =IFERROR(INDIRECT("第"&VLOOKUP(DATEVALUE($A$7&"-"&$A15&"-"&F$7),INDIRECT($A$7&"!A:D"),2,FALSE)&"周!"&ADDRESS(MATCH($A$5,INDIRECT("第"&VLOOKUP(DATEVALUE($A$7&"-"&$A15&"-"&F$7),INDIRECT($A$7&"!A:D"),2,FALSE)&"周!B:B"),0)+2,VLOOKUP(DATEVALUE($A$7&"-"&$A15&"-"&F$7),INDIRECT($A$7&"!A:D"),4,FALSE)+4)),"") | G17: =IFERROR(INDIRECT("第"&VLOOKUP(DATEVALUE($A$7&"-"&$A15&"-"&G$7),INDIRECT($A$7&"!A:D"),2,FALSE)&"周!"&ADDRESS(MATCH($A$5,INDIRECT("第"&VLOOKUP(DATEVALUE($A$7&"-"&$A15&"-"&G$7),INDIRECT($A$7&"!A:D"),2,FALSE)&"周!B:B"),0)+2,VLOOKUP(DATEVALUE($A$7&"-"&$A15&"-"&G$7),INDIRECT($A$7&"!A:D"),4,FALSE)+4)),"") | H17: =IFERROR(INDIRECT("第"&VLOOKUP(DATEVALUE($A$7&"-"&$A15&"-"&H$7),INDIRECT($A$7&"!A:D"),2,FALSE)&"周!"&ADDRESS(MATCH($A$5,INDIRECT("第"&VLOOKUP(DATEVALUE($A$7&"-"&$A15&"-"&H$7),INDIRECT($A$7&"!A:D"),2,FALSE)&"周!B:B"),0)+2,VLOOKUP(DATEVALUE($A$7&"-"&$A15&"-"&H$7),INDIRECT($A$7&"!A:D"),4,FALSE)+4)),"") | I17: =IFERROR(INDIRECT("第"&VLOOKUP(DATEVALUE($A$7&"-"&$A15&"-"&I$7),INDIRECT($A$7&"!A:D"),2,FALSE)&"周!"&ADDRESS(MATCH($A$5,INDIRECT("第"&VLOOKUP(DATEVALUE($A$7&"-"&$A15&"-"&I$7),INDIRECT($A$7&"!A:D"),2,FALSE)&"周!B:B"),0)+2,VLOOKUP(DATEVALUE($A$7&"-"&$A15&"-"&I$7),INDIRECT($A$7&"!A:D"),4,FALSE)+4)),"") | J17: =IFERROR(INDIRECT("第"&VLOOKUP(DATEVALUE($A$7&"-"&$A15&"-"&J$7),INDIRECT($A$7&"!A:D"),2,FALSE)&"周!"&ADDRESS(MATCH($A$5,INDIRECT("第"&VLOOKUP(DATEVALUE($A$7&"-"&$A15&"-"&J$7),INDIRECT($A$7&"!A:D"),2,FALSE)&"周!B:B"),0)+2,VLOOKUP(DATEVALUE($A$7&"-"&$A15&"-"&J$7),INDIRECT($A$7&"!A:D"),4,FALSE)+4)),"") | K17: =IFERROR(INDIRECT("第"&VLOOKUP(DATEVALUE($A$7&"-"&$A15&"-"&K$7),INDIRECT($A$7&"!A:D"),2,FALSE)&"周!"&ADDRESS(MATCH($A$5,INDIRECT("第"&VLOOKUP(DATEVALUE($A$7&"-"&$A15&"-"&K$7),INDIRECT($A$7&"!A:D"),2,FALSE)&"周!B:B"),0)+2,VLOOKUP(DATEVALUE($A$7&"-"&$A15&"-"&K$7),INDIRECT($A$7&"!A:D"),4,FALSE)+4)),"") | ... AH17: =IFERROR(INDIRECT("第"&VLOOKUP(DATEVALUE($A$7&"-"&$A15&"-"&AH$7),INDIRECT($A$7&"!A:D"),2,FALSE)&"周!"&ADDRESS(MATCH($A$5,INDIRECT("第"&VLOOKUP(DATEVALUE($A$7&"-"&$A15&"-"&AH$7),INDIRECT($A$7&"!A:D"),2,FALSE)&"周!B:B"),0)+2,VLOOKUP(DATEVALUE($A$7&"-"&$A15&"-"&AH$7),INDIRECT($A$7&"!A:D"),4,FALSE)+4)),"")
A18: 4 | B18: =A18&"月" -> 4月 | C18: 上午 | D18: =IFERROR(INDIRECT("第"&VLOOKUP(DATEVALUE($A$7&"-"&$A18&"-"&D$7),INDIRECT($A$7&"!A:D"),2,FALSE)&"周!"&ADDRESS(MATCH($A$5,INDIRECT("第"&VLOOKUP(DATEVALUE($A$7&"-"&$A18&"-"&D$7),INDIRECT($A$7&"!A:D"),2,FALSE)&"周!B:B"),0),VLOOKUP(DATEVALUE($A$7&"-"&$A18&"-"&D$7),INDIRECT($A$7&"!A:D"),4,FALSE)+4)),"") | E18: =IFERROR(INDIRECT("第"&VLOOKUP(DATEVALUE($A$7&"-"&$A18&"-"&E$7),INDIRECT($A$7&"!A:D"),2,FALSE)&"周!"&ADDRESS(MATCH($A$5,INDIRECT("第"&VLOOKUP(DATEVALUE($A$7&"-"&$A18&"-"&E$7),INDIRECT($A$7&"!A:D"),2,FALSE)&"周!B:B"),0),VLOOKUP(DATEVALUE($A$7&"-"&$A18&"-"&E$7),INDIRECT($A$7&"!A:D"),4,FALSE)+4)),"") | F18: =IFERROR(INDIRECT("第"&VLOOKUP(DATEVALUE($A$7&"-"&$A18&"-"&F$7),INDIRECT($A$7&"!A:D"),2,FALSE)&"周!"&ADDRESS(MATCH($A$5,INDIRECT("第"&VLOOKUP(DATEVALUE($A$7&"-"&$A18&"-"&F$7),INDIRECT($A$7&"!A:D"),2,FALSE)&"周!B:B"),0),VLOOKUP(DATEVALUE($A$7&"-"&$A18&"-"&F$7),INDIRECT($A$7&"!A:D"),4,FALSE)+4)),"") | G18: =IFERROR(INDIRECT("第"&VLOOKUP(DATEVALUE($A$7&"-"&$A18&"-"&G$7),INDIRECT($A$7&"!A:D"),2,FALSE)&"周!"&ADDRESS(MATCH($A$5,INDIRECT("第"&VLOOKUP(DATEVALUE($A$7&"-"&$A18&"-"&G$7),INDIRECT($A$7&"!A:D"),2,FALSE)&"周!B:B"),0),VLOOKUP(DATEVALUE($A$7&"-"&$A18&"-"&G$7),INDIRECT($A$7&"!A:D"),4,FALSE)+4)),"") | H18: =IFERROR(INDIRECT("第"&VLOOKUP(DATEVALUE($A$7&"-"&$A18&"-"&H$7),INDIRECT($A$7&"!A:D"),2,FALSE)&"周!"&ADDRESS(MATCH($A$5,INDIRECT("第"&VLOOKUP(DATEVALUE($A$7&"-"&$A18&"-"&H$7),INDIRECT($A$7&"!A:D"),2,FALSE)&"周!B:B"),0),VLOOKUP(DATEVALUE($A$7&"-"&$A18&"-"&H$7),INDIRECT($A$7&"!A:D"),4,FALSE)+4)),"") | I18: =IFERROR(INDIRECT("第"&VLOOKUP(DATEVALUE($A$7&"-"&$A18&"-"&I$7),INDIRECT($A$7&"!A:D"),2,FALSE)&"周!"&ADDRESS(MATCH($A$5,INDIRECT("第"&VLOOKUP(DATEVALUE($A$7&"-"&$A18&"-"&I$7),INDIRECT($A$7&"!A:D"),2,FALSE)&"周!B:B"),0),VLOOKUP(DATEVALUE($A$7&"-"&$A18&"-"&I$7),INDIRECT($A$7&"!A:D"),4,FALSE)+4)),"") | J18: =IFERROR(INDIRECT("第"&VLOOKUP(DATEVALUE($A$7&"-"&$A18&"-"&J$7),INDIRECT($A$7&"!A:D"),2,FALSE)&"周!"&ADDRESS(MATCH($A$5,INDIRECT("第"&VLOOKUP(DATEVALUE($A$7&"-"&$A18&"-"&J$7),INDIRECT($A$7&"!A:D"),2,FALSE)&"周!B:B"),0),VLOOKUP(DATEVALUE($A$7&"-"&$A18&"-"&J$7),INDIRECT($A$7&"!A:D"),4,FALSE)+4)),"") | K18: =IFERROR(INDIRECT("第"&VLOOKUP(DATEVALUE($A$7&"-"&$A18&"-"&K$7),INDIRECT($A$7&"!A:D"),2,FALSE)&"周!"&ADDRESS(MATCH($A$5,INDIRECT("第"&VLOOKUP(DATEVALUE($A$7&"-"&$A18&"-"&K$7),INDIRECT($A$7&"!A:D"),2,FALSE)&"周!B:B"),0),VLOOKUP(DATEVALUE($A$7&"-"&$A18&"-"&K$7),INDIRECT($A$7&"!A:D"),4,FALSE)+4)),"") | ... AH18: =IFERROR(INDIRECT("第"&VLOOKUP(DATEVALUE($A$7&"-"&$A18&"-"&AH$7),INDIRECT($A$7&"!A:D"),2,FALSE)&"周!"&ADDRESS(MATCH($A$5,INDIRECT("第"&VLOOKUP(DATEVALUE($A$7&"-"&$A18&"-"&AH$7),INDIRECT($A$7&"!A:D"),2,FALSE)&"周!B:B"),0),VLOOKUP(DATEVALUE($A$7&"-"&$A18&"-"&AH$7),INDIRECT($A$7&"!A:D"),4,FALSE)+4)),"") | AI18: =COUNTIF($D18:$AH20,AI$8) -> 0 | AJ18: =COUNTIF($D18:$AH20,AJ$8) -> 0 | AK18: =COUNTIF($D18:$AH20,AK$8) -> 0 | AL18: =COUNTIF($D18:$AH20,AL$8) -> 0 | AM18: =COUNTIF($D18:$AH20,AM$8) -> 0 | AN18: =COUNTIF($D18:$AH20,AN$8) -> 0 | AO18: =COUNTIF($D18:$AH20,AO$8) -> 0 | AP18: =COUNTIF($D18:$AH20,AP$8) -> 0 | AQ18: =COUNTIF($D18:$AH20,AQ$8) -> 0
C19: 下午 | D19: =IFERROR(INDIRECT("第"&VLOOKUP(DATEVALUE($A$7&"-"&$A18&"-"&D$7),INDIRECT($A$7&"!A:D"),2,FALSE)&"周!"&ADDRESS(MATCH($A$5,INDIRECT("第"&VLOOKUP(DATEVALUE($A$7&"-"&$A18&"-"&D$7),INDIRECT($A$7&"!A:D"),2,FALSE)&"周!B:B"),0)+1,VLOOKUP(DATEVALUE($A$7&"-"&$A18&"-"&D$7),INDIRECT($A$7&"!A:D"),4,FALSE)+4)),"") | E19: =IFERROR(INDIRECT("第"&VLOOKUP(DATEVALUE($A$7&"-"&$A18&"-"&E$7),INDIRECT($A$7&"!A:D"),2,FALSE)&"周!"&ADDRESS(MATCH($A$5,INDIRECT("第"&VLOOKUP(DATEVALUE($A$7&"-"&$A18&"-"&E$7),INDIRECT($A$7&"!A:D"),2,FALSE)&"周!B:B"),0)+1,VLOOKUP(DATEVALUE($A$7&"-"&$A18&"-"&E$7),INDIRECT($A$7&"!A:D"),4,FALSE)+4)),"") | F19: =IFERROR(INDIRECT("第"&VLOOKUP(DATEVALUE($A$7&"-"&$A18&"-"&F$7),INDIRECT($A$7&"!A:D"),2,FALSE)&"周!"&ADDRESS(MATCH($A$5,INDIRECT("第"&VLOOKUP(DATEVALUE($A$7&"-"&$A18&"-"&F$7),INDIRECT($A$7&"!A:D"),2,FALSE)&"周!B:B"),0)+1,VLOOKUP(DATEVALUE($A$7&"-"&$A18&"-"&F$7),INDIRECT($A$7&"!A:D"),4,FALSE)+4)),"") | G19: =IFERROR(INDIRECT("第"&VLOOKUP(DATEVALUE($A$7&"-"&$A18&"-"&G$7),INDIRECT($A$7&"!A:D"),2,FALSE)&"周!"&ADDRESS(MATCH($A$5,INDIRECT("第"&VLOOKUP(DATEVALUE($A$7&"-"&$A18&"-"&G$7),INDIRECT($A$7&"!A:D"),2,FALSE)&"周!B:B"),0)+1,VLOOKUP(DATEVALUE($A$7&"-"&$A18&"-"&G$7),INDIRECT($A$7&"!A:D"),4,FALSE)+4)),"") | H19: =IFERROR(INDIRECT("第"&VLOOKUP(DATEVALUE($A$7&"-"&$A18&"-"&H$7),INDIRECT($A$7&"!A:D"),2,FALSE)&"周!"&ADDRESS(MATCH($A$5,INDIRECT("第"&VLOOKUP(DATEVALUE($A$7&"-"&$A18&"-"&H$7),INDIRECT($A$7&"!A:D"),2,FALSE)&"周!B:B"),0)+1,VLOOKUP(DATEVALUE($A$7&"-"&$A18&"-"&H$7),INDIRECT($A$7&"!A:D"),4,FALSE)+4)),"") | I19: =IFERROR(INDIRECT("第"&VLOOKUP(DATEVALUE($A$7&"-"&$A18&"-"&I$7),INDIRECT($A$7&"!A:D"),2,FALSE)&"周!"&ADDRESS(MATCH($A$5,INDIRECT("第"&VLOOKUP(DATEVALUE($A$7&"-"&$A18&"-"&I$7),INDIRECT($A$7&"!A:D"),2,FALSE)&"周!B:B"),0)+1,VLOOKUP(DATEVALUE($A$7&"-"&$A18&"-"&I$7),INDIRECT($A$7&"!A:D"),4,FALSE)+4)),"") | J19: =IFERROR(INDIRECT("第"&VLOOKUP(DATEVALUE($A$7&"-"&$A18&"-"&J$7),INDIRECT($A$7&"!A:D"),2,FALSE)&"周!"&ADDRESS(MATCH($A$5,INDIRECT("第"&VLOOKUP(DATEVALUE($A$7&"-"&$A18&"-"&J$7),INDIRECT($A$7&"!A:D"),2,FALSE)&"周!B:B"),0)+1,VLOOKUP(DATEVALUE($A$7&"-"&$A18&"-"&J$7),INDIRECT($A$7&"!A:D"),4,FALSE)+4)),"") | K19: =IFERROR(INDIRECT("第"&VLOOKUP(DATEVALUE($A$7&"-"&$A18&"-"&K$7),INDIRECT($A$7&"!A:D"),2,FALSE)&"周!"&ADDRESS(MATCH($A$5,INDIRECT("第"&VLOOKUP(DATEVALUE($A$7&"-"&$A18&"-"&K$7),INDIRECT($A$7&"!A:D"),2,FALSE)&"周!B:B"),0)+1,VLOOKUP(DATEVALUE($A$7&"-"&$A18&"-"&K$7),INDIRECT($A$7&"!A:D"),4,FALSE)+4)),"") | ... AH19: =IFERROR(INDIRECT("第"&VLOOKUP(DATEVALUE($A$7&"-"&$A18&"-"&AH$7),INDIRECT($A$7&"!A:D"),2,FALSE)&"周!"&ADDRESS(MATCH($A$5,INDIRECT("第"&VLOOKUP(DATEVALUE($A$7&"-"&$A18&"-"&AH$7),INDIRECT($A$7&"!A:D"),2,FALSE)&"周!B:B"),0)+1,VLOOKUP(DATEVALUE($A$7&"-"&$A18&"-"&AH$7),INDIRECT($A$7&"!A:D"),4,FALSE)+4)),"")
C20: 晚上 | D20: =IFERROR(INDIRECT("第"&VLOOKUP(DATEVALUE($A$7&"-"&$A18&"-"&D$7),INDIRECT($A$7&"!A:D"),2,FALSE)&"周!"&ADDRESS(MATCH($A$5,INDIRECT("第"&VLOOKUP(DATEVALUE($A$7&"-"&$A18&"-"&D$7),INDIRECT($A$7&"!A:D"),2,FALSE)&"周!B:B"),0)+2,VLOOKUP(DATEVALUE($A$7&"-"&$A18&"-"&D$7),INDIRECT($A$7&"!A:D"),4,FALSE)+4)),"") | E20: =IFERROR(INDIRECT("第"&VLOOKUP(DATEVALUE($A$7&"-"&$A18&"-"&E$7),INDIRECT($A$7&"!A:D"),2,FALSE)&"周!"&ADDRESS(MATCH($A$5,INDIRECT("第"&VLOOKUP(DATEVALUE($A$7&"-"&$A18&"-"&E$7),INDIRECT($A$7&"!A:D"),2,FALSE)&"周!B:B"),0)+2,VLOOKUP(DATEVALUE($A$7&"-"&$A18&"-"&E$7),INDIRECT($A$7&"!A:D"),4,FALSE)+4)),"") | F20: =IFERROR(INDIRECT("第"&VLOOKUP(DATEVALUE($A$7&"-"&$A18&"-"&F$7),INDIRECT($A$7&"!A:D"),2,FALSE)&"周!"&ADDRESS(MATCH($A$5,INDIRECT("第"&VLOOKUP(DATEVALUE($A$7&"-"&$A18&"-"&F$7),INDIRECT($A$7&"!A:D"),2,FALSE)&"周!B:B"),0)+2,VLOOKUP(DATEVALUE($A$7&"-"&$A18&"-"&F$7),INDIRECT($A$7&"!A:D"),4,FALSE)+4)),"") | G20: =IFERROR(INDIRECT("第"&VLOOKUP(DATEVALUE($A$7&"-"&$A18&"-"&G$7),INDIRECT($A$7&"!A:D"),2,FALSE)&"周!"&ADDRESS(MATCH($A$5,INDIRECT("第"&VLOOKUP(DATEVALUE($A$7&"-"&$A18&"-"&G$7),INDIRECT($A$7&"!A:D"),2,FALSE)&"周!B:B"),0)+2,VLOOKUP(DATEVALUE($A$7&"-"&$A18&"-"&G$7),INDIRECT($A$7&"!A:D"),4,FALSE)+4)),"") | H20: =IFERROR(INDIRECT("第"&VLOOKUP(DATEVALUE($A$7&"-"&$A18&"-"&H$7),INDIRECT($A$7&"!A:D"),2,FALSE)&"周!"&ADDRESS(MATCH($A$5,INDIRECT("第"&VLOOKUP(DATEVALUE($A$7&"-"&$A18&"-"&H$7),INDIRECT($A$7&"!A:D"),2,FALSE)&"周!B:B"),0)+2,VLOOKUP(DATEVALUE($A$7&"-"&$A18&"-"&H$7),INDIRECT($A$7&"!A:D"),4,FALSE)+4)),"") | I20: =IFERROR(INDIRECT("第"&VLOOKUP(DATEVALUE($A$7&"-"&$A18&"-"&I$7),INDIRECT($A$7&"!A:D"),2,FALSE)&"周!"&ADDRESS(MATCH($A$5,INDIRECT("第"&VLOOKUP(DATEVALUE($A$7&"-"&$A18&"-"&I$7),INDIRECT($A$7&"!A:D"),2,FALSE)&"周!B:B"),0)+2,VLOOKUP(DATEVALUE($A$7&"-"&$A18&"-"&I$7),INDIRECT($A$7&"!A:D"),4,FALSE)+4)),"") | J20: =IFERROR(INDIRECT("第"&VLOOKUP(DATEVALUE($A$7&"-"&$A18&"-"&J$7),INDIRECT($A$7&"!A:D"),2,FALSE)&"周!"&ADDRESS(MATCH($A$5,INDIRECT("第"&VLOOKUP(DATEVALUE($A$7&"-"&$A18&"-"&J$7),INDIRECT($A$7&"!A:D"),2,FALSE)&"周!B:B"),0)+2,VLOOKUP(DATEVALUE($A$7&"-"&$A18&"-"&J$7),INDIRECT($A$7&"!A:D"),4,FALSE)+4)),"") | K20: =IFERROR(INDIRECT("第"&VLOOKUP(DATEVALUE($A$7&"-"&$A18&"-"&K$7),INDIRECT($A$7&"!A:D"),2,FALSE)&"周!"&ADDRESS(MATCH($A$5,INDIRECT("第"&VLOOKUP(DATEVALUE($A$7&"-"&$A18&"-"&K$7),INDIRECT($A$7&"!A:D"),2,FALSE)&"周!B:B"),0)+2,VLOOKUP(DATEVALUE($A$7&"-"&$A18&"-"&K$7),INDIRECT($A$7&"!A:D"),4,FALSE)+4)),"") | ... AH20: =IFERROR(INDIRECT("第"&VLOOKUP(DATEVALUE($A$7&"-"&$A18&"-"&AH$7),INDIRECT($A$7&"!A:D"),2,FALSE)&"周!"&ADDRESS(MATCH($A$5,INDIRECT("第"&VLOOKUP(DATEVALUE($A$7&"-"&$A18&"-"&AH$7),INDIRECT($A$7&"!A:D"),2,FALSE)&"周!B:B"),0)+2,VLOOKUP(DATEVALUE($A$7&"-"&$A18&"-"&AH$7),INDIRECT($A$7&"!A:D"),4,FALSE)+4)),"")
A21: 5 | B21: =A21&"月" -> 5月 | C21: 上午 | D21: =IFERROR(INDIRECT("第"&VLOOKUP(DATEVALUE($A$7&"-"&$A21&"-"&D$7),INDIRECT($A$7&"!A:D"),2,FALSE)&"周!"&ADDRESS(MATCH($A$5,INDIRECT("第"&VLOOKUP(DATEVALUE($A$7&"-"&$A21&"-"&D$7),INDIRECT($A$7&"!A:D"),2,FALSE)&"周!B:B"),0),VLOOKUP(DATEVALUE($A$7&"-"&$A21&"-"&D$7),INDIRECT($A$7&"!A:D"),4,FALSE)+4)),"") | E21: =IFERROR(INDIRECT("第"&VLOOKUP(DATEVALUE($A$7&"-"&$A21&"-"&E$7),INDIRECT($A$7&"!A:D"),2,FALSE)&"周!"&ADDRESS(MATCH($A$5,INDIRECT("第"&VLOOKUP(DATEVALUE($A$7&"-"&$A21&"-"&E$7),INDIRECT($A$7&"!A:D"),2,FALSE)&"周!B:B"),0),VLOOKUP(DATEVALUE($A$7&"-"&$A21&"-"&E$7),INDIRECT($A$7&"!A:D"),4,FALSE)+4)),"") | F21: =IFERROR(INDIRECT("第"&VLOOKUP(DATEVALUE($A$7&"-"&$A21&"-"&F$7),INDIRECT($A$7&"!A:D"),2,FALSE)&"周!"&ADDRESS(MATCH($A$5,INDIRECT("第"&VLOOKUP(DATEVALUE($A$7&"-"&$A21&"-"&F$7),INDIRECT($A$7&"!A:D"),2,FALSE)&"周!B:B"),0),VLOOKUP(DATEVALUE($A$7&"-"&$A21&"-"&F$7),INDIRECT($A$7&"!A:D"),4,FALSE)+4)),"") | G21: =IFERROR(INDIRECT("第"&VLOOKUP(DATEVALUE($A$7&"-"&$A21&"-"&G$7),INDIRECT($A$7&"!A:D"),2,FALSE)&"周!"&ADDRESS(MATCH($A$5,INDIRECT("第"&VLOOKUP(DATEVALUE($A$7&"-"&$A21&"-"&G$7),INDIRECT($A$7&"!A:D"),2,FALSE)&"周!B:B"),0),VLOOKUP(DATEVALUE($A$7&"-"&$A21&"-"&G$7),INDIRECT($A$7&"!A:D"),4,FALSE)+4)),"") | H21: =IFERROR(INDIRECT("第"&VLOOKUP(DATEVALUE($A$7&"-"&$A21&"-"&H$7),INDIRECT($A$7&"!A:D"),2,FALSE)&"周!"&ADDRESS(MATCH($A$5,INDIRECT("第"&VLOOKUP(DATEVALUE($A$7&"-"&$A21&"-"&H$7),INDIRECT($A$7&"!A:D"),2,FALSE)&"周!B:B"),0),VLOOKUP(DATEVALUE($A$7&"-"&$A21&"-"&H$7),INDIRECT($A$7&"!A:D"),4,FALSE)+4)),"") | I21: =IFERROR(INDIRECT("第"&VLOOKUP(DATEVALUE($A$7&"-"&$A21&"-"&I$7),INDIRECT($A$7&"!A:D"),2,FALSE)&"周!"&ADDRESS(MATCH($A$5,INDIRECT("第"&VLOOKUP(DATEVALUE($A$7&"-"&$A21&"-"&I$7),INDIRECT($A$7&"!A:D"),2,FALSE)&"周!B:B"),0),VLOOKUP(DATEVALUE($A$7&"-"&$A21&"-"&I$7),INDIRECT($A$7&"!A:D"),4,FALSE)+4)),"") | J21: =IFERROR(INDIRECT("第"&VLOOKUP(DATEVALUE($A$7&"-"&$A21&"-"&J$7),INDIRECT($A$7&"!A:D"),2,FALSE)&"周!"&ADDRESS(MATCH($A$5,INDIRECT("第"&VLOOKUP(DATEVALUE($A$7&"-"&$A21&"-"&J$7),INDIRECT($A$7&"!A:D"),2,FALSE)&"周!B:B"),0),VLOOKUP(DATEVALUE($A$7&"-"&$A21&"-"&J$7),INDIRECT($A$7&"!A:D"),4,FALSE)+4)),"") | K21: =IFERROR(INDIRECT("第"&VLOOKUP(DATEVALUE($A$7&"-"&$A21&"-"&K$7),INDIRECT($A$7&"!A:D"),2,FALSE)&"周!"&ADDRESS(MATCH($A$5,INDIRECT("第"&VLOOKUP(DATEVALUE($A$7&"-"&$A21&"-"&K$7),INDIRECT($A$7&"!A:D"),2,FALSE)&"周!B:B"),0),VLOOKUP(DATEVALUE($A$7&"-"&$A21&"-"&K$7),INDIRECT($A$7&"!A:D"),4,FALSE)+4)),"") | ... AH21: =IFERROR(INDIRECT("第"&VLOOKUP(DATEVALUE($A$7&"-"&$A21&"-"&AH$7),INDIRECT($A$7&"!A:D"),2,FALSE)&"周!"&ADDRESS(MATCH($A$5,INDIRECT("第"&VLOOKUP(DATEVALUE($A$7&"-"&$A21&"-"&AH$7),INDIRECT($A$7&"!A:D"),2,FALSE)&"周!B:B"),0),VLOOKUP(DATEVALUE($A$7&"-"&$A21&"-"&AH$7),INDIRECT($A$7&"!A:D"),4,FALSE)+4)),"") | AI21: =COUNTIF($D21:$AH23,AI$8) -> 0 | AJ21: =COUNTIF($D21:$AH23,AJ$8) -> 0 | AK21: =COUNTIF($D21:$AH23,AK$8) -> 0 | AL21: =COUNTIF($D21:$AH23,AL$8) -> 0 | AM21: =COUNTIF($D21:$AH23,AM$8) -> 0 | AN21: =COUNTIF($D21:$AH23,AN$8) -> 0 | AO21: =COUNTIF($D21:$AH23,AO$8) -> 0 | AP21: =COUNTIF($D21:$AH23,AP$8) -> 0 | AQ21: =COUNTIF($D21:$AH23,AQ$8) -> 0
