Workbook

Sheet 首页
C4: ="考勤录入(当前年度"&系统设置!E5&"年)" -> 考勤录入(当前年度2018年)
C5: =HYPERLINK("#第"&O5&"周!E9","第"&O5&"周") -> 第1周 | D5: =HYPERLINK("#第"&P5&"周!E9","第"&P5&"周") -> 第2周 | E5: =HYPERLINK("#第"&Q5&"周!E9","第"&Q5&"周") -> 第3周 | F5: =HYPERLINK("#第"&R5&"周!E9","第"&R5&"周") -> 第4周 | G5: =HYPERLINK("#第"&S5&"周!E9","第"&S5&"周") -> 第5周 | H5: =HYPERLINK("#第"&T5&"周!E9","第"&T5&"周") -> 第6周 | I5: =HYPERLINK("#第"&U5&"周!E9","第"&U5&"周") -> 第7周 | J5: =HYPERLINK("#第"&V5&"周!E9","第"&V5&"周") -> 第8周 | ... L5: =HYPERLINK("#第"&X5&"周!E9","第"&X5&"周") -> 第10周 | O5: 1 | P5: 2 | Q5: 3 | R5: 4 | S5: 5 | T5: 6 | U5: 7 | V5: 8 | W5: 9 | X5: 10
C6: =HYPERLINK("#第"&O6&"周!E9","第"&O6&"周") -> 第11周 | D6: =HYPERLINK("#第"&P6&"周!E9","第"&P6&"周") -> 第12周 | E6: =HYPERLINK("#第"&Q6&"周!E9","第"&Q6&"周") -> 第13周 | F6: =HYPERLINK("#第"&R6&"周!E9","第"&R6&"周") -> 第14周 | G6: =HYPERLINK("#第"&S6&"周!E9","第"&S6&"周") -> 第15周 | H6: =HYPERLINK("#第"&T6&"周!E9","第"&T6&"周") -> 第16周 | I6: =HYPERLINK("#第"&U6&"周!E9","第"&U6&"周") -> 第17周 | J6: =HYPERLINK("#第"&V6&"周!E9","第"&V6&"周") -> 第18周 | ... L6: =HYPERLINK("#第"&X6&"周!E9","第"&X6&"周") -> 第20周 | O6: 11 | P6: 12 | Q6: 13 | R6: 14 | S6: 15 | T6: 16 | U6: 17 | V6: 18 | W6: 19 | X6: 20
C7: =HYPERLINK("#第"&O7&"周!E9","第"&O7&"周") -> 第21周 | D7: =HYPERLINK("#第"&P7&"周!E9","第"&P7&"周") -> 第22周 | E7: =HYPERLINK("#第"&Q7&"周!E9","第"&Q7&"周") -> 第23周 | F7: =HYPERLINK("#第"&R7&"周!E9","第"&R7&"周") -> 第24周 | G7: =HYPERLINK("#第"&S7&"周!E9","第"&S7&"周") -> 第25周 | H7: =HYPERLINK("#第"&T7&"周!E9","第"&T7&"周") -> 第26周 | I7: =HYPERLINK("#第"&U7&"周!E9","第"&U7&"周") -> 第27周 | J7: =HYPERLINK("#第"&V7&"周!E9","第"&V7&"周") -> 第28周 | ... L7: =HYPERLINK("#第"&X7&"周!E9","第"&X7&"周") -> 第30周 | O7: 21 | P7: 22 | Q7: 23 | R7: 24 | S7: 25 | T7: 26 | U7: 27 | V7: 28 | W7: 29 | X7: 30
C8: =HYPERLINK("#第"&O8&"周!E9","第"&O8&"周") -> 第31周 | D8: =HYPERLINK("#第"&P8&"周!E9","第"&P8&"周") -> 第32周 | E8: =HYPERLINK("#第"&Q8&"周!E9","第"&Q8&"周") -> 第33周 | F8: =HYPERLINK("#第"&R8&"周!E9","第"&R8&"周") -> 第34周 | G8: =HYPERLINK("#第"&S8&"周!E9","第"&S8&"周") -> 第35周 | H8: =HYPERLINK("#第"&T8&"周!E9","第"&T8&"周") -> 第36周 | I8: =HYPERLINK("#第"&U8&"周!E9","第"&U8&"周") -> 第37周 | J8: =HYPERLINK("#第"&V8&"周!E9","第"&V8&"周") -> 第38周 | ... L8: =HYPERLINK("#第"&X8&"周!E9","第"&X8&"周") -> 第40周 | O8: 31 | P8: 32 | Q8: 33 | R8: 34 | S8: 35 | T8: 36 | U8: 37 | V8: 38 | W8: 39 | X8: 40
C9: =HYPERLINK("#第"&O9&"周!E9","第"&O9&"周") -> 第41周 | D9: =HYPERLINK("#第"&P9&"周!E9","第"&P9&"周") -> 第42周 | E9: =HYPERLINK("#第"&Q9&"周!E9","第"&Q9&"周") -> 第43周 | F9: =HYPERLINK("#第"&R9&"周!E9","第"&R9&"周") -> 第44周 | G9: =HYPERLINK("#第"&S9&"周!E9","第"&S9&"周") -> 第45周 | H9: =HYPERLINK("#第"&T9&"周!E9","第"&T9&"周") -> 第46周 | I9: =HYPERLINK("#第"&U9&"周!E9","第"&U9&"周") -> 第47周 | J9: =HYPERLINK("#第"&V9&"周!E9","第"&V9&"周") -> 第48周 | ... L9: =HYPERLINK("#第"&X9&"周!E9","第"&X9&"周") -> 第50周 | O9: 41 | P9: 42 | Q9: 43 | R9: 44 | S9: 45 | T9: 46 | U9: 47 | V9: 48 | W9: 49 | X9: 50
C10: =HYPERLINK("#第"&O10&"周!E9","第"&O10&"周") -> 第51周 | D10: =HYPERLINK("#第"&P10&"周!E9","第"&P10&"周") -> 第52周 | E10: =HYPERLINK("#第"&Q10&"周!E9","第"&Q10&"周") -> 第53周 | F10: 提示：红色单元格为当前周 | O10: 51 | P10: 52 | Q10: 53
C12: 考勤统计 | I12: 系统设置
C13: 每月考勤记录 | E13: 个人全年考勤记录 | I13: 年度设置 | K13: 员工信息 | O13: 1 | P13: 2 | Q13: 3 | R13: 4 | S13: 5 | T13: 6
O14: 7 | P14: 8 | Q14: 9 | R14: 10 | S14: 11 | T14: 12
G18: 视频操作演示

Sheet HR在线人才测评系统
B4: HR人才测评工具 技术研发岗位，市场营销岗，行政服务岗，中高层管理岗 MBTI、DISC、职业性格，职业兴趣，职业价值观，心理素质
B8: HR在线人才测评系统 | C8: https://www.zxgj.cn/m/tuance
B11: 职业性格和人格测评 | C11: https://www.xmcs.cn/d/zhiye

Sheet 系统设置
D5: 当前考勤年度： | E5: 2018

Sheet 每月考勤记录
E5: =A7&"年" -> 2018年 | H5: 1 | J5: 月考勤记录 | O5: 请在WPS稻壳，www.docer.com搜索“八不戒”，下载所需文档。或点击chn.docer.com/works?userid=202850317_x000d_
A7: =系统设置!E5 -> 2018 | B7: 序号 | C7: 姓名 | D7: 时间 | E7: =IF(MONTH(DATE($A$7,$H$5,COLUMN(A5)))=$H$5,DATE($A$7,$H$5,COLUMN(A5)),"") -> 43101 | F7: =IF(MONTH(DATE($A$7,$H$5,COLUMN(B5)))=$H$5,DATE($A$7,$H$5,COLUMN(B5)),"") -> 43102 | G7: =IF(MONTH(DATE($A$7,$H$5,COLUMN(C5)))=$H$5,DATE($A$7,$H$5,COLUMN(C5)),"") -> 43103 | H7: =IF(MONTH(DATE($A$7,$H$5,COLUMN(D5)))=$H$5,DATE($A$7,$H$5,COLUMN(D5)),"") -> 43104 | I7: =IF(MONTH(DATE($A$7,$H$5,COLUMN(E5)))=$H$5,DATE($A$7,$H$5,COLUMN(E5)),"") -> 43105 | J7: =IF(MONTH(DATE($A$7,$H$5,COLUMN(F5)))=$H$5,DATE($A$7,$H$5,COLUMN(F5)),"") -> 43106 | K7: =IF(MONTH(DATE($A$7,$H$5,COLUMN(G5)))=$H$5,DATE($A$7,$H$5,COLUMN(G5)),"") -> 43107 | L7: =IF(MONTH(DATE($A$7,$H$5,COLUMN(H5)))=$H$5,DATE($A$7,$H$5,COLUMN(H5)),"") -> 43108 | ... AI7: =IF(MONTH(DATE($A$7,$H$5,COLUMN(AE5)))=$H$5,DATE($A$7,$H$5,COLUMN(AE5)),"") -> 43131 | AJ7: 出勤统计
E8: =TEXT(E7,"AAA") -> 一 | F8: =TEXT(F7,"AAA") -> 二 | G8: =TEXT(G7,"AAA") -> 三 | H8: =TEXT(H7,"AAA") -> 四 | I8: =TEXT(I7,"AAA") -> 五 | J8: =TEXT(J7,"AAA") -> 六 | K8: =TEXT(K7,"AAA") -> 日 | L8: =TEXT(L7,"AAA") -> 一 | ... AI8: =TEXT(AI7,"AAA") -> 三 | AJ8: 出勤 | AK8: 加班 | AL8: 休假 | AM8: 事假 | AN8: 病假 | AO8: 出差 | AP8: 缺勤 | AQ8: 迟到 | AR8: 早退
B9: =ROW()/3-2 -> 1 | C9: =INDIRECT("员工信息表!C"&(B9+3))&IF(INDIRECT("员工信息表!O"&(B9+3))="离职","(离职)","") | D9: 上午 | E9: =IFERROR(IF($C9="","",INDIRECT("第"&VLOOKUP(E$7,INDIRECT($A$7&"!A:D"),2,FALSE)&"周"&"!"&ADDRESS(ROW(),VLOOKUP(E$7,INDIRECT($A$7&"!A:D"),4,FALSE)+4))),"") | F9: =IFERROR(IF($C9="","",INDIRECT("第"&VLOOKUP(F$7,INDIRECT($A$7&"!A:D"),2,FALSE)&"周"&"!"&ADDRESS(ROW(),VLOOKUP(F$7,INDIRECT($A$7&"!A:D"),4,FALSE)+4))),"") | G9: =IFERROR(IF($C9="","",INDIRECT("第"&VLOOKUP(G$7,INDIRECT($A$7&"!A:D"),2,FALSE)&"周"&"!"&ADDRESS(ROW(),VLOOKUP(G$7,INDIRECT($A$7&"!A:D"),4,FALSE)+4))),"") | H9: =IFERROR(IF($C9="","",INDIRECT("第"&VLOOKUP(H$7,INDIRECT($A$7&"!A:D"),2,FALSE)&"周"&"!"&ADDRESS(ROW(),VLOOKUP(H$7,INDIRECT($A$7&"!A:D"),4,FALSE)+4))),"") | I9: =IFERROR(IF($C9="","",INDIRECT("第"&VLOOKUP(I$7,INDIRECT($A$7&"!A:D"),2,FALSE)&"周"&"!"&ADDRESS(ROW(),VLOOKUP(I$7,INDIRECT($A$7&"!A:D"),4,FALSE)+4))),"") | J9: =IFERROR(IF($C9="","",INDIRECT("第"&VLOOKUP(J$7,INDIRECT($A$7&"!A:D"),2,FALSE)&"周"&"!"&ADDRESS(ROW(),VLOOKUP(J$7,INDIRECT($A$7&"!A:D"),4,FALSE)+4))),"") | K9: =IFERROR(IF($C9="","",INDIRECT("第"&VLOOKUP(K$7,INDIRECT($A$7&"!A:D"),2,FALSE)&"周"&"!"&ADDRESS(ROW(),VLOOKUP(K$7,INDIRECT($A$7&"!A:D"),4,FALSE)+4))),"") | L9: =IFERROR(IF($C9="","",INDIRECT("第"&VLOOKUP(L$7,INDIRECT($A$7&"!A:D"),2,FALSE)&"周"&"!"&ADDRESS(ROW(),VLOOKUP(L$7,INDIRECT($A$7&"!A:D"),4,FALSE)+4))),"") | ... AI9: =IFERROR(IF($C9="","",INDIRECT("第"&VLOOKUP(AI$7,INDIRECT($A$7&"!A:D"),2,FALSE)&"周"&"!"&ADDRESS(ROW(),VLOOKUP(AI$7,INDIRECT($A$7&"!A:D"),4,FALSE)+4))),"") | AJ9: =COUNTIF($E9:$AI11,AJ$8) -> 0 | AK9: =COUNTIF($E9:$AI11,AK$8) -> 0 | AL9: =COUNTIF($E9:$AI11,AL$8) -> 0 | AM9: =COUNTIF($E9:$AI11,AM$8) -> 0 | AN9: =COUNTIF($E9:$AI11,AN$8) -> 0 | AO9: =COUNTIF($E9:$AI11,AO$8) -> 0 | AP9: =COUNTIF($E9:$AI11,AP$8) -> 0 | AQ9: =COUNTIF($E9:$AI11,AQ$8) -> 0 | AR9: =COUNTIF($E9:$AI11,AR$8) -> 0
D10: 下午 | E10: =IFERROR(IF($C9="","",INDIRECT("第"&VLOOKUP(E$7,INDIRECT($A$7&"!A:D"),2,FALSE)&"周"&"!"&ADDRESS(ROW(),VLOOKUP(E$7,INDIRECT($A$7&"!A:D"),4,FALSE)+4))),"") | F10: =IFERROR(IF($C9="","",INDIRECT("第"&VLOOKUP(F$7,INDIRECT($A$7&"!A:D"),2,FALSE)&"周"&"!"&ADDRESS(ROW(),VLOOKUP(F$7,INDIRECT($A$7&"!A:D"),4,FALSE)+4))),"") | G10: =IFERROR(IF($C9="","",INDIRECT("第"&VLOOKUP(G$7,INDIRECT($A$7&"!A:D"),2,FALSE)&"周"&"!"&ADDRESS(ROW(),VLOOKUP(G$7,INDIRECT($A$7&"!A:D"),4,FALSE)+4))),"") | H10: =IFERROR(IF($C9="","",INDIRECT("第"&VLOOKUP(H$7,INDIRECT($A$7&"!A:D"),2,FALSE)&"周"&"!"&ADDRESS(ROW(),VLOOKUP(H$7,INDIRECT($A$7&"!A:D"),4,FALSE)+4))),"") | I10: =IFERROR(IF($C9="","",INDIRECT("第"&VLOOKUP(I$7,INDIRECT($A$7&"!A:D"),2,FALSE)&"周"&"!"&ADDRESS(ROW(),VLOOKUP(I$7,INDIRECT($A$7&"!A:D"),4,FALSE)+4))),"") | J10: =IFERROR(IF($C9="","",INDIRECT("第"&VLOOKUP(J$7,INDIRECT($A$7&"!A:D"),2,FALSE)&"周"&"!"&ADDRESS(ROW(),VLOOKUP(J$7,INDIRECT($A$7&"!A:D"),4,FALSE)+4))),"") | K10: =IFERROR(IF($C9="","",INDIRECT("第"&VLOOKUP(K$7,INDIRECT($A$7&"!A:D"),2,FALSE)&"周"&"!"&ADDRESS(ROW(),VLOOKUP(K$7,INDIRECT($A$7&"!A:D"),4,FALSE)+4))),"") | L10: =IFERROR(IF($C9="","",INDIRECT("第"&VLOOKUP(L$7,INDIRECT($A$7&"!A:D"),2,FALSE)&"周"&"!"&ADDRESS(ROW(),VLOOKUP(L$7,INDIRECT($A$7&"!A:D"),4,FALSE)+4))),"") | ... AI10: =IFERROR(IF($C9="","",INDIRECT("第"&VLOOKUP(AI$7,INDIRECT($A$7&"!A:D"),2,FALSE)&"周"&"!"&ADDRESS(ROW(),VLOOKUP(AI$7,INDIRECT($A$7&"!A:D"),4,FALSE)+4))),"")
D11: 晚上 | E11: =IFERROR(IF($C9="","",INDIRECT("第"&VLOOKUP(E$7,INDIRECT($A$7&"!A:D"),2,FALSE)&"周"&"!"&ADDRESS(ROW(),VLOOKUP(E$7,INDIRECT($A$7&"!A:D"),4,FALSE)+4))),"") | F11: =IFERROR(IF($C9="","",INDIRECT("第"&VLOOKUP(F$7,INDIRECT($A$7&"!A:D"),2,FALSE)&"周"&"!"&ADDRESS(ROW(),VLOOKUP(F$7,INDIRECT($A$7&"!A:D"),4,FALSE)+4))),"") | G11: =IFERROR(IF($C9="","",INDIRECT("第"&VLOOKUP(G$7,INDIRECT($A$7&"!A:D"),2,FALSE)&"周"&"!"&ADDRESS(ROW(),VLOOKUP(G$7,INDIRECT($A$7&"!A:D"),4,FALSE)+4))),"") | H11: =IFERROR(IF($C9="","",INDIRECT("第"&VLOOKUP(H$7,INDIRECT($A$7&"!A:D"),2,FALSE)&"周"&"!"&ADDRESS(ROW(),VLOOKUP(H$7,INDIRECT($A$7&"!A:D"),4,FALSE)+4))),"") | I11: =IFERROR(IF($C9="","",INDIRECT("第"&VLOOKUP(I$7,INDIRECT($A$7&"!A:D"),2,FALSE)&"周"&"!"&ADDRESS(ROW(),VLOOKUP(I$7,INDIRECT($A$7&"!A:D"),4,FALSE)+4))),"") | J11: =IFERROR(IF($C9="","",INDIRECT("第"&VLOOKUP(J$7,INDIRECT($A$7&"!A:D"),2,FALSE)&"周"&"!"&ADDRESS(ROW(),VLOOKUP(J$7,INDIRECT($A$7&"!A:D"),4,FALSE)+4))),"") | K11: =IFERROR(IF($C9="","",INDIRECT("第"&VLOOKUP(K$7,INDIRECT($A$7&"!A:D"),2,FALSE)&"周"&"!"&ADDRESS(ROW(),VLOOKUP(K$7,INDIRECT($A$7&"!A:D"),4,FALSE)+4))),"") | L11: =IFERROR(IF($C9="","",INDIRECT("第"&VLOOKUP(L$7,INDIRECT($A$7&"!A:D"),2,FALSE)&"周"&"!"&ADDRESS(ROW(),VLOOKUP(L$7,INDIRECT($A$7&"!A:D"),4,FALSE)+4))),"") | ... AI11: =IFERROR(IF($C9="","",INDIRECT("第"&VLOOKUP(AI$7,INDIRECT($A$7&"!A:D"),2,FALSE)&"周"&"!"&ADDRESS(ROW(),VLOOKUP(AI$7,INDIRECT($A$7&"!A:D"),4,FALSE)+4))),"")
B12: =ROW()/3-2 -> 2 | C12: =INDIRECT("员工信息表!C"&(B12+3))&IF(INDIRECT("员工信息表!O"&(B12+3))="离职","(离职)","") | D12: 上午 | E12: =IFERROR(IF($C12="","",INDIRECT("第"&VLOOKUP(E$7,INDIRECT($A$7&"!A:D"),2,FALSE)&"周"&"!"&ADDRESS(ROW(),VLOOKUP(E$7,INDIRECT($A$7&"!A:D"),4,FALSE)+4))),"") | F12: =IFERROR(IF($C12="","",INDIRECT("第"&VLOOKUP(F$7,INDIRECT($A$7&"!A:D"),2,FALSE)&"周"&"!"&ADDRESS(ROW(),VLOOKUP(F$7,INDIRECT($A$7&"!A:D"),4,FALSE)+4))),"") | G12: =IFERROR(IF($C12="","",INDIRECT("第"&VLOOKUP(G$7,INDIRECT($A$7&"!A:D"),2,FALSE)&"周"&"!"&ADDRESS(ROW(),VLOOKUP(G$7,INDIRECT($A$7&"!A:D"),4,FALSE)+4))),"") | H12: =IFERROR(IF($C12="","",INDIRECT("第"&VLOOKUP(H$7,INDIRECT($A$7&"!A:D"),2,FALSE)&"周"&"!"&ADDRESS(ROW(),VLOOKUP(H$7,INDIRECT($A$7&"!A:D"),4,FALSE)+4))),"") | I12: =IFERROR(IF($C12="","",INDIRECT("第"&VLOOKUP(I$7,INDIRECT($A$7&"!A:D"),2,FALSE)&"周"&"!"&ADDRESS(ROW(),VLOOKUP(I$7,INDIRECT($A$7&"!A:D"),4,FALSE)+4))),"") | J12: =IFERROR(IF($C12="","",INDIRECT("第"&VLOOKUP(J$7,INDIRECT($A$7&"!A:D"),2,FALSE)&"周"&"!"&ADDRESS(ROW(),VLOOKUP(J$7,INDIRECT($A$7&"!A:D"),4,FALSE)+4))),"") | K12: =IFERROR(IF($C12="","",INDIRECT("第"&VLOOKUP(K$7,INDIRECT($A$7&"!A:D"),2,FALSE)&"周"&"!"&ADDRESS(ROW(),VLOOKUP(K$7,INDIRECT($A$7&"!A:D"),4,FALSE)+4))),"") | L12: =IFERROR(IF($C12="","",INDIRECT("第"&VLOOKUP(L$7,INDIRECT($A$7&"!A:D"),2,FALSE)&"周"&"!"&ADDRESS(ROW(),VLOOKUP(L$7,INDIRECT($A$7&"!A:D"),4,FALSE)+4))),"") | ... AI12: =IFERROR(IF($C12="","",INDIRECT("第"&VLOOKUP(AI$7,INDIRECT($A$7&"!A:D"),2,FALSE)&"周"&"!"&ADDRESS(ROW(),VLOOKUP(AI$7,INDIRECT($A$7&"!A:D"),4,FALSE)+4))),"") | AJ12: =COUNTIF($E12:$AI14,AJ$8) -> 0 | AK12: =COUNTIF($E12:$AI14,AK$8) -> 0 | AL12: =COUNTIF($E12:$AI14,AL$8) -> 0 | AM12: =COUNTIF($E12:$AI14,AM$8) -> 0 | AN12: =COUNTIF($E12:$AI14,AN$8) -> 0 | AO12: =COUNTIF($E12:$AI14,AO$8) -> 0 | AP12: =COUNTIF($E12:$AI14,AP$8) -> 0 | AQ12: =COUNTIF($E12:$AI14,AQ$8) -> 0 | AR12: =COUNTIF($E12:$AI14,AR$8) -> 0
D13: 下午 | E13: =IFERROR(IF($C12="","",INDIRECT("第"&VLOOKUP(E$7,INDIRECT($A$7&"!A:D"),2,FALSE)&"周"&"!"&ADDRESS(ROW(),VLOOKUP(E$7,INDIRECT($A$7&"!A:D"),4,FALSE)+4))),"") | F13: =IFERROR(IF($C12="","",INDIRECT("第"&VLOOKUP(F$7,INDIRECT($A$7&"!A:D"),2,FALSE)&"周"&"!"&ADDRESS(ROW(),VLOOKUP(F$7,INDIRECT($A$7&"!A:D"),4,FALSE)+4))),"") | G13: =IFERROR(IF($C12="","",INDIRECT("第"&VLOOKUP(G$7,INDIRECT($A$7&"!A:D"),2,FALSE)&"周"&"!"&ADDRESS(ROW(),VLOOKUP(G$7,INDIRECT($A$7&"!A:D"),4,FALSE)+4))),"") | H13: =IFERROR(IF($C12="","",INDIRECT("第"&VLOOKUP(H$7,INDIRECT($A$7&"!A:D"),2,FALSE)&"周"&"!"&ADDRESS(ROW(),VLOOKUP(H$7,INDIRECT($A$7&"!A:D"),4,FALSE)+4))),"") | I13: =IFERROR(IF($C12="","",INDIRECT("第"&VLOOKUP(I$7,INDIRECT($A$7&"!A:D"),2,FALSE)&"周"&"!"&ADDRESS(ROW(),VLOOKUP(I$7,INDIRECT($A$7&"!A:D"),4,FALSE)+4))),"") | J13: =IFERROR(IF($C12="","",INDIRECT("第"&VLOOKUP(J$7,INDIRECT($A$7&"!A:D"),2,FALSE)&"周"&"!"&ADDRESS(ROW(),VLOOKUP(J$7,INDIRECT($A$7&"!A:D"),4,FALSE)+4))),"") | K13: =IFERROR(IF($C12="","",INDIRECT("第"&VLOOKUP(K$7,INDIRECT($A$7&"!A:D"),2,FALSE)&"周"&"!"&ADDRESS(ROW(),VLOOKUP(K$7,INDIRECT($A$7&"!A:D"),4,FALSE)+4))),"") | L13: =IFERROR(IF($C12="","",INDIRECT("第"&VLOOKUP(L$7,INDIRECT($A$7&"!A:D"),2,FALSE)&"周"&"!"&ADDRESS(ROW(),VLOOKUP(L$7,INDIRECT($A$7&"!A:D"),4,FALSE)+4))),"") | ... AI13: =IFERROR(IF($C12="","",INDIRECT("第"&VLOOKUP(AI$7,INDIRECT($A$7&"!A:D"),2,FALSE)&"周"&"!"&ADDRESS(ROW(),VLOOKUP(AI$7,INDIRECT($A$7&"!A:D"),4,FALSE)+4))),"")
D14: 晚上 | E14: =IFERROR(IF($C12="","",INDIRECT("第"&VLOOKUP(E$7,INDIRECT($A$7&"!A:D"),2,FALSE)&"周"&"!"&ADDRESS(ROW(),VLOOKUP(E$7,INDIRECT($A$7&"!A:D"),4,FALSE)+4))),"") | F14: =IFERROR(IF($C12="","",INDIRECT("第"&VLOOKUP(F$7,INDIRECT($A$7&"!A:D"),2,FALSE)&"周"&"!"&ADDRESS(ROW(),VLOOKUP(F$7,INDIRECT($A$7&"!A:D"),4,FALSE)+4))),"") | G14: =IFERROR(IF($C12="","",INDIRECT("第"&VLOOKUP(G$7,INDIRECT($A$7&"!A:D"),2,FALSE)&"周"&"!"&ADDRESS(ROW(),VLOOKUP(G$7,INDIRECT($A$7&"!A:D"),4,FALSE)+4))),"") | H14: =IFERROR(IF($C12="","",INDIRECT("第"&VLOOKUP(H$7,INDIRECT($A$7&"!A:D"),2,FALSE)&"周"&"!"&ADDRESS(ROW(),VLOOKUP(H$7,INDIRECT($A$7&"!A:D"),4,FALSE)+4))),"") | I14: =IFERROR(IF($C12="","",INDIRECT("第"&VLOOKUP(I$7,INDIRECT($A$7&"!A:D"),2,FALSE)&"周"&"!"&ADDRESS(ROW(),VLOOKUP(I$7,INDIRECT($A$7&"!A:D"),4,FALSE)+4))),"") | J14: =IFERROR(IF($C12="","",INDIRECT("第"&VLOOKUP(J$7,INDIRECT($A$7&"!A:D"),2,FALSE)&"周"&"!"&ADDRESS(ROW(),VLOOKUP(J$7,INDIRECT($A$7&"!A:D"),4,FALSE)+4))),"") | K14: =IFERROR(IF($C12="","",INDIRECT("第"&VLOOKUP(K$7,INDIRECT($A$7&"!A:D"),2,FALSE)&"周"&"!"&ADDRESS(ROW(),VLOOKUP(K$7,INDIRECT($A$7&"!A:D"),4,FALSE)+4))),"") | L14: =IFERROR(IF($C12="","",INDIRECT("第"&VLOOKUP(L$7,INDIRECT($A$7&"!A:D"),2,FALSE)&"周"&"!"&ADDRESS(ROW(),VLOOKUP(L$7,INDIRECT($A$7&"!A:D"),4,FALSE)+4))),"") | ... AI14: =IFERROR(IF($C12="","",INDIRECT("第"&VLOOKUP(AI$7,INDIRECT($A$7&"!A:D"),2,FALSE)&"周"&"!"&ADDRESS(ROW(),VLOOKUP(AI$7,INDIRECT($A$7&"!A:D"),4,FALSE)+4))),"")
B15: =ROW()/3-2 -> 3 | C15: =INDIRECT("员工信息表!C"&(B15+3))&IF(INDIRECT("员工信息表!O"&(B15+3))="离职","(离职)","") | D15: 上午 | E15: =IFERROR(IF($C15="","",INDIRECT("第"&VLOOKUP(E$7,INDIRECT($A$7&"!A:D"),2,FALSE)&"周"&"!"&ADDRESS(ROW(),VLOOKUP(E$7,INDIRECT($A$7&"!A:D"),4,FALSE)+4))),"") | F15: =IFERROR(IF($C15="","",INDIRECT("第"&VLOOKUP(F$7,INDIRECT($A$7&"!A:D"),2,FALSE)&"周"&"!"&ADDRESS(ROW(),VLOOKUP(F$7,INDIRECT($A$7&"!A:D"),4,FALSE)+4))),"") | G15: =IFERROR(IF($C15="","",INDIRECT("第"&VLOOKUP(G$7,INDIRECT($A$7&"!A:D"),2,FALSE)&"周"&"!"&ADDRESS(ROW(),VLOOKUP(G$7,INDIRECT($A$7&"!A:D"),4,FALSE)+4))),"") | H15: =IFERROR(IF($C15="","",INDIRECT("第"&VLOOKUP(H$7,INDIRECT($A$7&"!A:D"),2,FALSE)&"周"&"!"&ADDRESS(ROW(),VLOOKUP(H$7,INDIRECT($A$7&"!A:D"),4,FALSE)+4))),"") | I15: =IFERROR(IF($C15="","",INDIRECT("第"&VLOOKUP(I$7,INDIRECT($A$7&"!A:D"),2,FALSE)&"周"&"!"&ADDRESS(ROW(),VLOOKUP(I$7,INDIRECT($A$7&"!A:D"),4,FALSE)+4))),"") | J15: =IFERROR(IF($C15="","",INDIRECT("第"&VLOOKUP(J$7,INDIRECT($A$7&"!A:D"),2,FALSE)&"周"&"!"&ADDRESS(ROW(),VLOOKUP(J$7,INDIRECT($A$7&"!A:D"),4,FALSE)+4))),"") | K15: =IFERROR(IF($C15="","",INDIRECT("第"&VLOOKUP(K$7,INDIRECT($A$7&"!A:D"),2,FALSE)&"周"&"!"&ADDRESS(ROW(),VLOOKUP(K$7,INDIRECT($A$7&"!A:D"),4,FALSE)+4))),"") | L15: =IFERROR(IF($C15="","",INDIRECT("第"&VLOOKUP(L$7,INDIRECT($A$7&"!A:D"),2,FALSE)&"周"&"!"&ADDRESS(ROW(),VLOOKUP(L$7,INDIRECT($A$7&"!A:D"),4,FALSE)+4))),"") | ... AI15: =IFERROR(IF($C15="","",INDIRECT("第"&VLOOKUP(AI$7,INDIRECT($A$7&"!A:D"),2,FALSE)&"周"&"!"&ADDRESS(ROW(),VLOOKUP(AI$7,INDIRECT($A$7&"!A:D"),4,FALSE)+4))),"") | AJ15: =COUNTIF($E15:$AI17,AJ$8) -> 0 | AK15: =COUNTIF($E15:$AI17,AK$8) -> 0 | AL15: =COUNTIF($E15:$AI17,AL$8) -> 0 | AM15: =COUNTIF($E15:$AI17,AM$8) -> 0 | AN15: =COUNTIF($E15:$AI17,AN$8) -> 0 | AO15: =COUNTIF($E15:$AI17,AO$8) -> 0 | AP15: =COUNTIF($E15:$AI17,AP$8) -> 0 | AQ15: =COUNTIF($E15:$AI17,AQ$8) -> 0 | AR15: =COUNTIF($E15:$AI17,AR$8) -> 0
D16: 下午 | E16: =IFERROR(IF($C15="","",INDIRECT("第"&VLOOKUP(E$7,INDIRECT($A$7&"!A:D"),2,FALSE)&"周"&"!"&ADDRESS(ROW(),VLOOKUP(E$7,INDIRECT($A$7&"!A:D"),4,FALSE)+4))),"") | F16: =IFERROR(IF($C15="","",INDIRECT("第"&VLOOKUP(F$7,INDIRECT($A$7&"!A:D"),2,FALSE)&"周"&"!"&ADDRESS(ROW(),VLOOKUP(F$7,INDIRECT($A$7&"!A:D"),4,FALSE)+4))),"") | G16: =IFERROR(IF($C15="","",INDIRECT("第"&VLOOKUP(G$7,INDIRECT($A$7&"!A:D"),2,FALSE)&"周"&"!"&ADDRESS(ROW(),VLOOKUP(G$7,INDIRECT($A$7&"!A:D"),4,FALSE)+4))),"") | H16: =IFERROR(IF($C15="","",INDIRECT("第"&VLOOKUP(H$7,INDIRECT($A$7&"!A:D"),2,FALSE)&"周"&"!"&ADDRESS(ROW(),VLOOKUP(H$7,INDIRECT($A$7&"!A:D"),4,FALSE)+4))),"") | I16: =IFERROR(IF($C15="","",INDIRECT("第"&VLOOKUP(I$7,INDIRECT($A$7&"!A:D"),2,FALSE)&"周"&"!"&ADDRESS(ROW(),VLOOKUP(I$7,INDIRECT($A$7&"!A:D"),4,FALSE)+4))),"") | J16: =IFERROR(IF($C15="","",INDIRECT("第"&VLOOKUP(J$7,INDIRECT($A$7&"!A:D"),2,FALSE)&"周"&"!"&ADDRESS(ROW(),VLOOKUP(J$7,INDIRECT($A$7&"!A:D"),4,FALSE)+4))),"") | K16: =IFERROR(IF($C15="","",INDIRECT("第"&VLOOKUP(K$7,INDIRECT($A$7&"!A:D"),2,FALSE)&"周"&"!"&ADDRESS(ROW(),VLOOKUP(K$7,INDIRECT($A$7&"!A:D"),4,FALSE)+4))),"") | L16: =IFERROR(IF($C15="","",INDIRECT("第"&VLOOKUP(L$7,INDIRECT($A$7&"!A:D"),2,FALSE)&"周"&"!"&ADDRESS(ROW(),VLOOKUP(L$7,INDIRECT($A$7&"!A:D"),4,FALSE)+4))),"") | ... AI16: =IFERROR(IF($C15="","",INDIRECT("第"&VLOOKUP(AI$7,INDIRECT($A$7&"!A:D"),2,FALSE)&"周"&"!"&ADDRESS(ROW(),VLOOKUP(AI$7,INDIRECT($A$7&"!A:D"),4,FALSE)+4))),"")
D17: 晚上 | E17: =IFERROR(IF($C15="","",INDIRECT("第"&VLOOKUP(E$7,INDIRECT($A$7&"!A:D"),2,FALSE)&"周"&"!"&ADDRESS(ROW(),VLOOKUP(E$7,INDIRECT($A$7&"!A:D"),4,FALSE)+4))),"") | F17: =IFERROR(IF($C15="","",INDIRECT("第"&VLOOKUP(F$7,INDIRECT($A$7&"!A:D"),2,FALSE)&"周"&"!"&ADDRESS(ROW(),VLOOKUP(F$7,INDIRECT($A$7&"!A:D"),4,FALSE)+4))),"") | G17: =IFERROR(IF($C15="","",INDIRECT("第"&VLOOKUP(G$7,INDIRECT($A$7&"!A:D"),2,FALSE)&"周"&"!"&ADDRESS(ROW(),VLOOKUP(G$7,INDIRECT($A$7&"!A:D"),4,FALSE)+4))),"") | H17: =IFERROR(IF($C15="","",INDIRECT("第"&VLOOKUP(H$7,INDIRECT($A$7&"!A:D"),2,FALSE)&"周"&"!"&ADDRESS(ROW(),VLOOKUP(H$7,INDIRECT($A$7&"!A:D"),4,FALSE)+4))),"") | I17: =IFERROR(IF($C15="","",INDIRECT("第"&VLOOKUP(I$7,INDIRECT($A$7&"!A:D"),2,FALSE)&"周"&"!"&ADDRESS(ROW(),VLOOKUP(I$7,INDIRECT($A$7&"!A:D"),4,FALSE)+4))),"") | J17: =IFERROR(IF($C15="","",INDIRECT("第"&VLOOKUP(J$7,INDIRECT($A$7&"!A:D"),2,FALSE)&"周"&"!"&ADDRESS(ROW(),VLOOKUP(J$7,INDIRECT($A$7&"!A:D"),4,FALSE)+4))),"") | K17: =IFERROR(IF($C15="","",INDIRECT("第"&VLOOKUP(K$7,INDIRECT($A$7&"!A:D"),2,FALSE)&"周"&"!"&ADDRESS(ROW(),VLOOKUP(K$7,INDIRECT($A$7&"!A:D"),4,FALSE)+4))),"") | L17: =IFERROR(IF($C15="","",INDIRECT("第"&VLOOKUP(L$7,INDIRECT($A$7&"!A:D"),2,FALSE)&"周"&"!"&ADDRESS(ROW(),VLOOKUP(L$7,INDIRECT($A$7&"!A:D"),4,FALSE)+4))),"") | ... AI17: =IFERROR(IF($C15="","",INDIRECT("第"&VLOOKUP(AI$7,INDIRECT($A$7&"!A:D"),2,FALSE)&"周"&"!"&ADDRESS(ROW(),VLOOKUP(AI$7,INDIRECT($A$7&"!A:D"),4,FALSE)+4))),"")
B18: =ROW()/3-2 -> 4 | C18: =INDIRECT("员工信息表!C"&(B18+3))&IF(INDIRECT("员工信息表!O"&(B18+3))="离职","(离职)","") | D18: 上午 | E18: =IFERROR(IF($C18="","",INDIRECT("第"&VLOOKUP(E$7,INDIRECT($A$7&"!A:D"),2,FALSE)&"周"&"!"&ADDRESS(ROW(),VLOOKUP(E$7,INDIRECT($A$7&"!A:D"),4,FALSE)+4))),"") | F18: =IFERROR(IF($C18="","",INDIRECT("第"&VLOOKUP(F$7,INDIRECT($A$7&"!A:D"),2,FALSE)&"周"&"!"&ADDRESS(ROW(),VLOOKUP(F$7,INDIRECT($A$7&"!A:D"),4,FALSE)+4))),"") | G18: =IFERROR(IF($C18="","",INDIRECT("第"&VLOOKUP(G$7,INDIRECT($A$7&"!A:D"),2,FALSE)&"周"&"!"&ADDRESS(ROW(),VLOOKUP(G$7,INDIRECT($A$7&"!A:D"),4,FALSE)+4))),"") | H18: =IFERROR(IF($C18="","",INDIRECT("第"&VLOOKUP(H$7,INDIRECT($A$7&"!A:D"),2,FALSE)&"周"&"!"&ADDRESS(ROW(),VLOOKUP(H$7,INDIRECT($A$7&"!A:D"),4,FALSE)+4))),"") | I18: =IFERROR(IF($C18="","",INDIRECT("第"&VLOOKUP(I$7,INDIRECT($A$7&"!A:D"),2,FALSE)&"周"&"!"&ADDRESS(ROW(),VLOOKUP(I$7,INDIRECT($A$7&"!A:D"),4,FALSE)+4))),"") | J18: =IFERROR(IF($C18="","",INDIRECT("第"&VLOOKUP(J$7,INDIRECT($A$7&"!A:D"),2,FALSE)&"周"&"!"&ADDRESS(ROW(),VLOOKUP(J$7,INDIRECT($A$7&"!A:D"),4,FALSE)+4))),"") | K18: =IFERROR(IF($C18="","",INDIRECT("第"&VLOOKUP(K$7,INDIRECT($A$7&"!A:D"),2,FALSE)&"周"&"!"&ADDRESS(ROW(),VLOOKUP(K$7,INDIRECT($A$7&"!A:D"),4,FALSE)+4))),"") | L18: =IFERROR(IF($C18="","",INDIRECT("第"&VLOOKUP(L$7,INDIRECT($A$7&"!A:D"),2,FALSE)&"周"&"!"&ADDRESS(ROW(),VLOOKUP(L$7,INDIRECT($A$7&"!A:D"),4,FALSE)+4))),"") | ... AI18: =IFERROR(IF($C18="","",INDIRECT("第"&VLOOKUP(AI$7,INDIRECT($A$7&"!A:D"),2,FALSE)&"周"&"!"&ADDRESS(ROW(),VLOOKUP(AI$7,INDIRECT($A$7&"!A:D"),4,FALSE)+4))),"") | AJ18: =COUNTIF($E18:$AI20,AJ$8) -> 0 | AK18: =COUNTIF($E18:$AI20,AK$8) -> 0 | AL18: =COUNTIF($E18:$AI20,AL$8) -> 0 | AM18: =COUNTIF($E18:$AI20,AM$8) -> 0 | AN18: =COUNTIF($E18:$AI20,AN$8) -> 0 | AO18: =COUNTIF($E18:$AI20,AO$8) -> 0 | AP18: =COUNTIF($E18:$AI20,AP$8) -> 0 | AQ18: =COUNTIF($E18:$AI20,AQ$8) -> 0 | AR18: =COUNTIF($E18:$AI20,AR$8) -> 0
D19: 下午 | E19: =IFERROR(IF($C18="","",INDIRECT("第"&VLOOKUP(E$7,INDIRECT($A$7&"!A:D"),2,FALSE)&"周"&"!"&ADDRESS(ROW(),VLOOKUP(E$7,INDIRECT($A$7&"!A:D"),4,FALSE)+4))),"") | F19: =IFERROR(IF($C18="","",INDIRECT("第"&VLOOKUP(F$7,INDIRECT($A$7&"!A:D"),2,FALSE)&"周"&"!"&ADDRESS(ROW(),VLOOKUP(F$7,INDIRECT($A$7&"!A:D"),4,FALSE)+4))),"") | G19: =IFERROR(IF($C18="","",INDIRECT("第"&VLOOKUP(G$7,INDIRECT($A$7&"!A:D"),2,FALSE)&"周"&"!"&ADDRESS(ROW(),VLOOKUP(G$7,INDIRECT($A$7&"!A:D"),4,FALSE)+4))),"") | H19: =IFERROR(IF($C18="","",INDIRECT("第"&VLOOKUP(H$7,INDIRECT($A$7&"!A:D"),2,FALSE)&"周"&"!"&ADDRESS(ROW(),VLOOKUP(H$7,INDIRECT($A$7&"!A:D"),4,FALSE)+4))),"") | I19: =IFERROR(IF($C18="","",INDIRECT("第"&VLOOKUP(I$7,INDIRECT($A$7&"!A:D"),2,FALSE)&"周"&"!"&ADDRESS(ROW(),VLOOKUP(I$7,INDIRECT($A$7&"!A:D"),4,FALSE)+4))),"") | J19: =IFERROR(IF($C18="","",INDIRECT("第"&VLOOKUP(J$7,INDIRECT($A$7&"!A:D"),2,FALSE)&"周"&"!"&ADDRESS(ROW(),VLOOKUP(J$7,INDIRECT($A$7&"!A:D"),4,FALSE)+4))),"") | K19: =IFERROR(IF($C18="","",INDIRECT("第"&VLOOKUP(K$7,INDIRECT($A$7&"!A:D"),2,FALSE)&"周"&"!"&ADDRESS(ROW(),VLOOKUP(K$7,INDIRECT($A$7&"!A:D"),4,FALSE)+4))),"") | L19: =IFERROR(IF($C18="","",INDIRECT("第"&VLOOKUP(L$7,INDIRECT($A$7&"!A:D"),2,FALSE)&"周"&"!"&ADDRESS(ROW(),VLOOKUP(L$7,INDIRECT($A$7&"!A:D"),4,FALSE)+4))),"") | ... AI19: =IFERROR(IF($C18="","",INDIRECT("第"&VLOOKUP(AI$7,INDIRECT($A$7&"!A:D"),2,FALSE)&"周"&"!"&ADDRESS(ROW(),VLOOKUP(AI$7,INDIRECT($A$7&"!A:D"),4,FALSE)+4))),"")
D20: 晚上 | E20: =IFERROR(IF($C18="","",INDIRECT("第"&VLOOKUP(E$7,INDIRECT($A$7&"!A:D"),2,FALSE)&"周"&"!"&ADDRESS(ROW(),VLOOKUP(E$7,INDIRECT($A$7&"!A:D"),4,FALSE)+4))),"") | F20: =IFERROR(IF($C18="","",INDIRECT("第"&VLOOKUP(F$7,INDIRECT($A$7&"!A:D"),2,FALSE)&"周"&"!"&ADDRESS(ROW(),VLOOKUP(F$7,INDIRECT($A$7&"!A:D"),4,FALSE)+4))),"") | G20: =IFERROR(IF($C18="","",INDIRECT("第"&VLOOKUP(G$7,INDIRECT($A$7&"!A:D"),2,FALSE)&"周"&"!"&ADDRESS(ROW(),VLOOKUP(G$7,INDIRECT($A$7&"!A:D"),4,FALSE)+4))),"") | H20: =IFERROR(IF($C18="","",INDIRECT("第"&VLOOKUP(H$7,INDIRECT($A$7&"!A:D"),2,FALSE)&"周"&"!"&ADDRESS(ROW(),VLOOKUP(H$7,INDIRECT($A$7&"!A:D"),4,FALSE)+4))),"") | I20: =IFERROR(IF($C18="","",INDIRECT("第"&VLOOKUP(I$7,INDIRECT($A$7&"!A:D"),2,FALSE)&"周"&"!"&ADDRESS(ROW(),VLOOKUP(I$7,INDIRECT($A$7&"!A:D"),4,FALSE)+4))),"") | J20: =IFERROR(IF($C18="","",INDIRECT("第"&VLOOKUP(J$7,INDIRECT($A$7&"!A:D"),2,FALSE)&"周"&"!"&ADDRESS(ROW(),VLOOKUP(J$7,INDIRECT($A$7&"!A:D"),4,FALSE)+4))),"") | K20: =IFERROR(IF($C18="","",INDIRECT("第"&VLOOKUP(K$7,INDIRECT($A$7&"!A:D"),2,FALSE)&"周"&"!"&ADDRESS(ROW(),VLOOKUP(K$7,INDIRECT($A$7&"!A:D"),4,FALSE)+4))),"") | L20: =IFERROR(IF($C18="","",INDIRECT("第"&VLOOKUP(L$7,INDIRECT($A$7&"!A:D"),2,FALSE)&"周"&"!"&ADDRESS(ROW(),VLOOKUP(L$7,INDIRECT($A$7&"!A:D"),4,FALSE)+4))),"") | ... AI20: =IFERROR(IF($C18="","",INDIRECT("第"&VLOOKUP(AI$7,INDIRECT($A$7&"!A:D"),2,FALSE)&"周"&"!"&ADDRESS(ROW(),VLOOKUP(AI$7,INDIRECT($A$7&"!A:D"),4,FALSE)+4))),"")
B21: =ROW()/3-2 -> 5 | C21: =INDIRECT("员工信息表!C"&(B21+3))&IF(INDIRECT("员工信息表!O"&(B21+3))="离职","(离职)","") | D21: 上午 | E21: =IFERROR(IF($C21="","",INDIRECT("第"&VLOOKUP(E$7,INDIRECT($A$7&"!A:D"),2,FALSE)&"周"&"!"&ADDRESS(ROW(),VLOOKUP(E$7,INDIRECT($A$7&"!A:D"),4,FALSE)+4))),"") | F21: =IFERROR(IF($C21="","",INDIRECT("第"&VLOOKUP(F$7,INDIRECT($A$7&"!A:D"),2,FALSE)&"周"&"!"&ADDRESS(ROW(),VLOOKUP(F$7,INDIRECT($A$7&"!A:D"),4,FALSE)+4))),"") | G21: =IFERROR(IF($C21="","",INDIRECT("第"&VLOOKUP(G$7,INDIRECT($A$7&"!A:D"),2,FALSE)&"周"&"!"&ADDRESS(ROW(),VLOOKUP(G$7,INDIRECT($A$7&"!A:D"),4,FALSE)+4))),"") | H21: =IFERROR(IF($C21="","",INDIRECT("第"&VLOOKUP(H$7,INDIRECT($A$7&"!A:D"),2,FALSE)&"周"&"!"&ADDRESS(ROW(),VLOOKUP(H$7,INDIRECT($A$7&"!A:D"),4,FALSE)+4))),"") | I21: =IFERROR(IF($C21="","",INDIRECT("第"&VLOOKUP(I$7,INDIRECT($A$7&"!A:D"),2,FALSE)&"周"&"!"&ADDRESS(ROW(),VLOOKUP(I$7,INDIRECT($A$7&"!A:D"),4,FALSE)+4))),"") | J21: =IFERROR(IF($C21="","",INDIRECT("第"&VLOOKUP(J$7,INDIRECT($A$7&"!A:D"),2,FALSE)&"周"&"!"&ADDRESS(ROW(),VLOOKUP(J$7,INDIRECT($A$7&"!A:D"),4,FALSE)+4))),"") | K21: =IFERROR(IF($C21="","",INDIRECT("第"&VLOOKUP(K$7,INDIRECT($A$7&"!A:D"),2,FALSE)&"周"&"!"&ADDRESS(ROW(),VLOOKUP(K$7,INDIRECT($A$7&"!A:D"),4,FALSE)+4))),"") | L21: =IFERROR(IF($C21="","",INDIRECT("第"&VLOOKUP(L$7,INDIRECT($A$7&"!A:D"),2,FALSE)&"周"&"!"&ADDRESS(ROW(),VLOOKUP(L$7,INDIRECT($A$7&"!A:D"),4,FALSE)+4))),"") | ... AI21: =IFERROR(IF($C21="","",INDIRECT("第"&VLOOKUP(AI$7,INDIRECT($A$7&"!A:D"),2,FALSE)&"周"&"!"&ADDRESS(ROW(),VLOOKUP(AI$7,INDIRECT($A$7&"!A:D"),4,FALSE)+4))),"") | AJ21: =COUNTIF($E21:$AI23,AJ$8) -> 0 | AK21: =COUNTIF($E21:$AI23,AK$8) -> 0 | AL21: =COUNTIF($E21:$AI23,AL$8) -> 0 | AM21: =COUNTIF($E21:$AI23,AM$8) -> 0 | AN21: =COUNTIF($E21:$AI23,AN$8) -> 0 | AO21: =COUNTIF($E21:$AI23,AO$8) -> 0 | AP21: =COUNTIF($E21:$AI23,AP$8) -> 0 | AQ21: =COUNTIF($E21:$AI23,AQ$8) -> 0 | AR21: =COUNTIF($E21:$AI23,AR$8) -> 0
D22: 下午 | E22: =IFERROR(IF($C21="","",INDIRECT("第"&VLOOKUP(E$7,INDIRECT($A$7&"!A:D"),2,FALSE)&"周"&"!"&ADDRESS(ROW(),VLOOKUP(E$7,INDIRECT($A$7&"!A:D"),4,FALSE)+4))),"") | F22: =IFERROR(IF($C21="","",INDIRECT("第"&VLOOKUP(F$7,INDIRECT($A$7&"!A:D"),2,FALSE)&"周"&"!"&ADDRESS(ROW(),VLOOKUP(F$7,INDIRECT($A$7&"!A:D"),4,FALSE)+4))),"") | G22: =IFERROR(IF($C21="","",INDIRECT("第"&VLOOKUP(G$7,INDIRECT($A$7&"!A:D"),2,FALSE)&"周"&"!"&ADDRESS(ROW(),VLOOKUP(G$7,INDIRECT($A$7&"!A:D"),4,FALSE)+4))),"") | H22: =IFERROR(IF($C21="","",INDIRECT("第"&VLOOKUP(H$7,INDIRECT($A$7&"!A:D"),2,FALSE)&"周"&"!"&ADDRESS(ROW(),VLOOKUP(H$7,INDIRECT($A$7&"!A:D"),4,FALSE)+4))),"") | I22: =IFERROR(IF($C21="","",INDIRECT("第"&VLOOKUP(I$7,INDIRECT($A$7&"!A:D"),2,FALSE)&"周"&"!"&ADDRESS(ROW(),VLOOKUP(I$7,INDIRECT($A$7&"!A:D"),4,FALSE)+4))),"") | J22: =IFERROR(IF($C21="","",INDIRECT("第"&VLOOKUP(J$7,INDIRECT($A$7&"!A:D"),2,FALSE)&"周"&"!"&ADDRESS(ROW(),VLOOKUP(J$7,INDIRECT($A$7&"!A:D"),4,FALSE)+4))),"") | K22: =IFERROR(IF($C21="","",INDIRECT("第"&VLOOKUP(K$7,INDIRECT($A$7&"!A:D"),2,FALSE)&"周"&"!"&ADDRESS(ROW(),VLOOKUP(K$7,INDIRECT($A$7&"!A:D"),4,FALSE)+4))),"") | L22: =IFERROR(IF($C21="","",INDIRECT("第"&VLOOKUP(L$7,INDIRECT($A$7&"!A:D"),2,FALSE)&"周"&"!"&ADDRESS(ROW(),VLOOKUP(L$7,INDIRECT($A$7&"!A:D"),4,FALSE)+4))),"") | ... AI22: =IFERROR(IF($C21="","",INDIRECT("第"&VLOOKUP(AI$7,INDIRECT($A$7&"!A:D"),2,FALSE)&"周"&"!"&ADDRESS(ROW(),VLOOKUP(AI$7,INDIRECT($A$7&"!A:D"),4,FALSE)+4))),"")
D23: 晚上 | E23: =IFERROR(IF($C21="","",INDIRECT("第"&VLOOKUP(E$7,INDIRECT($A$7&"!A:D"),2,FALSE)&"周"&"!"&ADDRESS(ROW(),VLOOKUP(E$7,INDIRECT($A$7&"!A:D"),4,FALSE)+4))),"") | F23: =IFERROR(IF($C21="","",INDIRECT("第"&VLOOKUP(F$7,INDIRECT($A$7&"!A:D"),2,FALSE)&"周"&"!"&ADDRESS(ROW(),VLOOKUP(F$7,INDIRECT($A$7&"!A:D"),4,FALSE)+4))),"") | G23: =IFERROR(IF($C21="","",INDIRECT("第"&VLOOKUP(G$7,INDIRECT($A$7&"!A:D"),2,FALSE)&"周"&"!"&ADDRESS(ROW(),VLOOKUP(G$7,INDIRECT($A$7&"!A:D"),4,FALSE)+4))),"") | H23: =IFERROR(IF($C21="","",INDIRECT("第"&VLOOKUP(H$7,INDIRECT($A$7&"!A:D"),2,FALSE)&"周"&"!"&ADDRESS(ROW(),VLOOKUP(H$7,INDIRECT($A$7&"!A:D"),4,FALSE)+4))),"") | I23: =IFERROR(IF($C21="","",INDIRECT("第"&VLOOKUP(I$7,INDIRECT($A$7&"!A:D"),2,FALSE)&"周"&"!"&ADDRESS(ROW(),VLOOKUP(I$7,INDIRECT($A$7&"!A:D"),4,FALSE)+4))),"") | J23: =IFERROR(IF($C21="","",INDIRECT("第"&VLOOKUP(J$7,INDIRECT($A$7&"!A:D"),2,FALSE)&"周"&"!"&ADDRESS(ROW(),VLOOKUP(J$7,INDIRECT($A$7&"!A:D"),4,FALSE)+4))),"") | K23: =IFERROR(IF($C21="","",INDIRECT("第"&VLOOKUP(K$7,INDIRECT($A$7&"!A:D"),2,FALSE)&"周"&"!"&ADDRESS(ROW(),VLOOKUP(K$7,INDIRECT($A$7&"!A:D"),4,FALSE)+4))),"") | L23: =IFERROR(IF($C21="","",INDIRECT("第"&VLOOKUP(L$7,INDIRECT($A$7&"!A:D"),2,FALSE)&"周"&"!"&ADDRESS(ROW(),VLOOKUP(L$7,INDIRECT($A$7&"!A:D"),4,FALSE)+4))),"") | ... AI23: =IFERROR(IF($C21="","",INDIRECT("第"&VLOOKUP(AI$7,INDIRECT($A$7&"!A:D"),2,FALSE)&"周"&"!"&ADDRESS(ROW(),VLOOKUP(AI$7,INDIRECT($A$7&"!A:D"),4,FALSE)+4))),"")
B24: =ROW()/3-2 -> 6 | C24: =INDIRECT("员工信息表!C"&(B24+3))&IF(INDIRECT("员工信息表!O"&(B24+3))="离职","(离职)","") | D24: 上午 | E24: =IFERROR(IF($C24="","",INDIRECT("第"&VLOOKUP(E$7,INDIRECT($A$7&"!A:D"),2,FALSE)&"周"&"!"&ADDRESS(ROW(),VLOOKUP(E$7,INDIRECT($A$7&"!A:D"),4,FALSE)+4))),"") | F24: =IFERROR(IF($C24="","",INDIRECT("第"&VLOOKUP(F$7,INDIRECT($A$7&"!A:D"),2,FALSE)&"周"&"!"&ADDRESS(ROW(),VLOOKUP(F$7,INDIRECT($A$7&"!A:D"),4,FALSE)+4))),"") | G24: =IFERROR(IF($C24="","",INDIRECT("第"&VLOOKUP(G$7,INDIRECT($A$7&"!A:D"),2,FALSE)&"周"&"!"&ADDRESS(ROW(),VLOOKUP(G$7,INDIRECT($A$7&"!A:D"),4,FALSE)+4))),"") | H24: =IFERROR(IF($C24="","",INDIRECT("第"&VLOOKUP(H$7,INDIRECT($A$7&"!A:D"),2,FALSE)&"周"&"!"&ADDRESS(ROW(),VLOOKUP(H$7,INDIRECT($A$7&"!A:D"),4,FALSE)+4))),"") | I24: =IFERROR(IF($C24="","",INDIRECT("第"&VLOOKUP(I$7,INDIRECT($A$7&"!A:D"),2,FALSE)&"周"&"!"&ADDRESS(ROW(),VLOOKUP(I$7,INDIRECT($A$7&"!A:D"),4,FALSE)+4))),"") | J24: =IFERROR(IF($C24="","",INDIRECT("第"&VLOOKUP(J$7,INDIRECT($A$7&"!A:D"),2,FALSE)&"周"&"!"&ADDRESS(ROW(),VLOOKUP(J$7,INDIRECT($A$7&"!A:D"),4,FALSE)+4))),"") | K24: =IFERROR(IF($C24="","",INDIRECT("第"&VLOOKUP(K$7,INDIRECT($A$7&"!A:D"),2,FALSE)&"周"&"!"&ADDRESS(ROW(),VLOOKUP(K$7,INDIRECT($A$7&"!A:D"),4,FALSE)+4))),"") | L24: =IFERROR(IF($C24="","",INDIRECT("第"&VLOOKUP(L$7,INDIRECT($A$7&"!A:D"),2,FALSE)&"周"&"!"&ADDRESS(ROW(),VLOOKUP(L$7,INDIRECT($A$7&"!A:D"),4,FALSE)+4))),"") | ... AI24: =IFERROR(IF($C24="","",INDIRECT("第"&VLOOKUP(AI$7,INDIRECT($A$7&"!A:D"),2,FALSE)&"周"&"!"&ADDRESS(ROW(),VLOOKUP(AI$7,INDIRECT($A$7&"!A:D"),4,FALSE)+4))),"") | AJ24: =COUNTIF($E24:$AI26,AJ$8) -> 0 | AK24: =COUNTIF($E24:$AI26,AK$8) -> 0 | AL24: =COUNTIF($E24:$AI26,AL$8) -> 0 | AM24: =COUNTIF($E24:$AI26,AM$8) -> 0 | AN24: =COUNTIF($E24:$AI26,AN$8) -> 0 | AO24: =COUNTIF($E24:$AI26,AO$8) -> 0 | AP24: =COUNTIF($E24:$AI26,AP$8) -> 0 | AQ24: =COUNTIF($E24:$AI26,AQ$8) -> 0 | AR24: =COUNTIF($E24:$AI26,AR$8) -> 0
D25: 下午 | E25: =IFERROR(IF($C24="","",INDIRECT("第"&VLOOKUP(E$7,INDIRECT($A$7&"!A:D"),2,FALSE)&"周"&"!"&ADDRESS(ROW(),VLOOKUP(E$7,INDIRECT($A$7&"!A:D"),4,FALSE)+4))),"") | F25: =IFERROR(IF($C24="","",INDIRECT("第"&VLOOKUP(F$7,INDIRECT($A$7&"!A:D"),2,FALSE)&"周"&"!"&ADDRESS(ROW(),VLOOKUP(F$7,INDIRECT($A$7&"!A:D"),4,FALSE)+4))),"") | G25: =IFERROR(IF($C24="","",INDIRECT("第"&VLOOKUP(G$7,INDIRECT($A$7&"!A:D"),2,FALSE)&"周"&"!"&ADDRESS(ROW(),VLOOKUP(G$7,INDIRECT($A$7&"!A:D"),4,FALSE)+4))),"") | H25: =IFERROR(IF($C24="","",INDIRECT("第"&VLOOKUP(H$7,INDIRECT($A$7&"!A:D"),2,FALSE)&"周"&"!"&ADDRESS(ROW(),VLOOKUP(H$7,INDIRECT($A$7&"!A:D"),4,FALSE)+4))),"") | I25: =IFERROR(IF($C24="","",INDIRECT("第"&VLOOKUP(I$7,INDIRECT($A$7&"!A:D"),2,FALSE)&"周"&"!"&ADDRESS(ROW(),VLOOKUP(I$7,INDIRECT($A$7&"!A:D"),4,FALSE)+4))),"") | J25: =IFERROR(IF($C24="","",INDIRECT("第"&VLOOKUP(J$7,INDIRECT($A$7&"!A:D"),2,FALSE)&"周"&"!"&ADDRESS(ROW(),VLOOKUP(J$7,INDIRECT($A$7&"!A:D"),4,FALSE)+4))),"") | K25: =IFERROR(IF($C24="","",INDIRECT("第"&VLOOKUP(K$7,INDIRECT($A$7&"!A:D"),2,FALSE)&"周"&"!"&ADDRESS(ROW(),VLOOKUP(K$7,INDIRECT($A$7&"!A:D"),4,FALSE)+4))),"") | L25: =IFERROR(IF($C24="","",INDIRECT("第"&VLOOKUP(L$7,INDIRECT($A$7&"!A:D"),2,FALSE)&"周"&"!"&ADDRESS(ROW(),VLOOKUP(L$7,INDIRECT($A$7&"!A:D"),4,FALSE)+4))),"") | ... AI25: =IFERROR(IF($C24="","",INDIRECT("第"&VLOOKUP(AI$7,INDIRECT($A$7&"!A:D"),2,FALSE)&"周"&"!"&ADDRESS(ROW(),VLOOKUP(AI$7,INDIRECT($A$7&"!A:D"),4,FALSE)+4))),"")
D26: 晚上 | E26: =IFERROR(IF($C24="","",INDIRECT("第"&VLOOKUP(E$7,INDIRECT($A$7&"!A:D"),2,FALSE)&"周"&"!"&ADDRESS(ROW(),VLOOKUP(E$7,INDIRECT($A$7&"!A:D"),4,FALSE)+4))),"") | F26: =IFERROR(IF($C24="","",INDIRECT("第"&VLOOKUP(F$7,INDIRECT($A$7&"!A:D"),2,FALSE)&"周"&"!"&ADDRESS(ROW(),VLOOKUP(F$7,INDIRECT($A$7&"!A:D"),4,FALSE)+4))),"") | G26: =IFERROR(IF($C24="","",INDIRECT("第"&VLOOKUP(G$7,INDIRECT($A$7&"!A:D"),2,FALSE)&"周"&"!"&ADDRESS(ROW(),VLOOKUP(G$7,INDIRECT($A$7&"!A:D"),4,FALSE)+4))),"") | H26: =IFERROR(IF($C24="","",INDIRECT("第"&VLOOKUP(H$7,INDIRECT($A$7&"!A:D"),2,FALSE)&"周"&"!"&ADDRESS(ROW(),VLOOKUP(H$7,INDIRECT($A$7&"!A:D"),4,FALSE)+4))),"") | I26: =IFERROR(IF($C24="","",INDIRECT("第"&VLOOKUP(I$7,INDIRECT($A$7&"!A:D"),2,FALSE)&"周"&"!"&ADDRESS(ROW(),VLOOKUP(I$7,INDIRECT($A$7&"!A:D"),4,FALSE)+4))),"") | J26: =IFERROR(IF($C24="","",INDIRECT("第"&VLOOKUP(J$7,INDIRECT($A$7&"!A:D"),2,FALSE)&"周"&"!"&ADDRESS(ROW(),VLOOKUP(J$7,INDIRECT($A$7&"!A:D"),4,FALSE)+4))),"") | K26: =IFERROR(IF($C24="","",INDIRECT("第"&VLOOKUP(K$7,INDIRECT($A$7&"!A:D"),2,FALSE)&"周"&"!"&ADDRESS(ROW(),VLOOKUP(K$7,INDIRECT($A$7&"!A:D"),4,FALSE)+4))),"") | L26: =IFERROR(IF($C24="","",INDIRECT("第"&VLOOKUP(L$7,INDIRECT($A$7&"!A:D"),2,FALSE)&"周"&"!"&ADDRESS(ROW(),VLOOKUP(L$7,INDIRECT($A$7&"!A:D"),4,FALSE)+4))),"") | ... AI26: =IFERROR(IF($C24="","",INDIRECT("第"&VLOOKUP(AI$7,INDIRECT($A$7&"!A:D"),2,FALSE)&"周"&"!"&ADDRESS(ROW(),VLOOKUP(AI$7,INDIRECT($A$7&"!A:D"),4,FALSE)+4))),"")
B27: =ROW()/3-2 -> 7 | C27: =INDIRECT("员工信息表!C"&(B27+3))&IF(INDIRECT("员工信息表!O"&(B27+3))="离职","(离职)","") | D27: 上午 | E27: =IFERROR(IF($C27="","",INDIRECT("第"&VLOOKUP(E$7,INDIRECT($A$7&"!A:D"),2,FALSE)&"周"&"!"&ADDRESS(ROW(),VLOOKUP(E$7,INDIRECT($A$7&"!A:D"),4,FALSE)+4))),"") | F27: =IFERROR(IF($C27="","",INDIRECT("第"&VLOOKUP(F$7,INDIRECT($A$7&"!A:D"),2,FALSE)&"周"&"!"&ADDRESS(ROW(),VLOOKUP(F$7,INDIRECT($A$7&"!A:D"),4,FALSE)+4))),"") | G27: =IFERROR(IF($C27="","",INDIRECT("第"&VLOOKUP(G$7,INDIRECT($A$7&"!A:D"),2,FALSE)&"周"&"!"&ADDRESS(ROW(),VLOOKUP(G$7,INDIRECT($A$7&"!A:D"),4,FALSE)+4))),"") | H27: =IFERROR(IF($C27="","",INDIRECT("第"&VLOOKUP(H$7,INDIRECT($A$7&"!A:D"),2,FALSE)&"周"&"!"&ADDRESS(ROW(),VLOOKUP(H$7,INDIRECT($A$7&"!A:D"),4,FALSE)+4))),"") | I27: =IFERROR(IF($C27="","",INDIRECT("第"&VLOOKUP(I$7,INDIRECT($A$7&"!A:D"),2,FALSE)&"周"&"!"&ADDRESS(ROW(),VLOOKUP(I$7,INDIRECT($A$7&"!A:D"),4,FALSE)+4))),"") | J27: =IFERROR(IF($C27="","",INDIRECT("第"&VLOOKUP(J$7,INDIRECT($A$7&"!A:D"),2,FALSE)&"周"&"!"&ADDRESS(ROW(),VLOOKUP(J$7,INDIRECT($A$7&"!A:D"),4,FALSE)+4))),"") | K27: =IFERROR(IF($C27="","",INDIRECT("第"&VLOOKUP(K$7,INDIRECT($A$7&"!A:D"),2,FALSE)&"周"&"!"&ADDRESS(ROW(),VLOOKUP(K$7,INDIRECT($A$7&"!A:D"),4,FALSE)+4))),"") | L27: =IFERROR(IF($C27="","",INDIRECT("第"&VLOOKUP(L$7,INDIRECT($A$7&"!A:D"),2,FALSE)&"周"&"!"&ADDRESS(ROW(),VLOOKUP(L$7,INDIRECT($A$7&"!A:D"),4,FALSE)+4))),"") | ... AI27: =IFERROR(IF($C27="","",INDIRECT("第"&VLOOKUP(AI$7,INDIRECT($A$7&"!A:D"),2,FALSE)&"周"&"!"&ADDRESS(ROW(),VLOOKUP(AI$7,INDIRECT($A$7&"!A:D"),4,FALSE)+4))),"") | AJ27: =COUNTIF($E27:$AI29,AJ$8) -> 0 | AK27: =COUNTIF($E27:$AI29,AK$8) -> 0 | AL27: =COUNTIF($E27:$AI29,AL$8) -> 0 | AM27: =COUNTIF($E27:$AI29,AM$8) -> 0 | AN27: =COUNTIF($E27:$AI29,AN$8) -> 0 | AO27: =COUNTIF($E27:$AI29,AO$8) -> 0 | AP27: =COUNTIF($E27:$AI29,AP$8) -> 0 | AQ27: =COUNTIF($E27:$AI29,AQ$8) -> 0 | AR27: =COUNTIF($E27:$AI29,AR$8) -> 0
D28: 下午 | E28: =IFERROR(IF($C27="","",INDIRECT("第"&VLOOKUP(E$7,INDIRECT($A$7&"!A:D"),2,FALSE)&"周"&"!"&ADDRESS(ROW(),VLOOKUP(E$7,INDIRECT($A$7&"!A:D"),4,FALSE)+4))),"") | F28: =IFERROR(IF($C27="","",INDIRECT("第"&VLOOKUP(F$7,INDIRECT($A$7&"!A:D"),2,FALSE)&"周"&"!"&ADDRESS(ROW(),VLOOKUP(F$7,INDIRECT($A$7&"!A:D"),4,FALSE)+4))),"") | G28: =IFERROR(IF($C27="","",INDIRECT("第"&VLOOKUP(G$7,INDIRECT($A$7&"!A:D"),2,FALSE)&"周"&"!"&ADDRESS(ROW(),VLOOKUP(G$7,INDIRECT($A$7&"!A:D"),4,FALSE)+4))),"") | H28: =IFERROR(IF($C27="","",INDIRECT("第"&VLOOKUP(H$7,INDIRECT($A$7&"!A:D"),2,FALSE)&"周"&"!"&ADDRESS(ROW(),VLOOKUP(H$7,INDIRECT($A$7&"!A:D"),4,FALSE)+4))),"") | I28: =IFERROR(IF($C27="","",INDIRECT("第"&VLOOKUP(I$7,INDIRECT($A$7&"!A:D"),2,FALSE)&"周"&"!"&ADDRESS(ROW(),VLOOKUP(I$7,INDIRECT($A$7&"!A:D"),4,FALSE)+4))),"") | J28: =IFERROR(IF($C27="","",INDIRECT("第"&VLOOKUP(J$7,INDIRECT($A$7&"!A:D"),2,FALSE)&"周"&"!"&ADDRESS(ROW(),VLOOKUP(J$7,INDIRECT($A$7&"!A:D"),4,FALSE)+4))),"") | K28: =IFERROR(IF($C27="","",INDIRECT("第"&VLOOKUP(K$7,INDIRECT($A$7&"!A:D"),2,FALSE)&"周"&"!"&ADDRESS(ROW(),VLOOKUP(K$7,INDIRECT($A$7&"!A:D"),4,FALSE)+4))),"") | L28: =IFERROR(IF($C27="","",INDIRECT("第"&VLOOKUP(L$7,INDIRECT($A$7&"!A:D"),2,FALSE)&"周"&"!"&ADDRESS(ROW(),VLOOKUP(L$7,INDIRECT($A$7&"!A:D"),4,FALSE)+4))),"") | ... AI28: =IFERROR(IF($C27="","",INDIRECT("第"&VLOOKUP(AI$7,INDIRECT($A$7&"!A:D"),2,FALSE)&"周"&"!"&ADDRESS(ROW(),VLOOKUP(AI$7,INDIRECT($A$7&"!A:D"),4,FALSE)+4))),"")
D29: 晚上 | E29: =IFERROR(IF($C27="","",INDIRECT("第"&VLOOKUP(E$7,INDIRECT($A$7&"!A:D"),2,FALSE)&"周"&"!"&ADDRESS(ROW(),VLOOKUP(E$7,INDIRECT($A$7&"!A:D"),4,FALSE)+4))),"") | F29: =IFERROR(IF($C27="","",INDIRECT("第"&VLOOKUP(F$7,INDIRECT($A$7&"!A:D"),2,FALSE)&"周"&"!"&ADDRESS(ROW(),VLOOKUP(F$7,INDIRECT($A$7&"!A:D"),4,FALSE)+4))),"") | G29: =IFERROR(IF($C27="","",INDIRECT("第"&VLOOKUP(G$7,INDIRECT($A$7&"!A:D"),2,FALSE)&"周"&"!"&ADDRESS(ROW(),VLOOKUP(G$7,INDIRECT($A$7&"!A:D"),4,FALSE)+4))),"") | H29: =IFERROR(IF($C27="","",INDIRECT("第"&VLOOKUP(H$7,INDIRECT($A$7&"!A:D"),2,FALSE)&"周"&"!"&ADDRESS(ROW(),VLOOKUP(H$7,INDIRECT($A$7&"!A:D"),4,FALSE)+4))),"") | I29: =IFERROR(IF($C27="","",INDIRECT("第"&VLOOKUP(I$7,INDIRECT($A$7&"!A:D"),2,FALSE)&"周"&"!"&ADDRESS(ROW(),VLOOKUP(I$7,INDIRECT($A$7&"!A:D"),4,FALSE)+4))),"") | J29: =IFERROR(IF($C27="","",INDIRECT("第"&VLOOKUP(J$7,INDIRECT($A$7&"!A:D"),2,FALSE)&"周"&"!"&ADDRESS(ROW(),VLOOKUP(J$7,INDIRECT($A$7&"!A:D"),4,FALSE)+4))),"") | K29: =IFERROR(IF($C27="","",INDIRECT("第"&VLOOKUP(K$7,INDIRECT($A$7&"!A:D"),2,FALSE)&"周"&"!"&ADDRESS(ROW(),VLOOKUP(K$7,INDIRECT($A$7&"!A:D"),4,FALSE)+4))),"") | L29: =IFERROR(IF($C27="","",INDIRECT("第"&VLOOKUP(L$7,INDIRECT($A$7&"!A:D"),2,FALSE)&"周"&"!"&ADDRESS(ROW(),VLOOKUP(L$7,INDIRECT($A$7&"!A:D"),4,FALSE)+4))),"") | ... AI29: =IFERROR(IF($C27="","",INDIRECT("第"&VLOOKUP(AI$7,INDIRECT($A$7&"!A:D"),2,FALSE)&"周"&"!"&ADDRESS(ROW(),VLOOKUP(AI$7,INDIRECT($A$7&"!A:D"),4,FALSE)+4))),"")
B30: =ROW()/3-2 -> 8 | C30: =INDIRECT("员工信息表!C"&(B30+3))&IF(INDIRECT("员工信息表!O"&(B30+3))="离职","(离职)","") | D30: 上午 | E30: =IFERROR(IF($C30="","",INDIRECT("第"&VLOOKUP(E$7,INDIRECT($A$7&"!A:D"),2,FALSE)&"周"&"!"&ADDRESS(ROW(),VLOOKUP(E$7,INDIRECT($A$7&"!A:D"),4,FALSE)+4))),"") | F30: =IFERROR(IF($C30="","",INDIRECT("第"&VLOOKUP(F$7,INDIRECT($A$7&"!A:D"),2,FALSE)&"周"&"!"&ADDRESS(ROW(),VLOOKUP(F$7,INDIRECT($A$7&"!A:D"),4,FALSE)+4))),"") | G30: =IFERROR(IF($C30="","",INDIRECT("第"&VLOOKUP(G$7,INDIRECT($A$7&"!A:D"),2,FALSE)&"周"&"!"&ADDRESS(ROW(),VLOOKUP(G$7,INDIRECT($A$7&"!A:D"),4,FALSE)+4))),"") | H30: =IFERROR(IF($C30="","",INDIRECT("第"&VLOOKUP(H$7,INDIRECT($A$7&"!A:D"),2,FALSE)&"周"&"!"&ADDRESS(ROW(),VLOOKUP(H$7,INDIRECT($A$7&"!A:D"),4,FALSE)+4))),"") | I30: =IFERROR(IF($C30="","",INDIRECT("第"&VLOOKUP(I$7,INDIRECT($A$7&"!A:D"),2,FALSE)&"周"&"!"&ADDRESS(ROW(),VLOOKUP(I$7,INDIRECT($A$7&"!A:D"),4,FALSE)+4))),"") | J30: =IFERROR(IF($C30="","",INDIRECT("第"&VLOOKUP(J$7,INDIRECT($A$7&"!A:D"),2,FALSE)&"周"&"!"&ADDRESS(ROW(),VLOOKUP(J$7,INDIRECT($A$7&"!A:D"),4,FALSE)+4))),"") | K30: =IFERROR(IF($C30="","",INDIRECT("第"&VLOOKUP(K$7,INDIRECT($A$7&"!A:D"),2,FALSE)&"周"&"!"&ADDRESS(ROW(),VLOOKUP(K$7,INDIRECT($A$7&"!A:D"),4,FALSE)+4))),"") | L30: =IFERROR(IF($C30="","",INDIRECT("第"&VLOOKUP(L$7,INDIRECT($A$7&"!A:D"),2,FALSE)&"周"&"!"&ADDRESS(ROW(),VLOOKUP(L$7,INDIRECT($A$7&"!A:D"),4,FALSE)+4))),"") | ... AI30: =IFERROR(IF($C30="","",INDIRECT("第"&VLOOKUP(AI$7,INDIRECT($A$7&"!A:D"),2,FALSE)&"周"&"!"&ADDRESS(ROW(),VLOOKUP(AI$7,INDIRECT($A$7&"!A:D"),4,FALSE)+4))),"") | AJ30: =COUNTIF($E30:$AI32,AJ$8) -> 0 | AK30: =COUNTIF($E30:$AI32,AK$8) -> 0 | AL30: =COUNTIF($E30:$AI32,AL$8) -> 0 | AM30: =COUNTIF($E30:$AI32,AM$8) -> 0 | AN30: =COUNTIF($E30:$AI32,AN$8) -> 0 | AO30: =COUNTIF($E30:$AI32,AO$8) -> 0 | AP30: =COUNTIF($E30:$AI32,AP$8) -> 0 | AQ30: =COUNTIF($E30:$AI32,AQ$8) -> 0 | AR30: =COUNTIF($E30:$AI32,AR$8) -> 0
D31: 下午 | E31: =IFERROR(IF($C30="","",INDIRECT("第"&VLOOKUP(E$7,INDIRECT($A$7&"!A:D"),2,FALSE)&"周"&"!"&ADDRESS(ROW(),VLOOKUP(E$7,INDIRECT($A$7&"!A:D"),4,FALSE)+4))),"") | F31: =IFERROR(IF($C30="","",INDIRECT("第"&VLOOKUP(F$7,INDIRECT($A$7&"!A:D"),2,FALSE)&"周"&"!"&ADDRESS(ROW(),VLOOKUP(F$7,INDIRECT($A$7&"!A:D"),4,FALSE)+4))),"") | G31: =IFERROR(IF($C30="","",INDIRECT("第"&VLOOKUP(G$7,INDIRECT($A$7&"!A:D"),2,FALSE)&"周"&"!"&ADDRESS(ROW(),VLOOKUP(G$7,INDIRECT($A$7&"!A:D"),4,FALSE)+4))),"") | H31: =IFERROR(IF($C30="","",INDIRECT("第"&VLOOKUP(H$7,INDIRECT($A$7&"!A:D"),2,FALSE)&"周"&"!"&ADDRESS(ROW(),VLOOKUP(H$7,INDIRECT($A$7&"!A:D"),4,FALSE)+4))),"") | I31: =IFERROR(IF($C30="","",INDIRECT("第"&VLOOKUP(I$7,INDIRECT($A$7&"!A:D"),2,FALSE)&"周"&"!"&ADDRESS(ROW(),VLOOKUP(I$7,INDIRECT($A$7&"!A:D"),4,FALSE)+4))),"") | J31: =IFERROR(IF($C30="","",INDIRECT("第"&VLOOKUP(J$7,INDIRECT($A$7&"!A:D"),2,FALSE)&"周"&"!"&ADDRESS(ROW(),VLOOKUP(J$7,INDIRECT($A$7&"!A:D"),4,FALSE)+4))),"") | K31: =IFERROR(IF($C30="","",INDIRECT("第"&VLOOKUP(K$7,INDIRECT($A$7&"!A:D"),2,FALSE)&"周"&"!"&ADDRESS(ROW(),VLOOKUP(K$7,INDIRECT($A$7&"!A:D"),4,FALSE)+4))),"") | L31: =IFERROR(IF($C30="","",INDIRECT("第"&VLOOKUP(L$7,INDIRECT($A$7&"!A:D"),2,FALSE)&"周"&"!"&ADDRESS(ROW(),VLOOKUP(L$7,INDIRECT($A$7&"!A:D"),4,FALSE)+4))),"") | ... AI31: =IFERROR(IF($C30="","",INDIRECT("第"&VLOOKUP(AI$7,INDIRECT($A$7&"!A:D"),2,FALSE)&"周"&"!"&ADDRESS(ROW(),VLOOKUP(AI$7,INDIRECT($A$7&"!A:D"),4,FALSE)+4))),"")
D32: 晚上 | E32: =IFERROR(IF($C30="","",INDIRECT("第"&VLOOKUP(E$7,INDIRECT($A$7&"!A:D"),2,FALSE)&"周"&"!"&ADDRESS(ROW(),VLOOKUP(E$7,INDIRECT($A$7&"!A:D"),4,FALSE)+4))),"") | F32: =IFERROR(IF($C30="","",INDIRECT("第"&VLOOKUP(F$7,INDIRECT($A$7&"!A:D"),2,FALSE)&"周"&"!"&ADDRESS(ROW(),VLOOKUP(F$7,INDIRECT($A$7&"!A:D"),4,FALSE)+4))),"") | G32: =IFERROR(IF($C30="","",INDIRECT("第"&VLOOKUP(G$7,INDIRECT($A$7&"!A:D"),2,FALSE)&"周"&"!"&ADDRESS(ROW(),VLOOKUP(G$7,INDIRECT($A$7&"!A:D"),4,FALSE)+4))),"") | H32: =IFERROR(IF($C30="","",INDIRECT("第"&VLOOKUP(H$7,INDIRECT($A$7&"!A:D"),2,FALSE)&"周"&"!"&ADDRESS(ROW(),VLOOKUP(H$7,INDIRECT($A$7&"!A:D"),4,FALSE)+4))),"") | I32: =IFERROR(IF($C30="","",INDIRECT("第"&VLOOKUP(I$7,INDIRECT($A$7&"!A:D"),2,FALSE)&"周"&"!"&ADDRESS(ROW(),VLOOKUP(I$7,INDIRECT($A$7&"!A:D"),4,FALSE)+4))),"") | J32: =IFERROR(IF($C30="","",INDIRECT("第"&VLOOKUP(J$7,INDIRECT($A$7&"!A:D"),2,FALSE)&"周"&"!"&ADDRESS(ROW(),VLOOKUP(J$7,INDIRECT($A$7&"!A:D"),4,FALSE)+4))),"") | K32: =IFERROR(IF($C30="","",INDIRECT("第"&VLOOKUP(K$7,INDIRECT($A$7&"!A:D"),2,FALSE)&"周"&"!"&ADDRESS(ROW(),VLOOKUP(K$7,INDIRECT($A$7&"!A:D"),4,FALSE)+4))),"") | L32: =IFERROR(IF($C30="","",INDIRECT("第"&VLOOKUP(L$7,INDIRECT($A$7&"!A:D"),2,FALSE)&"周"&"!"&ADDRESS(ROW(),VLOOKUP(L$7,INDIRECT($A$7&"!A:D"),4,FALSE)+4))),"") | ... AI32: =IFERROR(IF($C30="","",INDIRECT("第"&VLOOKUP(AI$7,INDIRECT($A$7&"!A:D"),2,FALSE)&"周"&"!"&ADDRESS(ROW(),VLOOKUP(AI$7,INDIRECT($A$7&"!A:D"),4,FALSE)+4))),"")
B33: =ROW()/3-2 -> 9 | C33: =INDIRECT("员工信息表!C"&(B33+3))&IF(INDIRECT("员工信息表!O"&(B33+3))="离职","(离职)","") | D33: 上午 | E33: =IFERROR(IF($C33="","",INDIRECT("第"&VLOOKUP(E$7,INDIRECT($A$7&"!A:D"),2,FALSE)&"周"&"!"&ADDRESS(ROW(),VLOOKUP(E$7,INDIRECT($A$7&"!A:D"),4,FALSE)+4))),"") | F33: =IFERROR(IF($C33="","",INDIRECT("第"&VLOOKUP(F$7,INDIRECT($A$7&"!A:D"),2,FALSE)&"周"&"!"&ADDRESS(ROW(),VLOOKUP(F$7,INDIRECT($A$7&"!A:D"),4,FALSE)+4))),"") | G33: =IFERROR(IF($C33="","",INDIRECT("第"&VLOOKUP(G$7,INDIRECT($A$7&"!A:D"),2,FALSE)&"周"&"!"&ADDRESS(ROW(),VLOOKUP(G$7,INDIRECT($A$7&"!A:D"),4,FALSE)+4))),"") | H33: =IFERROR(IF($C33="","",INDIRECT("第"&VLOOKUP(H$7,INDIRECT($A$7&"!A:D"),2,FALSE)&"周"&"!"&ADDRESS(ROW(),VLOOKUP(H$7,INDIRECT($A$7&"!A:D"),4,FALSE)+4))),"") | I33: =IFERROR(IF($C33="","",INDIRECT("第"&VLOOKUP(I$7,INDIRECT($A$7&"!A:D"),2,FALSE)&"周"&"!"&ADDRESS(ROW(),VLOOKUP(I$7,INDIRECT($A$7&"!A:D"),4,FALSE)+4))),"") | J33: =IFERROR(IF($C33="","",INDIRECT("第"&VLOOKUP(J$7,INDIRECT($A$7&"!A:D"),2,FALSE)&"周"&"!"&ADDRESS(ROW(),VLOOKUP(J$7,INDIRECT($A$7&"!A:D"),4,FALSE)+4))),"") | K33: =IFERROR(IF($C33="","",INDIRECT("第"&VLOOKUP(K$7,INDIRECT($A$7&"!A:D"),2,FALSE)&"周"&"!"&ADDRESS(ROW(),VLOOKUP(K$7,INDIRECT($A$7&"!A:D"),4,FALSE)+4))),"") | L33: =IFERROR(IF($C33="","",INDIRECT("第"&VLOOKUP(L$7,INDIRECT($A$7&"!A:D"),2,FALSE)&"周"&"!"&ADDRESS(ROW(),VLOOKUP(L$7,INDIRECT($A$7&"!A:D"),4,FALSE)+4))),"") | ... AI33: =IFERROR(IF($C33="","",INDIRECT("第"&VLOOKUP(AI$7,INDIRECT($A$7&"!A:D"),2,FALSE)&"周"&"!"&ADDRESS(ROW(),VLOOKUP(AI$7,INDIRECT($A$7&"!A:D"),4,FALSE)+4))),"") | AJ33: =COUNTIF($E33:$AI35,AJ$8) -> 0 | AK33: =COUNTIF($E33:$AI35,AK$8) -> 0 | AL33: =COUNTIF($E33:$AI35,AL$8) -> 0 | AM33: =COUNTIF($E33:$AI35,AM$8) -> 0 | AN33: =COUNTIF($E33:$AI35,AN$8) -> 0 | AO33: =COUNTIF($E33:$AI35,AO$8) -> 0 | AP33: =COUNTIF($E33:$AI35,AP$8) -> 0 | AQ33: =COUNTIF($E33:$AI35,AQ$8) -> 0 | AR33: =COUNTIF($E33:$AI35,AR$8) -> 0
D34: 下午 | E34: =IFERROR(IF($C33="","",INDIRECT("第"&VLOOKUP(E$7,INDIRECT($A$7&"!A:D"),2,FALSE)&"周"&"!"&ADDRESS(ROW(),VLOOKUP(E$7,INDIRECT($A$7&"!A:D"),4,FALSE)+4))),"") | F34: =IFERROR(IF($C33="","",INDIRECT("第"&VLOOKUP(F$7,INDIRECT($A$7&"!A:D"),2,FALSE)&"周"&"!"&ADDRESS(ROW(),VLOOKUP(F$7,INDIRECT($A$7&"!A:D"),4,FALSE)+4))),"") | G34: =IFERROR(IF($C33="","",INDIRECT("第"&VLOOKUP(G$7,INDIRECT($A$7&"!A:D"),2,FALSE)&"周"&"!"&ADDRESS(ROW(),VLOOKUP(G$7,INDIRECT($A$7&"!A:D"),4,FALSE)+4))),"") | H34: =IFERROR(IF($C33="","",INDIRECT("第"&VLOOKUP(H$7,INDIRECT($A$7&"!A:D"),2,FALSE)&"周"&"!"&ADDRESS(ROW(),VLOOKUP(H$7,INDIRECT($A$7&"!A:D"),4,FALSE)+4))),"") | I34: =IFERROR(IF($C33="","",INDIRECT("第"&VLOOKUP(I$7,INDIRECT($A$7&"!A:D"),2,FALSE)&"周"&"!"&ADDRESS(ROW(),VLOOKUP(I$7,INDIRECT($A$7&"!A:D"),4,FALSE)+4))),"") | J34: =IFERROR(IF($C33="","",INDIRECT("第"&VLOOKUP(J$7,INDIRECT($A$7&"!A:D"),2,FALSE)&"周"&"!"&ADDRESS(ROW(),VLOOKUP(J$7,INDIRECT($A$7&"!A:D"),4,FALSE)+4))),"") | K34: =IFERROR(IF($C33="","",INDIRECT("第"&VLOOKUP(K$7,INDIRECT($A$7&"!A:D"),2,FALSE)&"周"&"!"&ADDRESS(ROW(),VLOOKUP(K$7,INDIRECT($A$7&"!A:D"),4,FALSE)+4))),"") | L34: =IFERROR(IF($C33="","",INDIRECT("第"&VLOOKUP(L$7,INDIRECT($A$7&"!A:D"),2,FALSE)&"周"&"!"&ADDRESS(ROW(),VLOOKUP(L$7,INDIRECT($A$7&"!A:D"),4,FALSE)+4))),"") | ... AI34: =IFERROR(IF($C33="","",INDIRECT("第"&VLOOKUP(AI$7,INDIRECT($A$7&"!A:D"),2,FALSE)&"周"&"!"&ADDRESS(ROW(),VLOOKUP(AI$7,INDIRECT($A$7&"!A:D"),4,FALSE)+4))),"")
D35: 晚上 | E35: =IFERROR(IF($C33="","",INDIRECT("第"&VLOOKUP(E$7,INDIRECT($A$7&"!A:D"),2,FALSE)&"周"&"!"&ADDRESS(ROW(),VLOOKUP(E$7,INDIRECT($A$7&"!A:D"),4,FALSE)+4))),"") | F35: =IFERROR(IF($C33="","",INDIRECT("第"&VLOOKUP(F$7,INDIRECT($A$7&"!A:D"),2,FALSE)&"周"&"!"&ADDRESS(ROW(),VLOOKUP(F$7,INDIRECT($A$7&"!A:D"),4,FALSE)+4))),"") | G35: =IFERROR(IF($C33="","",INDIRECT("第"&VLOOKUP(G$7,INDIRECT($A$7&"!A:D"),2,FALSE)&"周"&"!"&ADDRESS(ROW(),VLOOKUP(G$7,INDIRECT($A$7&"!A:D"),4,FALSE)+4))),"") | H35: =IFERROR(IF($C33="","",INDIRECT("第"&VLOOKUP(H$7,INDIRECT($A$7&"!A:D"),2,FALSE)&"周"&"!"&ADDRESS(ROW(),VLOOKUP(H$7,INDIRECT($A$7&"!A:D"),4,FALSE)+4))),"") | I35: =IFERROR(IF($C33="","",INDIRECT("第"&VLOOKUP(I$7,INDIRECT($A$7&"!A:D"),2,FALSE)&"周"&"!"&ADDRESS(ROW(),VLOOKUP(I$7,INDIRECT($A$7&"!A:D"),4,FALSE)+4))),"") | J35: =IFERROR(IF($C33="","",INDIRECT("第"&VLOOKUP(J$7,INDIRECT($A$7&"!A:D"),2,FALSE)&"周"&"!"&ADDRESS(ROW(),VLOOKUP(J$7,INDIRECT($A$7&"!A:D"),4,FALSE)+4))),"") | K35: =IFERROR(IF($C33="","",INDIRECT("第"&VLOOKUP(K$7,INDIRECT($A$7&"!A:D"),2,FALSE)&"周"&"!"&ADDRESS(ROW(),VLOOKUP(K$7,INDIRECT($A$7&"!A:D"),4,FALSE)+4))),"") | L35: =IFERROR(IF($C33="","",INDIRECT("第"&VLOOKUP(L$7,INDIRECT($A$7&"!A:D"),2,FALSE)&"周"&"!"&ADDRESS(ROW(),VLOOKUP(L$7,INDIRECT($A$7&"!A:D"),4,FALSE)+4))),"") | ... AI35: =IFERROR(IF($C33="","",INDIRECT("第"&VLOOKUP(AI$7,INDIRECT($A$7&"!A:D"),2,FALSE)&"周"&"!"&ADDRESS(ROW(),VLOOKUP(AI$7,INDIRECT($A$7&"!A:D"),4,FALSE)+4))),"")
B36: =ROW()/3-2 -> 10 | C36: =INDIRECT("员工信息表!C"&(B36+3))&IF(INDIRECT("员工信息表!O"&(B36+3))="离职","(离职)","") | D36: 上午 | E36: =IFERROR(IF($C36="","",INDIRECT("第"&VLOOKUP(E$7,INDIRECT($A$7&"!A:D"),2,FALSE)&"周"&"!"&ADDRESS(ROW(),VLOOKUP(E$7,INDIRECT($A$7&"!A:D"),4,FALSE)+4))),"") | F36: =IFERROR(IF($C36="","",INDIRECT("第"&VLOOKUP(F$7,INDIRECT($A$7&"!A:D"),2,FALSE)&"周"&"!"&ADDRESS(ROW(),VLOOKUP(F$7,INDIRECT($A$7&"!A:D"),4,FALSE)+4))),"") | G36: =IFERROR(IF($C36="","",INDIRECT("第"&VLOOKUP(G$7,INDIRECT($A$7&"!A:D"),2,FALSE)&"周"&"!"&ADDRESS(ROW(),VLOOKUP(G$7,INDIRECT($A$7&"!A:D"),4,FALSE)+4))),"") | H36: =IFERROR(IF($C36="","",INDIRECT("第"&VLOOKUP(H$7,INDIRECT($A$7&"!A:D"),2,FALSE)&"周"&"!"&ADDRESS(ROW(),VLOOKUP(H$7,INDIRECT($A$7&"!A:D"),4,FALSE)+4))),"") | I36: =IFERROR(IF($C36="","",INDIRECT("第"&VLOOKUP(I$7,INDIRECT($A$7&"!A:D"),2,FALSE)&"周"&"!"&ADDRESS(ROW(),VLOOKUP(I$7,INDIRECT($A$7&"!A:D"),4,FALSE)+4))),"") | J36: =IFERROR(IF($C36="","",INDIRECT("第"&VLOOKUP(J$7,INDIRECT($A$7&"!A:D"),2,FALSE)&"周"&"!"&ADDRESS(ROW(),VLOOKUP(J$7,INDIRECT($A$7&"!A:D"),4,FALSE)+4))),"") | K36: =IFERROR(IF($C36="","",INDIRECT("第"&VLOOKUP(K$7,INDIRECT($A$7&"!A:D"),2,FALSE)&"周"&"!"&ADDRESS(ROW(),VLOOKUP(K$7,INDIRECT($A$7&"!A:D"),4,FALSE)+4))),"") | L36: =IFERROR(IF($C36="","",INDIRECT("第"&VLOOKUP(L$7,INDIRECT($A$7&"!A:D"),2,FALSE)&"周"&"!"&ADDRESS(ROW(),VLOOKUP(L$7,INDIRECT($A$7&"!A:D"),4,FALSE)+4))),"") | ... AI36: =IFERROR(IF($C36="","",INDIRECT("第"&VLOOKUP(AI$7,INDIRECT($A$7&"!A:D"),2,FALSE)&"周"&"!"&ADDRESS(ROW(),VLOOKUP(AI$7,INDIRECT($A$7&"!A:D"),4,FALSE)+4))),"") | AJ36: =COUNTIF($E36:$AI38,AJ$8) -> 0 | AK36: =COUNTIF($E36:$AI38,AK$8) -> 0 | AL36: =COUNTIF($E36:$AI38,AL$8) -> 0 | AM36: =COUNTIF($E36:$AI38,AM$8) -> 0 | AN36: =COUNTIF($E36:$AI38,AN$8) -> 0 | AO36: =COUNTIF($E36:$AI38,AO$8) -> 0 | AP36: =COUNTIF($E36:$AI38,AP$8) -> 0 | AQ36: =COUNTIF($E36:$AI38,AQ$8) -> 0 | AR36: =COUNTIF($E36:$AI38,AR$8) -> 0
D37: 下午 | E37: =IFERROR(IF($C36="","",INDIRECT("第"&VLOOKUP(E$7,INDIRECT($A$7&"!A:D"),2,FALSE)&"周"&"!"&ADDRESS(ROW(),VLOOKUP(E$7,INDIRECT($A$7&"!A:D"),4,FALSE)+4))),"") | F37: =IFERROR(IF($C36="","",INDIRECT("第"&VLOOKUP(F$7,INDIRECT($A$7&"!A:D"),2,FALSE)&"周"&"!"&ADDRESS(ROW(),VLOOKUP(F$7,INDIRECT($A$7&"!A:D"),4,FALSE)+4))),"") | G37: =IFERROR(IF($C36="","",INDIRECT("第"&VLOOKUP(G$7,INDIRECT($A$7&"!A:D"),2,FALSE)&"周"&"!"&ADDRESS(ROW(),VLOOKUP(G$7,INDIRECT($A$7&"!A:D"),4,FALSE)+4))),"") | H37: =IFERROR(IF($C36="","",INDIRECT("第"&VLOOKUP(H$7,INDIRECT($A$7&"!A:D"),2,FALSE)&"周"&"!"&ADDRESS(ROW(),VLOOKUP(H$7,INDIRECT($A$7&"!A:D"),4,FALSE)+4))),"") | I37: =IFERROR(IF($C36="","",INDIRECT("第"&VLOOKUP(I$7,INDIRECT($A$7&"!A:D"),2,FALSE)&"周"&"!"&ADDRESS(ROW(),VLOOKUP(I$7,INDIRECT($A$7&"!A:D"),4,FALSE)+4))),"") | J37: =IFERROR(IF($C36="","",INDIRECT("第"&VLOOKUP(J$7,INDIRECT($A$7&"!A:D"),2,FALSE)&"周"&"!"&ADDRESS(ROW(),VLOOKUP(J$7,INDIRECT($A$7&"!A:D"),4,FALSE)+4))),"") | K37: =IFERROR(IF($C36="","",INDIRECT("第"&VLOOKUP(K$7,INDIRECT($A$7&"!A:D"),2,FALSE)&"周"&"!"&ADDRESS(ROW(),VLOOKUP(K$7,INDIRECT($A$7&"!A:D"),4,FALSE)+4))),"") | L37: =IFERROR(IF($C36="","",INDIRECT("第"&VLOOKUP(L$7,INDIRECT($A$7&"!A:D"),2,FALSE)&"周"&"!"&ADDRESS(ROW(),VLOOKUP(L$7,INDIRECT($A$7&"!A:D"),4,FALSE)+4))),"") | ... AI37: =IFERROR(IF($C36="","",INDIRECT("第"&VLOOKUP(AI$7,INDIRECT($A$7&"!A:D"),2,FALSE)&"周"&"!"&ADDRESS(ROW(),VLOOKUP(AI$7,INDIRECT($A$7&"!A:D"),4,FALSE)+4))),"")
D38: 晚上 | E38: =IFERROR(IF($C36="","",INDIRECT("第"&VLOOKUP(E$7,INDIRECT($A$7&"!A:D"),2,FALSE)&"周"&"!"&ADDRESS(ROW(),VLOOKUP(E$7,INDIRECT($A$7&"!A:D"),4,FALSE)+4))),"") | F38: =IFERROR(IF($C36="","",INDIRECT("第"&VLOOKUP(F$7,INDIRECT($A$7&"!A:D"),2,FALSE)&"周"&"!"&ADDRESS(ROW(),VLOOKUP(F$7,INDIRECT($A$7&"!A:D"),4,FALSE)+4))),"") | G38: =IFERROR(IF($C36="","",INDIRECT("第"&VLOOKUP(G$7,INDIRECT($A$7&"!A:D"),2,FALSE)&"周"&"!"&ADDRESS(ROW(),VLOOKUP(G$7,INDIRECT($A$7&"!A:D"),4,FALSE)+4))),"") | H38: =IFERROR(IF($C36="","",INDIRECT("第"&VLOOKUP(H$7,INDIRECT($A$7&"!A:D"),2,FALSE)&"周"&"!"&ADDRESS(ROW(),VLOOKUP(H$7,INDIRECT($A$7&"!A:D"),4,FALSE)+4))),"") | I38: =IFERROR(IF($C36="","",INDIRECT("第"&VLOOKUP(I$7,INDIRECT($A$7&"!A:D"),2,FALSE)&"周"&"!"&ADDRESS(ROW(),VLOOKUP(I$7,INDIRECT($A$7&"!A:D"),4,FALSE)+4))),"") | J38: =IFERROR(IF($C36="","",INDIRECT("第"&VLOOKUP(J$7,INDIRECT($A$7&"!A:D"),2,FALSE)&"周"&"!"&ADDRESS(ROW(),VLOOKUP(J$7,INDIRECT($A$7&"!A:D"),4,FALSE)+4))),"") | K38: =IFERROR(IF($C36="","",INDIRECT("第"&VLOOKUP(K$7,INDIRECT($A$7&"!A:D"),2,FALSE)&"周"&"!"&ADDRESS(ROW(),VLOOKUP(K$7,INDIRECT($A$7&"!A:D"),4,FALSE)+4))),"") | L38: =IFERROR(IF($C36="","",INDIRECT("第"&VLOOKUP(L$7,INDIRECT($A$7&"!A:D"),2,FALSE)&"周"&"!"&ADDRESS(ROW(),VLOOKUP(L$7,INDIRECT($A$7&"!A:D"),4,FALSE)+4))),"") | ... AI38: =IFERROR(IF($C36="","",INDIRECT("第"&VLOOKUP(AI$7,INDIRECT($A$7&"!A:D"),2,FALSE)&"周"&"!"&ADDRESS(ROW(),VLOOKUP(AI$7,INDIRECT($A$7&"!A:D"),4,FALSE)+4))),"")
B39: =ROW()/3-2 -> 11 | C39: =INDIRECT("员工信息表!C"&(B39+3))&IF(INDIRECT("员工信息表!O"&(B39+3))="离职","(离职)","") | D39: 上午 | E39: =IFERROR(IF($C39="","",INDIRECT("第"&VLOOKUP(E$7,INDIRECT($A$7&"!A:D"),2,FALSE)&"周"&"!"&ADDRESS(ROW(),VLOOKUP(E$7,INDIRECT($A$7&"!A:D"),4,FALSE)+4))),"") | F39: =IFERROR(IF($C39="","",INDIRECT("第"&VLOOKUP(F$7,INDIRECT($A$7&"!A:D"),2,FALSE)&"周"&"!"&ADDRESS(ROW(),VLOOKUP(F$7,INDIRECT($A$7&"!A:D"),4,FALSE)+4))),"") | G39: =IFERROR(IF($C39="","",INDIRECT("第"&VLOOKUP(G$7,INDIRECT($A$7&"!A:D"),2,FALSE)&"周"&"!"&ADDRESS(ROW(),VLOOKUP(G$7,INDIRECT($A$7&"!A:D"),4,FALSE)+4))),"") | H39: =IFERROR(IF($C39="","",INDIRECT("第"&VLOOKUP(H$7,INDIRECT($A$7&"!A:D"),2,FALSE)&"周"&"!"&ADDRESS(ROW(),VLOOKUP(H$7,INDIRECT($A$7&"!A:D"),4,FALSE)+4))),"") | I39: =IFERROR(IF($C39="","",INDIRECT("第"&VLOOKUP(I$7,INDIRECT($A$7&"!A:D"),2,FALSE)&"周"&"!"&ADDRESS(ROW(),VLOOKUP(I$7,INDIRECT($A$7&"!A:D"),4,FALSE)+4))),"") | J39: =IFERROR(IF($C39="","",INDIRECT("第"&VLOOKUP(J$7,INDIRECT($A$7&"!A:D"),2,FALSE)&"周"&"!"&ADDRESS(ROW(),VLOOKUP(J$7,INDIRECT($A$7&"!A:D"),4,FALSE)+4))),"") | K39: =IFERROR(IF($C39="","",INDIRECT("第"&VLOOKUP(K$7,INDIRECT($A$7&"!A:D"),2,FALSE)&"周"&"!"&ADDRESS(ROW(),VLOOKUP(K$7,INDIRECT($A$7&"!A:D"),4,FALSE)+4))),"") | L39: =IFERROR(IF($C39="","",INDIRECT("第"&VLOOKUP(L$7,INDIRECT($A$7&"!A:D"),2,FALSE)&"周"&"!"&ADDRESS(ROW(),VLOOKUP(L$7,INDIRECT($A$7&"!A:D"),4,FALSE)+4))),"") | ... AI39: =IFERROR(IF($C39="","",INDIRECT("第"&VLOOKUP(AI$7,INDIRECT($A$7&"!A:D"),2,FALSE)&"周"&"!"&ADDRESS(ROW(),VLOOKUP(AI$7,INDIRECT($A$7&"!A:D"),4,FALSE)+4))),"") | AJ39: =COUNTIF($E39:$AI41,AJ$8) -> 0 | AK39: =COUNTIF($E39:$AI41,AK$8) -> 0 | AL39: =COUNTIF($E39:$AI41,AL$8) -> 0 | AM39: =COUNTIF($E39:$AI41,AM$8) -> 0 | AN39: =COUNTIF($E39:$AI41,AN$8) -> 0 | AO39: =COUNTIF($E39:$AI41,AO$8) -> 0 | AP39: =COUNTIF($E39:$AI41,AP$8) -> 0 | AQ39: =COUNTIF($E39:$AI41,AQ$8) -> 0 | AR39: =COUNTIF($E39:$AI41,AR$8) -> 0
D40: 下午 | E40: =IFERROR(IF($C39="","",INDIRECT("第"&VLOOKUP(E$7,INDIRECT($A$7&"!A:D"),2,FALSE)&"周"&"!"&ADDRESS(ROW(),VLOOKUP(E$7,INDIRECT($A$7&"!A:D"),4,FALSE)+4))),"") | F40: =IFERROR(IF($C39="","",INDIRECT("第"&VLOOKUP(F$7,INDIRECT($A$7&"!A:D"),2,FALSE)&"周"&"!"&ADDRESS(ROW(),VLOOKUP(F$7,INDIRECT($A$7&"!A:D"),4,FALSE)+4))),"") | G40: =IFERROR(IF($C39="","",INDIRECT("第"&VLOOKUP(G$7,INDIRECT($A$7&"!A:D"),2,FALSE)&"周"&"!"&ADDRESS(ROW(),VLOOKUP(G$7,INDIRECT($A$7&"!A:D"),4,FALSE)+4))),"") | H40: =IFERROR(IF($C39="","",INDIRECT("第"&VLOOKUP(H$7,INDIRECT($A$7&"!A:D"),2,FALSE)&"周"&"!"&ADDRESS(ROW(),VLOOKUP(H$7,INDIRECT($A$7&"!A:D"),4,FALSE)+4))),"") | I40: =IFERROR(IF($C39="","",INDIRECT("第"&VLOOKUP(I$7,INDIRECT($A$7&"!A:D"),2,FALSE)&"周"&"!"&ADDRESS(ROW(),VLOOKUP(I$7,INDIRECT($A$7&"!A:D"),4,FALSE)+4))),"") | J40: =IFERROR(IF($C39="","",INDIRECT("第"&VLOOKUP(J$7,INDIRECT($A$7&"!A:D"),2,FALSE)&"周"&"!"&ADDRESS(ROW(),VLOOKUP(J$7,INDIRECT($A$7&"!A:D"),4,FALSE)+4))),"") | K40: =IFERROR(IF($C39="","",INDIRECT("第"&VLOOKUP(K$7,INDIRECT($A$7&"!A:D"),2,FALSE)&"周"&"!"&ADDRESS(ROW(),VLOOKUP(K$7,INDIRECT($A$7&"!A:D"),4,FALSE)+4))),"") | L40: =IFERROR(IF($C39="","",INDIRECT("第"&VLOOKUP(L$7,INDIRECT($A$7&"!A:D"),2,FALSE)&"周"&"!"&ADDRESS(ROW(),VLOOKUP(L$7,INDIRECT($A$7&"!A:D"),4,FALSE)+4))),"") | ... AI40: =IFERROR(IF($C39="","",INDIRECT("第"&VLOOKUP(AI$7,INDIRECT($A$7&"!A:D"),2,FALSE)&"周"&"!"&ADDRESS(ROW(),VLOOKUP(AI$7,INDIRECT($A$7&"!A:D"),4,FALSE)+4))),"")
D41: 晚上 | E41: =IFERROR(IF($C39="","",INDIRECT("第"&VLOOKUP(E$7,INDIRECT($A$7&"!A:D"),2,FALSE)&"周"&"!"&ADDRESS(ROW(),VLOOKUP(E$7,INDIRECT($A$7&"!A:D"),4,FALSE)+4))),"") | F41: =IFERROR(IF($C39="","",INDIRECT("第"&VLOOKUP(F$7,INDIRECT($A$7&"!A:D"),2,FALSE)&"周"&"!"&ADDRESS(ROW(),VLOOKUP(F$7,INDIRECT($A$7&"!A:D"),4,FALSE)+4))),"") | G41: =IFERROR(IF($C39="","",INDIRECT("第"&VLOOKUP(G$7,INDIRECT($A$7&"!A:D"),2,FALSE)&"周"&"!"&ADDRESS(ROW(),VLOOKUP(G$7,INDIRECT($A$7&"!A:D"),4,FALSE)+4))),"") | H41: =IFERROR(IF($C39="","",INDIRECT("第"&VLOOKUP(H$7,INDIRECT($A$7&"!A:D"),2,FALSE)&"周"&"!"&ADDRESS(ROW(),VLOOKUP(H$7,INDIRECT($A$7&"!A:D"),4,FALSE)+4))),"") | I41: =IFERROR(IF($C39="","",INDIRECT("第"&VLOOKUP(I$7,INDIRECT($A$7&"!A:D"),2,FALSE)&"周"&"!"&ADDRESS(ROW(),VLOOKUP(I$7,INDIRECT($A$7&"!A:D"),4,FALSE)+4))),"") | J41: =IFERROR(IF($C39="","",INDIRECT("第"&VLOOKUP(J$7,INDIRECT($A$7&"!A:D"),2,FALSE)&"周"&"!"&ADDRESS(ROW(),VLOOKUP(J$7,INDIRECT($A$7&"!A:D"),4,FALSE)+4))),"") | K41: =IFERROR(IF($C39="","",INDIRECT("第"&VLOOKUP(K$7,INDIRECT($A$7&"!A:D"),2,FALSE)&"周"&"!"&ADDRESS(ROW(),VLOOKUP(K$7,INDIRECT($A$7&"!A:D"),4,FALSE)+4))),"") | L41: =IFERROR(IF($C39="","",INDIRECT("第"&VLOOKUP(L$7,INDIRECT($A$7&"!A:D"),2,FALSE)&"周"&"!"&ADDRESS(ROW(),VLOOKUP(L$7,INDIRECT($A$7&"!A:D"),4,FALSE)+4))),"") | ... AI41: =IFERROR(IF($C39="","",INDIRECT("第"&VLOOKUP(AI$7,INDIRECT($A$7&"!A:D"),2,FALSE)&"周"&"!"&ADDRESS(ROW(),VLOOKUP(AI$7,INDIRECT($A$7&"!A:D"),4,FALSE)+4))),"")
B42: =ROW()/3-2 -> 12 | C42: =INDIRECT("员工信息表!C"&(B42+3))&IF(INDIRECT("员工信息表!O"&(B42+3))="离职","(离职)","") | D42: 上午 | E42: =IFERROR(IF($C42="","",INDIRECT("第"&VLOOKUP(E$7,INDIRECT($A$7&"!A:D"),2,FALSE)&"周"&"!"&ADDRESS(ROW(),VLOOKUP(E$7,INDIRECT($A$7&"!A:D"),4,FALSE)+4))),"") | F42: =IFERROR(IF($C42="","",INDIRECT("第"&VLOOKUP(F$7,INDIRECT($A$7&"!A:D"),2,FALSE)&"周"&"!"&ADDRESS(ROW(),VLOOKUP(F$7,INDIRECT($A$7&"!A:D"),4,FALSE)+4))),"") | G42: =IFERROR(IF($C42="","",INDIRECT("第"&VLOOKUP(G$7,INDIRECT($A$7&"!A:D"),2,FALSE)&"周"&"!"&ADDRESS(ROW(),VLOOKUP(G$7,INDIRECT($A$7&"!A:D"),4,FALSE)+4))),"") | H42: =IFERROR(IF($C42="","",INDIRECT("第"&VLOOKUP(H$7,INDIRECT($A$7&"!A:D"),2,FALSE)&"周"&"!"&ADDRESS(ROW(),VLOOKUP(H$7,INDIRECT($A$7&"!A:D"),4,FALSE)+4))),"") | I42: =IFERROR(IF($C42="","",INDIRECT("第"&VLOOKUP(I$7,INDIRECT($A$7&"!A:D"),2,FALSE)&"周"&"!"&ADDRESS(ROW(),VLOOKUP(I$7,INDIRECT($A$7&"!A:D"),4,FALSE)+4))),"") | J42: =IFERROR(IF($C42="","",INDIRECT("第"&VLOOKUP(J$7,INDIRECT($A$7&"!A:D"),2,FALSE)&"周"&"!"&ADDRESS(ROW(),VLOOKUP(J$7,INDIRECT($A$7&"!A:D"),4,FALSE)+4))),"") | K42: =IFERROR(IF($C42="","",INDIRECT("第"&VLOOKUP(K$7,INDIRECT($A$7&"!A:D"),2,FALSE)&"周"&"!"&ADDRESS(ROW(),VLOOKUP(K$7,INDIRECT($A$7&"!A:D"),4,FALSE)+4))),"") | L42: =IFERROR(IF($C42="","",INDIRECT("第"&VLOOKUP(L$7,INDIRECT($A$7&"!A:D"),2,FALSE)&"周"&"!"&ADDRESS(ROW(),VLOOKUP(L$7,INDIRECT($A$7&"!A:D"),4,FALSE)+4))),"") | ... AI42: =IFERROR(IF($C42="","",INDIRECT("第"&VLOOKUP(AI$7,INDIRECT($A$7&"!A:D"),2,FALSE)&"周"&"!"&ADDRESS(ROW(),VLOOKUP(AI$7,INDIRECT($A$7&"!A:D"),4,FALSE)+4))),"") | AJ42: =COUNTIF($E42:$AI44,AJ$8) -> 0 | AK42: =COUNTIF($E42:$AI44,AK$8) -> 0 | AL42: =COUNTIF($E42:$AI44,AL$8) -> 0 | AM42: =COUNTIF($E42:$AI44,AM$8) -> 0 | AN42: =COUNTIF($E42:$AI44,AN$8) -> 0 | AO42: =COUNTIF($E42:$AI44,AO$8) -> 0 | AP42: =COUNTIF($E42:$AI44,AP$8) -> 0 | AQ42: =COUNTIF($E42:$AI44,AQ$8) -> 0 | AR42: =COUNTIF($E42:$AI44,AR$8) -> 0
