Workbook
Name JBZL: [2]基本资料!$A$1:$D$65536
Name 报表: #REF!
Name 出口: #REF!
Name 电机: #REF!
Name 工种: 员工信息表!#REF!
Name 借款方式: 员工信息表!#REF!
Name 客户: OFFSET([1]录入请用字段!$B$4,,,COUNTA([1]录入请用字段!$B:$B),)
Name 类别: #REF!
Name 名称规格: #REF!
Name 年份: 员工信息表!$K$3:$K$33
Name 其他: #REF!
Name 潜水泵: #REF!
Name 日期: 员工信息表!$J$3:$J$33
Name 上海污泵: #REF!
Name 无堵塞: #REF!
Name 姓名: 员工信息表!$B$3:$B$33
Name 油浸泵: #REF!
Name 月份: 员工信息表!$I$3:$I$33

Sheet 封面展示

Sheet HR在线人才测评系统
B4: HR人才测评工具 技术研发岗位，市场营销岗，行政服务岗，中高层管理岗 MBTI、DISC、职业性格，职业兴趣，职业价值观，心理素质
B8: HR在线人才测评系统 | C8: https://www.zxgj.cn/m/tuance
B11: 职业性格和人格测评 | C11: https://www.xmcs.cn/d/zhiye

Sheet 员工信息表
B1: 基础信息表
B2: 姓名 | C2: 职位 | D2: 电话 | E2: 银行卡号 | F2: 开户行及地址 | G2: 日工资 | I2: 月份 | J2: 日期 | K2: 年份
B3: 苏继兵 | C3: 职位1 | D3: 138***000 | E3: 1254554555545 | F3: 输入开户行地址1 | G3: 300 | I3: 1 | J3: 1 | K3: 2021
B4: 苏继中 | C4: 职位2 | D4: 138***001 | E4: 1254554555545 | F4: 输入开户行地址2 | G4: 280 | I4: 2 | J4: 2 | K4: 2022
B5: 刘毅 | C5: 职位3 | D5: 138***002 | E5: 1254554555545 | F5: 输入开户行地址3 | G5: 260 | I5: 3 | J5: 3 | K5: 2023
B6: 伍亦中 | C6: 职位4 | D6: 138***003 | E6: 1254554555545 | F6: 输入开户行地址4 | G6: 250 | I6: 4 | J6: 4 | K6: 2024
B7: 苏绿华 | C7: 职位5 | D7: 138***004 | E7: 1254554555545 | F7: 输入开户行地址5 | G7: 240 | I7: 5 | J7: 5 | K7: 2025
B8: 王升祥 | C8: 职位6 | D8: 138***005 | E8: 1254554555545 | F8: 输入开户行地址6 | G8: 230 | I8: 6 | J8: 6 | K8: 2026
B9: 刘让铁 | C9: 职位7 | D9: 138***006 | E9: 1254554555545 | F9: 输入开户行地址7 | G9: 220 | I9: 7 | J9: 7 | K9: 2027
B10: 颜运回 | C10: 职位8 | D10: 138***007 | E10: 1254554555545 | F10: 输入开户行地址8 | G10: 210 | I10: 8 | J10: 8 | K10: 2028
B11: 尹小平 | C11: 职位9 | D11: 138***008 | E11: 1254554555545 | F11: 输入开户行地址9 | G11: 200 | I11: 9 | J11: 9 | K11: 2029
B12: 颜建美 | C12: 职位10 | D12: 138***009 | E12: 1254554555545 | F12: 输入开户行地址10 | G12: 380 | I12: 10 | J12: 10 | K12: 2030
B13: 尹乔丽 | C13: 职位11 | D13: 138***010 | E13: 1254554555545 | F13: 输入开户行地址11 | G13: 250 | I13: 11 | J13: 11 | K13: 2031
I14: 12 | J14: 12 | K14: 2032
J15: 13
J16: 14
J17: 15
J18: 16
J19: 17
J20: 18
J21: 19
J22: 20
J23: 21
J24: 22
J25: 23
J26: 24
... J33: 31

Sheet 考勤结算表
B1: 考勤结算汇总表
B2: 姓名: | C2: 苏继中 | E2: 职位： | F2: =IFERROR(INDEX(员工信息表!$B:$E,MATCH($C$2,员工信息表!$B:$B,),2),"") -> 职位2 | H2: 电话： | I2: =IFERROR(INDEX(员工信息表!$B:$E,MATCH($C$2,员工信息表!$B:$B,),3),"") -> 138***001
B3: 银行卡号： | C3: =IFERROR(INDEX(员工信息表!$B:$E,MATCH($C$2,员工信息表!$B:$B,),4),"") -> 1254554555545 | E3: 开户行及地址： | G3: =IFERROR(INDEX(员工信息表!$B:$G,MATCH($C$2,员工信息表!$B:$B,),5),"") -> 输入开户行地址2 | I3: 日工资： | J3: =IFERROR(INDEX(员工信息表!$B:$G,MATCH($C$2,员工信息表!$B:$B,),6),"") -> 280
B4: 月份 | C4: 应出勤 天数 | D4: 实际出勤 天数 | E4: 事假 天数 | F4: 病假 天数 | G4: 休假 天数 | H4: 缺勤 天数 | I4: 放假 天数 | J4: 加班 天数
B5: 1 | C5: =IF($C$2="",0,INDEX(INDIRECT("'"&$B5&"月'!A4:J2000"),MATCH($C$2,INDIRECT("'"&$B5&"月'!B4:B2000"),),3)) -> 22 | D5: =IF($C$2="",0,INDEX(INDIRECT("'"&$B5&"月'!A4:J2000"),MATCH($C$2,INDIRECT("'"&$B5&"月'!B4:B2000"),),4)) -> 2.5 | E5: =IF($C$2="",0,INDEX(INDIRECT("'"&$B5&"月'!A4:J2000"),MATCH($C$2,INDIRECT("'"&$B5&"月'!B4:B2000"),),5)) -> 0.5 | F5: =IF($C$2="",0,INDEX(INDIRECT("'"&$B5&"月'!A4:J2000"),MATCH($C$2,INDIRECT("'"&$B5&"月'!B4:B2000"),),6)) -> 0.5 | G5: =IF($C$2="",0,INDEX(INDIRECT("'"&$B5&"月'!A4:J2000"),MATCH($C$2,INDIRECT("'"&$B5&"月'!B4:B2000"),),7)) -> 0.5 | H5: =IF($C$2="",0,INDEX(INDIRECT("'"&$B5&"月'!A4:J2000"),MATCH($C$2,INDIRECT("'"&$B5&"月'!B4:B2000"),),8)) -> 0.5 | I5: =IF($C$2="",0,INDEX(INDIRECT("'"&$B5&"月'!A4:J2000"),MATCH($C$2,INDIRECT("'"&$B5&"月'!B4:B2000"),),9)) -> 0.5 | J5: =IF($C$2="",0,INDEX(INDIRECT("'"&$B5&"月'!A4:J2000"),MATCH($C$2,INDIRECT("'"&$B5&"月'!B4:B2000"),),10)) -> 1.5714286
B6: 2 | C6: =IF($C$2="",0,INDEX(INDIRECT("'"&$B6&"月'!A4:J2000"),MATCH($C$2,INDIRECT("'"&$B6&"月'!B4:B2000"),),3)) -> 22 | D6: =IF($C$2="",0,INDEX(INDIRECT("'"&$B6&"月'!A4:J2000"),MATCH($C$2,INDIRECT("'"&$B6&"月'!B4:B2000"),),4)) -> 2.5 | E6: =IF($C$2="",0,INDEX(INDIRECT("'"&$B6&"月'!A4:J2000"),MATCH($C$2,INDIRECT("'"&$B6&"月'!B4:B2000"),),5)) -> 0.5 | F6: =IF($C$2="",0,INDEX(INDIRECT("'"&$B6&"月'!A4:J2000"),MATCH($C$2,INDIRECT("'"&$B6&"月'!B4:B2000"),),6)) -> 0.5 | G6: =IF($C$2="",0,INDEX(INDIRECT("'"&$B6&"月'!A4:J2000"),MATCH($C$2,INDIRECT("'"&$B6&"月'!B4:B2000"),),7)) -> 0.5 | H6: =IF($C$2="",0,INDEX(INDIRECT("'"&$B6&"月'!A4:J2000"),MATCH($C$2,INDIRECT("'"&$B6&"月'!B4:B2000"),),8)) -> 0.5 | I6: =IF($C$2="",0,INDEX(INDIRECT("'"&$B6&"月'!A4:J2000"),MATCH($C$2,INDIRECT("'"&$B6&"月'!B4:B2000"),),9)) -> 0.5 | J6: =IF($C$2="",0,INDEX(INDIRECT("'"&$B6&"月'!A4:J2000"),MATCH($C$2,INDIRECT("'"&$B6&"月'!B4:B2000"),),10)) -> 1.5714286
B7: 3 | C7: =IF($C$2="",0,INDEX(INDIRECT("'"&$B7&"月'!A4:J2000"),MATCH($C$2,INDIRECT("'"&$B7&"月'!B4:B2000"),),3)) -> 22 | D7: =IF($C$2="",0,INDEX(INDIRECT("'"&$B7&"月'!A4:J2000"),MATCH($C$2,INDIRECT("'"&$B7&"月'!B4:B2000"),),4)) -> 2.5 | E7: =IF($C$2="",0,INDEX(INDIRECT("'"&$B7&"月'!A4:J2000"),MATCH($C$2,INDIRECT("'"&$B7&"月'!B4:B2000"),),5)) -> 0.5 | F7: =IF($C$2="",0,INDEX(INDIRECT("'"&$B7&"月'!A4:J2000"),MATCH($C$2,INDIRECT("'"&$B7&"月'!B4:B2000"),),6)) -> 0.5 | G7: =IF($C$2="",0,INDEX(INDIRECT("'"&$B7&"月'!A4:J2000"),MATCH($C$2,INDIRECT("'"&$B7&"月'!B4:B2000"),),7)) -> 0.5 | H7: =IF($C$2="",0,INDEX(INDIRECT("'"&$B7&"月'!A4:J2000"),MATCH($C$2,INDIRECT("'"&$B7&"月'!B4:B2000"),),8)) -> 0.5 | I7: =IF($C$2="",0,INDEX(INDIRECT("'"&$B7&"月'!A4:J2000"),MATCH($C$2,INDIRECT("'"&$B7&"月'!B4:B2000"),),9)) -> 0.5 | J7: =IF($C$2="",0,INDEX(INDIRECT("'"&$B7&"月'!A4:J2000"),MATCH($C$2,INDIRECT("'"&$B7&"月'!B4:B2000"),),10)) -> 1.5714286
B8: 4 | C8: =IF($C$2="",0,INDEX(INDIRECT("'"&$B8&"月'!A4:J2000"),MATCH($C$2,INDIRECT("'"&$B8&"月'!B4:B2000"),),3)) -> 22 | D8: =IF($C$2="",0,INDEX(INDIRECT("'"&$B8&"月'!A4:J2000"),MATCH($C$2,INDIRECT("'"&$B8&"月'!B4:B2000"),),4)) -> 2.5 | E8: =IF($C$2="",0,INDEX(INDIRECT("'"&$B8&"月'!A4:J2000"),MATCH($C$2,INDIRECT("'"&$B8&"月'!B4:B2000"),),5)) -> 0.5 | F8: =IF($C$2="",0,INDEX(INDIRECT("'"&$B8&"月'!A4:J2000"),MATCH($C$2,INDIRECT("'"&$B8&"月'!B4:B2000"),),6)) -> 0.5 | G8: =IF($C$2="",0,INDEX(INDIRECT("'"&$B8&"月'!A4:J2000"),MATCH($C$2,INDIRECT("'"&$B8&"月'!B4:B2000"),),7)) -> 0.5 | H8: =IF($C$2="",0,INDEX(INDIRECT("'"&$B8&"月'!A4:J2000"),MATCH($C$2,INDIRECT("'"&$B8&"月'!B4:B2000"),),8)) -> 0.5 | I8: =IF($C$2="",0,INDEX(INDIRECT("'"&$B8&"月'!A4:J2000"),MATCH($C$2,INDIRECT("'"&$B8&"月'!B4:B2000"),),9)) -> 0.5 | J8: =IF($C$2="",0,INDEX(INDIRECT("'"&$B8&"月'!A4:J2000"),MATCH($C$2,INDIRECT("'"&$B8&"月'!B4:B2000"),),10)) -> 1.5714286
B9: 5 | C9: =IF($C$2="",0,INDEX(INDIRECT("'"&$B9&"月'!A4:J2000"),MATCH($C$2,INDIRECT("'"&$B9&"月'!B4:B2000"),),3)) -> 22 | D9: =IF($C$2="",0,INDEX(INDIRECT("'"&$B9&"月'!A4:J2000"),MATCH($C$2,INDIRECT("'"&$B9&"月'!B4:B2000"),),4)) -> 2.5 | E9: =IF($C$2="",0,INDEX(INDIRECT("'"&$B9&"月'!A4:J2000"),MATCH($C$2,INDIRECT("'"&$B9&"月'!B4:B2000"),),5)) -> 0.5 | F9: =IF($C$2="",0,INDEX(INDIRECT("'"&$B9&"月'!A4:J2000"),MATCH($C$2,INDIRECT("'"&$B9&"月'!B4:B2000"),),6)) -> 0.5 | G9: =IF($C$2="",0,INDEX(INDIRECT("'"&$B9&"月'!A4:J2000"),MATCH($C$2,INDIRECT("'"&$B9&"月'!B4:B2000"),),7)) -> 0.5 | H9: =IF($C$2="",0,INDEX(INDIRECT("'"&$B9&"月'!A4:J2000"),MATCH($C$2,INDIRECT("'"&$B9&"月'!B4:B2000"),),8)) -> 0.5 | I9: =IF($C$2="",0,INDEX(INDIRECT("'"&$B9&"月'!A4:J2000"),MATCH($C$2,INDIRECT("'"&$B9&"月'!B4:B2000"),),9)) -> 0.5 | J9: =IF($C$2="",0,INDEX(INDIRECT("'"&$B9&"月'!A4:J2000"),MATCH($C$2,INDIRECT("'"&$B9&"月'!B4:B2000"),),10)) -> 1.5714286
B10: 6 | C10: =IF($C$2="",0,INDEX(INDIRECT("'"&$B10&"月'!A4:J2000"),MATCH($C$2,INDIRECT("'"&$B10&"月'!B4:B2000"),),3)) -> 22 | D10: =IF($C$2="",0,INDEX(INDIRECT("'"&$B10&"月'!A4:J2000"),MATCH($C$2,INDIRECT("'"&$B10&"月'!B4:B2000"),),4)) -> 2.5 | E10: =IF($C$2="",0,INDEX(INDIRECT("'"&$B10&"月'!A4:J2000"),MATCH($C$2,INDIRECT("'"&$B10&"月'!B4:B2000"),),5)) -> 0.5 | F10: =IF($C$2="",0,INDEX(INDIRECT("'"&$B10&"月'!A4:J2000"),MATCH($C$2,INDIRECT("'"&$B10&"月'!B4:B2000"),),6)) -> 0.5 | G10: =IF($C$2="",0,INDEX(INDIRECT("'"&$B10&"月'!A4:J2000"),MATCH($C$2,INDIRECT("'"&$B10&"月'!B4:B2000"),),7)) -> 0.5 | H10: =IF($C$2="",0,INDEX(INDIRECT("'"&$B10&"月'!A4:J2000"),MATCH($C$2,INDIRECT("'"&$B10&"月'!B4:B2000"),),8)) -> 0.5 | I10: =IF($C$2="",0,INDEX(INDIRECT("'"&$B10&"月'!A4:J2000"),MATCH($C$2,INDIRECT("'"&$B10&"月'!B4:B2000"),),9)) -> 0.5 | J10: =IF($C$2="",0,INDEX(INDIRECT("'"&$B10&"月'!A4:J2000"),MATCH($C$2,INDIRECT("'"&$B10&"月'!B4:B2000"),),10)) -> 1.5714286
B11: 7 | C11: =IF($C$2="",0,INDEX(INDIRECT("'"&$B11&"月'!A4:J2000"),MATCH($C$2,INDIRECT("'"&$B11&"月'!B4:B2000"),),3)) -> 22 | D11: =IF($C$2="",0,INDEX(INDIRECT("'"&$B11&"月'!A4:J2000"),MATCH($C$2,INDIRECT("'"&$B11&"月'!B4:B2000"),),4)) -> 2.5 | E11: =IF($C$2="",0,INDEX(INDIRECT("'"&$B11&"月'!A4:J2000"),MATCH($C$2,INDIRECT("'"&$B11&"月'!B4:B2000"),),5)) -> 0.5 | F11: =IF($C$2="",0,INDEX(INDIRECT("'"&$B11&"月'!A4:J2000"),MATCH($C$2,INDIRECT("'"&$B11&"月'!B4:B2000"),),6)) -> 0.5 | G11: =IF($C$2="",0,INDEX(INDIRECT("'"&$B11&"月'!A4:J2000"),MATCH($C$2,INDIRECT("'"&$B11&"月'!B4:B2000"),),7)) -> 0.5 | H11: =IF($C$2="",0,INDEX(INDIRECT("'"&$B11&"月'!A4:J2000"),MATCH($C$2,INDIRECT("'"&$B11&"月'!B4:B2000"),),8)) -> 0.5 | I11: =IF($C$2="",0,INDEX(INDIRECT("'"&$B11&"月'!A4:J2000"),MATCH($C$2,INDIRECT("'"&$B11&"月'!B4:B2000"),),9)) -> 0.5 | J11: =IF($C$2="",0,INDEX(INDIRECT("'"&$B11&"月'!A4:J2000"),MATCH($C$2,INDIRECT("'"&$B11&"月'!B4:B2000"),),10)) -> 1.5714286
B12: 8 | C12: =IF($C$2="",0,INDEX(INDIRECT("'"&$B12&"月'!A4:J2000"),MATCH($C$2,INDIRECT("'"&$B12&"月'!B4:B2000"),),3)) -> 22 | D12: =IF($C$2="",0,INDEX(INDIRECT("'"&$B12&"月'!A4:J2000"),MATCH($C$2,INDIRECT("'"&$B12&"月'!B4:B2000"),),4)) -> 2.5 | E12: =IF($C$2="",0,INDEX(INDIRECT("'"&$B12&"月'!A4:J2000"),MATCH($C$2,INDIRECT("'"&$B12&"月'!B4:B2000"),),5)) -> 0.5 | F12: =IF($C$2="",0,INDEX(INDIRECT("'"&$B12&"月'!A4:J2000"),MATCH($C$2,INDIRECT("'"&$B12&"月'!B4:B2000"),),6)) -> 0.5 | G12: =IF($C$2="",0,INDEX(INDIRECT("'"&$B12&"月'!A4:J2000"),MATCH($C$2,INDIRECT("'"&$B12&"月'!B4:B2000"),),7)) -> 0.5 | H12: =IF($C$2="",0,INDEX(INDIRECT("'"&$B12&"月'!A4:J2000"),MATCH($C$2,INDIRECT("'"&$B12&"月'!B4:B2000"),),8)) -> 0.5 | I12: =IF($C$2="",0,INDEX(INDIRECT("'"&$B12&"月'!A4:J2000"),MATCH($C$2,INDIRECT("'"&$B12&"月'!B4:B2000"),),9)) -> 0.5 | J12: =IF($C$2="",0,INDEX(INDIRECT("'"&$B12&"月'!A4:J2000"),MATCH($C$2,INDIRECT("'"&$B12&"月'!B4:B2000"),),10)) -> 1.5714286
B13: 9 | C13: =IF($C$2="",0,INDEX(INDIRECT("'"&$B13&"月'!A4:J2000"),MATCH($C$2,INDIRECT("'"&$B13&"月'!B4:B2000"),),3)) -> 22 | D13: =IF($C$2="",0,INDEX(INDIRECT("'"&$B13&"月'!A4:J2000"),MATCH($C$2,INDIRECT("'"&$B13&"月'!B4:B2000"),),4)) -> 2.5 | E13: =IF($C$2="",0,INDEX(INDIRECT("'"&$B13&"月'!A4:J2000"),MATCH($C$2,INDIRECT("'"&$B13&"月'!B4:B2000"),),5)) -> 0.5 | F13: =IF($C$2="",0,INDEX(INDIRECT("'"&$B13&"月'!A4:J2000"),MATCH($C$2,INDIRECT("'"&$B13&"月'!B4:B2000"),),6)) -> 0.5 | G13: =IF($C$2="",0,INDEX(INDIRECT("'"&$B13&"月'!A4:J2000"),MATCH($C$2,INDIRECT("'"&$B13&"月'!B4:B2000"),),7)) -> 0.5 | H13: =IF($C$2="",0,INDEX(INDIRECT("'"&$B13&"月'!A4:J2000"),MATCH($C$2,INDIRECT("'"&$B13&"月'!B4:B2000"),),8)) -> 0.5 | I13: =IF($C$2="",0,INDEX(INDIRECT("'"&$B13&"月'!A4:J2000"),MATCH($C$2,INDIRECT("'"&$B13&"月'!B4:B2000"),),9)) -> 0.5 | J13: =IF($C$2="",0,INDEX(INDIRECT("'"&$B13&"月'!A4:J2000"),MATCH($C$2,INDIRECT("'"&$B13&"月'!B4:B2000"),),10)) -> 1.5714286
B14: 10 | C14: =IF($C$2="",0,INDEX(INDIRECT("'"&$B14&"月'!A4:J2000"),MATCH($C$2,INDIRECT("'"&$B14&"月'!B4:B2000"),),3)) -> 22 | D14: =IF($C$2="",0,INDEX(INDIRECT("'"&$B14&"月'!A4:J2000"),MATCH($C$2,INDIRECT("'"&$B14&"月'!B4:B2000"),),4)) -> 2.5 | E14: =IF($C$2="",0,INDEX(INDIRECT("'"&$B14&"月'!A4:J2000"),MATCH($C$2,INDIRECT("'"&$B14&"月'!B4:B2000"),),5)) -> 0.5 | F14: =IF($C$2="",0,INDEX(INDIRECT("'"&$B14&"月'!A4:J2000"),MATCH($C$2,INDIRECT("'"&$B14&"月'!B4:B2000"),),6)) -> 0.5 | G14: =IF($C$2="",0,INDEX(INDIRECT("'"&$B14&"月'!A4:J2000"),MATCH($C$2,INDIRECT("'"&$B14&"月'!B4:B2000"),),7)) -> 0.5 | H14: =IF($C$2="",0,INDEX(INDIRECT("'"&$B14&"月'!A4:J2000"),MATCH($C$2,INDIRECT("'"&$B14&"月'!B4:B2000"),),8)) -> 0.5 | I14: =IF($C$2="",0,INDEX(INDIRECT("'"&$B14&"月'!A4:J2000"),MATCH($C$2,INDIRECT("'"&$B14&"月'!B4:B2000"),),9)) -> 0.5 | J14: =IF($C$2="",0,INDEX(INDIRECT("'"&$B14&"月'!A4:J2000"),MATCH($C$2,INDIRECT("'"&$B14&"月'!B4:B2000"),),10)) -> 1.5714286
B15: 11 | C15: =IF($C$2="",0,INDEX(INDIRECT("'"&$B15&"月'!A4:J2000"),MATCH($C$2,INDIRECT("'"&$B15&"月'!B4:B2000"),),3)) -> 22 | D15: =IF($C$2="",0,INDEX(INDIRECT("'"&$B15&"月'!A4:J2000"),MATCH($C$2,INDIRECT("'"&$B15&"月'!B4:B2000"),),4)) -> 2.5 | E15: =IF($C$2="",0,INDEX(INDIRECT("'"&$B15&"月'!A4:J2000"),MATCH($C$2,INDIRECT("'"&$B15&"月'!B4:B2000"),),5)) -> 0.5 | F15: =IF($C$2="",0,INDEX(INDIRECT("'"&$B15&"月'!A4:J2000"),MATCH($C$2,INDIRECT("'"&$B15&"月'!B4:B2000"),),6)) -> 0.5 | G15: =IF($C$2="",0,INDEX(INDIRECT("'"&$B15&"月'!A4:J2000"),MATCH($C$2,INDIRECT("'"&$B15&"月'!B4:B2000"),),7)) -> 0.5 | H15: =IF($C$2="",0,INDEX(INDIRECT("'"&$B15&"月'!A4:J2000"),MATCH($C$2,INDIRECT("'"&$B15&"月'!B4:B2000"),),8)) -> 0.5 | I15: =IF($C$2="",0,INDEX(INDIRECT("'"&$B15&"月'!A4:J2000"),MATCH($C$2,INDIRECT("'"&$B15&"月'!B4:B2000"),),9)) -> 0.5 | J15: =IF($C$2="",0,INDEX(INDIRECT("'"&$B15&"月'!A4:J2000"),MATCH($C$2,INDIRECT("'"&$B15&"月'!B4:B2000"),),10)) -> 1.5714286
B16: 12 | C16: =IF($C$2="",0,INDEX(INDIRECT("'"&$B16&"月'!A4:J2000"),MATCH($C$2,INDIRECT("'"&$B16&"月'!B4:B2000"),),3)) -> 22 | D16: =IF($C$2="",0,INDEX(INDIRECT("'"&$B16&"月'!A4:J2000"),MATCH($C$2,INDIRECT("'"&$B16&"月'!B4:B2000"),),4)) -> 2.5 | E16: =IF($C$2="",0,INDEX(INDIRECT("'"&$B16&"月'!A4:J2000"),MATCH($C$2,INDIRECT("'"&$B16&"月'!B4:B2000"),),5)) -> 0.5 | F16: =IF($C$2="",0,INDEX(INDIRECT("'"&$B16&"月'!A4:J2000"),MATCH($C$2,INDIRECT("'"&$B16&"月'!B4:B2000"),),6)) -> 0.5 | G16: =IF($C$2="",0,INDEX(INDIRECT("'"&$B16&"月'!A4:J2000"),MATCH($C$2,INDIRECT("'"&$B16&"月'!B4:B2000"),),7)) -> 0.5 | H16: =IF($C$2="",0,INDEX(INDIRECT("'"&$B16&"月'!A4:J2000"),MATCH($C$2,INDIRECT("'"&$B16&"月'!B4:B2000"),),8)) -> 0.5 | I16: =IF($C$2="",0,INDEX(INDIRECT("'"&$B16&"月'!A4:J2000"),MATCH($C$2,INDIRECT("'"&$B16&"月'!B4:B2000"),),9)) -> 0.5 | J16: =IF($C$2="",0,INDEX(INDIRECT("'"&$B16&"月'!A4:J2000"),MATCH($C$2,INDIRECT("'"&$B16&"月'!B4:B2000"),),10)) -> 1.5714286
B17: 合计 | C17: =SUM(C5:C16) -> 264 | D17: =SUM(D5:D16) -> 30 | E17: =SUM(E5:E16) -> 6 | F17: =SUM(F5:F16) -> 6 | G17: =SUM(G5:G16) -> 6 | H17: =SUM(H5:H16) -> 6 | I17: =SUM(I5:I16) -> 6 | J17: =SUM(J5:J16) -> 18.857143

Sheet 月份出勤统计
B1: 员工月份出勤统计
B2: 输入需要查看的月份 | E2: 1
B3: 姓名 | C3: 职位 | D3: 电话 | E3: 应出勤 天数 | F3: 实际出勤 天数 | G3: 事假 天数 | H3: 病假 | I3: 休假 | J3: 缺勤 | K3: 放假 | L3: 加班天数
B4: =员工信息表!B3 -> 苏继兵 | C4: =IFERROR(INDEX(员工信息表!$B:$E,MATCH(B4,员工信息表!$B:$B,),2),"-") -> 职位1 | D4: =IFERROR(INDEX(员工信息表!$B:$E,MATCH(B4,员工信息表!$B:$B,),3),"-") -> 138***000 | E4: =IF(B4="",0,INDEX(INDIRECT("'"&$E$2&"月'!A4:J2000"),MATCH(B4,INDIRECT("'"&$E$2&"月'!B4:B2000"),),3)) -> 22 | F4: =IF(B4="",0,INDEX(INDIRECT("'"&$E$2&"月'!A4:J2000"),MATCH(B4,INDIRECT("'"&$E$2&"月'!B4:B2000"),),4)) -> 2.5 | G4: =IF(B4="",0,INDEX(INDIRECT("'"&$E$2&"月'!A4:J2000"),MATCH(B4,INDIRECT("'"&$E$2&"月'!B4:B2000"),),5)) -> 0.5 | H4: =IF(B4="",0,INDEX(INDIRECT("'"&$E$2&"月'!A4:J2000"),MATCH(B4,INDIRECT("'"&$E$2&"月'!B4:B2000"),),6)) -> 0.5 | I4: =IF(B4="",0,INDEX(INDIRECT("'"&$E$2&"月'!A4:J2000"),MATCH(B4,INDIRECT("'"&$E$2&"月'!B4:B2000"),),7)) -> 0.5 | J4: =IF(B4="",0,INDEX(INDIRECT("'"&$E$2&"月'!A4:J2000"),MATCH(B4,INDIRECT("'"&$E$2&"月'!B4:B2000"),),8)) -> 0.5 | K4: =IF(B4="",0,INDEX(INDIRECT("'"&$E$2&"月'!A4:J2000"),MATCH(B4,INDIRECT("'"&$E$2&"月'!B4:B2000"),),9)) -> 0.5 | L4: =IF(B4="",0,INDEX(INDIRECT("'"&$E$2&"月'!A4:J2000"),MATCH(B4,INDIRECT("'"&$E$2&"月'!B4:B2000"),),10)) -> 1.2857143
B5: =员工信息表!B4 -> 苏继中 | C5: =IFERROR(INDEX(员工信息表!$B:$E,MATCH(B5,员工信息表!$B:$B,),2),"-") -> 职位2 | D5: =IFERROR(INDEX(员工信息表!$B:$E,MATCH(B5,员工信息表!$B:$B,),3),"-") -> 138***001 | E5: =IF(B5="",0,INDEX(INDIRECT("'"&$E$2&"月'!A4:J2000"),MATCH(B5,INDIRECT("'"&$E$2&"月'!B4:B2000"),),3)) -> 22 | F5: =IF(B5="",0,INDEX(INDIRECT("'"&$E$2&"月'!A4:J2000"),MATCH(B5,INDIRECT("'"&$E$2&"月'!B4:B2000"),),4)) -> 2.5 | G5: =IF(B5="",0,INDEX(INDIRECT("'"&$E$2&"月'!A4:J2000"),MATCH(B5,INDIRECT("'"&$E$2&"月'!B4:B2000"),),5)) -> 0.5 | H5: =IF(B5="",0,INDEX(INDIRECT("'"&$E$2&"月'!A4:J2000"),MATCH(B5,INDIRECT("'"&$E$2&"月'!B4:B2000"),),6)) -> 0.5 | I5: =IF(B5="",0,INDEX(INDIRECT("'"&$E$2&"月'!A4:J2000"),MATCH(B5,INDIRECT("'"&$E$2&"月'!B4:B2000"),),7)) -> 0.5 | J5: =IF(B5="",0,INDEX(INDIRECT("'"&$E$2&"月'!A4:J2000"),MATCH(B5,INDIRECT("'"&$E$2&"月'!B4:B2000"),),8)) -> 0.5 | K5: =IF(B5="",0,INDEX(INDIRECT("'"&$E$2&"月'!A4:J2000"),MATCH(B5,INDIRECT("'"&$E$2&"月'!B4:B2000"),),9)) -> 0.5 | L5: =IF(B5="",0,INDEX(INDIRECT("'"&$E$2&"月'!A4:J2000"),MATCH(B5,INDIRECT("'"&$E$2&"月'!B4:B2000"),),10)) -> 1.5714286
B6: =员工信息表!B5 -> 刘毅 | C6: =IFERROR(INDEX(员工信息表!$B:$E,MATCH(B6,员工信息表!$B:$B,),2),"-") -> 职位3 | D6: =IFERROR(INDEX(员工信息表!$B:$E,MATCH(B6,员工信息表!$B:$B,),3),"-") -> 138***002 | E6: =IF(B6="",0,INDEX(INDIRECT("'"&$E$2&"月'!A4:J2000"),MATCH(B6,INDIRECT("'"&$E$2&"月'!B4:B2000"),),3)) -> 22 | F6: =IF(B6="",0,INDEX(INDIRECT("'"&$E$2&"月'!A4:J2000"),MATCH(B6,INDIRECT("'"&$E$2&"月'!B4:B2000"),),4)) -> 2.5 | G6: =IF(B6="",0,INDEX(INDIRECT("'"&$E$2&"月'!A4:J2000"),MATCH(B6,INDIRECT("'"&$E$2&"月'!B4:B2000"),),5)) -> 0.5 | H6: =IF(B6="",0,INDEX(INDIRECT("'"&$E$2&"月'!A4:J2000"),MATCH(B6,INDIRECT("'"&$E$2&"月'!B4:B2000"),),6)) -> 0.5 | I6: =IF(B6="",0,INDEX(INDIRECT("'"&$E$2&"月'!A4:J2000"),MATCH(B6,INDIRECT("'"&$E$2&"月'!B4:B2000"),),7)) -> 0.5 | J6: =IF(B6="",0,INDEX(INDIRECT("'"&$E$2&"月'!A4:J2000"),MATCH(B6,INDIRECT("'"&$E$2&"月'!B4:B2000"),),8)) -> 0.5 | K6: =IF(B6="",0,INDEX(INDIRECT("'"&$E$2&"月'!A4:J2000"),MATCH(B6,INDIRECT("'"&$E$2&"月'!B4:B2000"),),9)) -> 0.5 | L6: =IF(B6="",0,INDEX(INDIRECT("'"&$E$2&"月'!A4:J2000"),MATCH(B6,INDIRECT("'"&$E$2&"月'!B4:B2000"),),10)) -> 1.8571429
B7: =员工信息表!B6 -> 伍亦中 | C7: =IFERROR(INDEX(员工信息表!$B:$E,MATCH(B7,员工信息表!$B:$B,),2),"-") -> 职位4 | D7: =IFERROR(INDEX(员工信息表!$B:$E,MATCH(B7,员工信息表!$B:$B,),3),"-") -> 138***003 | E7: =IF(B7="",0,INDEX(INDIRECT("'"&$E$2&"月'!A4:J2000"),MATCH(B7,INDIRECT("'"&$E$2&"月'!B4:B2000"),),3)) -> 22 | F7: =IF(B7="",0,INDEX(INDIRECT("'"&$E$2&"月'!A4:J2000"),MATCH(B7,INDIRECT("'"&$E$2&"月'!B4:B2000"),),4)) -> 2.5 | G7: =IF(B7="",0,INDEX(INDIRECT("'"&$E$2&"月'!A4:J2000"),MATCH(B7,INDIRECT("'"&$E$2&"月'!B4:B2000"),),5)) -> 0.5 | H7: =IF(B7="",0,INDEX(INDIRECT("'"&$E$2&"月'!A4:J2000"),MATCH(B7,INDIRECT("'"&$E$2&"月'!B4:B2000"),),6)) -> 0.5 | I7: =IF(B7="",0,INDEX(INDIRECT("'"&$E$2&"月'!A4:J2000"),MATCH(B7,INDIRECT("'"&$E$2&"月'!B4:B2000"),),7)) -> 0.5 | J7: =IF(B7="",0,INDEX(INDIRECT("'"&$E$2&"月'!A4:J2000"),MATCH(B7,INDIRECT("'"&$E$2&"月'!B4:B2000"),),8)) -> 0.5 | K7: =IF(B7="",0,INDEX(INDIRECT("'"&$E$2&"月'!A4:J2000"),MATCH(B7,INDIRECT("'"&$E$2&"月'!B4:B2000"),),9)) -> 0.5 | L7: =IF(B7="",0,INDEX(INDIRECT("'"&$E$2&"月'!A4:J2000"),MATCH(B7,INDIRECT("'"&$E$2&"月'!B4:B2000"),),10)) -> 2.1428571
B8: =员工信息表!B7 -> 苏绿华 | C8: =IFERROR(INDEX(员工信息表!$B:$E,MATCH(B8,员工信息表!$B:$B,),2),"-") -> 职位5 | D8: =IFERROR(INDEX(员工信息表!$B:$E,MATCH(B8,员工信息表!$B:$B,),3),"-") -> 138***004 | E8: =IF(B8="",0,INDEX(INDIRECT("'"&$E$2&"月'!A4:J2000"),MATCH(B8,INDIRECT("'"&$E$2&"月'!B4:B2000"),),3)) -> 22 | F8: =IF(B8="",0,INDEX(INDIRECT("'"&$E$2&"月'!A4:J2000"),MATCH(B8,INDIRECT("'"&$E$2&"月'!B4:B2000"),),4)) -> 2.5 | G8: =IF(B8="",0,INDEX(INDIRECT("'"&$E$2&"月'!A4:J2000"),MATCH(B8,INDIRECT("'"&$E$2&"月'!B4:B2000"),),5)) -> 0.5 | H8: =IF(B8="",0,INDEX(INDIRECT("'"&$E$2&"月'!A4:J2000"),MATCH(B8,INDIRECT("'"&$E$2&"月'!B4:B2000"),),6)) -> 0.5 | I8: =IF(B8="",0,INDEX(INDIRECT("'"&$E$2&"月'!A4:J2000"),MATCH(B8,INDIRECT("'"&$E$2&"月'!B4:B2000"),),7)) -> 0.5 | J8: =IF(B8="",0,INDEX(INDIRECT("'"&$E$2&"月'!A4:J2000"),MATCH(B8,INDIRECT("'"&$E$2&"月'!B4:B2000"),),8)) -> 0.5 | K8: =IF(B8="",0,INDEX(INDIRECT("'"&$E$2&"月'!A4:J2000"),MATCH(B8,INDIRECT("'"&$E$2&"月'!B4:B2000"),),9)) -> 0.5 | L8: =IF(B8="",0,INDEX(INDIRECT("'"&$E$2&"月'!A4:J2000"),MATCH(B8,INDIRECT("'"&$E$2&"月'!B4:B2000"),),10)) -> 2.4285714
B9: =员工信息表!B8 -> 王升祥 | C9: =IFERROR(INDEX(员工信息表!$B:$E,MATCH(B9,员工信息表!$B:$B,),2),"-") -> 职位6 | D9: =IFERROR(INDEX(员工信息表!$B:$E,MATCH(B9,员工信息表!$B:$B,),3),"-") -> 138***005 | E9: =IF(B9="",0,INDEX(INDIRECT("'"&$E$2&"月'!A4:J2000"),MATCH(B9,INDIRECT("'"&$E$2&"月'!B4:B2000"),),3)) -> 22 | F9: =IF(B9="",0,INDEX(INDIRECT("'"&$E$2&"月'!A4:J2000"),MATCH(B9,INDIRECT("'"&$E$2&"月'!B4:B2000"),),4)) -> 2.5 | G9: =IF(B9="",0,INDEX(INDIRECT("'"&$E$2&"月'!A4:J2000"),MATCH(B9,INDIRECT("'"&$E$2&"月'!B4:B2000"),),5)) -> 0.5 | H9: =IF(B9="",0,INDEX(INDIRECT("'"&$E$2&"月'!A4:J2000"),MATCH(B9,INDIRECT("'"&$E$2&"月'!B4:B2000"),),6)) -> 0.5 | I9: =IF(B9="",0,INDEX(INDIRECT("'"&$E$2&"月'!A4:J2000"),MATCH(B9,INDIRECT("'"&$E$2&"月'!B4:B2000"),),7)) -> 0.5 | J9: =IF(B9="",0,INDEX(INDIRECT("'"&$E$2&"月'!A4:J2000"),MATCH(B9,INDIRECT("'"&$E$2&"月'!B4:B2000"),),8)) -> 0.5 | K9: =IF(B9="",0,INDEX(INDIRECT("'"&$E$2&"月'!A4:J2000"),MATCH(B9,INDIRECT("'"&$E$2&"月'!B4:B2000"),),9)) -> 0.5 | L9: =IF(B9="",0,INDEX(INDIRECT("'"&$E$2&"月'!A4:J2000"),MATCH(B9,INDIRECT("'"&$E$2&"月'!B4:B2000"),),10)) -> 2.7142857
B10: =员工信息表!B9 -> 刘让铁 | C10: =IFERROR(INDEX(员工信息表!$B:$E,MATCH(B10,员工信息表!$B:$B,),2),"-") -> 职位7 | D10: =IFERROR(INDEX(员工信息表!$B:$E,MATCH(B10,员工信息表!$B:$B,),3),"-") -> 138***006 | E10: =IF(B10="",0,INDEX(INDIRECT("'"&$E$2&"月'!A4:J2000"),MATCH(B10,INDIRECT("'"&$E$2&"月'!B4:B2000"),),3)) -> 22 | F10: =IF(B10="",0,INDEX(INDIRECT("'"&$E$2&"月'!A4:J2000"),MATCH(B10,INDIRECT("'"&$E$2&"月'!B4:B2000"),),4)) -> 2.5 | G10: =IF(B10="",0,INDEX(INDIRECT("'"&$E$2&"月'!A4:J2000"),MATCH(B10,INDIRECT("'"&$E$2&"月'!B4:B2000"),),5)) -> 0.5 | H10: =IF(B10="",0,INDEX(INDIRECT("'"&$E$2&"月'!A4:J2000"),MATCH(B10,INDIRECT("'"&$E$2&"月'!B4:B2000"),),6)) -> 0.5 | I10: =IF(B10="",0,INDEX(INDIRECT("'"&$E$2&"月'!A4:J2000"),MATCH(B10,INDIRECT("'"&$E$2&"月'!B4:B2000"),),7)) -> 0.5 | J10: =IF(B10="",0,INDEX(INDIRECT("'"&$E$2&"月'!A4:J2000"),MATCH(B10,INDIRECT("'"&$E$2&"月'!B4:B2000"),),8)) -> 0.5 | K10: =IF(B10="",0,INDEX(INDIRECT("'"&$E$2&"月'!A4:J2000"),MATCH(B10,INDIRECT("'"&$E$2&"月'!B4:B2000"),),9)) -> 0.5 | L10: =IF(B10="",0,INDEX(INDIRECT("'"&$E$2&"月'!A4:J2000"),MATCH(B10,INDIRECT("'"&$E$2&"月'!B4:B2000"),),10)) -> 3
B11: =员工信息表!B10 -> 颜运回 | C11: =IFERROR(INDEX(员工信息表!$B:$E,MATCH(B11,员工信息表!$B:$B,),2),"-") -> 职位8 | D11: =IFERROR(INDEX(员工信息表!$B:$E,MATCH(B11,员工信息表!$B:$B,),3),"-") -> 138***007 | E11: =IF(B11="",0,INDEX(INDIRECT("'"&$E$2&"月'!A4:J2000"),MATCH(B11,INDIRECT("'"&$E$2&"月'!B4:B2000"),),3)) -> 22 | F11: =IF(B11="",0,INDEX(INDIRECT("'"&$E$2&"月'!A4:J2000"),MATCH(B11,INDIRECT("'"&$E$2&"月'!B4:B2000"),),4)) -> 2.5 | G11: =IF(B11="",0,INDEX(INDIRECT("'"&$E$2&"月'!A4:J2000"),MATCH(B11,INDIRECT("'"&$E$2&"月'!B4:B2000"),),5)) -> 0.5 | H11: =IF(B11="",0,INDEX(INDIRECT("'"&$E$2&"月'!A4:J2000"),MATCH(B11,INDIRECT("'"&$E$2&"月'!B4:B2000"),),6)) -> 0.5 | I11: =IF(B11="",0,INDEX(INDIRECT("'"&$E$2&"月'!A4:J2000"),MATCH(B11,INDIRECT("'"&$E$2&"月'!B4:B2000"),),7)) -> 0.5 | J11: =IF(B11="",0,INDEX(INDIRECT("'"&$E$2&"月'!A4:J2000"),MATCH(B11,INDIRECT("'"&$E$2&"月'!B4:B2000"),),8)) -> 0.5 | K11: =IF(B11="",0,INDEX(INDIRECT("'"&$E$2&"月'!A4:J2000"),MATCH(B11,INDIRECT("'"&$E$2&"月'!B4:B2000"),),9)) -> 0.5 | L11: =IF(B11="",0,INDEX(INDIRECT("'"&$E$2&"月'!A4:J2000"),MATCH(B11,INDIRECT("'"&$E$2&"月'!B4:B2000"),),10)) -> 3.2857143
B12: =员工信息表!B11 -> 尹小平 | C12: =IFERROR(INDEX(员工信息表!$B:$E,MATCH(B12,员工信息表!$B:$B,),2),"-") -> 职位9 | D12: =IFERROR(INDEX(员工信息表!$B:$E,MATCH(B12,员工信息表!$B:$B,),3),"-") -> 138***008 | E12: =IF(B12="",0,INDEX(INDIRECT("'"&$E$2&"月'!A4:J2000"),MATCH(B12,INDIRECT("'"&$E$2&"月'!B4:B2000"),),3)) -> 22 | F12: =IF(B12="",0,INDEX(INDIRECT("'"&$E$2&"月'!A4:J2000"),MATCH(B12,INDIRECT("'"&$E$2&"月'!B4:B2000"),),4)) -> 2.5 | G12: =IF(B12="",0,INDEX(INDIRECT("'"&$E$2&"月'!A4:J2000"),MATCH(B12,INDIRECT("'"&$E$2&"月'!B4:B2000"),),5)) -> 0.5 | H12: =IF(B12="",0,INDEX(INDIRECT("'"&$E$2&"月'!A4:J2000"),MATCH(B12,INDIRECT("'"&$E$2&"月'!B4:B2000"),),6)) -> 0.5 | I12: =IF(B12="",0,INDEX(INDIRECT("'"&$E$2&"月'!A4:J2000"),MATCH(B12,INDIRECT("'"&$E$2&"月'!B4:B2000"),),7)) -> 0.5 | J12: =IF(B12="",0,INDEX(INDIRECT("'"&$E$2&"月'!A4:J2000"),MATCH(B12,INDIRECT("'"&$E$2&"月'!B4:B2000"),),8)) -> 0.5 | K12: =IF(B12="",0,INDEX(INDIRECT("'"&$E$2&"月'!A4:J2000"),MATCH(B12,INDIRECT("'"&$E$2&"月'!B4:B2000"),),9)) -> 0.5 | L12: =IF(B12="",0,INDEX(INDIRECT("'"&$E$2&"月'!A4:J2000"),MATCH(B12,INDIRECT("'"&$E$2&"月'!B4:B2000"),),10)) -> 3.5714286
B13: =员工信息表!B12 -> 颜建美 | C13: =IFERROR(INDEX(员工信息表!$B:$E,MATCH(B13,员工信息表!$B:$B,),2),"-") -> 职位10 | D13: =IFERROR(INDEX(员工信息表!$B:$E,MATCH(B13,员工信息表!$B:$B,),3),"-") -> 138***009 | E13: =IF(B13="",0,INDEX(INDIRECT("'"&$E$2&"月'!A4:J2000"),MATCH(B13,INDIRECT("'"&$E$2&"月'!B4:B2000"),),3)) -> 22 | F13: =IF(B13="",0,INDEX(INDIRECT("'"&$E$2&"月'!A4:J2000"),MATCH(B13,INDIRECT("'"&$E$2&"月'!B4:B2000"),),4)) -> 2.5 | G13: =IF(B13="",0,INDEX(INDIRECT("'"&$E$2&"月'!A4:J2000"),MATCH(B13,INDIRECT("'"&$E$2&"月'!B4:B2000"),),5)) -> 0.5 | H13: =IF(B13="",0,INDEX(INDIRECT("'"&$E$2&"月'!A4:J2000"),MATCH(B13,INDIRECT("'"&$E$2&"月'!B4:B2000"),),6)) -> 0.5 | I13: =IF(B13="",0,INDEX(INDIRECT("'"&$E$2&"月'!A4:J2000"),MATCH(B13,INDIRECT("'"&$E$2&"月'!B4:B2000"),),7)) -> 0.5 | J13: =IF(B13="",0,INDEX(INDIRECT("'"&$E$2&"月'!A4:J2000"),MATCH(B13,INDIRECT("'"&$E$2&"月'!B4:B2000"),),8)) -> 0.5 | K13: =IF(B13="",0,INDEX(INDIRECT("'"&$E$2&"月'!A4:J2000"),MATCH(B13,INDIRECT("'"&$E$2&"月'!B4:B2000"),),9)) -> 0.5 | L13: =IF(B13="",0,INDEX(INDIRECT("'"&$E$2&"月'!A4:J2000"),MATCH(B13,INDIRECT("'"&$E$2&"月'!B4:B2000"),),10)) -> 3.8571429
B14: =员工信息表!B13 -> 尹乔丽 | C14: =IFERROR(INDEX(员工信息表!$B:$E,MATCH(B14,员工信息表!$B:$B,),2),"-") -> 职位11 | D14: =IFERROR(INDEX(员工信息表!$B:$E,MATCH(B14,员工信息表!$B:$B,),3),"-") -> 138***010 | E14: =IF(B14="",0,INDEX(INDIRECT("'"&$E$2&"月'!A4:J2000"),MATCH(B14,INDIRECT("'"&$E$2&"月'!B4:B2000"),),3)) -> 22 | F14: =IF(B14="",0,INDEX(INDIRECT("'"&$E$2&"月'!A4:J2000"),MATCH(B14,INDIRECT("'"&$E$2&"月'!B4:B2000"),),4)) -> 2.5 | G14: =IF(B14="",0,INDEX(INDIRECT("'"&$E$2&"月'!A4:J2000"),MATCH(B14,INDIRECT("'"&$E$2&"月'!B4:B2000"),),5)) -> 0.5 | H14: =IF(B14="",0,INDEX(INDIRECT("'"&$E$2&"月'!A4:J2000"),MATCH(B14,INDIRECT("'"&$E$2&"月'!B4:B2000"),),6)) -> 0.5 | I14: =IF(B14="",0,INDEX(INDIRECT("'"&$E$2&"月'!A4:J2000"),MATCH(B14,INDIRECT("'"&$E$2&"月'!B4:B2000"),),7)) -> 0.5 | J14: =IF(B14="",0,INDEX(INDIRECT("'"&$E$2&"月'!A4:J2000"),MATCH(B14,INDIRECT("'"&$E$2&"月'!B4:B2000"),),8)) -> 0.5 | K14: =IF(B14="",0,INDEX(INDIRECT("'"&$E$2&"月'!A4:J2000"),MATCH(B14,INDIRECT("'"&$E$2&"月'!B4:B2000"),),9)) -> 0.5 | L14: =IF(B14="",0,INDEX(INDIRECT("'"&$E$2&"月'!A4:J2000"),MATCH(B14,INDIRECT("'"&$E$2&"月'!B4:B2000"),),10)) -> 4.1428571
B15: =员工信息表!B14 -> 0 | C15: =IFERROR(INDEX(员工信息表!$B:$E,MATCH(B15,员工信息表!$B:$B,),2),"-") -> - | D15: =IFERROR(INDEX(员工信息表!$B:$E,MATCH(B15,员工信息表!$B:$B,),3),"-") -> - | E15: =IF(B15="",0,INDEX(INDIRECT("'"&$E$2&"月'!A4:J2000"),MATCH(B15,INDIRECT("'"&$E$2&"月'!B4:B2000"),),3)) -> 0 | F15: =IF(B15="",0,INDEX(INDIRECT("'"&$E$2&"月'!A4:J2000"),MATCH(B15,INDIRECT("'"&$E$2&"月'!B4:B2000"),),4)) -> 0 | G15: =IF(B15="",0,INDEX(INDIRECT("'"&$E$2&"月'!A4:J2000"),MATCH(B15,INDIRECT("'"&$E$2&"月'!B4:B2000"),),5)) -> 0 | H15: =IF(B15="",0,INDEX(INDIRECT("'"&$E$2&"月'!A4:J2000"),MATCH(B15,INDIRECT("'"&$E$2&"月'!B4:B2000"),),6)) -> 0 | I15: =IF(B15="",0,INDEX(INDIRECT("'"&$E$2&"月'!A4:J2000"),MATCH(B15,INDIRECT("'"&$E$2&"月'!B4:B2000"),),7)) -> 0 | J15: =IF(B15="",0,INDEX(INDIRECT("'"&$E$2&"月'!A4:J2000"),MATCH(B15,INDIRECT("'"&$E$2&"月'!B4:B2000"),),8)) -> 0 | K15: =IF(B15="",0,INDEX(INDIRECT("'"&$E$2&"月'!A4:J2000"),MATCH(B15,INDIRECT("'"&$E$2&"月'!B4:B2000"),),9)) -> 0 | L15: =IF(B15="",0,INDEX(INDIRECT("'"&$E$2&"月'!A4:J2000"),MATCH(B15,INDIRECT("'"&$E$2&"月'!B4:B2000"),),10)) -> 0
... B34: =员工信息表!B33 -> 0 | C34: =IFERROR(INDEX(员工信息表!$B:$E,MATCH(B34,员工信息表!$B:$B,),2),"-") -> - | D34: =IFERROR(INDEX(员工信息表!$B:$E,MATCH(B34,员工信息表!$B:$B,),3),"-") -> - | E34: =IF(B34="",0,INDEX(INDIRECT("'"&$E$2&"月'!A4:J2000"),MATCH(B34,INDIRECT("'"&$E$2&"月'!B4:B2000"),),3)) -> 0 | F34: =IF(B34="",0,INDEX(INDIRECT("'"&$E$2&"月'!A4:J2000"),MATCH(B34,INDIRECT("'"&$E$2&"月'!B4:B2000"),),4)) -> 0 | G34: =IF(B34="",0,INDEX(INDIRECT("'"&$E$2&"月'!A4:J2000"),MATCH(B34,INDIRECT("'"&$E$2&"月'!B4:B2000"),),5)) -> 0 | H34: =IF(B34="",0,INDEX(INDIRECT("'"&$E$2&"月'!A4:J2000"),MATCH(B34,INDIRECT("'"&$E$2&"月'!B4:B2000"),),6)) -> 0 | I34: =IF(B34="",0,INDEX(INDIRECT("'"&$E$2&"月'!A4:J2000"),MATCH(B34,INDIRECT("'"&$E$2&"月'!B4:B2000"),),7)) -> 0 | J34: =IF(B34="",0,INDEX(INDIRECT("'"&$E$2&"月'!A4:J2000"),MATCH(B34,INDIRECT("'"&$E$2&"月'!B4:B2000"),),8)) -> 0 | K34: =IF(B34="",0,INDEX(INDIRECT("'"&$E$2&"月'!A4:J2000"),MATCH(B34,INDIRECT("'"&$E$2&"月'!B4:B2000"),),9)) -> 0 | L34: =IF(B34="",0,INDEX(INDIRECT("'"&$E$2&"月'!A4:J2000"),MATCH(B34,INDIRECT("'"&$E$2&"月'!B4:B2000"),),10)) -> 0

Sheet 1月
A1: 考 勤 表
A2: 2022 | C2: 1 | J2: ="本月 "&DAY(DATE(A2,C2+1,1)-1)&" 天" -> 本月 31 天 | AJ2: 输入每天工作小时 | AO2: 7 | AP2: h
A3: 序号 | B3: 姓名 | C3: 应出勤 天数 | D3: 实际出勤 天数 | E3: 事假 天数 | F3: 病假 天数 | G3: 休假 天数 | H3: 缺勤 天数 | I3: 放假 天数 | J3: 加班 天数 | K3: 班次 | L3: =IF(MONTH(DATE($A$2,$C$2,COLUMN(A1)))=$C$2,DATE($A$2,$C$2,COLUMN(A1)),"") -> 44562 | M3: =IF(MONTH(DATE($A$2,$C$2,COLUMN(B1)))=$C$2,DATE($A$2,$C$2,COLUMN(B1)),"") -> 44563 | N3: =IF(MONTH(DATE($A$2,$C$2,COLUMN(C1)))=$C$2,DATE($A$2,$C$2,COLUMN(C1)),"") -> 44564 | O3: =IF(MONTH(DATE($A$2,$C$2,COLUMN(D1)))=$C$2,DATE($A$2,$C$2,COLUMN(D1)),"") -> 44565 | P3: =IF(MONTH(DATE($A$2,$C$2,COLUMN(E1)))=$C$2,DATE($A$2,$C$2,COLUMN(E1)),"") -> 44566 | Q3: =IF(MONTH(DATE($A$2,$C$2,COLUMN(F1)))=$C$2,DATE($A$2,$C$2,COLUMN(F1)),"") -> 44567 | R3: =IF(MONTH(DATE($A$2,$C$2,COLUMN(G1)))=$C$2,DATE($A$2,$C$2,COLUMN(G1)),"") -> 44568 | S3: =IF(MONTH(DATE($A$2,$C$2,COLUMN(H1)))=$C$2,DATE($A$2,$C$2,COLUMN(H1)),"") -> 44569 | ... AP3: =IF(MONTH(DATE($A$2,$C$2,COLUMN(AE1)))=$C$2,DATE($A$2,$C$2,COLUMN(AE1)),"") -> 44592
A4: =IF(B4=0,"",COUNTA($B$3:$B3)) -> 1 | B4: =INDIRECT("员工信息表!B"&COUNTA($B$3:$B3)+2) -> 苏继兵 | C4: 22 | D4: =(COUNTIF($L4:$AP4,"出勤")+COUNTIF($L5:$AP5,"出勤"))*0.5 -> 2.5 | E4: =(COUNTIF($L4:$AP4,"事假")+COUNTIF($L5:$AP5,"事假"))*0.5 -> 0.5 | F4: =(COUNTIF($L4:$AP4,"病假")+COUNTIF($L5:$AP5,"病假"))*0.5 -> 0.5 | G4: =(COUNTIF($L4:$AP4,"休假")+COUNTIF($L5:$AP5,"休假"))*0.5 -> 0.5 | H4: =(COUNTIF($L4:$AP4,"缺勤")+COUNTIF($L5:$AP5,"缺勤"))*0.5 -> 0.5 | I4: =(COUNTIF($L4:$AP4,"放假")+COUNTIF($L5:$AP5,"放假"))*0.5 -> 0.5 | J4: =(SUM(L6:AP6))/$AO$2 -> 1.2857143 | K4: =IF(A4="","",IF(MOD(ROW(),3)=1,"上午",IF(MOD(ROW(),3)=2,"下午","加班"))) -> 上午 | L4: 出勤 | M4: 出勤 | N4: 出勤 | P4: 休假 | T4: 缺勤 | V4: 放假
K5: =IF(A4="","",IF(MOD(ROW(),3)=1,"上午",IF(MOD(ROW(),3)=2,"下午","加班"))) -> 下午 | L5: 出勤 | M5: 出勤 | O5: 事假 | R5: 病假
K6: =IF(A4="","",IF(MOD(ROW(),3)=1,"上午",IF(MOD(ROW(),3)=2,"下午","加班"))) -> 加班 | L6: 6 | N6: 3
A7: =IF(B7=0,"",COUNTA($B$3:$B6)) -> 2 | B7: =INDIRECT("员工信息表!B"&COUNTA($B$3:$B6)+2) -> 苏继中 | C7: 22 | D7: =(COUNTIF($L7:$AP7,"出勤")+COUNTIF($L8:$AP8,"出勤"))*0.5 -> 2.5 | E7: =(COUNTIF($L7:$AP7,"事假")+COUNTIF($L8:$AP8,"事假"))*0.5 -> 0.5 | F7: =(COUNTIF($L7:$AP7,"病假")+COUNTIF($L8:$AP8,"病假"))*0.5 -> 0.5 | G7: =(COUNTIF($L7:$AP7,"休假")+COUNTIF($L8:$AP8,"休假"))*0.5 -> 0.5 | H7: =(COUNTIF($L7:$AP7,"缺勤")+COUNTIF($L8:$AP8,"缺勤"))*0.5 -> 0.5 | I7: =(COUNTIF($L7:$AP7,"放假")+COUNTIF($L8:$AP8,"放假"))*0.5 -> 0.5 | J7: =(SUM(L9:AP9))/$AO$2 -> 1.5714286 | K7: =IF(A7="","",IF(MOD(ROW(),3)=1,"上午",IF(MOD(ROW(),3)=2,"下午","加班"))) -> 上午 | L7: 出勤 | M7: 出勤 | N7: 出勤 | P7: 休假 | T7: 缺勤 | V7: 放假
K8: =IF(A7="","",IF(MOD(ROW(),3)=1,"上午",IF(MOD(ROW(),3)=2,"下午","加班"))) -> 下午 | L8: 出勤 | M8: 出勤 | O8: 事假 | R8: 病假
K9: =IF(A7="","",IF(MOD(ROW(),3)=1,"上午",IF(MOD(ROW(),3)=2,"下午","加班"))) -> 加班 | L9: 7 | N9: 4
A10: =IF(B10=0,"",COUNTA($B$3:$B9)) -> 3 | B10: =INDIRECT("员工信息表!B"&COUNTA($B$3:$B9)+2) -> 刘毅 | C10: 22 | D10: =(COUNTIF($L10:$AP10,"出勤")+COUNTIF($L11:$AP11,"出勤"))*0.5 -> 2.5 | E10: =(COUNTIF($L10:$AP10,"事假")+COUNTIF($L11:$AP11,"事假"))*0.5 -> 0.5 | F10: =(COUNTIF($L10:$AP10,"病假")+COUNTIF($L11:$AP11,"病假"))*0.5 -> 0.5 | G10: =(COUNTIF($L10:$AP10,"休假")+COUNTIF($L11:$AP11,"休假"))*0.5 -> 0.5 | H10: =(COUNTIF($L10:$AP10,"缺勤")+COUNTIF($L11:$AP11,"缺勤"))*0.5 -> 0.5 | I10: =(COUNTIF($L10:$AP10,"放假")+COUNTIF($L11:$AP11,"放假"))*0.5 -> 0.5 | J10: =(SUM(L12:AP12))/$AO$2 -> 1.8571429 | K10: =IF(A10="","",IF(MOD(ROW(),3)=1,"上午",IF(MOD(ROW(),3)=2,"下午","加班"))) -> 上午 | L10: 出勤 | M10: 出勤 | N10: 出勤 | P10: 休假 | T10: 缺勤 | V10: 放假
K11: =IF(A10="","",IF(MOD(ROW(),3)=1,"上午",IF(MOD(ROW(),3)=2,"下午","加班"))) -> 下午 | L11: 出勤 | M11: 出勤 | O11: 事假 | R11: 病假
K12: =IF(A10="","",IF(MOD(ROW(),3)=1,"上午",IF(MOD(ROW(),3)=2,"下午","加班"))) -> 加班 | L12: 8 | N12: 5
A13: =IF(B13=0,"",COUNTA($B$3:$B12)) -> 4 | B13: =INDIRECT("员工信息表!B"&COUNTA($B$3:$B12)+2) -> 伍亦中 | C13: 22 | D13: =(COUNTIF($L13:$AP13,"出勤")+COUNTIF($L14:$AP14,"出勤"))*0.5 -> 2.5 | E13: =(COUNTIF($L13:$AP13,"事假")+COUNTIF($L14:$AP14,"事假"))*0.5 -> 0.5 | F13: =(COUNTIF($L13:$AP13,"病假")+COUNTIF($L14:$AP14,"病假"))*0.5 -> 0.5 | G13: =(COUNTIF($L13:$AP13,"休假")+COUNTIF($L14:$AP14,"休假"))*0.5 -> 0.5 | H13: =(COUNTIF($L13:$AP13,"缺勤")+COUNTIF($L14:$AP14,"缺勤"))*0.5 -> 0.5 | I13: =(COUNTIF($L13:$AP13,"放假")+COUNTIF($L14:$AP14,"放假"))*0.5 -> 0.5 | J13: =(SUM(L15:AP15))/$AO$2 -> 2.1428571 | K13: =IF(A13="","",IF(MOD(ROW(),3)=1,"上午",IF(MOD(ROW(),3)=2,"下午","加班"))) -> 上午 | L13: 出勤 | M13: 出勤 | N13: 出勤 | P13: 休假 | T13: 缺勤 | V13: 放假
K14: =IF(A13="","",IF(MOD(ROW(),3)=1,"上午",IF(MOD(ROW(),3)=2,"下午","加班"))) -> 下午 | L14: 出勤 | M14: 出勤 | O14: 事假 | R14: 病假
K15: =IF(A13="","",IF(MOD(ROW(),3)=1,"上午",IF(MOD(ROW(),3)=2,"下午","加班"))) -> 加班 | L15: 9 | N15: 6
A16: =IF(B16=0,"",COUNTA($B$3:$B15)) -> 5 | B16: =INDIRECT("员工信息表!B"&COUNTA($B$3:$B15)+2) -> 苏绿华 | C16: 22 | D16: =(COUNTIF($L16:$AP16,"出勤")+COUNTIF($L17:$AP17,"出勤"))*0.5 -> 2.5 | E16: =(COUNTIF($L16:$AP16,"事假")+COUNTIF($L17:$AP17,"事假"))*0.5 -> 0.5 | F16: =(COUNTIF($L16:$AP16,"病假")+COUNTIF($L17:$AP17,"病假"))*0.5 -> 0.5 | G16: =(COUNTIF($L16:$AP16,"休假")+COUNTIF($L17:$AP17,"休假"))*0.5 -> 0.5 | H16: =(COUNTIF($L16:$AP16,"缺勤")+COUNTIF($L17:$AP17,"缺勤"))*0.5 -> 0.5 | I16: =(COUNTIF($L16:$AP16,"放假")+COUNTIF($L17:$AP17,"放假"))*0.5 -> 0.5 | J16: =(SUM(L18:AP18))/$AO$2 -> 2.4285714 | K16: =IF(A16="","",IF(MOD(ROW(),3)=1,"上午",IF(MOD(ROW(),3)=2,"下午","加班"))) -> 上午 | L16: 出勤 | M16: 出勤 | N16: 出勤 | P16: 休假 | T16: 缺勤 | V16: 放假
K17: =IF(A16="","",IF(MOD(ROW(),3)=1,"上午",IF(MOD(ROW(),3)=2,"下午","加班"))) -> 下午 | L17: 出勤 | M17: 出勤 | O17: 事假 | R17: 病假
K18: =IF(A16="","",IF(MOD(ROW(),3)=1,"上午",IF(MOD(ROW(),3)=2,"下午","加班"))) -> 加班 | L18: 10 | N18: 7
A19: =IF(B19=0,"",COUNTA($B$3:$B18)) -> 6 | B19: =INDIRECT("员工信息表!B"&COUNTA($B$3:$B18)+2) -> 王升祥 | C19: 22 | D19: =(COUNTIF($L19:$AP19,"出勤")+COUNTIF($L20:$AP20,"出勤"))*0.5 -> 2.5 | E19: =(COUNTIF($L19:$AP19,"事假")+COUNTIF($L20:$AP20,"事假"))*0.5 -> 0.5 | F19: =(COUNTIF($L19:$AP19,"病假")+COUNTIF($L20:$AP20,"病假"))*0.5 -> 0.5 | G19: =(COUNTIF($L19:$AP19,"休假")+COUNTIF($L20:$AP20,"休假"))*0.5 -> 0.5 | H19: =(COUNTIF($L19:$AP19,"缺勤")+COUNTIF($L20:$AP20,"缺勤"))*0.5 -> 0.5 | I19: =(COUNTIF($L19:$AP19,"放假")+COUNTIF($L20:$AP20,"放假"))*0.5 -> 0.5 | J19: =(SUM(L21:AP21))/$AO$2 -> 2.7142857 | K19: =IF(A19="","",IF(MOD(ROW(),3)=1,"上午",IF(MOD(ROW(),3)=2,"下午","加班"))) -> 上午 | L19: 出勤 | M19: 出勤 | N19: 出勤 | P19: 休假 | T19: 缺勤 | V19: 放假
K20: =IF(A19="","",IF(MOD(ROW(),3)=1,"上午",IF(MOD(ROW(),3)=2,"下午","加班"))) -> 下午 | L20: 出勤 | M20: 出勤 | O20: 事假 | R20: 病假
K21: =IF(A19="","",IF(MOD(ROW(),3)=1,"上午",IF(MOD(ROW(),3)=2,"下午","加班"))) -> 加班 | L21: 11 | N21: 8
A22: =IF(B22=0,"",COUNTA($B$3:$B21)) -> 7 | B22: =INDIRECT("员工信息表!B"&COUNTA($B$3:$B21)+2) -> 刘让铁 | C22: 22 | D22: =(COUNTIF($L22:$AP22,"出勤")+COUNTIF($L23:$AP23,"出勤"))*0.5 -> 2.5 | E22: =(COUNTIF($L22:$AP22,"事假")+COUNTIF($L23:$AP23,"事假"))*0.5 -> 0.5 | F22: =(COUNTIF($L22:$AP22,"病假")+COUNTIF($L23:$AP23,"病假"))*0.5 -> 0.5 | G22: =(COUNTIF($L22:$AP22,"休假")+COUNTIF($L23:$AP23,"休假"))*0.5 -> 0.5 | H22: =(COUNTIF($L22:$AP22,"缺勤")+COUNTIF($L23:$AP23,"缺勤"))*0.5 -> 0.5 | I22: =(COUNTIF($L22:$AP22,"放假")+COUNTIF($L23:$AP23,"放假"))*0.5 -> 0.5 | J22: =(SUM(L24:AP24))/$AO$2 -> 3 | K22: =IF(A22="","",IF(MOD(ROW(),3)=1,"上午",IF(MOD(ROW(),3)=2,"下午","加班"))) -> 上午 | L22: 出勤 | M22: 出勤 | N22: 出勤 | P22: 休假 | T22: 缺勤 | V22: 放假
K23: =IF(A22="","",IF(MOD(ROW(),3)=1,"上午",IF(MOD(ROW(),3)=2,"下午","加班"))) -> 下午 | L23: 出勤 | M23: 出勤 | O23: 事假 | R23: 病假
K24: =IF(A22="","",IF(MOD(ROW(),3)=1,"上午",IF(MOD(ROW(),3)=2,"下午","加班"))) -> 加班 | L24: 12 | N24: 9
A25: =IF(B25=0,"",COUNTA($B$3:$B24)) -> 8 | B25: =INDIRECT("员工信息表!B"&COUNTA($B$3:$B24)+2) -> 颜运回 | C25: 22 | D25: =(COUNTIF($L25:$AP25,"出勤")+COUNTIF($L26:$AP26,"出勤"))*0.5 -> 2.5 | E25: =(COUNTIF($L25:$AP25,"事假")+COUNTIF($L26:$AP26,"事假"))*0.5 -> 0.5 | F25: =(COUNTIF($L25:$AP25,"病假")+COUNTIF($L26:$AP26,"病假"))*0.5 -> 0.5 | G25: =(COUNTIF($L25:$AP25,"休假")+COUNTIF($L26:$AP26,"休假"))*0.5 -> 0.5 | H25: =(COUNTIF($L25:$AP25,"缺勤")+COUNTIF($L26:$AP26,"缺勤"))*0.5 -> 0.5 | I25: =(COUNTIF($L25:$AP25,"放假")+COUNTIF($L26:$AP26,"放假"))*0.5 -> 0.5 | J25: =(SUM(L27:AP27))/$AO$2 -> 3.2857143 | K25: =IF(A25="","",IF(MOD(ROW(),3)=1,"上午",IF(MOD(ROW(),3)=2,"下午","加班"))) -> 上午 | L25: 出勤 | M25: 出勤 | N25: 出勤 | P25: 休假 | T25: 缺勤 | V25: 放假
K26: =IF(A25="","",IF(MOD(ROW(),3)=1,"上午",IF(MOD(ROW(),3)=2,"下午","加班"))) -> 下午 | L26: 出勤 | M26: 出勤 | O26: 事假 | R26: 病假
K27: =IF(A25="","",IF(MOD(ROW(),3)=1,"上午",IF(MOD(ROW(),3)=2,"下午","加班"))) -> 加班 | L27: 13 | N27: 10
A28: =IF(B28=0,"",COUNTA($B$3:$B27)) -> 9 | B28: =INDIRECT("员工信息表!B"&COUNTA($B$3:$B27)+2) -> 尹小平 | C28: 22 | D28: =(COUNTIF($L28:$AP28,"出勤")+COUNTIF($L29:$AP29,"出勤"))*0.5 -> 2.5 | E28: =(COUNTIF($L28:$AP28,"事假")+COUNTIF($L29:$AP29,"事假"))*0.5 -> 0.5 | F28: =(COUNTIF($L28:$AP28,"病假")+COUNTIF($L29:$AP29,"病假"))*0.5 -> 0.5 | G28: =(COUNTIF($L28:$AP28,"休假")+COUNTIF($L29:$AP29,"休假"))*0.5 -> 0.5 | H28: =(COUNTIF($L28:$AP28,"缺勤")+COUNTIF($L29:$AP29,"缺勤"))*0.5 -> 0.5 | I28: =(COUNTIF($L28:$AP28,"放假")+COUNTIF($L29:$AP29,"放假"))*0.5 -> 0.5 | J28: =(SUM(L30:AP30))/$AO$2 -> 3.5714286 | K28: =IF(A28="","",IF(MOD(ROW(),3)=1,"上午",IF(MOD(ROW(),3)=2,"下午","加班"))) -> 上午 | L28: 出勤 | M28: 出勤 | N28: 出勤 | P28: 休假 | T28: 缺勤 | V28: 放假
K29: =IF(A28="","",IF(MOD(ROW(),3)=1,"上午",IF(MOD(ROW(),3)=2,"下午","加班"))) -> 下午 | L29: 出勤 | M29: 出勤 | O29: 事假 | R29: 病假
K30: =IF(A28="","",IF(MOD(ROW(),3)=1,"上午",IF(MOD(ROW(),3)=2,"下午","加班"))) -> 加班 | L30: 14 | N30: 11
A31: =IF(B31=0,"",COUNTA($B$3:$B30)) -> 10 | B31: =INDIRECT("员工信息表!B"&COUNTA($B$3:$B30)+2) -> 颜建美 | C31: 22 | D31: =(COUNTIF($L31:$AP31,"出勤")+COUNTIF($L32:$AP32,"出勤"))*0.5 -> 2.5 | E31: =(COUNTIF($L31:$AP31,"事假")+COUNTIF($L32:$AP32,"事假"))*0.5 -> 0.5 | F31: =(COUNTIF($L31:$AP31,"病假")+COUNTIF($L32:$AP32,"病假"))*0.5 -> 0.5 | G31: =(COUNTIF($L31:$AP31,"休假")+COUNTIF($L32:$AP32,"休假"))*0.5 -> 0.5 | H31: =(COUNTIF($L31:$AP31,"缺勤")+COUNTIF($L32:$AP32,"缺勤"))*0.5 -> 0.5 | I31: =(COUNTIF($L31:$AP31,"放假")+COUNTIF($L32:$AP32,"放假"))*0.5 -> 0.5 | J31: =(SUM(L33:AP33))/$AO$2 -> 3.8571429 | K31: =IF(A31="","",IF(MOD(ROW(),3)=1,"上午",IF(MOD(ROW(),3)=2,"下午","加班"))) -> 上午 | L31: 出勤 | M31: 出勤 | N31: 出勤 | P31: 休假 | T31: 缺勤 | V31: 放假
K32: =IF(A31="","",IF(MOD(ROW(),3)=1,"上午",IF(MOD(ROW(),3)=2,"下午","加班"))) -> 下午 | L32: 出勤 | M32: 出勤 | O32: 事假 | R32: 病假
K33: =IF(A31="","",IF(MOD(ROW(),3)=1,"上午",IF(MOD(ROW(),3)=2,"下午","加班"))) -> 加班 | L33: 15 | N33: 12
A34: =IF(B34=0,"",COUNTA($B$3:$B33)) -> 11 | B34: =INDIRECT("员工信息表!B"&COUNTA($B$3:$B33)+2) -> 尹乔丽 | C34: 22 | D34: =(COUNTIF($L34:$AP34,"出勤")+COUNTIF($L35:$AP35,"出勤"))*0.5 -> 2.5 | E34: =(COUNTIF($L34:$AP34,"事假")+COUNTIF($L35:$AP35,"事假"))*0.5 -> 0.5 | F34: =(COUNTIF($L34:$AP34,"病假")+COUNTIF($L35:$AP35,"病假"))*0.5 -> 0.5 | G34: =(COUNTIF($L34:$AP34,"休假")+COUNTIF($L35:$AP35,"休假"))*0.5 -> 0.5 | H34: =(COUNTIF($L34:$AP34,"缺勤")+COUNTIF($L35:$AP35,"缺勤"))*0.5 -> 0.5 | I34: =(COUNTIF($L34:$AP34,"放假")+COUNTIF($L35:$AP35,"放假"))*0.5 -> 0.5 | J34: =(SUM(L36:AP36))/$AO$2 -> 4.1428571 | K34: =IF(A34="","",IF(MOD(ROW(),3)=1,"上午",IF(MOD(ROW(),3)=2,"下午","加班"))) -> 上午 | L34: 出勤 | M34: 出勤 | N34: 出勤 | P34: 休假 | T34: 缺勤 | V34: 放假
K35: =IF(A34="","",IF(MOD(ROW(),3)=1,"上午",IF(MOD(ROW(),3)=2,"下午","加班"))) -> 下午 | L35: 出勤 | M35: 出勤 | O35: 事假 | R35: 病假
K36: =IF(A34="","",IF(MOD(ROW(),3)=1,"上午",IF(MOD(ROW(),3)=2,"下午","加班"))) -> 加班 | L36: 16 | N36: 13
A37: =IF(B37=0,"",COUNTA($B$3:$B36)) | B37: =INDIRECT("员工信息表!B"&COUNTA($B$3:$B36)+2) -> 0 | D37: =(COUNTIF($L37:$AP37,"出勤")+COUNTIF($L38:$AP38,"出勤"))*0.5 -> 0 | E37: =(COUNTIF($L37:$AP37,"事假")+COUNTIF($L38:$AP38,"事假"))*0.5 -> 0 | F37: =(COUNTIF($L37:$AP37,"病假")+COUNTIF($L38:$AP38,"病假"))*0.5 -> 0 | G37: =(COUNTIF($L37:$AP37,"休假")+COUNTIF($L38:$AP38,"休假"))*0.5 -> 0 | H37: =(COUNTIF($L37:$AP37,"缺勤")+COUNTIF($L38:$AP38,"缺勤"))*0.5 -> 0 | I37: =(COUNTIF($L37:$AP37,"放假")+COUNTIF($L38:$AP38,"放假"))*0.5 -> 0 | J37: =(SUM(L39:AP39))/$AO$2 -> 0 | K37: =IF(A37="","",IF(MOD(ROW(),3)=1,"上午",IF(MOD(ROW(),3)=2,"下午","加班")))
K38: =IF(A37="","",IF(MOD(ROW(),3)=1,"上午",IF(MOD(ROW(),3)=2,"下午","加班")))
K39: =IF(A37="","",IF(MOD(ROW(),3)=1,"上午",IF(MOD(ROW(),3)=2,"下午","加班")))
A40: =IF(B40=0,"",COUNTA($B$3:$B39)) | B40: =INDIRECT("员工信息表!B"&COUNTA($B$3:$B39)+2) -> 0 | D40: =(COUNTIF($L40:$AP40,"出勤")+COUNTIF($L41:$AP41,"出勤"))*0.5 -> 0 | E40: =(COUNTIF($L40:$AP40,"事假")+COUNTIF($L41:$AP41,"事假"))*0.5 -> 0 | F40: =(COUNTIF($L40:$AP40,"病假")+COUNTIF($L41:$AP41,"病假"))*0.5 -> 0 | G40: =(COUNTIF($L40:$AP40,"休假")+COUNTIF($L41:$AP41,"休假"))*0.5 -> 0 | H40: =(COUNTIF($L40:$AP40,"缺勤")+COUNTIF($L41:$AP41,"缺勤"))*0.5 -> 0 | I40: =(COUNTIF($L40:$AP40,"放假")+COUNTIF($L41:$AP41,"放假"))*0.5 -> 0 | J40: =(SUM(L42:AP42))/$AO$2 -> 0 | K40: =IF(A40="","",IF(MOD(ROW(),3)=1,"上午",IF(MOD(ROW(),3)=2,"下午","加班")))
K41: =IF(A40="","",IF(MOD(ROW(),3)=1,"上午",IF(MOD(ROW(),3)=2,"下午","加班")))
K42: =IF(A40="","",IF(MOD(ROW(),3)=1,"上午",IF(MOD(ROW(),3)=2,"下午","加班")))
A43: =IF(B43=0,"",COUNTA($B$3:$B42)) | B43: =INDIRECT("员工信息表!B"&COUNTA($B$3:$B42)+2) -> 0 | D43: =(COUNTIF($L43:$AP43,"出勤")+COUNTIF($L44:$AP44,"出勤"))*0.5 -> 0 | E43: =(COUNTIF($L43:$AP43,"事假")+COUNTIF($L44:$AP44,"事假"))*0.5 -> 0 | F43: =(COUNTIF($L43:$AP43,"病假")+COUNTIF($L44:$AP44,"病假"))*0.5 -> 0 | G43: =(COUNTIF($L43:$AP43,"休假")+COUNTIF($L44:$AP44,"休假"))*0.5 -> 0 | H43: =(COUNTIF($L43:$AP43,"缺勤")+COUNTIF($L44:$AP44,"缺勤"))*0.5 -> 0 | I43: =(COUNTIF($L43:$AP43,"放假")+COUNTIF($L44:$AP44,"放假"))*0.5 -> 0 | J43: =(SUM(L45:AP45))/$AO$2 -> 0 | K43: =IF(A43="","",IF(MOD(ROW(),3)=1,"上午",IF(MOD(ROW(),3)=2,"下午","加班")))
K44: =IF(A43="","",IF(MOD(ROW(),3)=1,"上午",IF(MOD(ROW(),3)=2,"下午","加班")))
K45: =IF(A43="","",IF(MOD(ROW(),3)=1,"上午",IF(MOD(ROW(),3)=2,"下午","加班")))
A46: =IF(B46=0,"",COUNTA($B$3:$B45)) | B46: =INDIRECT("员工信息表!B"&COUNTA($B$3:$B45)+2) -> 0 | D46: =(COUNTIF($L46:$AP46,"出勤")+COUNTIF($L47:$AP47,"出勤"))*0.5 -> 0 | E46: =(COUNTIF($L46:$AP46,"事假")+COUNTIF($L47:$AP47,"事假"))*0.5 -> 0 | F46: =(COUNTIF($L46:$AP46,"病假")+COUNTIF($L47:$AP47,"病假"))*0.5 -> 0 | G46: =(COUNTIF($L46:$AP46,"休假")+COUNTIF($L47:$AP47,"休假"))*0.5 -> 0 | H46: =(COUNTIF($L46:$AP46,"缺勤")+COUNTIF($L47:$AP47,"缺勤"))*0.5 -> 0 | I46: =(COUNTIF($L46:$AP46,"放假")+COUNTIF($L47:$AP47,"放假"))*0.5 -> 0 | J46: =(SUM(L48:AP48))/$AO$2 -> 0 | K46: =IF(A46="","",IF(MOD(ROW(),3)=1,"上午",IF(MOD(ROW(),3)=2,"下午","加班")))
K47: =IF(A46="","",IF(MOD(ROW(),3)=1,"上午",IF(MOD(ROW(),3)=2,"下午","加班")))
K48: =IF(A46="","",IF(MOD(ROW(),3)=1,"上午",IF(MOD(ROW(),3)=2,"下午","加班")))
A49: =IF(B49=0,"",COUNTA($B$3:$B48)) | B49: =INDIRECT("员工信息表!B"&COUNTA($B$3:$B48)+2) -> 0 | D49: =(COUNTIF($L49:$AP49,"出勤")+COUNTIF($L50:$AP50,"出勤"))*0.5 -> 0 | E49: =(COUNTIF($L49:$AP49,"事假")+COUNTIF($L50:$AP50,"事假"))*0.5 -> 0 | F49: =(COUNTIF($L49:$AP49,"病假")+COUNTIF($L50:$AP50,"病假"))*0.5 -> 0 | G49: =(COUNTIF($L49:$AP49,"休假")+COUNTIF($L50:$AP50,"休假"))*0.5 -> 0 | H49: =(COUNTIF($L49:$AP49,"缺勤")+COUNTIF($L50:$AP50,"缺勤"))*0.5 -> 0 | I49: =(COUNTIF($L49:$AP49,"放假")+COUNTIF($L50:$AP50,"放假"))*0.5 -> 0 | J49: =(SUM(L51:AP51))/$AO$2 -> 0 | K49: =IF(A49="","",IF(MOD(ROW(),3)=1,"上午",IF(MOD(ROW(),3)=2,"下午","加班")))
K50: =IF(A49="","",IF(MOD(ROW(),3)=1,"上午",IF(MOD(ROW(),3)=2,"下午","加班")))
K51: =IF(A49="","",IF(MOD(ROW(),3)=1,"上午",IF(MOD(ROW(),3)=2,"下午","加班")))
A52: =IF(B52=0,"",COUNTA($B$3:$B51)) | B52: =INDIRECT("员工信息表!B"&COUNTA($B$3:$B51)+2) -> 0 | D52: =(COUNTIF($L52:$AP52,"出勤")+COUNTIF($L53:$AP53,"出勤"))*0.5 -> 0 | E52: =(COUNTIF($L52:$AP52,"事假")+COUNTIF($L53:$AP53,"事假"))*0.5 -> 0 | F52: =(COUNTIF($L52:$AP52,"病假")+COUNTIF($L53:$AP53,"病假"))*0.5 -> 0 | G52: =(COUNTIF($L52:$AP52,"休假")+COUNTIF($L53:$AP53,"休假"))*0.5 -> 0 | H52: =(COUNTIF($L52:$AP52,"缺勤")+COUNTIF($L53:$AP53,"缺勤"))*0.5 -> 0 | I52: =(COUNTIF($L52:$AP52,"放假")+COUNTIF($L53:$AP53,"放假"))*0.5 -> 0 | J52: =(SUM(L54:AP54))/$AO$2 -> 0 | K52: =IF(A52="","",IF(MOD(ROW(),3)=1,"上午",IF(MOD(ROW(),3)=2,"下午","加班")))
K53: =IF(A52="","",IF(MOD(ROW(),3)=1,"上午",IF(MOD(ROW(),3)=2,"下午","加班")))
K54: =IF(A52="","",IF(MOD(ROW(),3)=1,"上午",IF(MOD(ROW(),3)=2,"下午","加班")))
A55: =IF(B55=0,"",COUNTA($B$3:$B54)) | B55: =INDIRECT("员工信息表!B"&COUNTA($B$3:$B54)+2) -> 0 | D55: =(COUNTIF($L55:$AP55,"出勤")+COUNTIF($L56:$AP56,"出勤"))*0.5 -> 0 | E55: =(COUNTIF($L55:$AP55,"事假")+COUNTIF($L56:$AP56,"事假"))*0.5 -> 0 | F55: =(COUNTIF($L55:$AP55,"病假")+COUNTIF($L56:$AP56,"病假"))*0.5 -> 0 | G55: =(COUNTIF($L55:$AP55,"休假")+COUNTIF($L56:$AP56,"休假"))*0.5 -> 0 | H55: =(COUNTIF($L55:$AP55,"缺勤")+COUNTIF($L56:$AP56,"缺勤"))*0.5 -> 0 | I55: =(COUNTIF($L55:$AP55,"放假")+COUNTIF($L56:$AP56,"放假"))*0.5 -> 0 | J55: =(SUM(L57:AP57))/$AO$2 -> 0 | K55: =IF(A55="","",IF(MOD(ROW(),3)=1,"上午",IF(MOD(ROW(),3)=2,"下午","加班")))
K56: =IF(A55="","",IF(MOD(ROW(),3)=1,"上午",IF(MOD(ROW(),3)=2,"下午","加班")))
K57: =IF(A55="","",IF(MOD(ROW(),3)=1,"上午",IF(MOD(ROW(),3)=2,"下午","加班")))
A58: =IF(B58=0,"",COUNTA($B$3:$B57)) | B58: =INDIRECT("员工信息表!B"&COUNTA($B$3:$B57)+2) -> 0 | D58: =(COUNTIF($L58:$AP58,"出勤")+COUNTIF($L59:$AP59,"出勤"))*0.5 -> 0 | E58: =(COUNTIF($L58:$AP58,"事假")+COUNTIF($L59:$AP59,"事假"))*0.5 -> 0 | F58: =(COUNTIF($L58:$AP58,"病假")+COUNTIF($L59:$AP59,"病假"))*0.5 -> 0 | G58: =(COUNTIF($L58:$AP58,"休假")+COUNTIF($L59:$AP59,"休假"))*0.5 -> 0 | H58: =(COUNTIF($L58:$AP58,"缺勤")+COUNTIF($L59:$AP59,"缺勤"))*0.5 -> 0 | I58: =(COUNTIF($L58:$AP58,"放假")+COUNTIF($L59:$AP59,"放假"))*0.5 -> 0 | J58: =(SUM(L60:AP60))/$AO$2 -> 0 | K58: =IF(A58="","",IF(MOD(ROW(),3)=1,"上午",IF(MOD(ROW(),3)=2,"下午","加班")))
K59: =IF(A58="","",IF(MOD(ROW(),3)=1,"上午",IF(MOD(ROW(),3)=2,"下午","加班")))
K60: =IF(A58="","",IF(MOD(ROW(),3)=1,"上午",IF(MOD(ROW(),3)=2,"下午","加班")))
A61: =IF(B61=0,"",COUNTA($B$3:$B60)) | B61: =INDIRECT("员工信息表!B"&COUNTA($B$3:$B60)+2) -> 0 | D61: =(COUNTIF($L61:$AP61,"出勤")+COUNTIF($L62:$AP62,"出勤"))*0.5 -> 0 | E61: =(COUNTIF($L61:$AP61,"事假")+COUNTIF($L62:$AP62,"事假"))*0.5 -> 0 | F61: =(COUNTIF($L61:$AP61,"病假")+COUNTIF($L62:$AP62,"病假"))*0.5 -> 0 | G61: =(COUNTIF($L61:$AP61,"休假")+COUNTIF($L62:$AP62,"休假"))*0.5 -> 0 | H61: =(COUNTIF($L61:$AP61,"缺勤")+COUNTIF($L62:$AP62,"缺勤"))*0.5 -> 0 | I61: =(COUNTIF($L61:$AP61,"放假")+COUNTIF($L62:$AP62,"放假"))*0.5 -> 0 | J61: =(SUM(L63:AP63))/$AO$2 -> 0 | K61: =IF(A61="","",IF(MOD(ROW(),3)=1,"上午",IF(MOD(ROW(),3)=2,"下午","加班")))
K62: =IF(A61="","",IF(MOD(ROW(),3)=1,"上午",IF(MOD(ROW(),3)=2,"下午","加班")))
K63: =IF(A61="","",IF(MOD(ROW(),3)=1,"上午",IF(MOD(ROW(),3)=2,"下午","加班")))
A64: =IF(B64=0,"",COUNTA($B$3:$B63)) | B64: =INDIRECT("员工信息表!B"&COUNTA($B$3:$B63)+2) -> 0 | D64: =(COUNTIF($L64:$AP64,"出勤")+COUNTIF($L65:$AP65,"出勤"))*0.5 -> 0 | E64: =(COUNTIF($L64:$AP64,"事假")+COUNTIF($L65:$AP65,"事假"))*0.5 -> 0 | F64: =(COUNTIF($L64:$AP64,"病假")+COUNTIF($L65:$AP65,"病假"))*0.5 -> 0 | G64: =(COUNTIF($L64:$AP64,"休假")+COUNTIF($L65:$AP65,"休假"))*0.5 -> 0 | H64: =(COUNTIF($L64:$AP64,"缺勤")+COUNTIF($L65:$AP65,"缺勤"))*0.5 -> 0 | I64: =(COUNTIF($L64:$AP64,"放假")+COUNTIF($L65:$AP65,"放假"))*0.5 -> 0 | J64: =(SUM(L66:AP66))/$AO$2 -> 0 | K64: =IF(A64="","",IF(MOD(ROW(),3)=1,"上午",IF(MOD(ROW(),3)=2,"下午","加班")))
K65: =IF(A64="","",IF(MOD(ROW(),3)=1,"上午",IF(MOD(ROW(),3)=2,"下午","加班")))
K66: =IF(A64="","",IF(MOD(ROW(),3)=1,"上午",IF(MOD(ROW(),3)=2,"下午","加班")))
A67: =IF(B67=0,"",COUNTA($B$3:$B66)) | B67: =INDIRECT("员工信息表!B"&COUNTA($B$3:$B66)+2) -> 0 | D67: =(COUNTIF($L67:$AP67,"出勤")+COUNTIF($L68:$AP68,"出勤"))*0.5 -> 0 | E67: =(COUNTIF($L67:$AP67,"事假")+COUNTIF($L68:$AP68,"事假"))*0.5 -> 0 | F67: =(COUNTIF($L67:$AP67,"病假")+COUNTIF($L68:$AP68,"病假"))*0.5 -> 0 | G67: =(COUNTIF($L67:$AP67,"休假")+COUNTIF($L68:$AP68,"休假"))*0.5 -> 0 | H67: =(COUNTIF($L67:$AP67,"缺勤")+COUNTIF($L68:$AP68,"缺勤"))*0.5 -> 0 | I67: =(COUNTIF($L67:$AP67,"放假")+COUNTIF($L68:$AP68,"放假"))*0.5 -> 0 | J67: =(SUM(L69:AP69))/$AO$2 -> 0 | K67: =IF(A67="","",IF(MOD(ROW(),3)=1,"上午",IF(MOD(ROW(),3)=2,"下午","加班")))
K68: =IF(A67="","",IF(MOD(ROW(),3)=1,"上午",IF(MOD(ROW(),3)=2,"下午","加班")))
K69: =IF(A67="","",IF(MOD(ROW(),3)=1,"上午",IF(MOD(ROW(),3)=2,"下午","加班")))
A70: =IF(B70=0,"",COUNTA($B$3:$B69)) | B70: =INDIRECT("员工信息表!B"&COUNTA($B$3:$B69)+2) -> 0 | D70: =(COUNTIF($L70:$AP70,"出勤")+COUNTIF($L71:$AP71,"出勤"))*0.5 -> 0 | E70: =(COUNTIF($L70:$AP70,"事假")+COUNTIF($L71:$AP71,"事假"))*0.5 -> 0 | F70: =(COUNTIF($L70:$AP70,"病假")+COUNTIF($L71:$AP71,"病假"))*0.5 -> 0 | G70: =(COUNTIF($L70:$AP70,"休假")+COUNTIF($L71:$AP71,"休假"))*0.5 -> 0 | H70: =(COUNTIF($L70:$AP70,"缺勤")+COUNTIF($L71:$AP71,"缺勤"))*0.5 -> 0 | I70: =(COUNTIF($L70:$AP70,"放假")+COUNTIF($L71:$AP71,"放假"))*0.5 -> 0 | J70: =(SUM(L72:AP72))/$AO$2 -> 0 | K70: =IF(A70="","",IF(MOD(ROW(),3)=1,"上午",IF(MOD(ROW(),3)=2,"下午","加班")))
K71: =IF(A70="","",IF(MOD(ROW(),3)=1,"上午",IF(MOD(ROW(),3)=2,"下午","加班")))
K72: =IF(A70="","",IF(MOD(ROW(),3)=1,"上午",IF(MOD(ROW(),3)=2,"下午","加班")))
A73: =IF(B73=0,"",COUNTA($B$3:$B72)) | B73: =INDIRECT("员工信息表!B"&COUNTA($B$3:$B72)+2) -> 0 | D73: =(COUNTIF($L73:$AP73,"出勤")+COUNTIF($L74:$AP74,"出勤"))*0.5 -> 0 | E73: =(COUNTIF($L73:$AP73,"事假")+COUNTIF($L74:$AP74,"事假"))*0.5 -> 0 | F73: =(COUNTIF($L73:$AP73,"病假")+COUNTIF($L74:$AP74,"病假"))*0.5 -> 0 | G73: =(COUNTIF($L73:$AP73,"休假")+COUNTIF($L74:$AP74,"休假"))*0.5 -> 0 | H73: =(COUNTIF($L73:$AP73,"缺勤")+COUNTIF($L74:$AP74,"缺勤"))*0.5 -> 0 | I73: =(COUNTIF($L73:$AP73,"放假")+COUNTIF($L74:$AP74,"放假"))*0.5 -> 0 | J73: =(SUM(L75:AP75))/$AO$2 -> 0 | K73: =IF(A73="","",IF(MOD(ROW(),3)=1,"上午",IF(MOD(ROW(),3)=2,"下午","加班")))
K74: =IF(A73="","",IF(MOD(ROW(),3)=1,"上午",IF(MOD(ROW(),3)=2,"下午","加班")))
K75: =IF(A73="","",IF(MOD(ROW(),3)=1,"上午",IF(MOD(ROW(),3)=2,"下午","加班")))
A76: =IF(B76=0,"",COUNTA($B$3:$B75)) | B76: =INDIRECT("员工信息表!B"&COUNTA($B$3:$B75)+2) -> 0 | D76: =(COUNTIF($L76:$AP76,"出勤")+COUNTIF($L77:$AP77,"出勤"))*0.5 -> 0 | E76: =(COUNTIF($L76:$AP76,"事假")+COUNTIF($L77:$AP77,"事假"))*0.5 -> 0 | F76: =(COUNTIF($L76:$AP76,"病假")+COUNTIF($L77:$AP77,"病假"))*0.5 -> 0 | G76: =(COUNTIF($L76:$AP76,"休假")+COUNTIF($L77:$AP77,"休假"))*0.5 -> 0 | H76: =(COUNTIF($L76:$AP76,"缺勤")+COUNTIF($L77:$AP77,"缺勤"))*0.5 -> 0 | I76: =(COUNTIF($L76:$AP76,"放假")+COUNTIF($L77:$AP77,"放假"))*0.5 -> 0 | J76: =(SUM(L78:AP78))/$AO$2 -> 0 | K76: =IF(A76="","",IF(MOD(ROW(),3)=1,"上午",IF(MOD(ROW(),3)=2,"下午","加班")))
K77: =IF(A76="","",IF(MOD(ROW(),3)=1,"上午",IF(MOD(ROW(),3)=2,"下午","加班")))
K78: =IF(A76="","",IF(MOD(ROW(),3)=1,"上午",IF(MOD(ROW(),3)=2,"下午","加班")))
A79: =IF(B79=0,"",COUNTA($B$3:$B78)) | B79: =INDIRECT("员工信息表!B"&COUNTA($B$3:$B78)+2) -> 0 | D79: =(COUNTIF($L79:$AP79,"出勤")+COUNTIF($L80:$AP80,"出勤"))*0.5 -> 0 | E79: =(COUNTIF($L79:$AP79,"事假")+COUNTIF($L80:$AP80,"事假"))*0.5 -> 0 | F79: =(COUNTIF($L79:$AP79,"病假")+COUNTIF($L80:$AP80,"病假"))*0.5 -> 0 | G79: =(COUNTIF($L79:$AP79,"休假")+COUNTIF($L80:$AP80,"休假"))*0.5 -> 0 | H79: =(COUNTIF($L79:$AP79,"缺勤")+COUNTIF($L80:$AP80,"缺勤"))*0.5 -> 0 | I79: =(COUNTIF($L79:$AP79,"放假")+COUNTIF($L80:$AP80,"放假"))*0.5 -> 0 | J79: =(SUM(L81:AP81))/$AO$2 -> 0 | K79: =IF(A79="","",IF(MOD(ROW(),3)=1,"上午",IF(MOD(ROW(),3)=2,"下午","加班")))
K80: =IF(A79="","",IF(MOD(ROW(),3)=1,"上午",IF(MOD(ROW(),3)=2,"下午","加班")))
K81: =IF(A79="","",IF(MOD(ROW(),3)=1,"上午",IF(MOD(ROW(),3)=2,"下午","加班")))
A82: =IF(B82=0,"",COUNTA($B$3:$B81)) | B82: =INDIRECT("员工信息表!B"&COUNTA($B$3:$B81)+2) -> 0 | D82: =(COUNTIF($L82:$AP82,"出勤")+COUNTIF($L83:$AP83,"出勤"))*0.5 -> 0 | E82: =(COUNTIF($L82:$AP82,"事假")+COUNTIF($L83:$AP83,"事假"))*0.5 -> 0 | F82: =(COUNTIF($L82:$AP82,"病假")+COUNTIF($L83:$AP83,"病假"))*0.5 -> 0 | G82: =(COUNTIF($L82:$AP82,"休假")+COUNTIF($L83:$AP83,"休假"))*0.5 -> 0 | H82: =(COUNTIF($L82:$AP82,"缺勤")+COUNTIF($L83:$AP83,"缺勤"))*0.5 -> 0 | I82: =(COUNTIF($L82:$AP82,"放假")+COUNTIF($L83:$AP83,"放假"))*0.5 -> 0 | J82: =(SUM(L84:AP84))/$AO$2 -> 0 | K82: =IF(A82="","",IF(MOD(ROW(),3)=1,"上午",IF(MOD(ROW(),3)=2,"下午","加班")))
K83: =IF(A82="","",IF(MOD(ROW(),3)=1,"上午",IF(MOD(ROW(),3)=2,"下午","加班")))
K84: =IF(A82="","",IF(MOD(ROW(),3)=1,"上午",IF(MOD(ROW(),3)=2,"下午","加班")))
A85: =IF(B85=0,"",COUNTA($B$3:$B84)) | B85: =INDIRECT("员工信息表!B"&COUNTA($B$3:$B84)+2) -> 0 | D85: =(COUNTIF($L85:$AP85,"出勤")+COUNTIF($L86:$AP86,"出勤"))*0.5 -> 0 | E85: =(COUNTIF($L85:$AP85,"事假")+COUNTIF($L86:$AP86,"事假"))*0.5 -> 0 | F85: =(COUNTIF($L85:$AP85,"病假")+COUNTIF($L86:$AP86,"病假"))*0.5 -> 0 | G85: =(COUNTIF($L85:$AP85,"休假")+COUNTIF($L86:$AP86,"休假"))*0.5 -> 0 | H85: =(COUNTIF($L85:$AP85,"缺勤")+COUNTIF($L86:$AP86,"缺勤"))*0.5 -> 0 | I85: =(COUNTIF($L85:$AP85,"放假")+COUNTIF($L86:$AP86,"放假"))*0.5 -> 0 | J85: =(SUM(L87:AP87))/$AO$2 -> 0 | K85: =IF(A85="","",IF(MOD(ROW(),3)=1,"上午",IF(MOD(ROW(),3)=2,"下午","加班")))
K86: =IF(A85="","",IF(MOD(ROW(),3)=1,"上午",IF(MOD(ROW(),3)=2,"下午","加班")))
K87: =IF(A85="","",IF(MOD(ROW(),3)=1,"上午",IF(MOD(ROW(),3)=2,"下午","加班")))
A88: =IF(B88=0,"",COUNTA($B$3:$B87)) | B88: =INDIRECT("员工信息表!B"&COUNTA($B$3:$B87)+2) -> 0 | D88: =(COUNTIF($L88:$AP88,"出勤")+COUNTIF($L89:$AP89,"出勤"))*0.5 -> 0 | E88: =(COUNTIF($L88:$AP88,"事假")+COUNTIF($L89:$AP89,"事假"))*0.5 -> 0 | F88: =(COUNTIF($L88:$AP88,"病假")+COUNTIF($L89:$AP89,"病假"))*0.5 -> 0 | G88: =(COUNTIF($L88:$AP88,"休假")+COUNTIF($L89:$AP89,"休假"))*0.5 -> 0 | H88: =(COUNTIF($L88:$AP88,"缺勤")+COUNTIF($L89:$AP89,"缺勤"))*0.5 -> 0 | I88: =(COUNTIF($L88:$AP88,"放假")+COUNTIF($L89:$AP89,"放假"))*0.5 -> 0 | J88: =(SUM(L90:AP90))/$AO$2 -> 0 | K88: =IF(A88="","",IF(MOD(ROW(),3)=1,"上午",IF(MOD(ROW(),3)=2,"下午","加班")))
K89: =IF(A88="","",IF(MOD(ROW(),3)=1,"上午",IF(MOD(ROW(),3)=2,"下午","加班")))
K90: =IF(A88="","",IF(MOD(ROW(),3)=1,"上午",IF(MOD(ROW(),3)=2,"下午","加班")))
A91: =IF(B91=0,"",COUNTA($B$3:$B90)) | B91: =INDIRECT("员工信息表!B"&COUNTA($B$3:$B90)+2) -> 0 | D91: =(COUNTIF($L91:$AP91,"出勤")+COUNTIF($L92:$AP92,"出勤"))*0.5 -> 0 | E91: =(COUNTIF($L91:$AP91,"事假")+COUNTIF($L92:$AP92,"事假"))*0.5 -> 0 | F91: =(COUNTIF($L91:$AP91,"病假")+COUNTIF($L92:$AP92,"病假"))*0.5 -> 0 | G91: =(COUNTIF($L91:$AP91,"休假")+COUNTIF($L92:$AP92,"休假"))*0.5 -> 0 | H91: =(COUNTIF($L91:$AP91,"缺勤")+COUNTIF($L92:$AP92,"缺勤"))*0.5 -> 0 | I91: =(COUNTIF($L91:$AP91,"放假")+COUNTIF($L92:$AP92,"放假"))*0.5 -> 0 | J91: =(SUM(L93:AP93))/$AO$2 -> 0 | K91: =IF(A91="","",IF(MOD(ROW(),3)=1,"上午",IF(MOD(ROW(),3)=2,"下午","加班")))
K92: =IF(A91="","",IF(MOD(ROW(),3)=1,"上午",IF(MOD(ROW(),3)=2,"下午","加班")))
K93: =IF(A91="","",IF(MOD(ROW(),3)=1,"上午",IF(MOD(ROW(),3)=2,"下午","加班")))
A94: =IF(B94=0,"",COUNTA($B$3:$B93)) | B94: =INDIRECT("员工信息表!B"&COUNTA($B$3:$B93)+2) -> 0 | D94: =(COUNTIF($L94:$AP94,"出勤")+COUNTIF($L95:$AP95,"出勤"))*0.5 -> 0 | E94: =(COUNTIF($L94:$AP94,"事假")+COUNTIF($L95:$AP95,"事假"))*0.5 -> 0 | F94: =(COUNTIF($L94:$AP94,"病假")+COUNTIF($L95:$AP95,"病假"))*0.5 -> 0 | G94: =(COUNTIF($L94:$AP94,"休假")+COUNTIF($L95:$AP95,"休假"))*0.5 -> 0 | H94: =(COUNTIF($L94:$AP94,"缺勤")+COUNTIF($L95:$AP95,"缺勤"))*0.5 -> 0 | I94: =(COUNTIF($L94:$AP94,"放假")+COUNTIF($L95:$AP95,"放假"))*0.5 -> 0 | J94: =(SUM(L96:AP96))/$AO$2 -> 0 | K94: =IF(A94="","",IF(MOD(ROW(),3)=1,"上午",IF(MOD(ROW(),3)=2,"下午","加班")))
K95: =IF(A94="","",IF(MOD(ROW(),3)=1,"上午",IF(MOD(ROW(),3)=2,"下午","加班")))
K96: =IF(A94="","",IF(MOD(ROW(),3)=1,"上午",IF(MOD(ROW(),3)=2,"下午","加班")))
A97: =IF(B97=0,"",COUNTA($B$3:$B96)) | B97: =INDIRECT("员工信息表!B"&COUNTA($B$3:$B96)+2) -> 0 | D97: =(COUNTIF($L97:$AP97,"出勤")+COUNTIF($L98:$AP98,"出勤"))*0.5 -> 0 | E97: =(COUNTIF($L97:$AP97,"事假")+COUNTIF($L98:$AP98,"事假"))*0.5 -> 0 | F97: =(COUNTIF($L97:$AP97,"病假")+COUNTIF($L98:$AP98,"病假"))*0.5 -> 0 | G97: =(COUNTIF($L97:$AP97,"休假")+COUNTIF($L98:$AP98,"休假"))*0.5 -> 0 | H97: =(COUNTIF($L97:$AP97,"缺勤")+COUNTIF($L98:$AP98,"缺勤"))*0.5 -> 0 | I97: =(COUNTIF($L97:$AP97,"放假")+COUNTIF($L98:$AP98,"放假"))*0.5 -> 0 | J97: =(SUM(L99:AP99))/$AO$2 -> 0 | K97: =IF(A97="","",IF(MOD(ROW(),3)=1,"上午",IF(MOD(ROW(),3)=2,"下午","加班")))
K98: =IF(A97="","",IF(MOD(ROW(),3)=1,"上午",IF(MOD(ROW(),3)=2,"下午","加班")))
K99: =IF(A97="","",IF(MOD(ROW(),3)=1,"上午",IF(MOD(ROW(),3)=2,"下午","加班")))
A100: =IF(B100=0,"",COUNTA($B$3:$B99)) | B100: =INDIRECT("员工信息表!B"&COUNTA($B$3:$B99)+2) -> 0 | D100: =(COUNTIF($L100:$AP100,"出勤")+COUNTIF($L101:$AP101,"出勤"))*0.5 -> 0 | E100: =(COUNTIF($L100:$AP100,"事假")+COUNTIF($L101:$AP101,"事假"))*0.5 -> 0 | F100: =(COUNTIF($L100:$AP100,"病假")+COUNTIF($L101:$AP101,"病假"))*0.5 -> 0 | G100: =(COUNTIF($L100:$AP100,"休假")+COUNTIF($L101:$AP101,"休假"))*0.5 -> 0 | H100: =(COUNTIF($L100:$AP100,"缺勤")+COUNTIF($L101:$AP101,"缺勤"))*0.5 -> 0 | I100: =(COUNTIF($L100:$AP100,"放假")+COUNTIF($L101:$AP101,"放假"))*0.5 -> 0 | J100: =(SUM(L102:AP102))/$AO$2 -> 0 | K100: =IF(A100="","",IF(MOD(ROW(),3)=1,"上午",IF(MOD(ROW(),3)=2,"下午","加班")))
...

Sheet 2月
A1: 考 勤 表
A2: 2022 | C2: 2 | J2: ="本月 "&DAY(DATE(A2,C2+1,1)-1)&" 天" -> 本月 28 天 | AJ2: 输入每天工作小时 | AO2: 7 | AP2: h
A3: 序号 | B3: 姓名 | C3: 应出勤 天数 | D3: 实际出勤 天数 | E3: 事假 天数 | F3: 病假 天数 | G3: 休假 天数 | H3: 缺勤 天数 | I3: 放假 天数 | J3: 加班 天数 | K3: 班次 | L3: =IF(MONTH(DATE($A$2,$C$2,COLUMN(A1)))=$C$2,DATE($A$2,$C$2,COLUMN(A1)),"") -> 44593 | M3: =IF(MONTH(DATE($A$2,$C$2,COLUMN(B1)))=$C$2,DATE($A$2,$C$2,COLUMN(B1)),"") -> 44594 | N3: =IF(MONTH(DATE($A$2,$C$2,COLUMN(C1)))=$C$2,DATE($A$2,$C$2,COLUMN(C1)),"") -> 44595 | O3: =IF(MONTH(DATE($A$2,$C$2,COLUMN(D1)))=$C$2,DATE($A$2,$C$2,COLUMN(D1)),"") -> 44596 | P3: =IF(MONTH(DATE($A$2,$C$2,COLUMN(E1)))=$C$2,DATE($A$2,$C$2,COLUMN(E1)),"") -> 44597 | Q3: =IF(MONTH(DATE($A$2,$C$2,COLUMN(F1)))=$C$2,DATE($A$2,$C$2,COLUMN(F1)),"") -> 44598 | R3: =IF(MONTH(DATE($A$2,$C$2,COLUMN(G1)))=$C$2,DATE($A$2,$C$2,COLUMN(G1)),"") -> 44599 | S3: =IF(MONTH(DATE($A$2,$C$2,COLUMN(H1)))=$C$2,DATE($A$2,$C$2,COLUMN(H1)),"") -> 44600 | ... AP3: =IF(MONTH(DATE($A$2,$C$2,COLUMN(AE1)))=$C$2,DATE($A$2,$C$2,COLUMN(AE1)),"")
A4: =IF(B4=0,"",COUNTA($B$3:$B3)) -> 1 | B4: =INDIRECT("员工信息表!B"&COUNTA($B$3:$B3)+2) -> 苏继兵 | C4: 22 | D4: =(COUNTIF($L4:$AP4,"出勤")+COUNTIF($L5:$AP5,"出勤"))*0.5 -> 2.5 | E4: =(COUNTIF($L4:$AP4,"事假")+COUNTIF($L5:$AP5,"事假"))*0.5 -> 0.5 | F4: =(COUNTIF($L4:$AP4,"病假")+COUNTIF($L5:$AP5,"病假"))*0.5 -> 0.5 | G4: =(COUNTIF($L4:$AP4,"休假")+COUNTIF($L5:$AP5,"休假"))*0.5 -> 0.5 | H4: =(COUNTIF($L4:$AP4,"缺勤")+COUNTIF($L5:$AP5,"缺勤"))*0.5 -> 0.5 | I4: =(COUNTIF($L4:$AP4,"放假")+COUNTIF($L5:$AP5,"放假"))*0.5 -> 0.5 | J4: =(SUM(L6:AP6))/$AO$2 -> 1.2857143 | K4: =IF(A4="","",IF(MOD(ROW(),3)=1,"上午",IF(MOD(ROW(),3)=2,"下午","加班"))) -> 上午 | L4: 出勤 | M4: 出勤 | N4: 出勤 | P4: 休假 | T4: 缺勤 | V4: 放假
K5: =IF(A4="","",IF(MOD(ROW(),3)=1,"上午",IF(MOD(ROW(),3)=2,"下午","加班"))) -> 下午 | L5: 出勤 | M5: 出勤 | O5: 事假 | R5: 病假
K6: =IF(A4="","",IF(MOD(ROW(),3)=1,"上午",IF(MOD(ROW(),3)=2,"下午","加班"))) -> 加班 | L6: 6 | N6: 3
A7: =IF(B7=0,"",COUNTA($B$3:$B6)) -> 2 | B7: =INDIRECT("员工信息表!B"&COUNTA($B$3:$B6)+2) -> 苏继中 | C7: 22 | D7: =(COUNTIF($L7:$AP7,"出勤")+COUNTIF($L8:$AP8,"出勤"))*0.5 -> 2.5 | E7: =(COUNTIF($L7:$AP7,"事假")+COUNTIF($L8:$AP8,"事假"))*0.5 -> 0.5 | F7: =(COUNTIF($L7:$AP7,"病假")+COUNTIF($L8:$AP8,"病假"))*0.5 -> 0.5 | G7: =(COUNTIF($L7:$AP7,"休假")+COUNTIF($L8:$AP8,"休假"))*0.5 -> 0.5 | H7: =(COUNTIF($L7:$AP7,"缺勤")+COUNTIF($L8:$AP8,"缺勤"))*0.5 -> 0.5 | I7: =(COUNTIF($L7:$AP7,"放假")+COUNTIF($L8:$AP8,"放假"))*0.5 -> 0.5 | J7: =(SUM(L9:AP9))/$AO$2 -> 1.5714286 | K7: =IF(A7="","",IF(MOD(ROW(),3)=1,"上午",IF(MOD(ROW(),3)=2,"下午","加班"))) -> 上午 | L7: 出勤 | M7: 出勤 | N7: 出勤 | P7: 休假 | T7: 缺勤 | V7: 放假
K8: =IF(A7="","",IF(MOD(ROW(),3)=1,"上午",IF(MOD(ROW(),3)=2,"下午","加班"))) -> 下午 | L8: 出勤 | M8: 出勤 | O8: 事假 | R8: 病假
K9: =IF(A7="","",IF(MOD(ROW(),3)=1,"上午",IF(MOD(ROW(),3)=2,"下午","加班"))) -> 加班 | L9: 7 | N9: 4
A10: =IF(B10=0,"",COUNTA($B$3:$B9)) -> 3 | B10: =INDIRECT("员工信息表!B"&COUNTA($B$3:$B9)+2) -> 刘毅 | C10: 22 | D10: =(COUNTIF($L10:$AP10,"出勤")+COUNTIF($L11:$AP11,"出勤"))*0.5 -> 2.5 | E10: =(COUNTIF($L10:$AP10,"事假")+COUNTIF($L11:$AP11,"事假"))*0.5 -> 0.5 | F10: =(COUNTIF($L10:$AP10,"病假")+COUNTIF($L11:$AP11,"病假"))*0.5 -> 0.5 | G10: =(COUNTIF($L10:$AP10,"休假")+COUNTIF($L11:$AP11,"休假"))*0.5 -> 0.5 | H10: =(COUNTIF($L10:$AP10,"缺勤")+COUNTIF($L11:$AP11,"缺勤"))*0.5 -> 0.5 | I10: =(COUNTIF($L10:$AP10,"放假")+COUNTIF($L11:$AP11,"放假"))*0.5 -> 0.5 | J10: =(SUM(L12:AP12))/$AO$2 -> 1.8571429 | K10: =IF(A10="","",IF(MOD(ROW(),3)=1,"上午",IF(MOD(ROW(),3)=2,"下午","加班"))) -> 上午 | L10: 出勤 | M10: 出勤 | N10: 出勤 | P10: 休假 | T10: 缺勤 | V10: 放假
K11: =IF(A10="","",IF(MOD(ROW(),3)=1,"上午",IF(MOD(ROW(),3)=2,"下午","加班"))) -> 下午 | L11: 出勤 | M11: 出勤 | O11: 事假 | R11: 病假
K12: =IF(A10="","",IF(MOD(ROW(),3)=1,"上午",IF(MOD(ROW(),3)=2,"下午","加班"))) -> 加班 | L12: 8 | N12: 5
A13: =IF(B13=0,"",COUNTA($B$3:$B12)) -> 4 | B13: =INDIRECT("员工信息表!B"&COUNTA($B$3:$B12)+2) -> 伍亦中 | C13: 22 | D13: =(COUNTIF($L13:$AP13,"出勤")+COUNTIF($L14:$AP14,"出勤"))*0.5 -> 2.5 | E13: =(COUNTIF($L13:$AP13,"事假")+COUNTIF($L14:$AP14,"事假"))*0.5 -> 0.5 | F13: =(COUNTIF($L13:$AP13,"病假")+COUNTIF($L14:$AP14,"病假"))*0.5 -> 0.5 | G13: =(COUNTIF($L13:$AP13,"休假")+COUNTIF($L14:$AP14,"休假"))*0.5 -> 0.5 | H13: =(COUNTIF($L13:$AP13,"缺勤")+COUNTIF($L14:$AP14,"缺勤"))*0.5 -> 0.5 | I13: =(COUNTIF($L13:$AP13,"放假")+COUNTIF($L14:$AP14,"放假"))*0.5 -> 0.5 | J13: =(SUM(L15:AP15))/$AO$2 -> 2.1428571 | K13: =IF(A13="","",IF(MOD(ROW(),3)=1,"上午",IF(MOD(ROW(),3)=2,"下午","加班"))) -> 上午 | L13: 出勤 | M13: 出勤 | N13: 出勤 | P13: 休假 | T13: 缺勤 | V13: 放假
K14: =IF(A13="","",IF(MOD(ROW(),3)=1,"上午",IF(MOD(ROW(),3)=2,"下午","加班"))) -> 下午 | L14: 出勤 | M14: 出勤 | O14: 事假 | R14: 病假
K15: =IF(A13="","",IF(MOD(ROW(),3)=1,"上午",IF(MOD(ROW(),3)=2,"下午","加班"))) -> 加班 | L15: 9 | N15: 6
A16: =IF(B16=0,"",COUNTA($B$3:$B15)) -> 5 | B16: =INDIRECT("员工信息表!B"&COUNTA($B$3:$B15)+2) -> 苏绿华 | C16: 22 | D16: =(COUNTIF($L16:$AP16,"出勤")+COUNTIF($L17:$AP17,"出勤"))*0.5 -> 2.5 | E16: =(COUNTIF($L16:$AP16,"事假")+COUNTIF($L17:$AP17,"事假"))*0.5 -> 0.5 | F16: =(COUNTIF($L16:$AP16,"病假")+COUNTIF($L17:$AP17,"病假"))*0.5 -> 0.5 | G16: =(COUNTIF($L16:$AP16,"休假")+COUNTIF($L17:$AP17,"休假"))*0.5 -> 0.5 | H16: =(COUNTIF($L16:$AP16,"缺勤")+COUNTIF($L17:$AP17,"缺勤"))*0.5 -> 0.5 | I16: =(COUNTIF($L16:$AP16,"放假")+COUNTIF($L17:$AP17,"放假"))*0.5 -> 0.5 | J16: =(SUM(L18:AP18))/$AO$2 -> 2.4285714 | K16: =IF(A16="","",IF(MOD(ROW(),3)=1,"上午",IF(MOD(ROW(),3)=2,"下午","加班"))) -> 上午 | L16: 出勤 | M16: 出勤 | N16: 出勤 | P16: 休假 | T16: 缺勤 | V16: 放假
K17: =IF(A16="","",IF(MOD(ROW(),3)=1,"上午",IF(MOD(ROW(),3)=2,"下午","加班"))) -> 下午 | L17: 出勤 | M17: 出勤 | O17: 事假 | R17: 病假
K18: =IF(A16="","",IF(MOD(ROW(),3)=1,"上午",IF(MOD(ROW(),3)=2,"下午","加班"))) -> 加班 | L18: 10 | N18: 7
A19: =IF(B19=0,"",COUNTA($B$3:$B18)) -> 6 | B19: =INDIRECT("员工信息表!B"&COUNTA($B$3:$B18)+2) -> 王升祥 | C19: 22 | D19: =(COUNTIF($L19:$AP19,"出勤")+COUNTIF($L20:$AP20,"出勤"))*0.5 -> 2.5 | E19: =(COUNTIF($L19:$AP19,"事假")+COUNTIF($L20:$AP20,"事假"))*0.5 -> 0.5 | F19: =(COUNTIF($L19:$AP19,"病假")+COUNTIF($L20:$AP20,"病假"))*0.5 -> 0.5 | G19: =(COUNTIF($L19:$AP19,"休假")+COUNTIF($L20:$AP20,"休假"))*0.5 -> 0.5 | H19: =(COUNTIF($L19:$AP19,"缺勤")+COUNTIF($L20:$AP20,"缺勤"))*0.5 -> 0.5 | I19: =(COUNTIF($L19:$AP19,"放假")+COUNTIF($L20:$AP20,"放假"))*0.5 -> 0.5 | J19: =(SUM(L21:AP21))/$AO$2 -> 2.7142857 | K19: =IF(A19="","",IF(MOD(ROW(),3)=1,"上午",IF(MOD(ROW(),3)=2,"下午","加班"))) -> 上午 | L19: 出勤 | M19: 出勤 | N19: 出勤 | P19: 休假 | T19: 缺勤 | V19: 放假
K20: =IF(A19="","",IF(MOD(ROW(),3)=1,"上午",IF(MOD(ROW(),3)=2,"下午","加班"))) -> 下午 | L20: 出勤 | M20: 出勤 | O20: 事假 | R20: 病假
K21: =IF(A19="","",IF(MOD(ROW(),3)=1,"上午",IF(MOD(ROW(),3)=2,"下午","加班"))) -> 加班 | L21: 11 | N21: 8
A22: =IF(B22=0,"",COUNTA($B$3:$B21)) -> 7 | B22: =INDIRECT("员工信息表!B"&COUNTA($B$3:$B21)+2) -> 刘让铁 | C22: 22 | D22: =(COUNTIF($L22:$AP22,"出勤")+COUNTIF($L23:$AP23,"出勤"))*0.5 -> 2.5 | E22: =(COUNTIF($L22:$AP22,"事假")+COUNTIF($L23:$AP23,"事假"))*0.5 -> 0.5 | F22: =(COUNTIF($L22:$AP22,"病假")+COUNTIF($L23:$AP23,"病假"))*0.5 -> 0.5 | G22: =(COUNTIF($L22:$AP22,"休假")+COUNTIF($L23:$AP23,"休假"))*0.5 -> 0.5 | H22: =(COUNTIF($L22:$AP22,"缺勤")+COUNTIF($L23:$AP23,"缺勤"))*0.5 -> 0.5 | I22: =(COUNTIF($L22:$AP22,"放假")+COUNTIF($L23:$AP23,"放假"))*0.5 -> 0.5 | J22: =(SUM(L24:AP24))/$AO$2 -> 3 | K22: =IF(A22="","",IF(MOD(ROW(),3)=1,"上午",IF(MOD(ROW(),3)=2,"下午","加班"))) -> 上午 | L22: 出勤 | M22: 出勤 | N22: 出勤 | P22: 休假 | T22: 缺勤 | V22: 放假
K23: =IF(A22="","",IF(MOD(ROW(),3)=1,"上午",IF(MOD(ROW(),3)=2,"下午","加班"))) -> 下午 | L23: 出勤 | M23: 出勤 | O23: 事假 | R23: 病假
K24: =IF(A22="","",IF(MOD(ROW(),3)=1,"上午",IF(MOD(ROW(),3)=2,"下午","加班"))) -> 加班 | L24: 12 | N24: 9
A25: =IF(B25=0,"",COUNTA($B$3:$B24)) -> 8 | B25: =INDIRECT("员工信息表!B"&COUNTA($B$3:$B24)+2) -> 颜运回 | C25: 22 | D25: =(COUNTIF($L25:$AP25,"出勤")+COUNTIF($L26:$AP26,"出勤"))*0.5 -> 2.5 | E25: =(COUNTIF($L25:$AP25,"事假")+COUNTIF($L26:$AP26,"事假"))*0.5 -> 0.5 | F25: =(COUNTIF($L25:$AP25,"病假")+COUNTIF($L26:$AP26,"病假"))*0.5 -> 0.5 | G25: =(COUNTIF($L25:$AP25,"休假")+COUNTIF($L26:$AP26,"休假"))*0.5 -> 0.5 | H25: =(COUNTIF($L25:$AP25,"缺勤")+COUNTIF($L26:$AP26,"缺勤"))*0.5 -> 0.5 | I25: =(COUNTIF($L25:$AP25,"放假")+COUNTIF($L26:$AP26,"放假"))*0.5 -> 0.5 | J25: =(SUM(L27:AP27))/$AO$2 -> 3.2857143 | K25: =IF(A25="","",IF(MOD(ROW(),3)=1,"上午",IF(MOD(ROW(),3)=2,"下午","加班"))) -> 上午 | L25: 出勤 | M25: 出勤 | N25: 出勤 | P25: 休假 | T25: 缺勤 | V25: 放假
K26: =IF(A25="","",IF(MOD(ROW(),3)=1,"上午",IF(MOD(ROW(),3)=2,"下午","加班"))) -> 下午 | L26: 出勤 | M26: 出勤 | O26: 事假 | R26: 病假
K27: =IF(A25="","",IF(MOD(ROW(),3)=1,"上午",IF(MOD(ROW(),3)=2,"下午","加班"))) -> 加班 | L27: 13 | N27: 10
A28: =IF(B28=0,"",COUNTA($B$3:$B27)) -> 9 | B28: =INDIRECT("员工信息表!B"&COUNTA($B$3:$B27)+2) -> 尹小平 | C28: 22 | D28: =(COUNTIF($L28:$AP28,"出勤")+COUNTIF($L29:$AP29,"出勤"))*0.5 -> 2.5 | E28: =(COUNTIF($L28:$AP28,"事假")+COUNTIF($L29:$AP29,"事假"))*0.5 -> 0.5 | F28: =(COUNTIF($L28:$AP28,"病假")+COUNTIF($L29:$AP29,"病假"))*0.5 -> 0.5 | G28: =(COUNTIF($L28:$AP28,"休假")+COUNTIF($L29:$AP29,"休假"))*0.5 -> 0.5 | H28: =(COUNTIF($L28:$AP28,"缺勤")+COUNTIF($L29:$AP29,"缺勤"))*0.5 -> 0.5 | I28: =(COUNTIF($L28:$AP28,"放假")+COUNTIF($L29:$AP29,"放假"))*0.5 -> 0.5 | J28: =(SUM(L30:AP30))/$AO$2 -> 3.5714286 | K28: =IF(A28="","",IF(MOD(ROW(),3)=1,"上午",IF(MOD(ROW(),3)=2,"下午","加班"))) -> 上午 | L28: 出勤 | M28: 出勤 | N28: 出勤 | P28: 休假 | T28: 缺勤 | V28: 放假
K29: =IF(A28="","",IF(MOD(ROW(),3)=1,"上午",IF(MOD(ROW(),3)=2,"下午","加班"))) -> 下午 | L29: 出勤 | M29: 出勤 | O29: 事假 | R29: 病假
K30: =IF(A28="","",IF(MOD(ROW(),3)=1,"上午",IF(MOD(ROW(),3)=2,"下午","加班"))) -> 加班 | L30: 14 | N30: 11
A31: =IF(B31=0,"",COUNTA($B$3:$B30)) -> 10 | B31: =INDIRECT("员工信息表!B"&COUNTA($B$3:$B30)+2) -> 颜建美 | C31: 22 | D31: =(COUNTIF($L31:$AP31,"出勤")+COUNTIF($L32:$AP32,"出勤"))*0.5 -> 2.5 | E31: =(COUNTIF($L31:$AP31,"事假")+COUNTIF($L32:$AP32,"事假"))*0.5 -> 0.5 | F31: =(COUNTIF($L31:$AP31,"病假")+COUNTIF($L32:$AP32,"病假"))*0.5 -> 0.5 | G31: =(COUNTIF($L31:$AP31,"休假")+COUNTIF($L32:$AP32,"休假"))*0.5 -> 0.5 | H31: =(COUNTIF($L31:$AP31,"缺勤")+COUNTIF($L32:$AP32,"缺勤"))*0.5 -> 0.5 | I31: =(COUNTIF($L31:$AP31,"放假")+COUNTIF($L32:$AP32,"放假"))*0.5 -> 0.5 | J31: =(SUM(L33:AP33))/$AO$2 -> 3.8571429 | K31: =IF(A31="","",IF(MOD(ROW(),3)=1,"上午",IF(MOD(ROW(),3)=2,"下午","加班"))) -> 上午 | L31: 出勤 | M31: 出勤 | N31: 出勤 | P31: 休假 | T31: 缺勤 | V31: 放假
K32: =IF(A31="","",IF(MOD(ROW(),3)=1,"上午",IF(MOD(ROW(),3)=2,"下午","加班"))) -> 下午 | L32: 出勤 | M32: 出勤 | O32: 事假 | R32: 病假
K33: =IF(A31="","",IF(MOD(ROW(),3)=1,"上午",IF(MOD(ROW(),3)=2,"下午","加班"))) -> 加班 | L33: 15 | N33: 12
A34: =IF(B34=0,"",COUNTA($B$3:$B33)) -> 11 | B34: =INDIRECT("员工信息表!B"&COUNTA($B$3:$B33)+2) -> 尹乔丽 | C34: 22 | D34: =(COUNTIF($L34:$AP34,"出勤")+COUNTIF($L35:$AP35,"出勤"))*0.5 -> 2.5 | E34: =(COUNTIF($L34:$AP34,"事假")+COUNTIF($L35:$AP35,"事假"))*0.5 -> 0.5 | F34: =(COUNTIF($L34:$AP34,"病假")+COUNTIF($L35:$AP35,"病假"))*0.5 -> 0.5 | G34: =(COUNTIF($L34:$AP34,"休假")+COUNTIF($L35:$AP35,"休假"))*0.5 -> 0.5 | H34: =(COUNTIF($L34:$AP34,"缺勤")+COUNTIF($L35:$AP35,"缺勤"))*0.5 -> 0.5 | I34: =(COUNTIF($L34:$AP34,"放假")+COUNTIF($L35:$AP35,"放假"))*0.5 -> 0.5 | J34: =(SUM(L36:AP36))/$AO$2 -> 4.1428571 | K34: =IF(A34="","",IF(MOD(ROW(),3)=1,"上午",IF(MOD(ROW(),3)=2,"下午","加班"))) -> 上午 | L34: 出勤 | M34: 出勤 | N34: 出勤 | P34: 休假 | T34: 缺勤 | V34: 放假
K35: =IF(A34="","",IF(MOD(ROW(),3)=1,"上午",IF(MOD(ROW(),3)=2,"下午","加班"))) -> 下午 | L35: 出勤 | M35: 出勤 | O35: 事假 | R35: 病假
K36: =IF(A34="","",IF(MOD(ROW(),3)=1,"上午",IF(MOD(ROW(),3)=2,"下午","加班"))) -> 加班 | L36: 16 | N36: 13
A37: =IF(B37=0,"",COUNTA($B$3:$B36)) | B37: =INDIRECT("员工信息表!B"&COUNTA($B$3:$B36)+2) -> 0 | D37: =(COUNTIF($L37:$AP37,"出勤")+COUNTIF($L38:$AP38,"出勤"))*0.5 -> 0 | E37: =(COUNTIF($L37:$AP37,"事假")+COUNTIF($L38:$AP38,"事假"))*0.5 -> 0 | F37: =(COUNTIF($L37:$AP37,"病假")+COUNTIF($L38:$AP38,"病假"))*0.5 -> 0 | G37: =(COUNTIF($L37:$AP37,"休假")+COUNTIF($L38:$AP38,"休假"))*0.5 -> 0 | H37: =(COUNTIF($L37:$AP37,"缺勤")+COUNTIF($L38:$AP38,"缺勤"))*0.5 -> 0 | I37: =(COUNTIF($L37:$AP37,"放假")+COUNTIF($L38:$AP38,"放假"))*0.5 -> 0 | J37: =(SUM(L39:AP39))/$AO$2 -> 0 | K37: =IF(A37="","",IF(MOD(ROW(),3)=1,"上午",IF(MOD(ROW(),3)=2,"下午","加班")))
K38: =IF(A37="","",IF(MOD(ROW(),3)=1,"上午",IF(MOD(ROW(),3)=2,"下午","加班")))
K39: =IF(A37="","",IF(MOD(ROW(),3)=1,"上午",IF(MOD(ROW(),3)=2,"下午","加班")))
A40: =IF(B40=0,"",COUNTA($B$3:$B39)) | B40: =INDIRECT("员工信息表!B"&COUNTA($B$3:$B39)+2) -> 0 | D40: =(COUNTIF($L40:$AP40,"出勤")+COUNTIF($L41:$AP41,"出勤"))*0.5 -> 0 | E40: =(COUNTIF($L40:$AP40,"事假")+COUNTIF($L41:$AP41,"事假"))*0.5 -> 0 | F40: =(COUNTIF($L40:$AP40,"病假")+COUNTIF($L41:$AP41,"病假"))*0.5 -> 0 | G40: =(COUNTIF($L40:$AP40,"休假")+COUNTIF($L41:$AP41,"休假"))*0.5 -> 0 | H40: =(COUNTIF($L40:$AP40,"缺勤")+COUNTIF($L41:$AP41,"缺勤"))*0.5 -> 0 | I40: =(COUNTIF($L40:$AP40,"放假")+COUNTIF($L41:$AP41,"放假"))*0.5 -> 0 | J40: =(SUM(L42:AP42))/$AO$2 -> 0 | K40: =IF(A40="","",IF(MOD(ROW(),3)=1,"上午",IF(MOD(ROW(),3)=2,"下午","加班")))
K41: =IF(A40="","",IF(MOD(ROW(),3)=1,"上午",IF(MOD(ROW(),3)=2,"下午","加班")))
K42: =IF(A40="","",IF(MOD(ROW(),3)=1,"上午",IF(MOD(ROW(),3)=2,"下午","加班")))
A43: =IF(B43=0,"",COUNTA($B$3:$B42)) | B43: =INDIRECT("员工信息表!B"&COUNTA($B$3:$B42)+2) -> 0 | D43: =(COUNTIF($L43:$AP43,"出勤")+COUNTIF($L44:$AP44,"出勤"))*0.5 -> 0 | E43: =(COUNTIF($L43:$AP43,"事假")+COUNTIF($L44:$AP44,"事假"))*0.5 -> 0 | F43: =(COUNTIF($L43:$AP43,"病假")+COUNTIF($L44:$AP44,"病假"))*0.5 -> 0 | G43: =(COUNTIF($L43:$AP43,"休假")+COUNTIF($L44:$AP44,"休假"))*0.5 -> 0 | H43: =(COUNTIF($L43:$AP43,"缺勤")+COUNTIF($L44:$AP44,"缺勤"))*0.5 -> 0 | I43: =(COUNTIF($L43:$AP43,"放假")+COUNTIF($L44:$AP44,"放假"))*0.5 -> 0 | J43: =(SUM(L45:AP45))/$AO$2 -> 0 | K43: =IF(A43="","",IF(MOD(ROW(),3)=1,"上午",IF(MOD(ROW(),3)=2,"下午","加班")))
K44: =IF(A43="","",IF(MOD(ROW(),3)=1,"上午",IF(MOD(ROW(),3)=2,"下午","加班")))
K45: =IF(A43="","",IF(MOD(ROW(),3)=1,"上午",IF(MOD(ROW(),3)=2,"下午","加班")))
A46: =IF(B46=0,"",COUNTA($B$3:$B45)) | B46: =INDIRECT("员工信息表!B"&COUNTA($B$3:$B45)+2) -> 0 | D46: =(COUNTIF($L46:$AP46,"出勤")+COUNTIF($L47:$AP47,"出勤"))*0.5 -> 0 | E46: =(COUNTIF($L46:$AP46,"事假")+COUNTIF($L47:$AP47,"事假"))*0.5 -> 0 | F46: =(COUNTIF($L46:$AP46,"病假")+COUNTIF($L47:$AP47,"病假"))*0.5 -> 0 | G46: =(COUNTIF($L46:$AP46,"休假")+COUNTIF($L47:$AP47,"休假"))*0.5 -> 0 | H46: =(COUNTIF($L46:$AP46,"缺勤")+COUNTIF($L47:$AP47,"缺勤"))*0.5 -> 0 | I46: =(COUNTIF($L46:$AP46,"放假")+COUNTIF($L47:$AP47,"放假"))*0.5 -> 0 | J46: =(SUM(L48:AP48))/$AO$2 -> 0 | K46: =IF(A46="","",IF(MOD(ROW(),3)=1,"上午",IF(MOD(ROW(),3)=2,"下午","加班")))
K47: =IF(A46="","",IF(MOD(ROW(),3)=1,"上午",IF(MOD(ROW(),3)=2,"下午","加班")))
K48: =IF(A46="","",IF(MOD(ROW(),3)=1,"上午",IF(MOD(ROW(),3)=2,"下午","加班")))
A49: =IF(B49=0,"",COUNTA($B$3:$B48)) | B49: =INDIRECT("员工信息表!B"&COUNTA($B$3:$B48)+2) -> 0 | D49: =(COUNTIF($L49:$AP49,"出勤")+COUNTIF($L50:$AP50,"出勤"))*0.5 -> 0 | E49: =(COUNTIF($L49:$AP49,"事假")+COUNTIF($L50:$AP50,"事假"))*0.5 -> 0 | F49: =(COUNTIF($L49:$AP49,"病假")+COUNTIF($L50:$AP50,"病假"))*0.5 -> 0 | G49: =(COUNTIF($L49:$AP49,"休假")+COUNTIF($L50:$AP50,"休假"))*0.5 -> 0 | H49: =(COUNTIF($L49:$AP49,"缺勤")+COUNTIF($L50:$AP50,"缺勤"))*0.5 -> 0 | I49: =(COUNTIF($L49:$AP49,"放假")+COUNTIF($L50:$AP50,"放假"))*0.5 -> 0 | J49: =(SUM(L51:AP51))/$AO$2 -> 0 | K49: =IF(A49="","",IF(MOD(ROW(),3)=1,"上午",IF(MOD(ROW(),3)=2,"下午","加班")))
K50: =IF(A49="","",IF(MOD(ROW(),3)=1,"上午",IF(MOD(ROW(),3)=2,"下午","加班")))
K51: =IF(A49="","",IF(MOD(ROW(),3)=1,"上午",IF(MOD(ROW(),3)=2,"下午","加班")))
A52: =IF(B52=0,"",COUNTA($B$3:$B51)) | B52: =INDIRECT("员工信息表!B"&COUNTA($B$3:$B51)+2) -> 0 | D52: =(COUNTIF($L52:$AP52,"出勤")+COUNTIF($L53:$AP53,"出勤"))*0.5 -> 0 | E52: =(COUNTIF($L52:$AP52,"事假")+COUNTIF($L53:$AP53,"事假"))*0.5 -> 0 | F52: =(COUNTIF($L52:$AP52,"病假")+COUNTIF($L53:$AP53,"病假"))*0.5 -> 0 | G52: =(COUNTIF($L52:$AP52,"休假")+COUNTIF($L53:$AP53,"休假"))*0.5 -> 0 | H52: =(COUNTIF($L52:$AP52,"缺勤")+COUNTIF($L53:$AP53,"缺勤"))*0.5 -> 0 | I52: =(COUNTIF($L52:$AP52,"放假")+COUNTIF($L53:$AP53,"放假"))*0.5 -> 0 | J52: =(SUM(L54:AP54))/$AO$2 -> 0 | K52: =IF(A52="","",IF(MOD(ROW(),3)=1,"上午",IF(MOD(ROW(),3)=2,"下午","加班")))
K53: =IF(A52="","",IF(MOD(ROW(),3)=1,"上午",IF(MOD(ROW(),3)=2,"下午","加班")))
K54: =IF(A52="","",IF(MOD(ROW(),3)=1,"上午",IF(MOD(ROW(),3)=2,"下午","加班")))
A55: =IF(B55=0,"",COUNTA($B$3:$B54)) | B55: =INDIRECT("员工信息表!B"&COUNTA($B$3:$B54)+2) -> 0 | D55: =(COUNTIF($L55:$AP55,"出勤")+COUNTIF($L56:$AP56,"出勤"))*0.5 -> 0 | E55: =(COUNTIF($L55:$AP55,"事假")+COUNTIF($L56:$AP56,"事假"))*0.5 -> 0 | F55: =(COUNTIF($L55:$AP55,"病假")+COUNTIF($L56:$AP56,"病假"))*0.5 -> 0 | G55: =(COUNTIF($L55:$AP55,"休假")+COUNTIF($L56:$AP56,"休假"))*0.5 -> 0 | H55: =(COUNTIF($L55:$AP55,"缺勤")+COUNTIF($L56:$AP56,"缺勤"))*0.5 -> 0 | I55: =(COUNTIF($L55:$AP55,"放假")+COUNTIF($L56:$AP56,"放假"))*0.5 -> 0 | J55: =(SUM(L57:AP57))/$AO$2 -> 0 | K55: =IF(A55="","",IF(MOD(ROW(),3)=1,"上午",IF(MOD(ROW(),3)=2,"下午","加班")))
K56: =IF(A55="","",IF(MOD(ROW(),3)=1,"上午",IF(MOD(ROW(),3)=2,"下午","加班")))
K57: =IF(A55="","",IF(MOD(ROW(),3)=1,"上午",IF(MOD(ROW(),3)=2,"下午","加班")))
A58: =IF(B58=0,"",COUNTA($B$3:$B57)) | B58: =INDIRECT("员工信息表!B"&COUNTA($B$3:$B57)+2) -> 0 | D58: =(COUNTIF($L58:$AP58,"出勤")+COUNTIF($L59:$AP59,"出勤"))*0.5 -> 0 | E58: =(COUNTIF($L58:$AP58,"事假")+COUNTIF($L59:$AP59,"事假"))*0.5 -> 0 | F58: =(COUNTIF($L58:$AP58,"病假")+COUNTIF($L59:$AP59,"病假"))*0.5 -> 0 | G58: =(COUNTIF($L58:$AP58,"休假")+COUNTIF($L59:$AP59,"休假"))*0.5 -> 0 | H58: =(COUNTIF($L58:$AP58,"缺勤")+COUNTIF($L59:$AP59,"缺勤"))*0.5 -> 0 | I58: =(COUNTIF($L58:$AP58,"放假")+COUNTIF($L59:$AP59,"放假"))*0.5 -> 0 | J58: =(SUM(L60:AP60))/$AO$2 -> 0 | K58: =IF(A58="","",IF(MOD(ROW(),3)=1,"上午",IF(MOD(ROW(),3)=2,"下午","加班")))
K59: =IF(A58="","",IF(MOD(ROW(),3)=1,"上午",IF(MOD(ROW(),3)=2,"下午","加班")))
K60: =IF(A58="","",IF(MOD(ROW(),3)=1,"上午",IF(MOD(ROW(),3)=2,"下午","加班")))
A61: =IF(B61=0,"",COUNTA($B$3:$B60)) | B61: =INDIRECT("员工信息表!B"&COUNTA($B$3:$B60)+2) -> 0 | D61: =(COUNTIF($L61:$AP61,"出勤")+COUNTIF($L62:$AP62,"出勤"))*0.5 -> 0 | E61: =(COUNTIF($L61:$AP61,"事假")+COUNTIF($L62:$AP62,"事假"))*0.5 -> 0 | F61: =(COUNTIF($L61:$AP61,"病假")+COUNTIF($L62:$AP62,"病假"))*0.5 -> 0 | G61: =(COUNTIF($L61:$AP61,"休假")+COUNTIF($L62:$AP62,"休假"))*0.5 -> 0 | H61: =(COUNTIF($L61:$AP61,"缺勤")+COUNTIF($L62:$AP62,"缺勤"))*0.5 -> 0 | I61: =(COUNTIF($L61:$AP61,"放假")+COUNTIF($L62:$AP62,"放假"))*0.5 -> 0 | J61: =(SUM(L63:AP63))/$AO$2 -> 0 | K61: =IF(A61="","",IF(MOD(ROW(),3)=1,"上午",IF(MOD(ROW(),3)=2,"下午","加班")))
K62: =IF(A61="","",IF(MOD(ROW(),3)=1,"上午",IF(MOD(ROW(),3)=2,"下午","加班")))
K63: =IF(A61="","",IF(MOD(ROW(),3)=1,"上午",IF(MOD(ROW(),3)=2,"下午","加班")))
A64: =IF(B64=0,"",COUNTA($B$3:$B63)) | B64: =INDIRECT("员工信息表!B"&COUNTA($B$3:$B63)+2) -> 0 | D64: =(COUNTIF($L64:$AP64,"出勤")+COUNTIF($L65:$AP65,"出勤"))*0.5 -> 0 | E64: =(COUNTIF($L64:$AP64,"事假")+COUNTIF($L65:$AP65,"事假"))*0.5 -> 0 | F64: =(COUNTIF($L64:$AP64,"病假")+COUNTIF($L65:$AP65,"病假"))*0.5 -> 0 | G64: =(COUNTIF($L64:$AP64,"休假")+COUNTIF($L65:$AP65,"休假"))*0.5 -> 0 | H64: =(COUNTIF($L64:$AP64,"缺勤")+COUNTIF($L65:$AP65,"缺勤"))*0.5 -> 0 | I64: =(COUNTIF($L64:$AP64,"放假")+COUNTIF($L65:$AP65,"放假"))*0.5 -> 0 | J64: =(SUM(L66:AP66))/$AO$2 -> 0 | K64: =IF(A64="","",IF(MOD(ROW(),3)=1,"上午",IF(MOD(ROW(),3)=2,"下午","加班")))
K65: =IF(A64="","",IF(MOD(ROW(),3)=1,"上午",IF(MOD(ROW(),3)=2,"下午","加班")))
K66: =IF(A64="","",IF(MOD(ROW(),3)=1,"上午",IF(MOD(ROW(),3)=2,"下午","加班")))
A67: =IF(B67=0,"",COUNTA($B$3:$B66)) | B67: =INDIRECT("员工信息表!B"&COUNTA($B$3:$B66)+2) -> 0 | D67: =(COUNTIF($L67:$AP67,"出勤")+COUNTIF($L68:$AP68,"出勤"))*0.5 -> 0 | E67: =(COUNTIF($L67:$AP67,"事假")+COUNTIF($L68:$AP68,"事假"))*0.5 -> 0 | F67: =(COUNTIF($L67:$AP67,"病假")+COUNTIF($L68:$AP68,"病假"))*0.5 -> 0 | G67: =(COUNTIF($L67:$AP67,"休假")+COUNTIF($L68:$AP68,"休假"))*0.5 -> 0 | H67: =(COUNTIF($L67:$AP67,"缺勤")+COUNTIF($L68:$AP68,"缺勤"))*0.5 -> 0 | I67: =(COUNTIF($L67:$AP67,"放假")+COUNTIF($L68:$AP68,"放假"))*0.5 -> 0 | J67: =(SUM(L69:AP69))/$AO$2 -> 0 | K67: =IF(A67="","",IF(MOD(ROW(),3)=1,"上午",IF(MOD(ROW(),3)=2,"下午","加班")))
K68: =IF(A67="","",IF(MOD(ROW(),3)=1,"上午",IF(MOD(ROW(),3)=2,"下午","加班")))
K69: =IF(A67="","",IF(MOD(ROW(),3)=1,"上午",IF(MOD(ROW(),3)=2,"下午","加班")))
A70: =IF(B70=0,"",COUNTA($B$3:$B69)) | B70: =INDIRECT("员工信息表!B"&COUNTA($B$3:$B69)+2) -> 0 | D70: =(COUNTIF($L70:$AP70,"出勤")+COUNTIF($L71:$AP71,"出勤"))*0.5 -> 0 | E70: =(COUNTIF($L70:$AP70,"事假")+COUNTIF($L71:$AP71,"事假"))*0.5 -> 0 | F70: =(COUNTIF($L70:$AP70,"病假")+COUNTIF($L71:$AP71,"病假"))*0.5 -> 0 | G70: =(COUNTIF($L70:$AP70,"休假")+COUNTIF($L71:$AP71,"休假"))*0.5 -> 0 | H70: =(COUNTIF($L70:$AP70,"缺勤")+COUNTIF($L71:$AP71,"缺勤"))*0.5 -> 0 | I70: =(COUNTIF($L70:$AP70,"放假")+COUNTIF($L71:$AP71,"放假"))*0.5 -> 0 | J70: =(SUM(L72:AP72))/$AO$2 -> 0 | K70: =IF(A70="","",IF(MOD(ROW(),3)=1,"上午",IF(MOD(ROW(),3)=2,"下午","加班")))
K71: =IF(A70="","",IF(MOD(ROW(),3)=1,"上午",IF(MOD(ROW(),3)=2,"下午","加班")))
K72: =IF(A70="","",IF(MOD(ROW(),3)=1,"上午",IF(MOD(ROW(),3)=2,"下午","加班")))
A73: =IF(B73=0,"",COUNTA($B$3:$B72)) | B73: =INDIRECT("员工信息表!B"&COUNTA($B$3:$B72)+2) -> 0 | D73: =(COUNTIF($L73:$AP73,"出勤")+COUNTIF($L74:$AP74,"出勤"))*0.5 -> 0 | E73: =(COUNTIF($L73:$AP73,"事假")+COUNTIF($L74:$AP74,"事假"))*0.5 -> 0 | F73: =(COUNTIF($L73:$AP73,"病假")+COUNTIF($L74:$AP74,"病假"))*0.5 -> 0 | G73: =(COUNTIF($L73:$AP73,"休假")+COUNTIF($L74:$AP74,"休假"))*0.5 -> 0 | H73: =(COUNTIF($L73:$AP73,"缺勤")+COUNTIF($L74:$AP74,"缺勤"))*0.5 -> 0 | I73: =(COUNTIF($L73:$AP73,"放假")+COUNTIF($L74:$AP74,"放假"))*0.5 -> 0 | J73: =(SUM(L75:AP75))/$AO$2 -> 0 | K73: =IF(A73="","",IF(MOD(ROW(),3)=1,"上午",IF(MOD(ROW(),3)=2,"下午","加班")))
K74: =IF(A73="","",IF(MOD(ROW(),3)=1,"上午",IF(MOD(ROW(),3)=2,"下午","加班")))
K75: =IF(A73="","",IF(MOD(ROW(),3)=1,"上午",IF(MOD(ROW(),3)=2,"下午","加班")))
A76: =IF(B76=0,"",COUNTA($B$3:$B75)) | B76: =INDIRECT("员工信息表!B"&COUNTA($B$3:$B75)+2) -> 0 | D76: =(COUNTIF($L76:$AP76,"出勤")+COUNTIF($L77:$AP77,"出勤"))*0.5 -> 0 | E76: =(COUNTIF($L76:$AP76,"事假")+COUNTIF($L77:$AP77,"事假"))*0.5 -> 0 | F76: =(COUNTIF($L76:$AP76,"病假")+COUNTIF($L77:$AP77,"病假"))*0.5 -> 0 | G76: =(COUNTIF($L76:$AP76,"休假")+COUNTIF($L77:$AP77,"休假"))*0.5 -> 0 | H76: =(COUNTIF($L76:$AP76,"缺勤")+COUNTIF($L77:$AP77,"缺勤"))*0.5 -> 0 | I76: =(COUNTIF($L76:$AP76,"放假")+COUNTIF($L77:$AP77,"放假"))*0.5 -> 0 | J76: =(SUM(L78:AP78))/$AO$2 -> 0 | K76: =IF(A76="","",IF(MOD(ROW(),3)=1,"上午",IF(MOD(ROW(),3)=2,"下午","加班")))
K77: =IF(A76="","",IF(MOD(ROW(),3)=1,"上午",IF(MOD(ROW(),3)=2,"下午","加班")))
K78: =IF(A76="","",IF(MOD(ROW(),3)=1,"上午",IF(MOD(ROW(),3)=2,"下午","加班")))
A79: =IF(B79=0,"",COUNTA($B$3:$B78)) | B79: =INDIRECT("员工信息表!B"&COUNTA($B$3:$B78)+2) -> 0 | D79: =(COUNTIF($L79:$AP79,"出勤")+COUNTIF($L80:$AP80,"出勤"))*0.5 -> 0 | E79: =(COUNTIF($L79:$AP79,"事假")+COUNTIF($L80:$AP80,"事假"))*0.5 -> 0 | F79: =(COUNTIF($L79:$AP79,"病假")+COUNTIF($L80:$AP80,"病假"))*0.5 -> 0 | G79: =(COUNTIF($L79:$AP79,"休假")+COUNTIF($L80:$AP80,"休假"))*0.5 -> 0 | H79: =(COUNTIF($L79:$AP79,"缺勤")+COUNTIF($L80:$AP80,"缺勤"))*0.5 -> 0 | I79: =(COUNTIF($L79:$AP79,"放假")+COUNTIF($L80:$AP80,"放假"))*0.5 -> 0 | J79: =(SUM(L81:AP81))/$AO$2 -> 0 | K79: =IF(A79="","",IF(MOD(ROW(),3)=1,"上午",IF(MOD(ROW(),3)=2,"下午","加班")))
K80: =IF(A79="","",IF(MOD(ROW(),3)=1,"上午",IF(MOD(ROW(),3)=2,"下午","加班")))
K81: =IF(A79="","",IF(MOD(ROW(),3)=1,"上午",IF(MOD(ROW(),3)=2,"下午","加班")))
A82: =IF(B82=0,"",COUNTA($B$3:$B81)) | B82: =INDIRECT("员工信息表!B"&COUNTA($B$3:$B81)+2) -> 0 | D82: =(COUNTIF($L82:$AP82,"出勤")+COUNTIF($L83:$AP83,"出勤"))*0.5 -> 0 | E82: =(COUNTIF($L82:$AP82,"事假")+COUNTIF($L83:$AP83,"事假"))*0.5 -> 0 | F82: =(COUNTIF($L82:$AP82,"病假")+COUNTIF($L83:$AP83,"病假"))*0.5 -> 0 | G82: =(COUNTIF($L82:$AP82,"休假")+COUNTIF($L83:$AP83,"休假"))*0.5 -> 0 | H82: =(COUNTIF($L82:$AP82,"缺勤")+COUNTIF($L83:$AP83,"缺勤"))*0.5 -> 0 | I82: =(COUNTIF($L82:$AP82,"放假")+COUNTIF($L83:$AP83,"放假"))*0.5 -> 0 | J82: =(SUM(L84:AP84))/$AO$2 -> 0 | K82: =IF(A82="","",IF(MOD(ROW(),3)=1,"上午",IF(MOD(ROW(),3)=2,"下午","加班")))
K83: =IF(A82="","",IF(MOD(ROW(),3)=1,"上午",IF(MOD(ROW(),3)=2,"下午","加班")))
K84: =IF(A82="","",IF(MOD(ROW(),3)=1,"上午",IF(MOD(ROW(),3)=2,"下午","加班")))
A85: =IF(B85=0,"",COUNTA($B$3:$B84)) | B85: =INDIRECT("员工信息表!B"&COUNTA($B$3:$B84)+2) -> 0 | D85: =(COUNTIF($L85:$AP85,"出勤")+COUNTIF($L86:$AP86,"出勤"))*0.5 -> 0 | E85: =(COUNTIF($L85:$AP85,"事假")+COUNTIF($L86:$AP86,"事假"))*0.5 -> 0 | F85: =(COUNTIF($L85:$AP85,"病假")+COUNTIF($L86:$AP86,"病假"))*0.5 -> 0 | G85: =(COUNTIF($L85:$AP85,"休假")+COUNTIF($L86:$AP86,"休假"))*0.5 -> 0 | H85: =(COUNTIF($L85:$AP85,"缺勤")+COUNTIF($L86:$AP86,"缺勤"))*0.5 -> 0 | I85: =(COUNTIF($L85:$AP85,"放假")+COUNTIF($L86:$AP86,"放假"))*0.5 -> 0 | J85: =(SUM(L87:AP87))/$AO$2 -> 0 | K85: =IF(A85="","",IF(MOD(ROW(),3)=1,"上午",IF(MOD(ROW(),3)=2,"下午","加班")))
K86: =IF(A85="","",IF(MOD(ROW(),3)=1,"上午",IF(MOD(ROW(),3)=2,"下午","加班")))
K87: =IF(A85="","",IF(MOD(ROW(),3)=1,"上午",IF(MOD(ROW(),3)=2,"下午","加班")))
A88: =IF(B88=0,"",COUNTA($B$3:$B87)) | B88: =INDIRECT("员工信息表!B"&COUNTA($B$3:$B87)+2) -> 0 | D88: =(COUNTIF($L88:$AP88,"出勤")+COUNTIF($L89:$AP89,"出勤"))*0.5 -> 0 | E88: =(COUNTIF($L88:$AP88,"事假")+COUNTIF($L89:$AP89,"事假"))*0.5 -> 0 | F88: =(COUNTIF($L88:$AP88,"病假")+COUNTIF($L89:$AP89,"病假"))*0.5 -> 0 | G88: =(COUNTIF($L88:$AP88,"休假")+COUNTIF($L89:$AP89,"休假"))*0.5 -> 0 | H88: =(COUNTIF($L88:$AP88,"缺勤")+COUNTIF($L89:$AP89,"缺勤"))*0.5 -> 0 | I88: =(COUNTIF($L88:$AP88,"放假")+COUNTIF($L89:$AP89,"放假"))*0.5 -> 0 | J88: =(SUM(L90:AP90))/$AO$2 -> 0 | K88: =IF(A88="","",IF(MOD(ROW(),3)=1,"上午",IF(MOD(ROW(),3)=2,"下午","加班")))
K89: =IF(A88="","",IF(MOD(ROW(),3)=1,"上午",IF(MOD(ROW(),3)=2,"下午","加班")))
K90: =IF(A88="","",IF(MOD(ROW(),3)=1,"上午",IF(MOD(ROW(),3)=2,"下午","加班")))
A91: =IF(B91=0,"",COUNTA($B$3:$B90)) | B91: =INDIRECT("员工信息表!B"&COUNTA($B$3:$B90)+2) -> 0 | D91: =(COUNTIF($L91:$AP91,"出勤")+COUNTIF($L92:$AP92,"出勤"))*0.5 -> 0 | E91: =(COUNTIF($L91:$AP91,"事假")+COUNTIF($L92:$AP92,"事假"))*0.5 -> 0 | F91: =(COUNTIF($L91:$AP91,"病假")+COUNTIF($L92:$AP92,"病假"))*0.5 -> 0 | G91: =(COUNTIF($L91:$AP91,"休假")+COUNTIF($L92:$AP92,"休假"))*0.5 -> 0 | H91: =(COUNTIF($L91:$AP91,"缺勤")+COUNTIF($L92:$AP92,"缺勤"))*0.5 -> 0 | I91: =(COUNTIF($L91:$AP91,"放假")+COUNTIF($L92:$AP92,"放假"))*0.5 -> 0 | J91: =(SUM(L93:AP93))/$AO$2 -> 0 | K91: =IF(A91="","",IF(MOD(ROW(),3)=1,"上午",IF(MOD(ROW(),3)=2,"下午","加班")))
K92: =IF(A91="","",IF(MOD(ROW(),3)=1,"上午",IF(MOD(ROW(),3)=2,"下午","加班")))
K93: =IF(A91="","",IF(MOD(ROW(),3)=1,"上午",IF(MOD(ROW(),3)=2,"下午","加班")))
A94: =IF(B94=0,"",COUNTA($B$3:$B93)) | B94: =INDIRECT("员工信息表!B"&COUNTA($B$3:$B93)+2) -> 0 | D94: =(COUNTIF($L94:$AP94,"出勤")+COUNTIF($L95:$AP95,"出勤"))*0.5 -> 0 | E94: =(COUNTIF($L94:$AP94,"事假")+COUNTIF($L95:$AP95,"事假"))*0.5 -> 0 | F94: =(COUNTIF($L94:$AP94,"病假")+COUNTIF($L95:$AP95,"病假"))*0.5 -> 0 | G94: =(COUNTIF($L94:$AP94,"休假")+COUNTIF($L95:$AP95,"休假"))*0.5 -> 0 | H94: =(COUNTIF($L94:$AP94,"缺勤")+COUNTIF($L95:$AP95,"缺勤"))*0.5 -> 0 | I94: =(COUNTIF($L94:$AP94,"放假")+COUNTIF($L95:$AP95,"放假"))*0.5 -> 0 | J94: =(SUM(L96:AP96))/$AO$2 -> 0 | K94: =IF(A94="","",IF(MOD(ROW(),3)=1,"上午",IF(MOD(ROW(),3)=2,"下午","加班")))
K95: =IF(A94="","",IF(MOD(ROW(),3)=1,"上午",IF(MOD(ROW(),3)=2,"下午","加班")))
K96: =IF(A94="","",IF(MOD(ROW(),3)=1,"上午",IF(MOD(ROW(),3)=2,"下午","加班")))
A97: =IF(B97=0,"",COUNTA($B$3:$B96)) | B97: =INDIRECT("员工信息表!B"&COUNTA($B$3:$B96)+2) -> 0 | D97: =(COUNTIF($L97:$AP97,"出勤")+COUNTIF($L98:$AP98,"出勤"))*0.5 -> 0 | E97: =(COUNTIF($L97:$AP97,"事假")+COUNTIF($L98:$AP98,"事假"))*0.5 -> 0 | F97: =(COUNTIF($L97:$AP97,"病假")+COUNTIF($L98:$AP98,"病假"))*0.5 -> 0 | G97: =(COUNTIF($L97:$AP97,"休假")+COUNTIF($L98:$AP98,"休假"))*0.5 -> 0 | H97: =(COUNTIF($L97:$AP97,"缺勤")+COUNTIF($L98:$AP98,"缺勤"))*0.5 -> 0 | I97: =(COUNTIF($L97:$AP97,"放假")+COUNTIF($L98:$AP98,"放假"))*0.5 -> 0 | J97: =(SUM(L99:AP99))/$AO$2 -> 0 | K97: =IF(A97="","",IF(MOD(ROW(),3)=1,"上午",IF(MOD(ROW(),3)=2,"下午","加班")))
K98: =IF(A97="","",IF(MOD(ROW(),3)=1,"上午",IF(MOD(ROW(),3)=2,"下午","加班")))
K99: =IF(A97="","",IF(MOD(ROW(),3)=1,"上午",IF(MOD(ROW(),3)=2,"下午","加班")))
A100: =IF(B100=0,"",COUNTA($B$3:$B99)) | B100: =INDIRECT("员工信息表!B"&COUNTA($B$3:$B99)+2) -> 0 | D100: =(COUNTIF($L100:$AP100,"出勤")+COUNTIF($L101:$AP101,"出勤"))*0.5 -> 0 | E100: =(COUNTIF($L100:$AP100,"事假")+COUNTIF($L101:$AP101,"事假"))*0.5 -> 0 | F100: =(COUNTIF($L100:$AP100,"病假")+COUNTIF($L101:$AP101,"病假"))*0.5 -> 0 | G100: =(COUNTIF($L100:$AP100,"休假")+COUNTIF($L101:$AP101,"休假"))*0.5 -> 0 | H100: =(COUNTIF($L100:$AP100,"缺勤")+COUNTIF($L101:$AP101,"缺勤"))*0.5 -> 0 | I100: =(COUNTIF($L100:$AP100,"放假")+COUNTIF($L101:$AP101,"放假"))*0.5 -> 0 | J100: =(SUM(L102:AP102))/$AO$2 -> 0 | K100: =IF(A100="","",IF(MOD(ROW(),3)=1,"上午",IF(MOD(ROW(),3)=2,"下午","加班")))
...

Sheet 3月
A1: 考 勤 表
A2: 2022 | C2: 3 | J2: ="本月 "&DAY(DATE(A2,C2+1,1)-1)&" 天" -> 本月 31 天 | AJ2: 输入每天工作小时 | AO2: 7 | AP2: h
A3: 序号 | B3: 姓名 | C3: 应出勤 天数 | D3: 实际出勤 天数 | E3: 事假 天数 | F3: 病假 天数 | G3: 休假 天数 | H3: 缺勤 天数 | I3: 放假 天数 | J3: 加班 天数 | K3: 班次 | L3: =IF(MONTH(DATE($A$2,$C$2,COLUMN(A1)))=$C$2,DATE($A$2,$C$2,COLUMN(A1)),"") -> 44621 | M3: =IF(MONTH(DATE($A$2,$C$2,COLUMN(B1)))=$C$2,DATE($A$2,$C$2,COLUMN(B1)),"") -> 44622 | N3: =IF(MONTH(DATE($A$2,$C$2,COLUMN(C1)))=$C$2,DATE($A$2,$C$2,COLUMN(C1)),"") -> 44623 | O3: =IF(MONTH(DATE($A$2,$C$2,COLUMN(D1)))=$C$2,DATE($A$2,$C$2,COLUMN(D1)),"") -> 44624 | P3: =IF(MONTH(DATE($A$2,$C$2,COLUMN(E1)))=$C$2,DATE($A$2,$C$2,COLUMN(E1)),"") -> 44625 | Q3: =IF(MONTH(DATE($A$2,$C$2,COLUMN(F1)))=$C$2,DATE($A$2,$C$2,COLUMN(F1)),"") -> 44626 | R3: =IF(MONTH(DATE($A$2,$C$2,COLUMN(G1)))=$C$2,DATE($A$2,$C$2,COLUMN(G1)),"") -> 44627 | S3: =IF(MONTH(DATE($A$2,$C$2,COLUMN(H1)))=$C$2,DATE($A$2,$C$2,COLUMN(H1)),"") -> 44628 | ... AP3: =IF(MONTH(DATE($A$2,$C$2,COLUMN(AE1)))=$C$2,DATE($A$2,$C$2,COLUMN(AE1)),"") -> 44651
A4: =IF(B4=0,"",COUNTA($B$3:$B3)) -> 1 | B4: =INDIRECT("员工信息表!B"&COUNTA($B$3:$B3)+2) -> 苏继兵 | C4: 22 | D4: =(COUNTIF($L4:$AP4,"出勤")+COUNTIF($L5:$AP5,"出勤"))*0.5 -> 2.5 | E4: =(COUNTIF($L4:$AP4,"事假")+COUNTIF($L5:$AP5,"事假"))*0.5 -> 0.5 | F4: =(COUNTIF($L4:$AP4,"病假")+COUNTIF($L5:$AP5,"病假"))*0.5 -> 0.5 | G4: =(COUNTIF($L4:$AP4,"休假")+COUNTIF($L5:$AP5,"休假"))*0.5 -> 0.5 | H4: =(COUNTIF($L4:$AP4,"缺勤")+COUNTIF($L5:$AP5,"缺勤"))*0.5 -> 0.5 | I4: =(COUNTIF($L4:$AP4,"放假")+COUNTIF($L5:$AP5,"放假"))*0.5 -> 0.5 | J4: =(SUM(L6:AP6))/$AO$2 -> 1.2857143 | K4: =IF(A4="","",IF(MOD(ROW(),3)=1,"上午",IF(MOD(ROW(),3)=2,"下午","加班"))) -> 上午 | L4: 出勤 | M4: 出勤 | N4: 出勤 | P4: 休假 | T4: 缺勤 | V4: 放假
K5: =IF(A4="","",IF(MOD(ROW(),3)=1,"上午",IF(MOD(ROW(),3)=2,"下午","加班"))) -> 下午 | L5: 出勤 | M5: 出勤 | O5: 事假 | R5: 病假
K6: =IF(A4="","",IF(MOD(ROW(),3)=1,"上午",IF(MOD(ROW(),3)=2,"下午","加班"))) -> 加班 | L6: 6 | N6: 3
A7: =IF(B7=0,"",COUNTA($B$3:$B6)) -> 2 | B7: =INDIRECT("员工信息表!B"&COUNTA($B$3:$B6)+2) -> 苏继中 | C7: 22 | D7: =(COUNTIF($L7:$AP7,"出勤")+COUNTIF($L8:$AP8,"出勤"))*0.5 -> 2.5 | E7: =(COUNTIF($L7:$AP7,"事假")+COUNTIF($L8:$AP8,"事假"))*0.5 -> 0.5 | F7: =(COUNTIF($L7:$AP7,"病假")+COUNTIF($L8:$AP8,"病假"))*0.5 -> 0.5 | G7: =(COUNTIF($L7:$AP7,"休假")+COUNTIF($L8:$AP8,"休假"))*0.5 -> 0.5 | H7: =(COUNTIF($L7:$AP7,"缺勤")+COUNTIF($L8:$AP8,"缺勤"))*0.5 -> 0.5 | I7: =(COUNTIF($L7:$AP7,"放假")+COUNTIF($L8:$AP8,"放假"))*0.5 -> 0.5 | J7: =(SUM(L9:AP9))/$AO$2 -> 1.5714286 | K7: =IF(A7="","",IF(MOD(ROW(),3)=1,"上午",IF(MOD(ROW(),3)=2,"下午","加班"))) -> 上午 | L7: 出勤 | M7: 出勤 | N7: 出勤 | P7: 休假 | T7: 缺勤 | V7: 放假
K8: =IF(A7="","",IF(MOD(ROW(),3)=1,"上午",IF(MOD(ROW(),3)=2,"下午","加班"))) -> 下午 | L8: 出勤 | M8: 出勤 | O8: 事假 | R8: 病假
K9: =IF(A7="","",IF(MOD(ROW(),3)=1,"上午",IF(MOD(ROW(),3)=2,"下午","加班"))) -> 加班 | L9: 7 | N9: 4
A10: =IF(B10=0,"",COUNTA($B$3:$B9)) -> 3 | B10: =INDIRECT("员工信息表!B"&COUNTA($B$3:$B9)+2) -> 刘毅 | C10: 22 | D10: =(COUNTIF($L10:$AP10,"出勤")+COUNTIF($L11:$AP11,"出勤"))*0.5 -> 2.5 | E10: =(COUNTIF($L10:$AP10,"事假")+COUNTIF($L11:$AP11,"事假"))*0.5 -> 0.5 | F10: =(COUNTIF($L10:$AP10,"病假")+COUNTIF($L11:$AP11,"病假"))*0.5 -> 0.5 | G10: =(COUNTIF($L10:$AP10,"休假")+COUNTIF($L11:$AP11,"休假"))*0.5 -> 0.5 | H10: =(COUNTIF($L10:$AP10,"缺勤")+COUNTIF($L11:$AP11,"缺勤"))*0.5 -> 0.5 | I10: =(COUNTIF($L10:$AP10,"放假")+COUNTIF($L11:$AP11,"放假"))*0.5 -> 0.5 | J10: =(SUM(L12:AP12))/$AO$2 -> 1.8571429 | K10: =IF(A10="","",IF(MOD(ROW(),3)=1,"上午",IF(MOD(ROW(),3)=2,"下午","加班"))) -> 上午 | L10: 出勤 | M10: 出勤 | N10: 出勤 | P10: 休假 | T10: 缺勤 | V10: 放假
K11: =IF(A10="","",IF(MOD(ROW(),3)=1,"上午",IF(MOD(ROW(),3)=2,"下午","加班"))) -> 下午 | L11: 出勤 | M11: 出勤 | O11: 事假 | R11: 病假
K12: =IF(A10="","",IF(MOD(ROW(),3)=1,"上午",IF(MOD(ROW(),3)=2,"下午","加班"))) -> 加班 | L12: 8 | N12: 5
A13: =IF(B13=0,"",COUNTA($B$3:$B12)) -> 4 | B13: =INDIRECT("员工信息表!B"&COUNTA($B$3:$B12)+2) -> 伍亦中 | C13: 22 | D13: =(COUNTIF($L13:$AP13,"出勤")+COUNTIF($L14:$AP14,"出勤"))*0.5 -> 2.5 | E13: =(COUNTIF($L13:$AP13,"事假")+COUNTIF($L14:$AP14,"事假"))*0.5 -> 0.5 | F13: =(COUNTIF($L13:$AP13,"病假")+COUNTIF($L14:$AP14,"病假"))*0.5 -> 0.5 | G13: =(COUNTIF($L13:$AP13,"休假")+COUNTIF($L14:$AP14,"休假"))*0.5 -> 0.5 | H13: =(COUNTIF($L13:$AP13,"缺勤")+COUNTIF($L14:$AP14,"缺勤"))*0.5 -> 0.5 | I13: =(COUNTIF($L13:$AP13,"放假")+COUNTIF($L14:$AP14,"放假"))*0.5 -> 0.5 | J13: =(SUM(L15:AP15))/$AO$2 -> 2.1428571 | K13: =IF(A13="","",IF(MOD(ROW(),3)=1,"上午",IF(MOD(ROW(),3)=2,"下午","加班"))) -> 上午 | L13: 出勤 | M13: 出勤 | N13: 出勤 | P13: 休假 | T13: 缺勤 | V13: 放假
K14: =IF(A13="","",IF(MOD(ROW(),3)=1,"上午",IF(MOD(ROW(),3)=2,"下午","加班"))) -> 下午 | L14: 出勤 | M14: 出勤 | O14: 事假 | R14: 病假
K15: =IF(A13="","",IF(MOD(ROW(),3)=1,"上午",IF(MOD(ROW(),3)=2,"下午","加班"))) -> 加班 | L15: 9 | N15: 6
A16: =IF(B16=0,"",COUNTA($B$3:$B15)) -> 5 | B16: =INDIRECT("员工信息表!B"&COUNTA($B$3:$B15)+2) -> 苏绿华 | C16: 22 | D16: =(COUNTIF($L16:$AP16,"出勤")+COUNTIF($L17:$AP17,"出勤"))*0.5 -> 2.5 | E16: =(COUNTIF($L16:$AP16,"事假")+COUNTIF($L17:$AP17,"事假"))*0.5 -> 0.5 | F16: =(COUNTIF($L16:$AP16,"病假")+COUNTIF($L17:$AP17,"病假"))*0.5 -> 0.5 | G16: =(COUNTIF($L16:$AP16,"休假")+COUNTIF($L17:$AP17,"休假"))*0.5 -> 0.5 | H16: =(COUNTIF($L16:$AP16,"缺勤")+COUNTIF($L17:$AP17,"缺勤"))*0.5 -> 0.5 | I16: =(COUNTIF($L16:$AP16,"放假")+COUNTIF($L17:$AP17,"放假"))*0.5 -> 0.5 | J16: =(SUM(L18:AP18))/$AO$2 -> 2.4285714 | K16: =IF(A16="","",IF(MOD(ROW(),3)=1,"上午",IF(MOD(ROW(),3)=2,"下午","加班"))) -> 上午 | L16: 出勤 | M16: 出勤 | N16: 出勤 | P16: 休假 | T16: 缺勤 | V16: 放假
K17: =IF(A16="","",IF(MOD(ROW(),3)=1,"上午",IF(MOD(ROW(),3)=2,"下午","加班"))) -> 下午 | L17: 出勤 | M17: 出勤 | O17: 事假 | R17: 病假
K18: =IF(A16="","",IF(MOD(ROW(),3)=1,"上午",IF(MOD(ROW(),3)=2,"下午","加班"))) -> 加班 | L18: 10 | N18: 7
A19: =IF(B19=0,"",COUNTA($B$3:$B18)) -> 6 | B19: =INDIRECT("员工信息表!B"&COUNTA($B$3:$B18)+2) -> 王升祥 | C19: 22 | D19: =(COUNTIF($L19:$AP19,"出勤")+COUNTIF($L20:$AP20,"出勤"))*0.5 -> 2.5 | E19: =(COUNTIF($L19:$AP19,"事假")+COUNTIF($L20:$AP20,"事假"))*0.5 -> 0.5 | F19: =(COUNTIF($L19:$AP19,"病假")+COUNTIF($L20:$AP20,"病假"))*0.5 -> 0.5 | G19: =(COUNTIF($L19:$AP19,"休假")+COUNTIF($L20:$AP20,"休假"))*0.5 -> 0.5 | H19: =(COUNTIF($L19:$AP19,"缺勤")+COUNTIF($L20:$AP20,"缺勤"))*0.5 -> 0.5 | I19: =(COUNTIF($L19:$AP19,"放假")+COUNTIF($L20:$AP20,"放假"))*0.5 -> 0.5 | J19: =(SUM(L21:AP21))/$AO$2 -> 2.7142857 | K19: =IF(A19="","",IF(MOD(ROW(),3)=1,"上午",IF(MOD(ROW(),3)=2,"下午","加班"))) -> 上午 | L19: 出勤 | M19: 出勤 | N19: 出勤 | P19: 休假 | T19: 缺勤 | V19: 放假
K20: =IF(A19="","",IF(MOD(ROW(),3)=1,"上午",IF(MOD(ROW(),3)=2,"下午","加班"))) -> 下午 | L20: 出勤 | M20: 出勤 | O20: 事假 | R20: 病假
K21: =IF(A19="","",IF(MOD(ROW(),3)=1,"上午",IF(MOD(ROW(),3)=2,"下午","加班"))) -> 加班 | L21: 11 | N21: 8
A22: =IF(B22=0,"",COUNTA($B$3:$B21)) -> 7 | B22: =INDIRECT("员工信息表!B"&COUNTA($B$3:$B21)+2) -> 刘让铁 | C22: 22 | D22: =(COUNTIF($L22:$AP22,"出勤")+COUNTIF($L23:$AP23,"出勤"))*0.5 -> 2.5 | E22: =(COUNTIF($L22:$AP22,"事假")+COUNTIF($L23:$AP23,"事假"))*0.5 -> 0.5 | F22: =(COUNTIF($L22:$AP22,"病假")+COUNTIF($L23:$AP23,"病假"))*0.5 -> 0.5 | G22: =(COUNTIF($L22:$AP22,"休假")+COUNTIF($L23:$AP23,"休假"))*0.5 -> 0.5 | H22: =(COUNTIF($L22:$AP22,"缺勤")+COUNTIF($L23:$AP23,"缺勤"))*0.5 -> 0.5 | I22: =(COUNTIF($L22:$AP22,"放假")+COUNTIF($L23:$AP23,"放假"))*0.5 -> 0.5 | J22: =(SUM(L24:AP24))/$AO$2 -> 3 | K22: =IF(A22="","",IF(MOD(ROW(),3)=1,"上午",IF(MOD(ROW(),3)=2,"下午","加班"))) -> 上午 | L22: 出勤 | M22: 出勤 | N22: 出勤 | P22: 休假 | T22: 缺勤 | V22: 放假
K23: =IF(A22="","",IF(MOD(ROW(),3)=1,"上午",IF(MOD(ROW(),3)=2,"下午","加班"))) -> 下午 | L23: 出勤 | M23: 出勤 | O23: 事假 | R23: 病假
K24: =IF(A22="","",IF(MOD(ROW(),3)=1,"上午",IF(MOD(ROW(),3)=2,"下午","加班"))) -> 加班 | L24: 12 | N24: 9
A25: =IF(B25=0,"",COUNTA($B$3:$B24)) -> 8 | B25: =INDIRECT("员工信息表!B"&COUNTA($B$3:$B24)+2) -> 颜运回 | C25: 22 | D25: =(COUNTIF($L25:$AP25,"出勤")+COUNTIF($L26:$AP26,"出勤"))*0.5 -> 2.5 | E25: =(COUNTIF($L25:$AP25,"事假")+COUNTIF($L26:$AP26,"事假"))*0.5 -> 0.5 | F25: =(COUNTIF($L25:$AP25,"病假")+COUNTIF($L26:$AP26,"病假"))*0.5 -> 0.5 | G25: =(COUNTIF($L25:$AP25,"休假")+COUNTIF($L26:$AP26,"休假"))*0.5 -> 0.5 | H25: =(COUNTIF($L25:$AP25,"缺勤")+COUNTIF($L26:$AP26,"缺勤"))*0.5 -> 0.5 | I25: =(COUNTIF($L25:$AP25,"放假")+COUNTIF($L26:$AP26,"放假"))*0.5 -> 0.5 | J25: =(SUM(L27:AP27))/$AO$2 -> 3.2857143 | K25: =IF(A25="","",IF(MOD(ROW(),3)=1,"上午",IF(MOD(ROW(),3)=2,"下午","加班"))) -> 上午 | L25: 出勤 | M25: 出勤 | N25: 出勤 | P25: 休假 | T25: 缺勤 | V25: 放假
K26: =IF(A25="","",IF(MOD(ROW(),3)=1,"上午",IF(MOD(ROW(),3)=2,"下午","加班"))) -> 下午 | L26: 出勤 | M26: 出勤 | O26: 事假 | R26: 病假
K27: =IF(A25="","",IF(MOD(ROW(),3)=1,"上午",IF(MOD(ROW(),3)=2,"下午","加班"))) -> 加班 | L27: 13 | N27: 10
A28: =IF(B28=0,"",COUNTA($B$3:$B27)) -> 9 | B28: =INDIRECT("员工信息表!B"&COUNTA($B$3:$B27)+2) -> 尹小平 | C28: 22 | D28: =(COUNTIF($L28:$AP28,"出勤")+COUNTIF($L29:$AP29,"出勤"))*0.5 -> 2.5 | E28: =(COUNTIF($L28:$AP28,"事假")+COUNTIF($L29:$AP29,"事假"))*0.5 -> 0.5 | F28: =(COUNTIF($L28:$AP28,"病假")+COUNTIF($L29:$AP29,"病假"))*0.5 -> 0.5 | G28: =(COUNTIF($L28:$AP28,"休假")+COUNTIF($L29:$AP29,"休假"))*0.5 -> 0.5 | H28: =(COUNTIF($L28:$AP28,"缺勤")+COUNTIF($L29:$AP29,"缺勤"))*0.5 -> 0.5 | I28: =(COUNTIF($L28:$AP28,"放假")+COUNTIF($L29:$AP29,"放假"))*0.5 -> 0.5 | J28: =(SUM(L30:AP30))/$AO$2 -> 3.5714286 | K28: =IF(A28="","",IF(MOD(ROW(),3)=1,"上午",IF(MOD(ROW(),3)=2,"下午","加班"))) -> 上午 | L28: 出勤 | M28: 出勤 | N28: 出勤 | P28: 休假 | T28: 缺勤 | V28: 放假
K29: =IF(A28="","",IF(MOD(ROW(),3)=1,"上午",IF(MOD(ROW(),3)=2,"下午","加班"))) -> 下午 | L29: 出勤 | M29: 出勤 | O29: 事假 | R29: 病假
K30: =IF(A28="","",IF(MOD(ROW(),3)=1,"上午",IF(MOD(ROW(),3)=2,"下午","加班"))) -> 加班 | L30: 14 | N30: 11
A31: =IF(B31=0,"",COUNTA($B$3:$B30)) -> 10 | B31: =INDIRECT("员工信息表!B"&COUNTA($B$3:$B30)+2) -> 颜建美 | C31: 22 | D31: =(COUNTIF($L31:$AP31,"出勤")+COUNTIF($L32:$AP32,"出勤"))*0.5 -> 2.5 | E31: =(COUNTIF($L31:$AP31,"事假")+COUNTIF($L32:$AP32,"事假"))*0.5 -> 0.5 | F31: =(COUNTIF($L31:$AP31,"病假")+COUNTIF($L32:$AP32,"病假"))*0.5 -> 0.5 | G31: =(COUNTIF($L31:$AP31,"休假")+COUNTIF($L32:$AP32,"休假"))*0.5 -> 0.5 | H31: =(COUNTIF($L31:$AP31,"缺勤")+COUNTIF($L32:$AP32,"缺勤"))*0.5 -> 0.5 | I31: =(COUNTIF($L31:$AP31,"放假")+COUNTIF($L32:$AP32,"放假"))*0.5 -> 0.5 | J31: =(SUM(L33:AP33))/$AO$2 -> 3.8571429 | K31: =IF(A31="","",IF(MOD(ROW(),3)=1,"上午",IF(MOD(ROW(),3)=2,"下午","加班"))) -> 上午 | L31: 出勤 | M31: 出勤 | N31: 出勤 | P31: 休假 | T31: 缺勤 | V31: 放假
K32: =IF(A31="","",IF(MOD(ROW(),3)=1,"上午",IF(MOD(ROW(),3)=2,"下午","加班"))) -> 下午 | L32: 出勤 | M32: 出勤 | O32: 事假 | R32: 病假
K33: =IF(A31="","",IF(MOD(ROW(),3)=1,"上午",IF(MOD(ROW(),3)=2,"下午","加班"))) -> 加班 | L33: 15 | N33: 12
A34: =IF(B34=0,"",COUNTA($B$3:$B33)) -> 11 | B34: =INDIRECT("员工信息表!B"&COUNTA($B$3:$B33)+2) -> 尹乔丽 | C34: 22 | D34: =(COUNTIF($L34:$AP34,"出勤")+COUNTIF($L35:$AP35,"出勤"))*0.5 -> 2.5 | E34: =(COUNTIF($L34:$AP34,"事假")+COUNTIF($L35:$AP35,"事假"))*0.5 -> 0.5 | F34: =(COUNTIF($L34:$AP34,"病假")+COUNTIF($L35:$AP35,"病假"))*0.5 -> 0.5 | G34: =(COUNTIF($L34:$AP34,"休假")+COUNTIF($L35:$AP35,"休假"))*0.5 -> 0.5 | H34: =(COUNTIF($L34:$AP34,"缺勤")+COUNTIF($L35:$AP35,"缺勤"))*0.5 -> 0.5 | I34: =(COUNTIF($L34:$AP34,"放假")+COUNTIF($L35:$AP35,"放假"))*0.5 -> 0.5 | J34: =(SUM(L36:AP36))/$AO$2 -> 4.1428571 | K34: =IF(A34="","",IF(MOD(ROW(),3)=1,"上午",IF(MOD(ROW(),3)=2,"下午","加班"))) -> 上午 | L34: 出勤 | M34: 出勤 | N34: 出勤 | P34: 休假 | T34: 缺勤 | V34: 放假
K35: =IF(A34="","",IF(MOD(ROW(),3)=1,"上午",IF(MOD(ROW(),3)=2,"下午","加班"))) -> 下午 | L35: 出勤 | M35: 出勤 | O35: 事假 | R35: 病假
K36: =IF(A34="","",IF(MOD(ROW(),3)=1,"上午",IF(MOD(ROW(),3)=2,"下午","加班"))) -> 加班 | L36: 16 | N36: 13
A37: =IF(B37=0,"",COUNTA($B$3:$B36)) | B37: =INDIRECT("员工信息表!B"&COUNTA($B$3:$B36)+2) -> 0 | D37: =(COUNTIF($L37:$AP37,"出勤")+COUNTIF($L38:$AP38,"出勤"))*0.5 -> 0 | E37: =(COUNTIF($L37:$AP37,"事假")+COUNTIF($L38:$AP38,"事假"))*0.5 -> 0 | F37: =(COUNTIF($L37:$AP37,"病假")+COUNTIF($L38:$AP38,"病假"))*0.5 -> 0 | G37: =(COUNTIF($L37:$AP37,"休假")+COUNTIF($L38:$AP38,"休假"))*0.5 -> 0 | H37: =(COUNTIF($L37:$AP37,"缺勤")+COUNTIF($L38:$AP38,"缺勤"))*0.5 -> 0 | I37: =(COUNTIF($L37:$AP37,"放假")+COUNTIF($L38:$AP38,"放假"))*0.5 -> 0 | J37: =(SUM(L39:AP39))/$AO$2 -> 0 | K37: =IF(A37="","",IF(MOD(ROW(),3)=1,"上午",IF(MOD(ROW(),3)=2,"下午","加班")))
K38: =IF(A37="","",IF(MOD(ROW(),3)=1,"上午",IF(MOD(ROW(),3)=2,"下午","加班")))
K39: =IF(A37="","",IF(MOD(ROW(),3)=1,"上午",IF(MOD(ROW(),3)=2,"下午","加班")))
A40: =IF(B40=0,"",COUNTA($B$3:$B39)) | B40: =INDIRECT("员工信息表!B"&COUNTA($B$3:$B39)+2) -> 0 | D40: =(COUNTIF($L40:$AP40,"出勤")+COUNTIF($L41:$AP41,"出勤"))*0.5 -> 0 | E40: =(COUNTIF($L40:$AP40,"事假")+COUNTIF($L41:$AP41,"事假"))*0.5 -> 0 | F40: =(COUNTIF($L40:$AP40,"病假")+COUNTIF($L41:$AP41,"病假"))*0.5 -> 0 | G40: =(COUNTIF($L40:$AP40,"休假")+COUNTIF($L41:$AP41,"休假"))*0.5 -> 0 | H40: =(COUNTIF($L40:$AP40,"缺勤")+COUNTIF($L41:$AP41,"缺勤"))*0.5 -> 0 | I40: =(COUNTIF($L40:$AP40,"放假")+COUNTIF($L41:$AP41,"放假"))*0.5 -> 0 | J40: =(SUM(L42:AP42))/$AO$2 -> 0 | K40: =IF(A40="","",IF(MOD(ROW(),3)=1,"上午",IF(MOD(ROW(),3)=2,"下午","加班")))
K41: =IF(A40="","",IF(MOD(ROW(),3)=1,"上午",IF(MOD(ROW(),3)=2,"下午","加班")))
K42: =IF(A40="","",IF(MOD(ROW(),3)=1,"上午",IF(MOD(ROW(),3)=2,"下午","加班")))
A43: =IF(B43=0,"",COUNTA($B$3:$B42)) | B43: =INDIRECT("员工信息表!B"&COUNTA($B$3:$B42)+2) -> 0 | D43: =(COUNTIF($L43:$AP43,"出勤")+COUNTIF($L44:$AP44,"出勤"))*0.5 -> 0 | E43: =(COUNTIF($L43:$AP43,"事假")+COUNTIF($L44:$AP44,"事假"))*0.5 -> 0 | F43: =(COUNTIF($L43:$AP43,"病假")+COUNTIF($L44:$AP44,"病假"))*0.5 -> 0 | G43: =(COUNTIF($L43:$AP43,"休假")+COUNTIF($L44:$AP44,"休假"))*0.5 -> 0 | H43: =(COUNTIF($L43:$AP43,"缺勤")+COUNTIF($L44:$AP44,"缺勤"))*0.5 -> 0 | I43: =(COUNTIF($L43:$AP43,"放假")+COUNTIF($L44:$AP44,"放假"))*0.5 -> 0 | J43: =(SUM(L45:AP45))/$AO$2 -> 0 | K43: =IF(A43="","",IF(MOD(ROW(),3)=1,"上午",IF(MOD(ROW(),3)=2,"下午","加班")))
K44: =IF(A43="","",IF(MOD(ROW(),3)=1,"上午",IF(MOD(ROW(),3)=2,"下午","加班")))
K45: =IF(A43="","",IF(MOD(ROW(),3)=1,"上午",IF(MOD(ROW(),3)=2,"下午","加班")))
A46: =IF(B46=0,"",COUNTA($B$3:$B45)) | B46: =INDIRECT("员工信息表!B"&COUNTA($B$3:$B45)+2) -> 0 | D46: =(COUNTIF($L46:$AP46,"出勤")+COUNTIF($L47:$AP47,"出勤"))*0.5 -> 0 | E46: =(COUNTIF($L46:$AP46,"事假")+COUNTIF($L47:$AP47,"事假"))*0.5 -> 0 | F46: =(COUNTIF($L46:$AP46,"病假")+COUNTIF($L47:$AP47,"病假"))*0.5 -> 0 | G46: =(COUNTIF($L46:$AP46,"休假")+COUNTIF($L47:$AP47,"休假"))*0.5 -> 0 | H46: =(COUNTIF($L46:$AP46,"缺勤")+COUNTIF($L47:$AP47,"缺勤"))*0.5 -> 0 | I46: =(COUNTIF($L46:$AP46,"放假")+COUNTIF($L47:$AP47,"放假"))*0.5 -> 0 | J46: =(SUM(L48:AP48))/$AO$2 -> 0 | K46: =IF(A46="","",IF(MOD(ROW(),3)=1,"上午",IF(MOD(ROW(),3)=2,"下午","加班")))
K47: =IF(A46="","",IF(MOD(ROW(),3)=1,"上午",IF(MOD(ROW(),3)=2,"下午","加班")))
K48: =IF(A46="","",IF(MOD(ROW(),3)=1,"上午",IF(MOD(ROW(),3)=2,"下午","加班")))
A49: =IF(B49=0,"",COUNTA($B$3:$B48)) | B49: =INDIRECT("员工信息表!B"&COUNTA($B$3:$B48)+2) -> 0 | D49: =(COUNTIF($L49:$AP49,"出勤")+COUNTIF($L50:$AP50,"出勤"))*0.5 -> 0 | E49: =(COUNTIF($L49:$AP49,"事假")+COUNTIF($L50:$AP50,"事假"))*0.5 -> 0 | F49: =(COUNTIF($L49:$AP49,"病假")+COUNTIF($L50:$AP50,"病假"))*0.5 -> 0 | G49: =(COUNTIF($L49:$AP49,"休假")+COUNTIF($L50:$AP50,"休假"))*0.5 -> 0 | H49: =(COUNTIF($L49:$AP49,"缺勤")+COUNTIF($L50:$AP50,"缺勤"))*0.5 -> 0 | I49: =(COUNTIF($L49:$AP49,"放假")+COUNTIF($L50:$AP50,"放假"))*0.5 -> 0 | J49: =(SUM(L51:AP51))/$AO$2 -> 0 | K49: =IF(A49="","",IF(MOD(ROW(),3)=1,"上午",IF(MOD(ROW(),3)=2,"下午","加班")))
K50: =IF(A49="","",IF(MOD(ROW(),3)=1,"上午",IF(MOD(ROW(),3)=2,"下午","加班")))
K51: =IF(A49="","",IF(MOD(ROW(),3)=1,"上午",IF(MOD(ROW(),3)=2,"下午","加班")))
A52: =IF(B52=0,"",COUNTA($B$3:$B51)) | B52: =INDIRECT("员工信息表!B"&COUNTA($B$3:$B51)+2) -> 0 | D52: =(COUNTIF($L52:$AP52,"出勤")+COUNTIF($L53:$AP53,"出勤"))*0.5 -> 0 | E52: =(COUNTIF($L52:$AP52,"事假")+COUNTIF($L53:$AP53,"事假"))*0.5 -> 0 | F52: =(COUNTIF($L52:$AP52,"病假")+COUNTIF($L53:$AP53,"病假"))*0.5 -> 0 | G52: =(COUNTIF($L52:$AP52,"休假")+COUNTIF($L53:$AP53,"休假"))*0.5 -> 0 | H52: =(COUNTIF($L52:$AP52,"缺勤")+COUNTIF($L53:$AP53,"缺勤"))*0.5 -> 0 | I52: =(COUNTIF($L52:$AP52,"放假")+COUNTIF($L53:$AP53,"放假"))*0.5 -> 0 | J52: =(SUM(L54:AP54))/$AO$2 -> 0 | K52: =IF(A52="","",IF(MOD(ROW(),3)=1,"上午",IF(MOD(ROW(),3)=2,"下午","加班")))
K53: =IF(A52="","",IF(MOD(ROW(),3)=1,"上午",IF(MOD(ROW(),3)=2,"下午","加班")))
K54: =IF(A52="","",IF(MOD(ROW(),3)=1,"上午",IF(MOD(ROW(),3)=2,"下午","加班")))
A55: =IF(B55=0,"",COUNTA($B$3:$B54)) | B55: =INDIRECT("员工信息表!B"&COUNTA($B$3:$B54)+2) -> 0 | D55: =(COUNTIF($L55:$AP55,"出勤")+COUNTIF($L56:$AP56,"出勤"))*0.5 -> 0 | E55: =(COUNTIF($L55:$AP55,"事假")+COUNTIF($L56:$AP56,"事假"))*0.5 -> 0 | F55: =(COUNTIF($L55:$AP55,"病假")+COUNTIF($L56:$AP56,"病假"))*0.5 -> 0 | G55: =(COUNTIF($L55:$AP55,"休假")+COUNTIF($L56:$AP56,"休假"))*0.5 -> 0 | H55: =(COUNTIF($L55:$AP55,"缺勤")+COUNTIF($L56:$AP56,"缺勤"))*0.5 -> 0 | I55: =(COUNTIF($L55:$AP55,"放假")+COUNTIF($L56:$AP56,"放假"))*0.5 -> 0 | J55: =(SUM(L57:AP57))/$AO$2 -> 0 | K55: =IF(A55="","",IF(MOD(ROW(),3)=1,"上午",IF(MOD(ROW(),3)=2,"下午","加班")))
K56: =IF(A55="","",IF(MOD(ROW(),3)=1,"上午",IF(MOD(ROW(),3)=2,"下午","加班")))
K57: =IF(A55="","",IF(MOD(ROW(),3)=1,"上午",IF(MOD(ROW(),3)=2,"下午","加班")))
A58: =IF(B58=0,"",COUNTA($B$3:$B57)) | B58: =INDIRECT("员工信息表!B"&COUNTA($B$3:$B57)+2) -> 0 | D58: =(COUNTIF($L58:$AP58,"出勤")+COUNTIF($L59:$AP59,"出勤"))*0.5 -> 0 | E58: =(COUNTIF($L58:$AP58,"事假")+COUNTIF($L59:$AP59,"事假"))*0.5 -> 0 | F58: =(COUNTIF($L58:$AP58,"病假")+COUNTIF($L59:$AP59,"病假"))*0.5 -> 0 | G58: =(COUNTIF($L58:$AP58,"休假")+COUNTIF($L59:$AP59,"休假"))*0.5 -> 0 | H58: =(COUNTIF($L58:$AP58,"缺勤")+COUNTIF($L59:$AP59,"缺勤"))*0.5 -> 0 | I58: =(COUNTIF($L58:$AP58,"放假")+COUNTIF($L59:$AP59,"放假"))*0.5 -> 0 | J58: =(SUM(L60:AP60))/$AO$2 -> 0 | K58: =IF(A58="","",IF(MOD(ROW(),3)=1,"上午",IF(MOD(ROW(),3)=2,"下午","加班")))
K59: =IF(A58="","",IF(MOD(ROW(),3)=1,"上午",IF(MOD(ROW(),3)=2,"下午","加班")))
K60: =IF(A58="","",IF(MOD(ROW(),3)=1,"上午",IF(MOD(ROW(),3)=2,"下午","加班")))
A61: =IF(B61=0,"",COUNTA($B$3:$B60)) | B61: =INDIRECT("员工信息表!B"&COUNTA($B$3:$B60)+2) -> 0 | D61: =(COUNTIF($L61:$AP61,"出勤")+COUNTIF($L62:$AP62,"出勤"))*0.5 -> 0 | E61: =(COUNTIF($L61:$AP61,"事假")+COUNTIF($L62:$AP62,"事假"))*0.5 -> 0 | F61: =(COUNTIF($L61:$AP61,"病假")+COUNTIF($L62:$AP62,"病假"))*0.5 -> 0 | G61: =(COUNTIF($L61:$AP61,"休假")+COUNTIF($L62:$AP62,"休假"))*0.5 -> 0 | H61: =(COUNTIF($L61:$AP61,"缺勤")+COUNTIF($L62:$AP62,"缺勤"))*0.5 -> 0 | I61: =(COUNTIF($L61:$AP61,"放假")+COUNTIF($L62:$AP62,"放假"))*0.5 -> 0 | J61: =(SUM(L63:AP63))/$AO$2 -> 0 | K61: =IF(A61="","",IF(MOD(ROW(),3)=1,"上午",IF(MOD(ROW(),3)=2,"下午","加班")))
K62: =IF(A61="","",IF(MOD(ROW(),3)=1,"上午",IF(MOD(ROW(),3)=2,"下午","加班")))
K63: =IF(A61="","",IF(MOD(ROW(),3)=1,"上午",IF(MOD(ROW(),3)=2,"下午","加班")))
A64: =IF(B64=0,"",COUNTA($B$3:$B63)) | B64: =INDIRECT("员工信息表!B"&COUNTA($B$3:$B63)+2) -> 0 | D64: =(COUNTIF($L64:$AP64,"出勤")+COUNTIF($L65:$AP65,"出勤"))*0.5 -> 0 | E64: =(COUNTIF($L64:$AP64,"事假")+COUNTIF($L65:$AP65,"事假"))*0.5 -> 0 | F64: =(COUNTIF($L64:$AP64,"病假")+COUNTIF($L65:$AP65,"病假"))*0.5 -> 0 | G64: =(COUNTIF($L64:$AP64,"休假")+COUNTIF($L65:$AP65,"休假"))*0.5 -> 0 | H64: =(COUNTIF($L64:$AP64,"缺勤")+COUNTIF($L65:$AP65,"缺勤"))*0.5 -> 0 | I64: =(COUNTIF($L64:$AP64,"放假")+COUNTIF($L65:$AP65,"放假"))*0.5 -> 0 | J64: =(SUM(L66:AP66))/$AO$2 -> 0 | K64: =IF(A64="","",IF(MOD(ROW(),3)=1,"上午",IF(MOD(ROW(),3)=2,"下午","加班")))
K65: =IF(A64="","",IF(MOD(ROW(),3)=1,"上午",IF(MOD(ROW(),3)=2,"下午","加班")))
K66: =IF(A64="","",IF(MOD(ROW(),3)=1,"上午",IF(MOD(ROW(),3)=2,"下午","加班")))
A67: =IF(B67=0,"",COUNTA($B$3:$B66)) | B67: =INDIRECT("员工信息表!B"&COUNTA($B$3:$B66)+2) -> 0 | D67: =(COUNTIF($L67:$AP67,"出勤")+COUNTIF($L68:$AP68,"出勤"))*0.5 -> 0 | E67: =(COUNTIF($L67:$AP67,"事假")+COUNTIF($L68:$AP68,"事假"))*0.5 -> 0 | F67: =(COUNTIF($L67:$AP67,"病假")+COUNTIF($L68:$AP68,"病假"))*0.5 -> 0 | G67: =(COUNTIF($L67:$AP67,"休假")+COUNTIF($L68:$AP68,"休假"))*0.5 -> 0 | H67: =(COUNTIF($L67:$AP67,"缺勤")+COUNTIF($L68:$AP68,"缺勤"))*0.5 -> 0 | I67: =(COUNTIF($L67:$AP67,"放假")+COUNTIF($L68:$AP68,"放假"))*0.5 -> 0 | J67: =(SUM(L69:AP69))/$AO$2 -> 0 | K67: =IF(A67="","",IF(MOD(ROW(),3)=1,"上午",IF(MOD(ROW(),3)=2,"下午","加班")))
K68: =IF(A67="","",IF(MOD(ROW(),3)=1,"上午",IF(MOD(ROW(),3)=2,"下午","加班")))
K69: =IF(A67="","",IF(MOD(ROW(),3)=1,"上午",IF(MOD(ROW(),3)=2,"下午","加班")))
A70: =IF(B70=0,"",COUNTA($B$3:$B69)) | B70: =INDIRECT("员工信息表!B"&COUNTA($B$3:$B69)+2) -> 0 | D70: =(COUNTIF($L70:$AP70,"出勤")+COUNTIF($L71:$AP71,"出勤"))*0.5 -> 0 | E70: =(COUNTIF($L70:$AP70,"事假")+COUNTIF($L71:$AP71,"事假"))*0.5 -> 0 | F70: =(COUNTIF($L70:$AP70,"病假")+COUNTIF($L71:$AP71,"病假"))*0.5 -> 0 | G70: =(COUNTIF($L70:$AP70,"休假")+COUNTIF($L71:$AP71,"休假"))*0.5 -> 0 | H70: =(COUNTIF($L70:$AP70,"缺勤")+COUNTIF($L71:$AP71,"缺勤"))*0.5 -> 0 | I70: =(COUNTIF($L70:$AP70,"放假")+COUNTIF($L71:$AP71,"放假"))*0.5 -> 0 | J70: =(SUM(L72:AP72))/$AO$2 -> 0 | K70: =IF(A70="","",IF(MOD(ROW(),3)=1,"上午",IF(MOD(ROW(),3)=2,"下午","加班")))
K71: =IF(A70="","",IF(MOD(ROW(),3)=1,"上午",IF(MOD(ROW(),3)=2,"下午","加班")))
K72: =IF(A70="","",IF(MOD(ROW(),3)=1,"上午",IF(MOD(ROW(),3)=2,"下午","加班")))
A73: =IF(B73=0,"",COUNTA($B$3:$B72)) | B73: =INDIRECT("员工信息表!B"&COUNTA($B$3:$B72)+2) -> 0 | D73: =(COUNTIF($L73:$AP73,"出勤")+COUNTIF($L74:$AP74,"出勤"))*0.5 -> 0 | E73: =(COUNTIF($L73:$AP73,"事假")+COUNTIF($L74:$AP74,"事假"))*0.5 -> 0 | F73: =(COUNTIF($L73:$AP73,"病假")+COUNTIF($L74:$AP74,"病假"))*0.5 -> 0 | G73: =(COUNTIF($L73:$AP73,"休假")+COUNTIF($L74:$AP74,"休假"))*0.5 -> 0 | H73: =(COUNTIF($L73:$AP73,"缺勤")+COUNTIF($L74:$AP74,"缺勤"))*0.5 -> 0 | I73: =(COUNTIF($L73:$AP73,"放假")+COUNTIF($L74:$AP74,"放假"))*0.5 -> 0 | J73: =(SUM(L75:AP75))/$AO$2 -> 0 | K73: =IF(A73="","",IF(MOD(ROW(),3)=1,"上午",IF(MOD(ROW(),3)=2,"下午","加班")))
K74: =IF(A73="","",IF(MOD(ROW(),3)=1,"上午",IF(MOD(ROW(),3)=2,"下午","加班")))
K75: =IF(A73="","",IF(MOD(ROW(),3)=1,"上午",IF(MOD(ROW(),3)=2,"下午","加班")))
A76: =IF(B76=0,"",COUNTA($B$3:$B75)) | B76: =INDIRECT("员工信息表!B"&COUNTA($B$3:$B75)+2) -> 0 | D76: =(COUNTIF($L76:$AP76,"出勤")+COUNTIF($L77:$AP77,"出勤"))*0.5 -> 0 | E76: =(COUNTIF($L76:$AP76,"事假")+COUNTIF($L77:$AP77,"事假"))*0.5 -> 0 | F76: =(COUNTIF($L76:$AP76,"病假")+COUNTIF($L77:$AP77,"病假"))*0.5 -> 0 | G76: =(COUNTIF($L76:$AP76,"休假")+COUNTIF($L77:$AP77,"休假"))*0.5 -> 0 | H76: =(COUNTIF($L76:$AP76,"缺勤")+COUNTIF($L77:$AP77,"缺勤"))*0.5 -> 0 | I76: =(COUNTIF($L76:$AP76,"放假")+COUNTIF($L77:$AP77,"放假"))*0.5 -> 0 | J76: =(SUM(L78:AP78))/$AO$2 -> 0 | K76: =IF(A76="","",IF(MOD(ROW(),3)=1,"上午",IF(MOD(ROW(),3)=2,"下午","加班")))
K77: =IF(A76="","",IF(MOD(ROW(),3)=1,"上午",IF(MOD(ROW(),3)=2,"下午","加班")))
K78: =IF(A76="","",IF(MOD(ROW(),3)=1,"上午",IF(MOD(ROW(),3)=2,"下午","加班")))
A79: =IF(B79=0,"",COUNTA($B$3:$B78)) | B79: =INDIRECT("员工信息表!B"&COUNTA($B$3:$B78)+2) -> 0 | D79: =(COUNTIF($L79:$AP79,"出勤")+COUNTIF($L80:$AP80,"出勤"))*0.5 -> 0 | E79: =(COUNTIF($L79:$AP79,"事假")+COUNTIF($L80:$AP80,"事假"))*0.5 -> 0 | F79: =(COUNTIF($L79:$AP79,"病假")+COUNTIF($L80:$AP80,"病假"))*0.5 -> 0 | G79: =(COUNTIF($L79:$AP79,"休假")+COUNTIF($L80:$AP80,"休假"))*0.5 -> 0 | H79: =(COUNTIF($L79:$AP79,"缺勤")+COUNTIF($L80:$AP80,"缺勤"))*0.5 -> 0 | I79: =(COUNTIF($L79:$AP79,"放假")+COUNTIF($L80:$AP80,"放假"))*0.5 -> 0 | J79: =(SUM(L81:AP81))/$AO$2 -> 0 | K79: =IF(A79="","",IF(MOD(ROW(),3)=1,"上午",IF(MOD(ROW(),3)=2,"下午","加班")))
K80: =IF(A79="","",IF(MOD(ROW(),3)=1,"上午",IF(MOD(ROW(),3)=2,"下午","加班")))
K81: =IF(A79="","",IF(MOD(ROW(),3)=1,"上午",IF(MOD(ROW(),3)=2,"下午","加班")))
A82: =IF(B82=0,"",COUNTA($B$3:$B81)) | B82: =INDIRECT("员工信息表!B"&COUNTA($B$3:$B81)+2) -> 0 | D82: =(COUNTIF($L82:$AP82,"出勤")+COUNTIF($L83:$AP83,"出勤"))*0.5 -> 0 | E82: =(COUNTIF($L82:$AP82,"事假")+COUNTIF($L83:$AP83,"事假"))*0.5 -> 0 | F82: =(COUNTIF($L82:$AP82,"病假")+COUNTIF($L83:$AP83,"病假"))*0.5 -> 0 | G82: =(COUNTIF($L82:$AP82,"休假")+COUNTIF($L83:$AP83,"休假"))*0.5 -> 0 | H82: =(COUNTIF($L82:$AP82,"缺勤")+COUNTIF($L83:$AP83,"缺勤"))*0.5 -> 0 | I82: =(COUNTIF($L82:$AP82,"放假")+COUNTIF($L83:$AP83,"放假"))*0.5 -> 0 | J82: =(SUM(L84:AP84))/$AO$2 -> 0 | K82: =IF(A82="","",IF(MOD(ROW(),3)=1,"上午",IF(MOD(ROW(),3)=2,"下午","加班")))
K83: =IF(A82="","",IF(MOD(ROW(),3)=1,"上午",IF(MOD(ROW(),3)=2,"下午","加班")))
K84: =IF(A82="","",IF(MOD(ROW(),3)=1,"上午",IF(MOD(ROW(),3)=2,"下午","加班")))
A85: =IF(B85=0,"",COUNTA($B$3:$B84)) | B85: =INDIRECT("员工信息表!B"&COUNTA($B$3:$B84)+2) -> 0 | D85: =(COUNTIF($L85:$AP85,"出勤")+COUNTIF($L86:$AP86,"出勤"))*0.5 -> 0 | E85: =(COUNTIF($L85:$AP85,"事假")+COUNTIF($L86:$AP86,"事假"))*0.5 -> 0 | F85: =(COUNTIF($L85:$AP85,"病假")+COUNTIF($L86:$AP86,"病假"))*0.5 -> 0 | G85: =(COUNTIF($L85:$AP85,"休假")+COUNTIF($L86:$AP86,"休假"))*0.5 -> 0 | H85: =(COUNTIF($L85:$AP85,"缺勤")+COUNTIF($L86:$AP86,"缺勤"))*0.5 -> 0 | I85: =(COUNTIF($L85:$AP85,"放假")+COUNTIF($L86:$AP86,"放假"))*0.5 -> 0 | J85: =(SUM(L87:AP87))/$AO$2 -> 0 | K85: =IF(A85="","",IF(MOD(ROW(),3)=1,"上午",IF(MOD(ROW(),3)=2,"下午","加班")))
K86: =IF(A85="","",IF(MOD(ROW(),3)=1,"上午",IF(MOD(ROW(),3)=2,"下午","加班")))
K87: =IF(A85="","",IF(MOD(ROW(),3)=1,"上午",IF(MOD(ROW(),3)=2,"下午","加班")))
A88: =IF(B88=0,"",COUNTA($B$3:$B87)) | B88: =INDIRECT("员工信息表!B"&COUNTA($B$3:$B87)+2) -> 0 | D88: =(COUNTIF($L88:$AP88,"出勤")+COUNTIF($L89:$AP89,"出勤"))*0.5 -> 0 | E88: =(COUNTIF($L88:$AP88,"事假")+COUNTIF($L89:$AP89,"事假"))*0.5 -> 0 | F88: =(COUNTIF($L88:$AP88,"病假")+COUNTIF($L89:$AP89,"病假"))*0.5 -> 0 | G88: =(COUNTIF($L88:$AP88,"休假")+COUNTIF($L89:$AP89,"休假"))*0.5 -> 0 | H88: =(COUNTIF($L88:$AP88,"缺勤")+COUNTIF($L89:$AP89,"缺勤"))*0.5 -> 0 | I88: =(COUNTIF($L88:$AP88,"放假")+COUNTIF($L89:$AP89,"放假"))*0.5 -> 0 | J88: =(SUM(L90:AP90))/$AO$2 -> 0 | K88: =IF(A88="","",IF(MOD(ROW(),3)=1,"上午",IF(MOD(ROW(),3)=2,"下午","加班")))
K89: =IF(A88="","",IF(MOD(ROW(),3)=1,"上午",IF(MOD(ROW(),3)=2,"下午","加班")))
K90: =IF(A88="","",IF(MOD(ROW(),3)=1,"上午",IF(MOD(ROW(),3)=2,"下午","加班")))
A91: =IF(B91=0,"",COUNTA($B$3:$B90)) | B91: =INDIRECT("员工信息表!B"&COUNTA($B$3:$B90)+2) -> 0 | D91: =(COUNTIF($L91:$AP91,"出勤")+COUNTIF($L92:$AP92,"出勤"))*0.5 -> 0 | E91: =(COUNTIF($L91:$AP91,"事假")+COUNTIF($L92:$AP92,"事假"))*0.5 -> 0 | F91: =(COUNTIF($L91:$AP91,"病假")+COUNTIF($L92:$AP92,"病假"))*0.5 -> 0 | G91: =(COUNTIF($L91:$AP91,"休假")+COUNTIF($L92:$AP92,"休假"))*0.5 -> 0 | H91: =(COUNTIF($L91:$AP91,"缺勤")+COUNTIF($L92:$AP92,"缺勤"))*0.5 -> 0 | I91: =(COUNTIF($L91:$AP91,"放假")+COUNTIF($L92:$AP92,"放假"))*0.5 -> 0 | J91: =(SUM(L93:AP93))/$AO$2 -> 0 | K91: =IF(A91="","",IF(MOD(ROW(),3)=1,"上午",IF(MOD(ROW(),3)=2,"下午","加班")))
K92: =IF(A91="","",IF(MOD(ROW(),3)=1,"上午",IF(MOD(ROW(),3)=2,"下午","加班")))
K93: =IF(A91="","",IF(MOD(ROW(),3)=1,"上午",IF(MOD(ROW(),3)=2,"下午","加班")))
A94: =IF(B94=0,"",COUNTA($B$3:$B93)) | B94: =INDIRECT("员工信息表!B"&COUNTA($B$3:$B93)+2) -> 0 | D94: =(COUNTIF($L94:$AP94,"出勤")+COUNTIF($L95:$AP95,"出勤"))*0.5 -> 0 | E94: =(COUNTIF($L94:$AP94,"事假")+COUNTIF($L95:$AP95,"事假"))*0.5 -> 0 | F94: =(COUNTIF($L94:$AP94,"病假")+COUNTIF($L95:$AP95,"病假"))*0.5 -> 0 | G94: =(COUNTIF($L94:$AP94,"休假")+COUNTIF($L95:$AP95,"休假"))*0.5 -> 0 | H94: =(COUNTIF($L94:$AP94,"缺勤")+COUNTIF($L95:$AP95,"缺勤"))*0.5 -> 0 | I94: =(COUNTIF($L94:$AP94,"放假")+COUNTIF($L95:$AP95,"放假"))*0.5 -> 0 | J94: =(SUM(L96:AP96))/$AO$2 -> 0 | K94: =IF(A94="","",IF(MOD(ROW(),3)=1,"上午",IF(MOD(ROW(),3)=2,"下午","加班")))
K95: =IF(A94="","",IF(MOD(ROW(),3)=1,"上午",IF(MOD(ROW(),3)=2,"下午","加班")))
K96: =IF(A94="","",IF(MOD(ROW(),3)=1,"上午",IF(MOD(ROW(),3)=2,"下午","加班")))
A97: =IF(B97=0,"",COUNTA($B$3:$B96)) | B97: =INDIRECT("员工信息表!B"&COUNTA($B$3:$B96)+2) -> 0 | D97: =(COUNTIF($L97:$AP97,"出勤")+COUNTIF($L98:$AP98,"出勤"))*0.5 -> 0 | E97: =(COUNTIF($L97:$AP97,"事假")+COUNTIF($L98:$AP98,"事假"))*0.5 -> 0 | F97: =(COUNTIF($L97:$AP97,"病假")+COUNTIF($L98:$AP98,"病假"))*0.5 -> 0 | G97: =(COUNTIF($L97:$AP97,"休假")+COUNTIF($L98:$AP98,"休假"))*0.5 -> 0 | H97: =(COUNTIF($L97:$AP97,"缺勤")+COUNTIF($L98:$AP98,"缺勤"))*0.5 -> 0 | I97: =(COUNTIF($L97:$AP97,"放假")+COUNTIF($L98:$AP98,"放假"))*0.5 -> 0 | J97: =(SUM(L99:AP99))/$AO$2 -> 0 | K97: =IF(A97="","",IF(MOD(ROW(),3)=1,"上午",IF(MOD(ROW(),3)=2,"下午","加班")))
K98: =IF(A97="","",IF(MOD(ROW(),3)=1,"上午",IF(MOD(ROW(),3)=2,"下午","加班")))
K99: =IF(A97="","",IF(MOD(ROW(),3)=1,"上午",IF(MOD(ROW(),3)=2,"下午","加班")))
A100: =IF(B100=0,"",COUNTA($B$3:$B99)) | B100: =INDIRECT("员工信息表!B"&COUNTA($B$3:$B99)+2) -> 0 | D100: =(COUNTIF($L100:$AP100,"出勤")+COUNTIF($L101:$AP101,"出勤"))*0.5 -> 0 | E100: =(COUNTIF($L100:$AP100,"事假")+COUNTIF($L101:$AP101,"事假"))*0.5 -> 0 | F100: =(COUNTIF($L100:$AP100,"病假")+COUNTIF($L101:$AP101,"病假"))*0.5 -> 0 | G100: =(COUNTIF($L100:$AP100,"休假")+COUNTIF($L101:$AP101,"休假"))*0.5 -> 0 | H100: =(COUNTIF($L100:$AP100,"缺勤")+COUNTIF($L101:$AP101,"缺勤"))*0.5 -> 0 | I100: =(COUNTIF($L100:$AP100,"放假")+COUNTIF($L101:$AP101,"放假"))*0.5 -> 0 | J100: =(SUM(L102:AP102))/$AO$2 -> 0 | K100: =IF(A100="","",IF(MOD(ROW(),3)=1,"上午",IF(MOD(ROW(),3)=2,"下午","加班")))
...

Sheet 4月
A1: 考 勤 表
A2: 2022 | C2: 4 | J2: ="本月 "&DAY(DATE(A2,C2+1,1)-1)&" 天" -> 本月 30 天 | AJ2: 输入每天工作小时 | AO2: 7 | AP2: h
A3: 序号 | B3: 姓名 | C3: 应出勤 天数 | D3: 实际出勤 天数 | E3: 事假 天数 | F3: 病假 天数 | G3: 休假 天数 | H3: 缺勤 天数 | I3: 放假 天数 | J3: 加班 天数 | K3: 班次 | L3: =IF(MONTH(DATE($A$2,$C$2,COLUMN(A1)))=$C$2,DATE($A$2,$C$2,COLUMN(A1)),"") -> 44652 | M3: =IF(MONTH(DATE($A$2,$C$2,COLUMN(B1)))=$C$2,DATE($A$2,$C$2,COLUMN(B1)),"") -> 44653 | N3: =IF(MONTH(DATE($A$2,$C$2,COLUMN(C1)))=$C$2,DATE($A$2,$C$2,COLUMN(C1)),"") -> 44654 | O3: =IF(MONTH(DATE($A$2,$C$2,COLUMN(D1)))=$C$2,DATE($A$2,$C$2,COLUMN(D1)),"") -> 44655 | P3: =IF(MONTH(DATE($A$2,$C$2,COLUMN(E1)))=$C$2,DATE($A$2,$C$2,COLUMN(E1)),"") -> 44656 | Q3: =IF(MONTH(DATE($A$2,$C$2,COLUMN(F1)))=$C$2,DATE($A$2,$C$2,COLUMN(F1)),"") -> 44657 | R3: =IF(MONTH(DATE($A$2,$C$2,COLUMN(G1)))=$C$2,DATE($A$2,$C$2,COLUMN(G1)),"") -> 44658 | S3: =IF(MONTH(DATE($A$2,$C$2,COLUMN(H1)))=$C$2,DATE($A$2,$C$2,COLUMN(H1)),"") -> 44659 | ... AP3: =IF(MONTH(DATE($A$2,$C$2,COLUMN(AE1)))=$C$2,DATE($A$2,$C$2,COLUMN(AE1)),"")
A4: =IF(B4=0,"",COUNTA($B$3:$B3)) -> 1 | B4: =INDIRECT("员工信息表!B"&COUNTA($B$3:$B3)+2) -> 苏继兵 | C4: 22 | D4: =(COUNTIF($L4:$AP4,"出勤")+COUNTIF($L5:$AP5,"出勤"))*0.5 -> 2.5 | E4: =(COUNTIF($L4:$AP4,"事假")+COUNTIF($L5:$AP5,"事假"))*0.5 -> 0.5 | F4: =(COUNTIF($L4:$AP4,"病假")+COUNTIF($L5:$AP5,"病假"))*0.5 -> 0.5 | G4: =(COUNTIF($L4:$AP4,"休假")+COUNTIF($L5:$AP5,"休假"))*0.5 -> 0.5 | H4: =(COUNTIF($L4:$AP4,"缺勤")+COUNTIF($L5:$AP5,"缺勤"))*0.5 -> 0.5 | I4: =(COUNTIF($L4:$AP4,"放假")+COUNTIF($L5:$AP5,"放假"))*0.5 -> 0.5 | J4: =(SUM(L6:AP6))/$AO$2 -> 1.2857143 | K4: =IF(A4="","",IF(MOD(ROW(),3)=1,"上午",IF(MOD(ROW(),3)=2,"下午","加班"))) -> 上午 | L4: 出勤 | M4: 出勤 | N4: 出勤 | P4: 休假 | T4: 缺勤 | V4: 放假
K5: =IF(A4="","",IF(MOD(ROW(),3)=1,"上午",IF(MOD(ROW(),3)=2,"下午","加班"))) -> 下午 | L5: 出勤 | M5: 出勤 | O5: 事假 | R5: 病假
K6: =IF(A4="","",IF(MOD(ROW(),3)=1,"上午",IF(MOD(ROW(),3)=2,"下午","加班"))) -> 加班 | L6: 6 | N6: 3
A7: =IF(B7=0,"",COUNTA($B$3:$B6)) -> 2 | B7: =INDIRECT("员工信息表!B"&COUNTA($B$3:$B6)+2) -> 苏继中 | C7: 22 | D7: =(COUNTIF($L7:$AP7,"出勤")+COUNTIF($L8:$AP8,"出勤"))*0.5 -> 2.5 | E7: =(COUNTIF($L7:$AP7,"事假")+COUNTIF($L8:$AP8,"事假"))*0.5 -> 0.5 | F7: =(COUNTIF($L7:$AP7,"病假")+COUNTIF($L8:$AP8,"病假"))*0.5 -> 0.5 | G7: =(COUNTIF($L7:$AP7,"休假")+COUNTIF($L8:$AP8,"休假"))*0.5 -> 0.5 | H7: =(COUNTIF($L7:$AP7,"缺勤")+COUNTIF($L8:$AP8,"缺勤"))*0.5 -> 0.5 | I7: =(COUNTIF($L7:$AP7,"放假")+COUNTIF($L8:$AP8,"放假"))*0.5 -> 0.5 | J7: =(SUM(L9:AP9))/$AO$2 -> 1.5714286 | K7: =IF(A7="","",IF(MOD(ROW(),3)=1,"上午",IF(MOD(ROW(),3)=2,"下午","加班"))) -> 上午 | L7: 出勤 | M7: 出勤 | N7: 出勤 | P7: 休假 | T7: 缺勤 | V7: 放假
K8: =IF(A7="","",IF(MOD(ROW(),3)=1,"上午",IF(MOD(ROW(),3)=2,"下午","加班"))) -> 下午 | L8: 出勤 | M8: 出勤 | O8: 事假 | R8: 病假
K9: =IF(A7="","",IF(MOD(ROW(),3)=1,"上午",IF(MOD(ROW(),3)=2,"下午","加班"))) -> 加班 | L9: 7 | N9: 4
A10: =IF(B10=0,"",COUNTA($B$3:$B9)) -> 3 | B10: =INDIRECT("员工信息表!B"&COUNTA($B$3:$B9)+2) -> 刘毅 | C10: 22 | D10: =(COUNTIF($L10:$AP10,"出勤")+COUNTIF($L11:$AP11,"出勤"))*0.5 -> 2.5 | E10: =(COUNTIF($L10:$AP10,"事假")+COUNTIF($L11:$AP11,"事假"))*0.5 -> 0.5 | F10: =(COUNTIF($L10:$AP10,"病假")+COUNTIF($L11:$AP11,"病假"))*0.5 -> 0.5 | G10: =(COUNTIF($L10:$AP10,"休假")+COUNTIF($L11:$AP11,"休假"))*0.5 -> 0.5 | H10: =(COUNTIF($L10:$AP10,"缺勤")+COUNTIF($L11:$AP11,"缺勤"))*0.5 -> 0.5 | I10: =(COUNTIF($L10:$AP10,"放假")+COUNTIF($L11:$AP11,"放假"))*0.5 -> 0.5 | J10: =(SUM(L12:AP12))/$AO$2 -> 1.8571429 | K10: =IF(A10="","",IF(MOD(ROW(),3)=1,"上午",IF(MOD(ROW(),3)=2,"下午","加班"))) -> 上午 | L10: 出勤 | M10: 出勤 | N10: 出勤 | P10: 休假 | T10: 缺勤 | V10: 放假
K11: =IF(A10="","",IF(MOD(ROW(),3)=1,"上午",IF(MOD(ROW(),3)=2,"下午","加班"))) -> 下午 | L11: 出勤 | M11: 出勤 | O11: 事假 | R11: 病假
K12: =IF(A10="","",IF(MOD(ROW(),3)=1,"上午",IF(MOD(ROW(),3)=2,"下午","加班"))) -> 加班 | L12: 8 | N12: 5
A13: =IF(B13=0,"",COUNTA($B$3:$B12)) -> 4 | B13: =INDIRECT("员工信息表!B"&COUNTA($B$3:$B12)+2) -> 伍亦中 | C13: 22 | D13: =(COUNTIF($L13:$AP13,"出勤")+COUNTIF($L14:$AP14,"出勤"))*0.5 -> 2.5 | E13: =(COUNTIF($L13:$AP13,"事假")+COUNTIF($L14:$AP14,"事假"))*0.5 -> 0.5 | F13: =(COUNTIF($L13:$AP13,"病假")+COUNTIF($L14:$AP14,"病假"))*0.5 -> 0.5 | G13: =(COUNTIF($L13:$AP13,"休假")+COUNTIF($L14:$AP14,"休假"))*0.5 -> 0.5 | H13: =(COUNTIF($L13:$AP13,"缺勤")+COUNTIF($L14:$AP14,"缺勤"))*0.5 -> 0.5 | I13: =(COUNTIF($L13:$AP13,"放假")+COUNTIF($L14:$AP14,"放假"))*0.5 -> 0.5 | J13: =(SUM(L15:AP15))/$AO$2 -> 2.1428571 | K13: =IF(A13="","",IF(MOD(ROW(),3)=1,"上午",IF(MOD(ROW(),3)=2,"下午","加班"))) -> 上午 | L13: 出勤 | M13: 出勤 | N13: 出勤 | P13: 休假 | T13: 缺勤 | V13: 放假
K14: =IF(A13="","",IF(MOD(ROW(),3)=1,"上午",IF(MOD(ROW(),3)=2,"下午","加班"))) -> 下午 | L14: 出勤 | M14: 出勤 | O14: 事假 | R14: 病假
K15: =IF(A13="","",IF(MOD(ROW(),3)=1,"上午",IF(MOD(ROW(),3)=2,"下午","加班"))) -> 加班 | L15: 9 | N15: 6
A16: =IF(B16=0,"",COUNTA($B$3:$B15)) -> 5 | B16: =INDIRECT("员工信息表!B"&COUNTA($B$3:$B15)+2) -> 苏绿华 | C16: 22 | D16: =(COUNTIF($L16:$AP16,"出勤")+COUNTIF($L17:$AP17,"出勤"))*0.5 -> 2.5 | E16: =(COUNTIF($L16:$AP16,"事假")+COUNTIF($L17:$AP17,"事假"))*0.5 -> 0.5 | F16: =(COUNTIF($L16:$AP16,"病假")+COUNTIF($L17:$AP17,"病假"))*0.5 -> 0.5 | G16: =(COUNTIF($L16:$AP16,"休假")+COUNTIF($L17:$AP17,"休假"))*0.5 -> 0.5 | H16: =(COUNTIF($L16:$AP16,"缺勤")+COUNTIF($L17:$AP17,"缺勤"))*0.5 -> 0.5 | I16: =(COUNTIF($L16:$AP16,"放假")+COUNTIF($L17:$AP17,"放假"))*0.5 -> 0.5 | J16: =(SUM(L18:AP18))/$AO$2 -> 2.4285714 | K16: =IF(A16="","",IF(MOD(ROW(),3)=1,"上午",IF(MOD(ROW(),3)=2,"下午","加班"))) -> 上午 | L16: 出勤 | M16: 出勤 | N16: 出勤 | P16: 休假 | T16: 缺勤 | V16: 放假
K17: =IF(A16="","",IF(MOD(ROW(),3)=1,"上午",IF(MOD(ROW(),3)=2,"下午","加班"))) -> 下午 | L17: 出勤 | M17: 出勤 | O17: 事假 | R17: 病假
K18: =IF(A16="","",IF(MOD(ROW(),3)=1,"上午",IF(MOD(ROW(),3)=2,"下午","加班"))) -> 加班 | L18: 10 | N18: 7
A19: =IF(B19=0,"",COUNTA($B$3:$B18)) -> 6 | B19: =INDIRECT("员工信息表!B"&COUNTA($B$3:$B18)+2) -> 王升祥 | C19: 22 | D19: =(COUNTIF($L19:$AP19,"出勤")+COUNTIF($L20:$AP20,"出勤"))*0.5 -> 2.5 | E19: =(COUNTIF($L19:$AP19,"事假")+COUNTIF($L20:$AP20,"事假"))*0.5 -> 0.5 | F19: =(COUNTIF($L19:$AP19,"病假")+COUNTIF($L20:$AP20,"病假"))*0.5 -> 0.5 | G19: =(COUNTIF($L19:$AP19,"休假")+COUNTIF($L20:$AP20,"休假"))*0.5 -> 0.5 | H19: =(COUNTIF($L19:$AP19,"缺勤")+COUNTIF($L20:$AP20,"缺勤"))*0.5 -> 0.5 | I19: =(COUNTIF($L19:$AP19,"放假")+COUNTIF($L20:$AP20,"放假"))*0.5 -> 0.5 | J19: =(SUM(L21:AP21))/$AO$2 -> 2.7142857 | K19: =IF(A19="","",IF(MOD(ROW(),3)=1,"上午",IF(MOD(ROW(),3)=2,"下午","加班"))) -> 上午 | L19: 出勤 | M19: 出勤 | N19: 出勤 | P19: 休假 | T19: 缺勤 | V19: 放假
K20: =IF(A19="","",IF(MOD(ROW(),3)=1,"上午",IF(MOD(ROW(),3)=2,"下午","加班"))) -> 下午 | L20: 出勤 | M20: 出勤 | O20: 事假 | R20: 病假
K21: =IF(A19="","",IF(MOD(ROW(),3)=1,"上午",IF(MOD(ROW(),3)=2,"下午","加班"))) -> 加班 | L21: 11 | N21: 8
A22: =IF(B22=0,"",COUNTA($B$3:$B21)) -> 7 | B22: =INDIRECT("员工信息表!B"&COUNTA($B$3:$B21)+2) -> 刘让铁 | C22: 22 | D22: =(COUNTIF($L22:$AP22,"出勤")+COUNTIF($L23:$AP23,"出勤"))*0.5 -> 2.5 | E22: =(COUNTIF($L22:$AP22,"事假")+COUNTIF($L23:$AP23,"事假"))*0.5 -> 0.5 | F22: =(COUNTIF($L22:$AP22,"病假")+COUNTIF($L23:$AP23,"病假"))*0.5 -> 0.5 | G22: =(COUNTIF($L22:$AP22,"休假")+COUNTIF($L23:$AP23,"休假"))*0.5 -> 0.5 | H22: =(COUNTIF($L22:$AP22,"缺勤")+COUNTIF($L23:$AP23,"缺勤"))*0.5 -> 0.5 | I22: =(COUNTIF($L22:$AP22,"放假")+COUNTIF($L23:$AP23,"放假"))*0.5 -> 0.5 | J22: =(SUM(L24:AP24))/$AO$2 -> 3 | K22: =IF(A22="","",IF(MOD(ROW(),3)=1,"上午",IF(MOD(ROW(),3)=2,"下午","加班"))) -> 上午 | L22: 出勤 | M22: 出勤 | N22: 出勤 | P22: 休假 | T22: 缺勤 | V22: 放假
K23: =IF(A22="","",IF(MOD(ROW(),3)=1,"上午",IF(MOD(ROW(),3)=2,"下午","加班"))) -> 下午 | L23: 出勤 | M23: 出勤 | O23: 事假 | R23: 病假
K24: =IF(A22="","",IF(MOD(ROW(),3)=1,"上午",IF(MOD(ROW(),3)=2,"下午","加班"))) -> 加班 | L24: 12 | N24: 9
A25: =IF(B25=0,"",COUNTA($B$3:$B24)) -> 8 | B25: =INDIRECT("员工信息表!B"&COUNTA($B$3:$B24)+2) -> 颜运回 | C25: 22 | D25: =(COUNTIF($L25:$AP25,"出勤")+COUNTIF($L26:$AP26,"出勤"))*0.5 -> 2.5 | E25: =(COUNTIF($L25:$AP25,"事假")+COUNTIF($L26:$AP26,"事假"))*0.5 -> 0.5 | F25: =(COUNTIF($L25:$AP25,"病假")+COUNTIF($L26:$AP26,"病假"))*0.5 -> 0.5 | G25: =(COUNTIF($L25:$AP25,"休假")+COUNTIF($L26:$AP26,"休假"))*0.5 -> 0.5 | H25: =(COUNTIF($L25:$AP25,"缺勤")+COUNTIF($L26:$AP26,"缺勤"))*0.5 -> 0.5 | I25: =(COUNTIF($L25:$AP25,"放假")+COUNTIF($L26:$AP26,"放假"))*0.5 -> 0.5 | J25: =(SUM(L27:AP27))/$AO$2 -> 3.2857143 | K25: =IF(A25="","",IF(MOD(ROW(),3)=1,"上午",IF(MOD(ROW(),3)=2,"下午","加班"))) -> 上午 | L25: 出勤 | M25: 出勤 | N25: 出勤 | P25: 休假 | T25: 缺勤 | V25: 放假
K26: =IF(A25="","",IF(MOD(ROW(),3)=1,"上午",IF(MOD(ROW(),3)=2,"下午","加班"))) -> 下午 | L26: 出勤 | M26: 出勤 | O26: 事假 | R26: 病假
K27: =IF(A25="","",IF(MOD(ROW(),3)=1,"上午",IF(MOD(ROW(),3)=2,"下午","加班"))) -> 加班 | L27: 13 | N27: 10
A28: =IF(B28=0,"",COUNTA($B$3:$B27)) -> 9 | B28: =INDIRECT("员工信息表!B"&COUNTA($B$3:$B27)+2) -> 尹小平 | C28: 22 | D28: =(COUNTIF($L28:$AP28,"出勤")+COUNTIF($L29:$AP29,"出勤"))*0.5 -> 2.5 | E28: =(COUNTIF($L28:$AP28,"事假")+COUNTIF($L29:$AP29,"事假"))*0.5 -> 0.5 | F28: =(COUNTIF($L28:$AP28,"病假")+COUNTIF($L29:$AP29,"病假"))*0.5 -> 0.5 | G28: =(COUNTIF($L28:$AP28,"休假")+COUNTIF($L29:$AP29,"休假"))*0.5 -> 0.5 | H28: =(COUNTIF($L28:$AP28,"缺勤")+COUNTIF($L29:$AP29,"缺勤"))*0.5 -> 0.5 | I28: =(COUNTIF($L28:$AP28,"放假")+COUNTIF($L29:$AP29,"放假"))*0.5 -> 0.5 | J28: =(SUM(L30:AP30))/$AO$2 -> 3.5714286 | K28: =IF(A28="","",IF(MOD(ROW(),3)=1,"上午",IF(MOD(ROW(),3)=2,"下午","加班"))) -> 上午 | L28: 出勤 | M28: 出勤 | N28: 出勤 | P28: 休假 | T28: 缺勤 | V28: 放假
K29: =IF(A28="","",IF(MOD(ROW(),3)=1,"上午",IF(MOD(ROW(),3)=2,"下午","加班"))) -> 下午 | L29: 出勤 | M29: 出勤 | O29: 事假 | R29: 病假
K30: =IF(A28="","",IF(MOD(ROW(),3)=1,"上午",IF(MOD(ROW(),3)=2,"下午","加班"))) -> 加班 | L30: 14 | N30: 11
A31: =IF(B31=0,"",COUNTA($B$3:$B30)) -> 10 | B31: =INDIRECT("员工信息表!B"&COUNTA($B$3:$B30)+2) -> 颜建美 | C31: 22 | D31: =(COUNTIF($L31:$AP31,"出勤")+COUNTIF($L32:$AP32,"出勤"))*0.5 -> 2.5 | E31: =(COUNTIF($L31:$AP31,"事假")+COUNTIF($L32:$AP32,"事假"))*0.5 -> 0.5 | F31: =(COUNTIF($L31:$AP31,"病假")+COUNTIF($L32:$AP32,"病假"))*0.5 -> 0.5 | G31: =(COUNTIF($L31:$AP31,"休假")+COUNTIF($L32:$AP32,"休假"))*0.5 -> 0.5 | H31: =(COUNTIF($L31:$AP31,"缺勤")+COUNTIF($L32:$AP32,"缺勤"))*0.5 -> 0.5 | I31: =(COUNTIF($L31:$AP31,"放假")+COUNTIF($L32:$AP32,"放假"))*0.5 -> 0.5 | J31: =(SUM(L33:AP33))/$AO$2 -> 3.8571429 | K31: =IF(A31="","",IF(MOD(ROW(),3)=1,"上午",IF(MOD(ROW(),3)=2,"下午","加班"))) -> 上午 | L31: 出勤 | M31: 出勤 | N31: 出勤 | P31: 休假 | T31: 缺勤 | V31: 放假
K32: =IF(A31="","",IF(MOD(ROW(),3)=1,"上午",IF(MOD(ROW(),3)=2,"下午","加班"))) -> 下午 | L32: 出勤 | M32: 出勤 | O32: 事假 | R32: 病假
K33: =IF(A31="","",IF(MOD(ROW(),3)=1,"上午",IF(MOD(ROW(),3)=2,"下午","加班"))) -> 加班 | L33: 15 | N33: 12
A34: =IF(B34=0,"",COUNTA($B$3:$B33)) -> 11 | B34: =INDIRECT("员工信息表!B"&COUNTA($B$3:$B33)+2) -> 尹乔丽 | C34: 22 | D34: =(COUNTIF($L34:$AP34,"出勤")+COUNTIF($L35:$AP35,"出勤"))*0.5 -> 2.5 | E34: =(COUNTIF($L34:$AP34,"事假")+COUNTIF($L35:$AP35,"事假"))*0.5 -> 0.5 | F34: =(COUNTIF($L34:$AP34,"病假")+COUNTIF($L35:$AP35,"病假"))*0.5 -> 0.5 | G34: =(COUNTIF($L34:$AP34,"休假")+COUNTIF($L35:$AP35,"休假"))*0.5 -> 0.5 | H34: =(COUNTIF($L34:$AP34,"缺勤")+COUNTIF($L35:$AP35,"缺勤"))*0.5 -> 0.5 | I34: =(COUNTIF($L34:$AP34,"放假")+COUNTIF($L35:$AP35,"放假"))*0.5 -> 0.5 | J34: =(SUM(L36:AP36))/$AO$2 -> 4.1428571 | K34: =IF(A34="","",IF(MOD(ROW(),3)=1,"上午",IF(MOD(ROW(),3)=2,"下午","加班"))) -> 上午 | L34: 出勤 | M34: 出勤 | N34: 出勤 | P34: 休假 | T34: 缺勤 | V34: 放假
K35: =IF(A34="","",IF(MOD(ROW(),3)=1,"上午",IF(MOD(ROW(),3)=2,"下午","加班"))) -> 下午 | L35: 出勤 | M35: 出勤 | O35: 事假 | R35: 病假
K36: =IF(A34="","",IF(MOD(ROW(),3)=1,"上午",IF(MOD(ROW(),3)=2,"下午","加班"))) -> 加班 | L36: 16 | N36: 13
A37: =IF(B37=0,"",COUNTA($B$3:$B36)) | B37: =INDIRECT("员工信息表!B"&COUNTA($B$3:$B36)+2) -> 0 | D37: =(COUNTIF($L37:$AP37,"出勤")+COUNTIF($L38:$AP38,"出勤"))*0.5 -> 0 | E37: =(COUNTIF($L37:$AP37,"事假")+COUNTIF($L38:$AP38,"事假"))*0.5 -> 0 | F37: =(COUNTIF($L37:$AP37,"病假")+COUNTIF($L38:$AP38,"病假"))*0.5 -> 0 | G37: =(COUNTIF($L37:$AP37,"休假")+COUNTIF($L38:$AP38,"休假"))*0.5 -> 0 | H37: =(COUNTIF($L37:$AP37,"缺勤")+COUNTIF($L38:$AP38,"缺勤"))*0.5 -> 0 | I37: =(COUNTIF($L37:$AP37,"放假")+COUNTIF($L38:$AP38,"放假"))*0.5 -> 0 | J37: =(SUM(L39:AP39))/$AO$2 -> 0 | K37: =IF(A37="","",IF(MOD(ROW(),3)=1,"上午",IF(MOD(ROW(),3)=2,"下午","加班")))
K38: =IF(A37="","",IF(MOD(ROW(),3)=1,"上午",IF(MOD(ROW(),3)=2,"下午","加班")))
K39: =IF(A37="","",IF(MOD(ROW(),3)=1,"上午",IF(MOD(ROW(),3)=2,"下午","加班")))
A40: =IF(B40=0,"",COUNTA($B$3:$B39)) | B40: =INDIRECT("员工信息表!B"&COUNTA($B$3:$B39)+2) -> 0 | D40: =(COUNTIF($L40:$AP40,"出勤")+COUNTIF($L41:$AP41,"出勤"))*0.5 -> 0 | E40: =(COUNTIF($L40:$AP40,"事假")+COUNTIF($L41:$AP41,"事假"))*0.5 -> 0 | F40: =(COUNTIF($L40:$AP40,"病假")+COUNTIF($L41:$AP41,"病假"))*0.5 -> 0 | G40: =(COUNTIF($L40:$AP40,"休假")+COUNTIF($L41:$AP41,"休假"))*0.5 -> 0 | H40: =(COUNTIF($L40:$AP40,"缺勤")+COUNTIF($L41:$AP41,"缺勤"))*0.5 -> 0 | I40: =(COUNTIF($L40:$AP40,"放假")+COUNTIF($L41:$AP41,"放假"))*0.5 -> 0 | J40: =(SUM(L42:AP42))/$AO$2 -> 0 | K40: =IF(A40="","",IF(MOD(ROW(),3)=1,"上午",IF(MOD(ROW(),3)=2,"下午","加班")))
K41: =IF(A40="","",IF(MOD(ROW(),3)=1,"上午",IF(MOD(ROW(),3)=2,"下午","加班")))
K42: =IF(A40="","",IF(MOD(ROW(),3)=1,"上午",IF(MOD(ROW(),3)=2,"下午","加班")))
A43: =IF(B43=0,"",COUNTA($B$3:$B42)) | B43: =INDIRECT("员工信息表!B"&COUNTA($B$3:$B42)+2) -> 0 | D43: =(COUNTIF($L43:$AP43,"出勤")+COUNTIF($L44:$AP44,"出勤"))*0.5 -> 0 | E43: =(COUNTIF($L43:$AP43,"事假")+COUNTIF($L44:$AP44,"事假"))*0.5 -> 0 | F43: =(COUNTIF($L43:$AP43,"病假")+COUNTIF($L44:$AP44,"病假"))*0.5 -> 0 | G43: =(COUNTIF($L43:$AP43,"休假")+COUNTIF($L44:$AP44,"休假"))*0.5 -> 0 | H43: =(COUNTIF($L43:$AP43,"缺勤")+COUNTIF($L44:$AP44,"缺勤"))*0.5 -> 0 | I43: =(COUNTIF($L43:$AP43,"放假")+COUNTIF($L44:$AP44,"放假"))*0.5 -> 0 | J43: =(SUM(L45:AP45))/$AO$2 -> 0 | K43: =IF(A43="","",IF(MOD(ROW(),3)=1,"上午",IF(MOD(ROW(),3)=2,"下午","加班")))
K44: =IF(A43="","",IF(MOD(ROW(),3)=1,"上午",IF(MOD(ROW(),3)=2,"下午","加班")))
K45: =IF(A43="","",IF(MOD(ROW(),3)=1,"上午",IF(MOD(ROW(),3)=2,"下午","加班")))
A46: =IF(B46=0,"",COUNTA($B$3:$B45)) | B46: =INDIRECT("员工信息表!B"&COUNTA($B$3:$B45)+2) -> 0 | D46: =(COUNTIF($L46:$AP46,"出勤")+COUNTIF($L47:$AP47,"出勤"))*0.5 -> 0 | E46: =(COUNTIF($L46:$AP46,"事假")+COUNTIF($L47:$AP47,"事假"))*0.5 -> 0 | F46: =(COUNTIF($L46:$AP46,"病假")+COUNTIF($L47:$AP47,"病假"))*0.5 -> 0 | G46: =(COUNTIF($L46:$AP46,"休假")+COUNTIF($L47:$AP47,"休假"))*0.5 -> 0 | H46: =(COUNTIF($L46:$AP46,"缺勤")+COUNTIF($L47:$AP47,"缺勤"))*0.5 -> 0 | I46: =(COUNTIF($L46:$AP46,"放假")+COUNTIF($L47:$AP47,"放假"))*0.5 -> 0 | J46: =(SUM(L48:AP48))/$AO$2 -> 0 | K46: =IF(A46="","",IF(MOD(ROW(),3)=1,"上午",IF(MOD(ROW(),3)=2,"下午","加班")))
K47: =IF(A46="","",IF(MOD(ROW(),3)=1,"上午",IF(MOD(ROW(),3)=2,"下午","加班")))
K48: =IF(A46="","",IF(MOD(ROW(),3)=1,"上午",IF(MOD(ROW(),3)=2,"下午","加班")))
A49: =IF(B49=0,"",COUNTA($B$3:$B48)) | B49: =INDIRECT("员工信息表!B"&COUNTA($B$3:$B48)+2) -> 0 | D49: =(COUNTIF($L49:$AP49,"出勤")+COUNTIF($L50:$AP50,"出勤"))*0.5 -> 0 | E49: =(COUNTIF($L49:$AP49,"事假")+COUNTIF($L50:$AP50,"事假"))*0.5 -> 0 | F49: =(COUNTIF($L49:$AP49,"病假")+COUNTIF($L50:$AP50,"病假"))*0.5 -> 0 | G49: =(COUNTIF($L49:$AP49,"休假")+COUNTIF($L50:$AP50,"休假"))*0.5 -> 0 | H49: =(COUNTIF($L49:$AP49,"缺勤")+COUNTIF($L50:$AP50,"缺勤"))*0.5 -> 0 | I49: =(COUNTIF($L49:$AP49,"放假")+COUNTIF($L50:$AP50,"放假"))*0.5 -> 0 | J49: =(SUM(L51:AP51))/$AO$2 -> 0 | K49: =IF(A49="","",IF(MOD(ROW(),3)=1,"上午",IF(MOD(ROW(),3)=2,"下午","加班")))
K50: =IF(A49="","",IF(MOD(ROW(),3)=1,"上午",IF(MOD(ROW(),3)=2,"下午","加班")))
K51: =IF(A49="","",IF(MOD(ROW(),3)=1,"上午",IF(MOD(ROW(),3)=2,"下午","加班")))
A52: =IF(B52=0,"",COUNTA($B$3:$B51)) | B52: =INDIRECT("员工信息表!B"&COUNTA($B$3:$B51)+2) -> 0 | D52: =(COUNTIF($L52:$AP52,"出勤")+COUNTIF($L53:$AP53,"出勤"))*0.5 -> 0 | E52: =(COUNTIF($L52:$AP52,"事假")+COUNTIF($L53:$AP53,"事假"))*0.5 -> 0 | F52: =(COUNTIF($L52:$AP52,"病假")+COUNTIF($L53:$AP53,"病假"))*0.5 -> 0 | G52: =(COUNTIF($L52:$AP52,"休假")+COUNTIF($L53:$AP53,"休假"))*0.5 -> 0 | H52: =(COUNTIF($L52:$AP52,"缺勤")+COUNTIF($L53:$AP53,"缺勤"))*0.5 -> 0 | I52: =(COUNTIF($L52:$AP52,"放假")+COUNTIF($L53:$AP53,"放假"))*0.5 -> 0 | J52: =(SUM(L54:AP54))/$AO$2 -> 0 | K52: =IF(A52="","",IF(MOD(ROW(),3)=1,"上午",IF(MOD(ROW(),3)=2,"下午","加班")))
K53: =IF(A52="","",IF(MOD(ROW(),3)=1,"上午",IF(MOD(ROW(),3)=2,"下午","加班")))
K54: =IF(A52="","",IF(MOD(ROW(),3)=1,"上午",IF(MOD(ROW(),3)=2,"下午","加班")))
A55: =IF(B55=0,"",COUNTA($B$3:$B54)) | B55: =INDIRECT("员工信息表!B"&COUNTA($B$3:$B54)+2) -> 0 | D55: =(COUNTIF($L55:$AP55,"出勤")+COUNTIF($L56:$AP56,"出勤"))*0.5 -> 0 | E55: =(COUNTIF($L55:$AP55,"事假")+COUNTIF($L56:$AP56,"事假"))*0.5 -> 0 | F55: =(COUNTIF($L55:$AP55,"病假")+COUNTIF($L56:$AP56,"病假"))*0.5 -> 0 | G55: =(COUNTIF($L55:$AP55,"休假")+COUNTIF($L56:$AP56,"休假"))*0.5 -> 0 | H55: =(COUNTIF($L55:$AP55,"缺勤")+COUNTIF($L56:$AP56,"缺勤"))*0.5 -> 0 | I55: =(COUNTIF($L55:$AP55,"放假")+COUNTIF($L56:$AP56,"放假"))*0.5 -> 0 | J55: =(SUM(L57:AP57))/$AO$2 -> 0 | K55: =IF(A55="","",IF(MOD(ROW(),3)=1,"上午",IF(MOD(ROW(),3)=2,"下午","加班")))
K56: =IF(A55="","",IF(MOD(ROW(),3)=1,"上午",IF(MOD(ROW(),3)=2,"下午","加班")))
K57: =IF(A55="","",IF(MOD(ROW(),3)=1,"上午",IF(MOD(ROW(),3)=2,"下午","加班")))
A58: =IF(B58=0,"",COUNTA($B$3:$B57)) | B58: =INDIRECT("员工信息表!B"&COUNTA($B$3:$B57)+2) -> 0 | D58: =(COUNTIF($L58:$AP58,"出勤")+COUNTIF($L59:$AP59,"出勤"))*0.5 -> 0 | E58: =(COUNTIF($L58:$AP58,"事假")+COUNTIF($L59:$AP59,"事假"))*0.5 -> 0 | F58: =(COUNTIF($L58:$AP58,"病假")+COUNTIF($L59:$AP59,"病假"))*0.5 -> 0 | G58: =(COUNTIF($L58:$AP58,"休假")+COUNTIF($L59:$AP59,"休假"))*0.5 -> 0 | H58: =(COUNTIF($L58:$AP58,"缺勤")+COUNTIF($L59:$AP59,"缺勤"))*0.5 -> 0 | I58: =(COUNTIF($L58:$AP58,"放假")+COUNTIF($L59:$AP59,"放假"))*0.5 -> 0 | J58: =(SUM(L60:AP60))/$AO$2 -> 0 | K58: =IF(A58="","",IF(MOD(ROW(),3)=1,"上午",IF(MOD(ROW(),3)=2,"下午","加班")))
K59: =IF(A58="","",IF(MOD(ROW(),3)=1,"上午",IF(MOD(ROW(),3)=2,"下午","加班")))
K60: =IF(A58="","",IF(MOD(ROW(),3)=1,"上午",IF(MOD(ROW(),3)=2,"下午","加班")))
A61: =IF(B61=0,"",COUNTA($B$3:$B60)) | B61: =INDIRECT("员工信息表!B"&COUNTA($B$3:$B60)+2) -> 0 | D61: =(COUNTIF($L61:$AP61,"出勤")+COUNTIF($L62:$AP62,"出勤"))*0.5 -> 0 | E61: =(COUNTIF($L61:$AP61,"事假")+COUNTIF($L62:$AP62,"事假"))*0.5 -> 0 | F61: =(COUNTIF($L61:$AP61,"病假")+COUNTIF($L62:$AP62,"病假"))*0.5 -> 0 | G61: =(COUNTIF($L61:$AP61,"休假")+COUNTIF($L62:$AP62,"休假"))*0.5 -> 0 | H61: =(COUNTIF($L61:$AP61,"缺勤")+COUNTIF($L62:$AP62,"缺勤"))*0.5 -> 0 | I61: =(COUNTIF($L61:$AP61,"放假")+COUNTIF($L62:$AP62,"放假"))*0.5 -> 0 | J61: =(SUM(L63:AP63))/$AO$2 -> 0 | K61: =IF(A61="","",IF(MOD(ROW(),3)=1,"上午",IF(MOD(ROW(),3)=2,"下午","加班")))
K62: =IF(A61="","",IF(MOD(ROW(),3)=1,"上午",IF(MOD(ROW(),3)=2,"下午","加班")))
K63: =IF(A61="","",IF(MOD(ROW(),3)=1,"上午",IF(MOD(ROW(),3)=2,"下午","加班")))
A64: =IF(B64=0,"",COUNTA($B$3:$B63)) | B64: =INDIRECT("员工信息表!B"&COUNTA($B$3:$B63)+2) -> 0 | D64: =(COUNTIF($L64:$AP64,"出勤")+COUNTIF($L65:$AP65,"出勤"))*0.5 -> 0 | E64: =(COUNTIF($L64:$AP64,"事假")+COUNTIF($L65:$AP65,"事假"))*0.5 -> 0 | F64: =(COUNTIF($L64:$AP64,"病假")+COUNTIF($L65:$AP65,"病假"))*0.5 -> 0 | G64: =(COUNTIF($L64:$AP64,"休假")+COUNTIF($L65:$AP65,"休假"))*0.5 -> 0 | H64: =(COUNTIF($L64:$AP64,"缺勤")+COUNTIF($L65:$AP65,"缺勤"))*0.5 -> 0 | I64: =(COUNTIF($L64:$AP64,"放假")+COUNTIF($L65:$AP65,"放假"))*0.5 -> 0 | J64: =(SUM(L66:AP66))/$AO$2 -> 0 | K64: =IF(A64="","",IF(MOD(ROW(),3)=1,"上午",IF(MOD(ROW(),3)=2,"下午","加班")))
K65: =IF(A64="","",IF(MOD(ROW(),3)=1,"上午",IF(MOD(ROW(),3)=2,"下午","加班")))
K66: =IF(A64="","",IF(MOD(ROW(),3)=1,"上午",IF(MOD(ROW(),3)=2,"下午","加班")))
A67: =IF(B67=0,"",COUNTA($B$3:$B66)) | B67: =INDIRECT("员工信息表!B"&COUNTA($B$3:$B66)+2) -> 0 | D67: =(COUNTIF($L67:$AP67,"出勤")+COUNTIF($L68:$AP68,"出勤"))*0.5 -> 0 | E67: =(COUNTIF($L67:$AP67,"事假")+COUNTIF($L68:$AP68,"事假"))*0.5 -> 0 | F67: =(COUNTIF($L67:$AP67,"病假")+COUNTIF($L68:$AP68,"病假"))*0.5 -> 0 | G67: =(COUNTIF($L67:$AP67,"休假")+COUNTIF($L68:$AP68,"休假"))*0.5 -> 0 | H67: =(COUNTIF($L67:$AP67,"缺勤")+COUNTIF($L68:$AP68,"缺勤"))*0.5 -> 0 | I67: =(COUNTIF($L67:$AP67,"放假")+COUNTIF($L68:$AP68,"放假"))*0.5 -> 0 | J67: =(SUM(L69:AP69))/$AO$2 -> 0 | K67: =IF(A67="","",IF(MOD(ROW(),3)=1,"上午",IF(MOD(ROW(),3)=2,"下午","加班")))
K68: =IF(A67="","",IF(MOD(ROW(),3)=1,"上午",IF(MOD(ROW(),3)=2,"下午","加班")))
K69: =IF(A67="","",IF(MOD(ROW(),3)=1,"上午",IF(MOD(ROW(),3)=2,"下午","加班")))
A70: =IF(B70=0,"",COUNTA($B$3:$B69)) | B70: =INDIRECT("员工信息表!B"&COUNTA($B$3:$B69)+2) -> 0 | D70: =(COUNTIF($L70:$AP70,"出勤")+COUNTIF($L71:$AP71,"出勤"))*0.5 -> 0 | E70: =(COUNTIF($L70:$AP70,"事假")+COUNTIF($L71:$AP71,"事假"))*0.5 -> 0 | F70: =(COUNTIF($L70:$AP70,"病假")+COUNTIF($L71:$AP71,"病假"))*0.5 -> 0 | G70: =(COUNTIF($L70:$AP70,"休假")+COUNTIF($L71:$AP71,"休假"))*0.5 -> 0 | H70: =(COUNTIF($L70:$AP70,"缺勤")+COUNTIF($L71:$AP71,"缺勤"))*0.5 -> 0 | I70: =(COUNTIF($L70:$AP70,"放假")+COUNTIF($L71:$AP71,"放假"))*0.5 -> 0 | J70: =(SUM(L72:AP72))/$AO$2 -> 0 | K70: =IF(A70="","",IF(MOD(ROW(),3)=1,"上午",IF(MOD(ROW(),3)=2,"下午","加班")))
K71: =IF(A70="","",IF(MOD(ROW(),3)=1,"上午",IF(MOD(ROW(),3)=2,"下午","加班")))
K72: =IF(A70="","",IF(MOD(ROW(),3)=1,"上午",IF(MOD(ROW(),3)=2,"下午","加班")))
A73: =IF(B73=0,"",COUNTA($B$3:$B72)) | B73: =INDIRECT("员工信息表!B"&COUNTA($B$3:$B72)+2) -> 0 | D73: =(COUNTIF($L73:$AP73,"出勤")+COUNTIF($L74:$AP74,"出勤"))*0.5 -> 0 | E73: =(COUNTIF($L73:$AP73,"事假")+COUNTIF($L74:$AP74,"事假"))*0.5 -> 0 | F73: =(COUNTIF($L73:$AP73,"病假")+COUNTIF($L74:$AP74,"病假"))*0.5 -> 0 | G73: =(COUNTIF($L73:$AP73,"休假")+COUNTIF($L74:$AP74,"休假"))*0.5 -> 0 | H73: =(COUNTIF($L73:$AP73,"缺勤")+COUNTIF($L74:$AP74,"缺勤"))*0.5 -> 0 | I73: =(COUNTIF($L73:$AP73,"放假")+COUNTIF($L74:$AP74,"放假"))*0.5 -> 0 | J73: =(SUM(L75:AP75))/$AO$2 -> 0 | K73: =IF(A73="","",IF(MOD(ROW(),3)=1,"上午",IF(MOD(ROW(),3)=2,"下午","加班")))
K74: =IF(A73="","",IF(MOD(ROW(),3)=1,"上午",IF(MOD(ROW(),3)=2,"下午","加班")))
K75: =IF(A73="","",IF(MOD(ROW(),3)=1,"上午",IF(MOD(ROW(),3)=2,"下午","加班")))
A76: =IF(B76=0,"",COUNTA($B$3:$B75)) | B76: =INDIRECT("员工信息表!B"&COUNTA($B$3:$B75)+2) -> 0 | D76: =(COUNTIF($L76:$AP76,"出勤")+COUNTIF($L77:$AP77,"出勤"))*0.5 -> 0 | E76: =(COUNTIF($L76:$AP76,"事假")+COUNTIF($L77:$AP77,"事假"))*0.5 -> 0 | F76: =(COUNTIF($L76:$AP76,"病假")+COUNTIF($L77:$AP77,"病假"))*0.5 -> 0 | G76: =(COUNTIF($L76:$AP76,"休假")+COUNTIF($L77:$AP77,"休假"))*0.5 -> 0 | H76: =(COUNTIF($L76:$AP76,"缺勤")+COUNTIF($L77:$AP77,"缺勤"))*0.5 -> 0 | I76: =(COUNTIF($L76:$AP76,"放假")+COUNTIF($L77:$AP77,"放假"))*0.5 -> 0 | J76: =(SUM(L78:AP78))/$AO$2 -> 0 | K76: =IF(A76="","",IF(MOD(ROW(),3)=1,"上午",IF(MOD(ROW(),3)=2,"下午","加班")))
K77: =IF(A76="","",IF(MOD(ROW(),3)=1,"上午",IF(MOD(ROW(),3)=2,"下午","加班")))
K78: =IF(A76="","",IF(MOD(ROW(),3)=1,"上午",IF(MOD(ROW(),3)=2,"下午","加班")))
A79: =IF(B79=0,"",COUNTA($B$3:$B78)) | B79: =INDIRECT("员工信息表!B"&COUNTA($B$3:$B78)+2) -> 0 | D79: =(COUNTIF($L79:$AP79,"出勤")+COUNTIF($L80:$AP80,"出勤"))*0.5 -> 0 | E79: =(COUNTIF($L79:$AP79,"事假")+COUNTIF($L80:$AP80,"事假"))*0.5 -> 0 | F79: =(COUNTIF($L79:$AP79,"病假")+COUNTIF($L80:$AP80,"病假"))*0.5 -> 0 | G79: =(COUNTIF($L79:$AP79,"休假")+COUNTIF($L80:$AP80,"休假"))*0.5 -> 0 | H79: =(COUNTIF($L79:$AP79,"缺勤")+COUNTIF($L80:$AP80,"缺勤"))*0.5 -> 0 | I79: =(COUNTIF($L79:$AP79,"放假")+COUNTIF($L80:$AP80,"放假"))*0.5 -> 0 | J79: =(SUM(L81:AP81))/$AO$2 -> 0 | K79: =IF(A79="","",IF(MOD(ROW(),3)=1,"上午",IF(MOD(ROW(),3)=2,"下午","加班")))
K80: =IF(A79="","",IF(MOD(ROW(),3)=1,"上午",IF(MOD(ROW(),3)=2,"下午","加班")))
K81: =IF(A79="","",IF(MOD(ROW(),3)=1,"上午",IF(MOD(ROW(),3)=2,"下午","加班")))
A82: =IF(B82=0,"",COUNTA($B$3:$B81)) | B82: =INDIRECT("员工信息表!B"&COUNTA($B$3:$B81)+2) -> 0 | D82: =(COUNTIF($L82:$AP82,"出勤")+COUNTIF($L83:$AP83,"出勤"))*0.5 -> 0 | E82: =(COUNTIF($L82:$AP82,"事假")+COUNTIF($L83:$AP83,"事假"))*0.5 -> 0 | F82: =(COUNTIF($L82:$AP82,"病假")+COUNTIF($L83:$AP83,"病假"))*0.5 -> 0 | G82: =(COUNTIF($L82:$AP82,"休假")+COUNTIF($L83:$AP83,"休假"))*0.5 -> 0 | H82: =(COUNTIF($L82:$AP82,"缺勤")+COUNTIF($L83:$AP83,"缺勤"))*0.5 -> 0 | I82: =(COUNTIF($L82:$AP82,"放假")+COUNTIF($L83:$AP83,"放假"))*0.5 -> 0 | J82: =(SUM(L84:AP84))/$AO$2 -> 0 | K82: =IF(A82="","",IF(MOD(ROW(),3)=1,"上午",IF(MOD(ROW(),3)=2,"下午","加班")))
K83: =IF(A82="","",IF(MOD(ROW(),3)=1,"上午",IF(MOD(ROW(),3)=2,"下午","加班")))
K84: =IF(A82="","",IF(MOD(ROW(),3)=1,"上午",IF(MOD(ROW(),3)=2,"下午","加班")))
A85: =IF(B85=0,"",COUNTA($B$3:$B84)) | B85: =INDIRECT("员工信息表!B"&COUNTA($B$3:$B84)+2) -> 0 | D85: =(COUNTIF($L85:$AP85,"出勤")+COUNTIF($L86:$AP86,"出勤"))*0.5 -> 0 | E85: =(COUNTIF($L85:$AP85,"事假")+COUNTIF($L86:$AP86,"事假"))*0.5 -> 0 | F85: =(COUNTIF($L85:$AP85,"病假")+COUNTIF($L86:$AP86,"病假"))*0.5 -> 0 | G85: =(COUNTIF($L85:$AP85,"休假")+COUNTIF($L86:$AP86,"休假"))*0.5 -> 0 | H85: =(COUNTIF($L85:$AP85,"缺勤")+COUNTIF($L86:$AP86,"缺勤"))*0.5 -> 0 | I85: =(COUNTIF($L85:$AP85,"放假")+COUNTIF($L86:$AP86,"放假"))*0.5 -> 0 | J85: =(SUM(L87:AP87))/$AO$2 -> 0 | K85: =IF(A85="","",IF(MOD(ROW(),3)=1,"上午",IF(MOD(ROW(),3)=2,"下午","加班")))
K86: =IF(A85="","",IF(MOD(ROW(),3)=1,"上午",IF(MOD(ROW(),3)=2,"下午","加班")))
K87: =IF(A85="","",IF(MOD(ROW(),3)=1,"上午",IF(MOD(ROW(),3)=2,"下午","加班")))
A88: =IF(B88=0,"",COUNTA($B$3:$B87)) | B88: =INDIRECT("员工信息表!B"&COUNTA($B$3:$B87)+2) -> 0 | D88: =(COUNTIF($L88:$AP88,"出勤")+COUNTIF($L89:$AP89,"出勤"))*0.5 -> 0 | E88: =(COUNTIF($L88:$AP88,"事假")+COUNTIF($L89:$AP89,"事假"))*0.5 -> 0 | F88: =(COUNTIF($L88:$AP88,"病假")+COUNTIF($L89:$AP89,"病假"))*0.5 -> 0 | G88: =(COUNTIF($L88:$AP88,"休假")+COUNTIF($L89:$AP89,"休假"))*0.5 -> 0 | H88: =(COUNTIF($L88:$AP88,"缺勤")+COUNTIF($L89:$AP89,"缺勤"))*0.5 -> 0 | I88: =(COUNTIF($L88:$AP88,"放假")+COUNTIF($L89:$AP89,"放假"))*0.5 -> 0 | J88: =(SUM(L90:AP90))/$AO$2 -> 0 | K88: =IF(A88="","",IF(MOD(ROW(),3)=1,"上午",IF(MOD(ROW(),3)=2,"下午","加班")))
K89: =IF(A88="","",IF(MOD(ROW(),3)=1,"上午",IF(MOD(ROW(),3)=2,"下午","加班")))
K90: =IF(A88="","",IF(MOD(ROW(),3)=1,"上午",IF(MOD(ROW(),3)=2,"下午","加班")))
A91: =IF(B91=0,"",COUNTA($B$3:$B90)) | B91: =INDIRECT("员工信息表!B"&COUNTA($B$3:$B90)+2) -> 0 | D91: =(COUNTIF($L91:$AP91,"出勤")+COUNTIF($L92:$AP92,"出勤"))*0.5 -> 0 | E91: =(COUNTIF($L91:$AP91,"事假")+COUNTIF($L92:$AP92,"事假"))*0.5 -> 0 | F91: =(COUNTIF($L91:$AP91,"病假")+COUNTIF($L92:$AP92,"病假"))*0.5 -> 0 | G91: =(COUNTIF($L91:$AP91,"休假")+COUNTIF($L92:$AP92,"休假"))*0.5 -> 0 | H91: =(COUNTIF($L91:$AP91,"缺勤")+COUNTIF($L92:$AP92,"缺勤"))*0.5 -> 0 | I91: =(COUNTIF($L91:$AP91,"放假")+COUNTIF($L92:$AP92,"放假"))*0.5 -> 0 | J91: =(SUM(L93:AP93))/$AO$2 -> 0 | K91: =IF(A91="","",IF(MOD(ROW(),3)=1,"上午",IF(MOD(ROW(),3)=2,"下午","加班")))
K92: =IF(A91="","",IF(MOD(ROW(),3)=1,"上午",IF(MOD(ROW(),3)=2,"下午","加班")))
K93: =IF(A91="","",IF(MOD(ROW(),3)=1,"上午",IF(MOD(ROW(),3)=2,"下午","加班")))
A94: =IF(B94=0,"",COUNTA($B$3:$B93)) | B94: =INDIRECT("员工信息表!B"&COUNTA($B$3:$B93)+2) -> 0 | D94: =(COUNTIF($L94:$AP94,"出勤")+COUNTIF($L95:$AP95,"出勤"))*0.5 -> 0 | E94: =(COUNTIF($L94:$AP94,"事假")+COUNTIF($L95:$AP95,"事假"))*0.5 -> 0 | F94: =(COUNTIF($L94:$AP94,"病假")+COUNTIF($L95:$AP95,"病假"))*0.5 -> 0 | G94: =(COUNTIF($L94:$AP94,"休假")+COUNTIF($L95:$AP95,"休假"))*0.5 -> 0 | H94: =(COUNTIF($L94:$AP94,"缺勤")+COUNTIF($L95:$AP95,"缺勤"))*0.5 -> 0 | I94: =(COUNTIF($L94:$AP94,"放假")+COUNTIF($L95:$AP95,"放假"))*0.5 -> 0 | J94: =(SUM(L96:AP96))/$AO$2 -> 0 | K94: =IF(A94="","",IF(MOD(ROW(),3)=1,"上午",IF(MOD(ROW(),3)=2,"下午","加班")))
K95: =IF(A94="","",IF(MOD(ROW(),3)=1,"上午",IF(MOD(ROW(),3)=2,"下午","加班")))
K96: =IF(A94="","",IF(MOD(ROW(),3)=1,"上午",IF(MOD(ROW(),3)=2,"下午","加班")))
A97: =IF(B97=0,"",COUNTA($B$3:$B96)) | B97: =INDIRECT("员工信息表!B"&COUNTA($B$3:$B96)+2) -> 0 | D97: =(COUNTIF($L97:$AP97,"出勤")+COUNTIF($L98:$AP98,"出勤"))*0.5 -> 0 | E97: =(COUNTIF($L97:$AP97,"事假")+COUNTIF($L98:$AP98,"事假"))*0.5 -> 0 | F97: =(COUNTIF($L97:$AP97,"病假")+COUNTIF($L98:$AP98,"病假"))*0.5 -> 0 | G97: =(COUNTIF($L97:$AP97,"休假")+COUNTIF($L98:$AP98,"休假"))*0.5 -> 0 | H97: =(COUNTIF($L97:$AP97,"缺勤")+COUNTIF($L98:$AP98,"缺勤"))*0.5 -> 0 | I97: =(COUNTIF($L97:$AP97,"放假")+COUNTIF($L98:$AP98,"放假"))*0.5 -> 0 | J97: =(SUM(L99:AP99))/$AO$2 -> 0 | K97: =IF(A97="","",IF(MOD(ROW(),3)=1,"上午",IF(MOD(ROW(),3)=2,"下午","加班")))
K98: =IF(A97="","",IF(MOD(ROW(),3)=1,"上午",IF(MOD(ROW(),3)=2,"下午","加班")))
K99: =IF(A97="","",IF(MOD(ROW(),3)=1,"上午",IF(MOD(ROW(),3)=2,"下午","加班")))
A100: =IF(B100=0,"",COUNTA($B$3:$B99)) | B100: =INDIRECT("员工信息表!B"&COUNTA($B$3:$B99)+2) -> 0 | D100: =(COUNTIF($L100:$AP100,"出勤")+COUNTIF($L101:$AP101,"出勤"))*0.5 -> 0 | E100: =(COUNTIF($L100:$AP100,"事假")+COUNTIF($L101:$AP101,"事假"))*0.5 -> 0 | F100: =(COUNTIF($L100:$AP100,"病假")+COUNTIF($L101:$AP101,"病假"))*0.5 -> 0 | G100: =(COUNTIF($L100:$AP100,"休假")+COUNTIF($L101:$AP101,"休假"))*0.5 -> 0 | H100: =(COUNTIF($L100:$AP100,"缺勤")+COUNTIF($L101:$AP101,"缺勤"))*0.5 -> 0 | I100: =(COUNTIF($L100:$AP100,"放假")+COUNTIF($L101:$AP101,"放假"))*0.5 -> 0 | J100: =(SUM(L102:AP102))/$AO$2 -> 0 | K100: =IF(A100="","",IF(MOD(ROW(),3)=1,"上午",IF(MOD(ROW(),3)=2,"下午","加班")))
...

Sheet 5月
A1: 考 勤 表
A2: 2022 | C2: 5 | J2: ="本月 "&DAY(DATE(A2,C2+1,1)-1)&" 天" -> 本月 31 天 | AJ2: 输入每天工作小时 | AO2: 7 | AP2: h
A3: 序号 | B3: 姓名 | C3: 应出勤 天数 | D3: 实际出勤 天数 | E3: 事假 天数 | F3: 病假 天数 | G3: 休假 天数 | H3: 缺勤 天数 | I3: 放假 天数 | J3: 加班 天数 | K3: 班次 | L3: =IF(MONTH(DATE($A$2,$C$2,COLUMN(A1)))=$C$2,DATE($A$2,$C$2,COLUMN(A1)),"") -> 44682 | M3: =IF(MONTH(DATE($A$2,$C$2,COLUMN(B1)))=$C$2,DATE($A$2,$C$2,COLUMN(B1)),"") -> 44683 | N3: =IF(MONTH(DATE($A$2,$C$2,COLUMN(C1)))=$C$2,DATE($A$2,$C$2,COLUMN(C1)),"") -> 44684 | O3: =IF(MONTH(DATE($A$2,$C$2,COLUMN(D1)))=$C$2,DATE($A$2,$C$2,COLUMN(D1)),"") -> 44685 | P3: =IF(MONTH(DATE($A$2,$C$2,COLUMN(E1)))=$C$2,DATE($A$2,$C$2,COLUMN(E1)),"") -> 44686 | Q3: =IF(MONTH(DATE($A$2,$C$2,COLUMN(F1)))=$C$2,DATE($A$2,$C$2,COLUMN(F1)),"") -> 44687 | R3: =IF(MONTH(DATE($A$2,$C$2,COLUMN(G1)))=$C$2,DATE($A$2,$C$2,COLUMN(G1)),"") -> 44688 | S3: =IF(MONTH(DATE($A$2,$C$2,COLUMN(H1)))=$C$2,DATE($A$2,$C$2,COLUMN(H1)),"") -> 44689 | ... AP3: =IF(MONTH(DATE($A$2,$C$2,COLUMN(AE1)))=$C$2,DATE($A$2,$C$2,COLUMN(AE1)),"") -> 44712
A4: =IF(B4=0,"",COUNTA($B$3:$B3)) -> 1 | B4: =INDIRECT("员工信息表!B"&COUNTA($B$3:$B3)+2) -> 苏继兵 | C4: 22 | D4: =(COUNTIF($L4:$AP4,"出勤")+COUNTIF($L5:$AP5,"出勤"))*0.5 -> 2.5 | E4: =(COUNTIF($L4:$AP4,"事假")+COUNTIF($L5:$AP5,"事假"))*0.5 -> 0.5 | F4: =(COUNTIF($L4:$AP4,"病假")+COUNTIF($L5:$AP5,"病假"))*0.5 -> 0.5 | G4: =(COUNTIF($L4:$AP4,"休假")+COUNTIF($L5:$AP5,"休假"))*0.5 -> 0.5 | H4: =(COUNTIF($L4:$AP4,"缺勤")+COUNTIF($L5:$AP5,"缺勤"))*0.5 -> 0.5 | I4: =(COUNTIF($L4:$AP4,"放假")+COUNTIF($L5:$AP5,"放假"))*0.5 -> 0.5 | J4: =(SUM(L6:AP6))/$AO$2 -> 1.2857143 | K4: =IF(A4="","",IF(MOD(ROW(),3)=1,"上午",IF(MOD(ROW(),3)=2,"下午","加班"))) -> 上午 | L4: 出勤 | M4: 出勤 | N4: 出勤 | P4: 休假 | T4: 缺勤 | V4: 放假
K5: =IF(A4="","",IF(MOD(ROW(),3)=1,"上午",IF(MOD(ROW(),3)=2,"下午","加班"))) -> 下午 | L5: 出勤 | M5: 出勤 | O5: 事假 | R5: 病假
K6: =IF(A4="","",IF(MOD(ROW(),3)=1,"上午",IF(MOD(ROW(),3)=2,"下午","加班"))) -> 加班 | L6: 6 | N6: 3
A7: =IF(B7=0,"",COUNTA($B$3:$B6)) -> 2 | B7: =INDIRECT("员工信息表!B"&COUNTA($B$3:$B6)+2) -> 苏继中 | C7: 22 | D7: =(COUNTIF($L7:$AP7,"出勤")+COUNTIF($L8:$AP8,"出勤"))*0.5 -> 2.5 | E7: =(COUNTIF($L7:$AP7,"事假")+COUNTIF($L8:$AP8,"事假"))*0.5 -> 0.5 | F7: =(COUNTIF($L7:$AP7,"病假")+COUNTIF($L8:$AP8,"病假"))*0.5 -> 0.5 | G7: =(COUNTIF($L7:$AP7,"休假")+COUNTIF($L8:$AP8,"休假"))*0.5 -> 0.5 | H7: =(COUNTIF($L7:$AP7,"缺勤")+COUNTIF($L8:$AP8,"缺勤"))*0.5 -> 0.5 | I7: =(COUNTIF($L7:$AP7,"放假")+COUNTIF($L8:$AP8,"放假"))*0.5 -> 0.5 | J7: =(SUM(L9:AP9))/$AO$2 -> 1.5714286 | K7: =IF(A7="","",IF(MOD(ROW(),3)=1,"上午",IF(MOD(ROW(),3)=2,"下午","加班"))) -> 上午 | L7: 出勤 | M7: 出勤 | N7: 出勤 | P7: 休假 | T7: 缺勤 | V7: 放假
K8: =IF(A7="","",IF(MOD(ROW(),3)=1,"上午",IF(MOD(ROW(),3)=2,"下午","加班"))) -> 下午 | L8: 出勤 | M8: 出勤 | O8: 事假 | R8: 病假
K9: =IF(A7="","",IF(MOD(ROW(),3)=1,"上午",IF(MOD(ROW(),3)=2,"下午","加班"))) -> 加班 | L9: 7 | N9: 4
A10: =IF(B10=0,"",COUNTA($B$3:$B9)) -> 3 | B10: =INDIRECT("员工信息表!B"&COUNTA($B$3:$B9)+2) -> 刘毅 | C10: 22 | D10: =(COUNTIF($L10:$AP10,"出勤")+COUNTIF($L11:$AP11,"出勤"))*0.5 -> 2.5 | E10: =(COUNTIF($L10:$AP10,"事假")+COUNTIF($L11:$AP11,"事假"))*0.5 -> 0.5 | F10: =(COUNTIF($L10:$AP10,"病假")+COUNTIF($L11:$AP11,"病假"))*0.5 -> 0.5 | G10: =(COUNTIF($L10:$AP10,"休假")+COUNTIF($L11:$AP11,"休假"))*0.5 -> 0.5 | H10: =(COUNTIF($L10:$AP10,"缺勤")+COUNTIF($L11:$AP11,"缺勤"))*0.5 -> 0.5 | I10: =(COUNTIF($L10:$AP10,"放假")+COUNTIF($L11:$AP11,"放假"))*0.5 -> 0.5 | J10: =(SUM(L12:AP12))/$AO$2 -> 1.8571429 | K10: =IF(A10="","",IF(MOD(ROW(),3)=1,"上午",IF(MOD(ROW(),3)=2,"下午","加班"))) -> 上午 | L10: 出勤 | M10: 出勤 | N10: 出勤 | P10: 休假 | T10: 缺勤 | V10: 放假
K11: =IF(A10="","",IF(MOD(ROW(),3)=1,"上午",IF(MOD(ROW(),3)=2,"下午","加班"))) -> 下午 | L11: 出勤 | M11: 出勤 | O11: 事假 | R11: 病假
K12: =IF(A10="","",IF(MOD(ROW(),3)=1,"上午",IF(MOD(ROW(),3)=2,"下午","加班"))) -> 加班 | L12: 8 | N12: 5
A13: =IF(B13=0,"",COUNTA($B$3:$B12)) -> 4 | B13: =INDIRECT("员工信息表!B"&COUNTA($B$3:$B12)+2) -> 伍亦中 | C13: 22 | D13: =(COUNTIF($L13:$AP13,"出勤")+COUNTIF($L14:$AP14,"出勤"))*0.5 -> 2.5 | E13: =(COUNTIF($L13:$AP13,"事假")+COUNTIF($L14:$AP14,"事假"))*0.5 -> 0.5 | F13: =(COUNTIF($L13:$AP13,"病假")+COUNTIF($L14:$AP14,"病假"))*0.5 -> 0.5 | G13: =(COUNTIF($L13:$AP13,"休假")+COUNTIF($L14:$AP14,"休假"))*0.5 -> 0.5 | H13: =(COUNTIF($L13:$AP13,"缺勤")+COUNTIF($L14:$AP14,"缺勤"))*0.5 -> 0.5 | I13: =(COUNTIF($L13:$AP13,"放假")+COUNTIF($L14:$AP14,"放假"))*0.5 -> 0.5 | J13: =(SUM(L15:AP15))/$AO$2 -> 2.1428571 | K13: =IF(A13="","",IF(MOD(ROW(),3)=1,"上午",IF(MOD(ROW(),3)=2,"下午","加班"))) -> 上午 | L13: 出勤 | M13: 出勤 | N13: 出勤 | P13: 休假 | T13: 缺勤 | V13: 放假
K14: =IF(A13="","",IF(MOD(ROW(),3)=1,"上午",IF(MOD(ROW(),3)=2,"下午","加班"))) -> 下午 | L14: 出勤 | M14: 出勤 | O14: 事假 | R14: 病假
K15: =IF(A13="","",IF(MOD(ROW(),3)=1,"上午",IF(MOD(ROW(),3)=2,"下午","加班"))) -> 加班 | L15: 9 | N15: 6
A16: =IF(B16=0,"",COUNTA($B$3:$B15)) -> 5 | B16: =INDIRECT("员工信息表!B"&COUNTA($B$3:$B15)+2) -> 苏绿华 | C16: 22 | D16: =(COUNTIF($L16:$AP16,"出勤")+COUNTIF($L17:$AP17,"出勤"))*0.5 -> 2.5 | E16: =(COUNTIF($L16:$AP16,"事假")+COUNTIF($L17:$AP17,"事假"))*0.5 -> 0.5 | F16: =(COUNTIF($L16:$AP16,"病假")+COUNTIF($L17:$AP17,"病假"))*0.5 -> 0.5 | G16: =(COUNTIF($L16:$AP16,"休假")+COUNTIF($L17:$AP17,"休假"))*0.5 -> 0.5 | H16: =(COUNTIF($L16:$AP16,"缺勤")+COUNTIF($L17:$AP17,"缺勤"))*0.5 -> 0.5 | I16: =(COUNTIF($L16:$AP16,"放假")+COUNTIF($L17:$AP17,"放假"))*0.5 -> 0.5 | J16: =(SUM(L18:AP18))/$AO$2 -> 2.4285714 | K16: =IF(A16="","",IF(MOD(ROW(),3)=1,"上午",IF(MOD(ROW(),3)=2,"下午","加班"))) -> 上午 | L16: 出勤 | M16: 出勤 | N16: 出勤 | P16: 休假 | T16: 缺勤 | V16: 放假
K17: =IF(A16="","",IF(MOD(ROW(),3)=1,"上午",IF(MOD(ROW(),3)=2,"下午","加班"))) -> 下午 | L17: 出勤 | M17: 出勤 | O17: 事假 | R17: 病假
K18: =IF(A16="","",IF(MOD(ROW(),3)=1,"上午",IF(MOD(ROW(),3)=2,"下午","加班"))) -> 加班 | L18: 10 | N18: 7
A19: =IF(B19=0,"",COUNTA($B$3:$B18)) -> 6 | B19: =INDIRECT("员工信息表!B"&COUNTA($B$3:$B18)+2) -> 王升祥 | C19: 22 | D19: =(COUNTIF($L19:$AP19,"出勤")+COUNTIF($L20:$AP20,"出勤"))*0.5 -> 2.5 | E19: =(COUNTIF($L19:$AP19,"事假")+COUNTIF($L20:$AP20,"事假"))*0.5 -> 0.5 | F19: =(COUNTIF($L19:$AP19,"病假")+COUNTIF($L20:$AP20,"病假"))*0.5 -> 0.5 | G19: =(COUNTIF($L19:$AP19,"休假")+COUNTIF($L20:$AP20,"休假"))*0.5 -> 0.5 | H19: =(COUNTIF($L19:$AP19,"缺勤")+COUNTIF($L20:$AP20,"缺勤"))*0.5 -> 0.5 | I19: =(COUNTIF($L19:$AP19,"放假")+COUNTIF($L20:$AP20,"放假"))*0.5 -> 0.5 | J19: =(SUM(L21:AP21))/$AO$2 -> 2.7142857 | K19: =IF(A19="","",IF(MOD(ROW(),3)=1,"上午",IF(MOD(ROW(),3)=2,"下午","加班"))) -> 上午 | L19: 出勤 | M19: 出勤 | N19: 出勤 | P19: 休假 | T19: 缺勤 | V19: 放假
K20: =IF(A19="","",IF(MOD(ROW(),3)=1,"上午",IF(MOD(ROW(),3)=2,"下午","加班"))) -> 下午 | L20: 出勤 | M20: 出勤 | O20: 事假 | R20: 病假
K21: =IF(A19="","",IF(MOD(ROW(),3)=1,"上午",IF(MOD(ROW(),3)=2,"下午","加班"))) -> 加班 | L21: 11 | N21: 8
A22: =IF(B22=0,"",COUNTA($B$3:$B21)) -> 7 | B22: =INDIRECT("员工信息表!B"&COUNTA($B$3:$B21)+2) -> 刘让铁 | C22: 22 | D22: =(COUNTIF($L22:$AP22,"出勤")+COUNTIF($L23:$AP23,"出勤"))*0.5 -> 2.5 | E22: =(COUNTIF($L22:$AP22,"事假")+COUNTIF($L23:$AP23,"事假"))*0.5 -> 0.5 | F22: =(COUNTIF($L22:$AP22,"病假")+COUNTIF($L23:$AP23,"病假"))*0.5 -> 0.5 | G22: =(COUNTIF($L22:$AP22,"休假")+COUNTIF($L23:$AP23,"休假"))*0.5 -> 0.5 | H22: =(COUNTIF($L22:$AP22,"缺勤")+COUNTIF($L23:$AP23,"缺勤"))*0.5 -> 0.5 | I22: =(COUNTIF($L22:$AP22,"放假")+COUNTIF($L23:$AP23,"放假"))*0.5 -> 0.5 | J22: =(SUM(L24:AP24))/$AO$2 -> 3 | K22: =IF(A22="","",IF(MOD(ROW(),3)=1,"上午",IF(MOD(ROW(),3)=2,"下午","加班"))) -> 上午 | L22: 出勤 | M22: 出勤 | N22: 出勤 | P22: 休假 | T22: 缺勤 | V22: 放假
K23: =IF(A22="","",IF(MOD(ROW(),3)=1,"上午",IF(MOD(ROW(),3)=2,"下午","加班"))) -> 下午 | L23: 出勤 | M23: 出勤 | O23: 事假 | R23: 病假
K24: =IF(A22="","",IF(MOD(ROW(),3)=1,"上午",IF(MOD(ROW(),3)=2,"下午","加班"))) -> 加班 | L24: 12 | N24: 9
A25: =IF(B25=0,"",COUNTA($B$3:$B24)) -> 8 | B25: =INDIRECT("员工信息表!B"&COUNTA($B$3:$B24)+2) -> 颜运回 | C25: 22 | D25: =(COUNTIF($L25:$AP25,"出勤")+COUNTIF($L26:$AP26,"出勤"))*0.5 -> 2.5 | E25: =(COUNTIF($L25:$AP25,"事假")+COUNTIF($L26:$AP26,"事假"))*0.5 -> 0.5 | F25: =(COUNTIF($L25:$AP25,"病假")+COUNTIF($L26:$AP26,"病假"))*0.5 -> 0.5 | G25: =(COUNTIF($L25:$AP25,"休假")+COUNTIF($L26:$AP26,"休假"))*0.5 -> 0.5 | H25: =(COUNTIF($L25:$AP25,"缺勤")+COUNTIF($L26:$AP26,"缺勤"))*0.5 -> 0.5 | I25: =(COUNTIF($L25:$AP25,"放假")+COUNTIF($L26:$AP26,"放假"))*0.5 -> 0.5 | J25: =(SUM(L27:AP27))/$AO$2 -> 3.2857143 | K25: =IF(A25="","",IF(MOD(ROW(),3)=1,"上午",IF(MOD(ROW(),3)=2,"下午","加班"))) -> 上午 | L25: 出勤 | M25: 出勤 | N25: 出勤 | P25: 休假 | T25: 缺勤 | V25: 放假
K26: =IF(A25="","",IF(MOD(ROW(),3)=1,"上午",IF(MOD(ROW(),3)=2,"下午","加班"))) -> 下午 | L26: 出勤 | M26: 出勤 | O26: 事假 | R26: 病假
K27: =IF(A25="","",IF(MOD(ROW(),3)=1,"上午",IF(MOD(ROW(),3)=2,"下午","加班"))) -> 加班 | L27: 13 | N27: 10
A28: =IF(B28=0,"",COUNTA($B$3:$B27)) -> 9 | B28: =INDIRECT("员工信息表!B"&COUNTA($B$3:$B27)+2) -> 尹小平 | C28: 22 | D28: =(COUNTIF($L28:$AP28,"出勤")+COUNTIF($L29:$AP29,"出勤"))*0.5 -> 2.5 | E28: =(COUNTIF($L28:$AP28,"事假")+COUNTIF($L29:$AP29,"事假"))*0.5 -> 0.5 | F28: =(COUNTIF($L28:$AP28,"病假")+COUNTIF($L29:$AP29,"病假"))*0.5 -> 0.5 | G28: =(COUNTIF($L28:$AP28,"休假")+COUNTIF($L29:$AP29,"休假"))*0.5 -> 0.5 | H28: =(COUNTIF($L28:$AP28,"缺勤")+COUNTIF($L29:$AP29,"缺勤"))*0.5 -> 0.5 | I28: =(COUNTIF($L28:$AP28,"放假")+COUNTIF($L29:$AP29,"放假"))*0.5 -> 0.5 | J28: =(SUM(L30:AP30))/$AO$2 -> 3.5714286 | K28: =IF(A28="","",IF(MOD(ROW(),3)=1,"上午",IF(MOD(ROW(),3)=2,"下午","加班"))) -> 上午 | L28: 出勤 | M28: 出勤 | N28: 出勤 | P28: 休假 | T28: 缺勤 | V28: 放假
K29: =IF(A28="","",IF(MOD(ROW(),3)=1,"上午",IF(MOD(ROW(),3)=2,"下午","加班"))) -> 下午 | L29: 出勤 | M29: 出勤 | O29: 事假 | R29: 病假
K30: =IF(A28="","",IF(MOD(ROW(),3)=1,"上午",IF(MOD(ROW(),3)=2,"下午","加班"))) -> 加班 | L30: 14 | N30: 11
A31: =IF(B31=0,"",COUNTA($B$3:$B30)) -> 10 | B31: =INDIRECT("员工信息表!B"&COUNTA($B$3:$B30)+2) -> 颜建美 | C31: 22 | D31: =(COUNTIF($L31:$AP31,"出勤")+COUNTIF($L32:$AP32,"出勤"))*0.5 -> 2.5 | E31: =(COUNTIF($L31:$AP31,"事假")+COUNTIF($L32:$AP32,"事假"))*0.5 -> 0.5 | F31: =(COUNTIF($L31:$AP31,"病假")+COUNTIF($L32:$AP32,"病假"))*0.5 -> 0.5 | G31: =(COUNTIF($L31:$AP31,"休假")+COUNTIF($L32:$AP32,"休假"))*0.5 -> 0.5 | H31: =(COUNTIF($L31:$AP31,"缺勤")+COUNTIF($L32:$AP32,"缺勤"))*0.5 -> 0.5 | I31: =(COUNTIF($L31:$AP31,"放假")+COUNTIF($L32:$AP32,"放假"))*0.5 -> 0.5 | J31: =(SUM(L33:AP33))/$AO$2 -> 3.8571429 | K31: =IF(A31="","",IF(MOD(ROW(),3)=1,"上午",IF(MOD(ROW(),3)=2,"下午","加班"))) -> 上午 | L31: 出勤 | M31: 出勤 | N31: 出勤 | P31: 休假 | T31: 缺勤 | V31: 放假
K32: =IF(A31="","",IF(MOD(ROW(),3)=1,"上午",IF(MOD(ROW(),3)=2,"下午","加班"))) -> 下午 | L32: 出勤 | M32: 出勤 | O32: 事假 | R32: 病假
K33: =IF(A31="","",IF(MOD(ROW(),3)=1,"上午",IF(MOD(ROW(),3)=2,"下午","加班"))) -> 加班 | L33: 15 | N33: 12
A34: =IF(B34=0,"",COUNTA($B$3:$B33)) -> 11 | B34: =INDIRECT("员工信息表!B"&COUNTA($B$3:$B33)+2) -> 尹乔丽 | C34: 22 | D34: =(COUNTIF($L34:$AP34,"出勤")+COUNTIF($L35:$AP35,"出勤"))*0.5 -> 2.5 | E34: =(COUNTIF($L34:$AP34,"事假")+COUNTIF($L35:$AP35,"事假"))*0.5 -> 0.5 | F34: =(COUNTIF($L34:$AP34,"病假")+COUNTIF($L35:$AP35,"病假"))*0.5 -> 0.5 | G34: =(COUNTIF($L34:$AP34,"休假")+COUNTIF($L35:$AP35,"休假"))*0.5 -> 0.5 | H34: =(COUNTIF($L34:$AP34,"缺勤")+COUNTIF($L35:$AP35,"缺勤"))*0.5 -> 0.5 | I34: =(COUNTIF($L34:$AP34,"放假")+COUNTIF($L35:$AP35,"放假"))*0.5 -> 0.5 | J34: =(SUM(L36:AP36))/$AO$2 -> 4.1428571 | K34: =IF(A34="","",IF(MOD(ROW(),3)=1,"上午",IF(MOD(ROW(),3)=2,"下午","加班"))) -> 上午 | L34: 出勤 | M34: 出勤 | N34: 出勤 | P34: 休假 | T34: 缺勤 | V34: 放假
K35: =IF(A34="","",IF(MOD(ROW(),3)=1,"上午",IF(MOD(ROW(),3)=2,"下午","加班"))) -> 下午 | L35: 出勤 | M35: 出勤 | O35: 事假 | R35: 病假
K36: =IF(A34="","",IF(MOD(ROW(),3)=1,"上午",IF(MOD(ROW(),3)=2,"下午","加班"))) -> 加班 | L36: 16 | N36: 13
A37: =IF(B37=0,"",COUNTA($B$3:$B36)) | B37: =INDIRECT("员工信息表!B"&COUNTA($B$3:$B36)+2) -> 0 | D37: =(COUNTIF($L37:$AP37,"出勤")+COUNTIF($L38:$AP38,"出勤"))*0.5 -> 0 | E37: =(COUNTIF($L37:$AP37,"事假")+COUNTIF($L38:$AP38,"事假"))*0.5 -> 0 | F37: =(COUNTIF($L37:$AP37,"病假")+COUNTIF($L38:$AP38,"病假"))*0.5 -> 0 | G37: =(COUNTIF($L37:$AP37,"休假")+COUNTIF($L38:$AP38,"休假"))*0.5 -> 0 | H37: =(COUNTIF($L37:$AP37,"缺勤")+COUNTIF($L38:$AP38,"缺勤"))*0.5 -> 0 | I37: =(COUNTIF($L37:$AP37,"放假")+COUNTIF($L38:$AP38,"放假"))*0.5 -> 0 | J37: =(SUM(L39:AP39))/$AO$2 -> 0 | K37: =IF(A37="","",IF(MOD(ROW(),3)=1,"上午",IF(MOD(ROW(),3)=2,"下午","加班")))
K38: =IF(A37="","",IF(MOD(ROW(),3)=1,"上午",IF(MOD(ROW(),3)=2,"下午","加班")))
K39: =IF(A37="","",IF(MOD(ROW(),3)=1,"上午",IF(MOD(ROW(),3)=2,"下午","加班")))
A40: =IF(B40=0,"",COUNTA($B$3:$B39)) | B40: =INDIRECT("员工信息表!B"&COUNTA($B$3:$B39)+2) -> 0 | D40: =(COUNTIF($L40:$AP40,"出勤")+COUNTIF($L41:$AP41,"出勤"))*0.5 -> 0 | E40: =(COUNTIF($L40:$AP40,"事假")+COUNTIF($L41:$AP41,"事假"))*0.5 -> 0 | F40: =(COUNTIF($L40:$AP40,"病假")+COUNTIF($L41:$AP41,"病假"))*0.5 -> 0 | G40: =(COUNTIF($L40:$AP40,"休假")+COUNTIF($L41:$AP41,"休假"))*0.5 -> 0 | H40: =(COUNTIF($L40:$AP40,"缺勤")+COUNTIF($L41:$AP41,"缺勤"))*0.5 -> 0 | I40: =(COUNTIF($L40:$AP40,"放假")+COUNTIF($L41:$AP41,"放假"))*0.5 -> 0 | J40: =(SUM(L42:AP42))/$AO$2 -> 0 | K40: =IF(A40="","",IF(MOD(ROW(),3)=1,"上午",IF(MOD(ROW(),3)=2,"下午","加班")))
K41: =IF(A40="","",IF(MOD(ROW(),3)=1,"上午",IF(MOD(ROW(),3)=2,"下午","加班")))
K42: =IF(A40="","",IF(MOD(ROW(),3)=1,"上午",IF(MOD(ROW(),3)=2,"下午","加班")))
A43: =IF(B43=0,"",COUNTA($B$3:$B42)) | B43: =INDIRECT("员工信息表!B"&COUNTA($B$3:$B42)+2) -> 0 | D43: =(COUNTIF($L43:$AP43,"出勤")+COUNTIF($L44:$AP44,"出勤"))*0.5 -> 0 | E43: =(COUNTIF($L43:$AP43,"事假")+COUNTIF($L44:$AP44,"事假"))*0.5 -> 0 | F43: =(COUNTIF($L43:$AP43,"病假")+COUNTIF($L44:$AP44,"病假"))*0.5 -> 0 | G43: =(COUNTIF($L43:$AP43,"休假")+COUNTIF($L44:$AP44,"休假"))*0.5 -> 0 | H43: =(COUNTIF($L43:$AP43,"缺勤")+COUNTIF($L44:$AP44,"缺勤"))*0.5 -> 0 | I43: =(COUNTIF($L43:$AP43,"放假")+COUNTIF($L44:$AP44,"放假"))*0.5 -> 0 | J43: =(SUM(L45:AP45))/$AO$2 -> 0 | K43: =IF(A43="","",IF(MOD(ROW(),3)=1,"上午",IF(MOD(ROW(),3)=2,"下午","加班")))
K44: =IF(A43="","",IF(MOD(ROW(),3)=1,"上午",IF(MOD(ROW(),3)=2,"下午","加班")))
K45: =IF(A43="","",IF(MOD(ROW(),3)=1,"上午",IF(MOD(ROW(),3)=2,"下午","加班")))
A46: =IF(B46=0,"",COUNTA($B$3:$B45)) | B46: =INDIRECT("员工信息表!B"&COUNTA($B$3:$B45)+2) -> 0 | D46: =(COUNTIF($L46:$AP46,"出勤")+COUNTIF($L47:$AP47,"出勤"))*0.5 -> 0 | E46: =(COUNTIF($L46:$AP46,"事假")+COUNTIF($L47:$AP47,"事假"))*0.5 -> 0 | F46: =(COUNTIF($L46:$AP46,"病假")+COUNTIF($L47:$AP47,"病假"))*0.5 -> 0 | G46: =(COUNTIF($L46:$AP46,"休假")+COUNTIF($L47:$AP47,"休假"))*0.5 -> 0 | H46: =(COUNTIF($L46:$AP46,"缺勤")+COUNTIF($L47:$AP47,"缺勤"))*0.5 -> 0 | I46: =(COUNTIF($L46:$AP46,"放假")+COUNTIF($L47:$AP47,"放假"))*0.5 -> 0 | J46: =(SUM(L48:AP48))/$AO$2 -> 0 | K46: =IF(A46="","",IF(MOD(ROW(),3)=1,"上午",IF(MOD(ROW(),3)=2,"下午","加班")))
K47: =IF(A46="","",IF(MOD(ROW(),3)=1,"上午",IF(MOD(ROW(),3)=2,"下午","加班")))
K48: =IF(A46="","",IF(MOD(ROW(),3)=1,"上午",IF(MOD(ROW(),3)=2,"下午","加班")))
A49: =IF(B49=0,"",COUNTA($B$3:$B48)) | B49: =INDIRECT("员工信息表!B"&COUNTA($B$3:$B48)+2) -> 0 | D49: =(COUNTIF($L49:$AP49,"出勤")+COUNTIF($L50:$AP50,"出勤"))*0.5 -> 0 | E49: =(COUNTIF($L49:$AP49,"事假")+COUNTIF($L50:$AP50,"事假"))*0.5 -> 0 | F49: =(COUNTIF($L49:$AP49,"病假")+COUNTIF($L50:$AP50,"病假"))*0.5 -> 0 | G49: =(COUNTIF($L49:$AP49,"休假")+COUNTIF($L50:$AP50,"休假"))*0.5 -> 0 | H49: =(COUNTIF($L49:$AP49,"缺勤")+COUNTIF($L50:$AP50,"缺勤"))*0.5 -> 0 | I49: =(COUNTIF($L49:$AP49,"放假")+COUNTIF($L50:$AP50,"放假"))*0.5 -> 0 | J49: =(SUM(L51:AP51))/$AO$2 -> 0 | K49: =IF(A49="","",IF(MOD(ROW(),3)=1,"上午",IF(MOD(ROW(),3)=2,"下午","加班")))
K50: =IF(A49="","",IF(MOD(ROW(),3)=1,"上午",IF(MOD(ROW(),3)=2,"下午","加班")))
K51: =IF(A49="","",IF(MOD(ROW(),3)=1,"上午",IF(MOD(ROW(),3)=2,"下午","加班")))
A52: =IF(B52=0,"",COUNTA($B$3:$B51)) | B52: =INDIRECT("员工信息表!B"&COUNTA($B$3:$B51)+2) -> 0 | D52: =(COUNTIF($L52:$AP52,"出勤")+COUNTIF($L53:$AP53,"出勤"))*0.5 -> 0 | E52: =(COUNTIF($L52:$AP52,"事假")+COUNTIF($L53:$AP53,"事假"))*0.5 -> 0 | F52: =(COUNTIF($L52:$AP52,"病假")+COUNTIF($L53:$AP53,"病假"))*0.5 -> 0 | G52: =(COUNTIF($L52:$AP52,"休假")+COUNTIF($L53:$AP53,"休假"))*0.5 -> 0 | H52: =(COUNTIF($L52:$AP52,"缺勤")+COUNTIF($L53:$AP53,"缺勤"))*0.5 -> 0 | I52: =(COUNTIF($L52:$AP52,"放假")+COUNTIF($L53:$AP53,"放假"))*0.5 -> 0 | J52: =(SUM(L54:AP54))/$AO$2 -> 0 | K52: =IF(A52="","",IF(MOD(ROW(),3)=1,"上午",IF(MOD(ROW(),3)=2,"下午","加班")))
K53: =IF(A52="","",IF(MOD(ROW(),3)=1,"上午",IF(MOD(ROW(),3)=2,"下午","加班")))
K54: =IF(A52="","",IF(MOD(ROW(),3)=1,"上午",IF(MOD(ROW(),3)=2,"下午","加班")))
A55: =IF(B55=0,"",COUNTA($B$3:$B54)) | B55: =INDIRECT("员工信息表!B"&COUNTA($B$3:$B54)+2) -> 0 | D55: =(COUNTIF($L55:$AP55,"出勤")+COUNTIF($L56:$AP56,"出勤"))*0.5 -> 0 | E55: =(COUNTIF($L55:$AP55,"事假")+COUNTIF($L56:$AP56,"事假"))*0.5 -> 0 | F55: =(COUNTIF($L55:$AP55,"病假")+COUNTIF($L56:$AP56,"病假"))*0.5 -> 0 | G55: =(COUNTIF($L55:$AP55,"休假")+COUNTIF($L56:$AP56,"休假"))*0.5 -> 0 | H55: =(COUNTIF($L55:$AP55,"缺勤")+COUNTIF($L56:$AP56,"缺勤"))*0.5 -> 0 | I55: =(COUNTIF($L55:$AP55,"放假")+COUNTIF($L56:$AP56,"放假"))*0.5 -> 0 | J55: =(SUM(L57:AP57))/$AO$2 -> 0 | K55: =IF(A55="","",IF(MOD(ROW(),3)=1,"上午",IF(MOD(ROW(),3)=2,"下午","加班")))
K56: =IF(A55="","",IF(MOD(ROW(),3)=1,"上午",IF(MOD(ROW(),3)=2,"下午","加班")))
K57: =IF(A55="","",IF(MOD(ROW(),3)=1,"上午",IF(MOD(ROW(),3)=2,"下午","加班")))
A58: =IF(B58=0,"",COUNTA($B$3:$B57)) | B58: =INDIRECT("员工信息表!B"&COUNTA($B$3:$B57)+2) -> 0 | D58: =(COUNTIF($L58:$AP58,"出勤")+COUNTIF($L59:$AP59,"出勤"))*0.5 -> 0 | E58: =(COUNTIF($L58:$AP58,"事假")+COUNTIF($L59:$AP59,"事假"))*0.5 -> 0 | F58: =(COUNTIF($L58:$AP58,"病假")+COUNTIF($L59:$AP59,"病假"))*0.5 -> 0 | G58: =(COUNTIF($L58:$AP58,"休假")+COUNTIF($L59:$AP59,"休假"))*0.5 -> 0 | H58: =(COUNTIF($L58:$AP58,"缺勤")+COUNTIF($L59:$AP59,"缺勤"))*0.5 -> 0 | I58: =(COUNTIF($L58:$AP58,"放假")+COUNTIF($L59:$AP59,"放假"))*0.5 -> 0 | J58: =(SUM(L60:AP60))/$AO$2 -> 0 | K58: =IF(A58="","",IF(MOD(ROW(),3)=1,"上午",IF(MOD(ROW(),3)=2,"下午","加班")))
K59: =IF(A58="","",IF(MOD(ROW(),3)=1,"上午",IF(MOD(ROW(),3)=2,"下午","加班")))
K60: =IF(A58="","",IF(MOD(ROW(),3)=1,"上午",IF(MOD(ROW(),3)=2,"下午","加班")))
A61: =IF(B61=0,"",COUNTA($B$3:$B60)) | B61: =INDIRECT("员工信息表!B"&COUNTA($B$3:$B60)+2) -> 0 | D61: =(COUNTIF($L61:$AP61,"出勤")+COUNTIF($L62:$AP62,"出勤"))*0.5 -> 0 | E61: =(COUNTIF($L61:$AP61,"事假")+COUNTIF($L62:$AP62,"事假"))*0.5 -> 0 | F61: =(COUNTIF($L61:$AP61,"病假")+COUNTIF($L62:$AP62,"病假"))*0.5 -> 0 | G61: =(COUNTIF($L61:$AP61,"休假")+COUNTIF($L62:$AP62,"休假"))*0.5 -> 0 | H61: =(COUNTIF($L61:$AP61,"缺勤")+COUNTIF($L62:$AP62,"缺勤"))*0.5 -> 0 | I61: =(COUNTIF($L61:$AP61,"放假")+COUNTIF($L62:$AP62,"放假"))*0.5 -> 0 | J61: =(SUM(L63:AP63))/$AO$2 -> 0 | K61: =IF(A61="","",IF(MOD(ROW(),3)=1,"上午",IF(MOD(ROW(),3)=2,"下午","加班")))
K62: =IF(A61="","",IF(MOD(ROW(),3)=1,"上午",IF(MOD(ROW(),3)=2,"下午","加班")))
K63: =IF(A61="","",IF(MOD(ROW(),3)=1,"上午",IF(MOD(ROW(),3)=2,"下午","加班")))
A64: =IF(B64=0,"",COUNTA($B$3:$B63)) | B64: =INDIRECT("员工信息表!B"&COUNTA($B$3:$B63)+2) -> 0 | D64: =(COUNTIF($L64:$AP64,"出勤")+COUNTIF($L65:$AP65,"出勤"))*0.5 -> 0 | E64: =(COUNTIF($L64:$AP64,"事假")+COUNTIF($L65:$AP65,"事假"))*0.5 -> 0 | F64: =(COUNTIF($L64:$AP64,"病假")+COUNTIF($L65:$AP65,"病假"))*0.5 -> 0 | G64: =(COUNTIF($L64:$AP64,"休假")+COUNTIF($L65:$AP65,"休假"))*0.5 -> 0 | H64: =(COUNTIF($L64:$AP64,"缺勤")+COUNTIF($L65:$AP65,"缺勤"))*0.5 -> 0 | I64: =(COUNTIF($L64:$AP64,"放假")+COUNTIF($L65:$AP65,"放假"))*0.5 -> 0 | J64: =(SUM(L66:AP66))/$AO$2 -> 0 | K64: =IF(A64="","",IF(MOD(ROW(),3)=1,"上午",IF(MOD(ROW(),3)=2,"下午","加班")))
K65: =IF(A64="","",IF(MOD(ROW(),3)=1,"上午",IF(MOD(ROW(),3)=2,"下午","加班")))
K66: =IF(A64="","",IF(MOD(ROW(),3)=1,"上午",IF(MOD(ROW(),3)=2,"下午","加班")))
A67: =IF(B67=0,"",COUNTA($B$3:$B66)) | B67: =INDIRECT("员工信息表!B"&COUNTA($B$3:$B66)+2) -> 0 | D67: =(COUNTIF($L67:$AP67,"出勤")+COUNTIF($L68:$AP68,"出勤"))*0.5 -> 0 | E67: =(COUNTIF($L67:$AP67,"事假")+COUNTIF($L68:$AP68,"事假"))*0.5 -> 0 | F67: =(COUNTIF($L67:$AP67,"病假")+COUNTIF($L68:$AP68,"病假"))*0.5 -> 0 | G67: =(COUNTIF($L67:$AP67,"休假")+COUNTIF($L68:$AP68,"休假"))*0.5 -> 0 | H67: =(COUNTIF($L67:$AP67,"缺勤")+COUNTIF($L68:$AP68,"缺勤"))*0.5 -> 0 | I67: =(COUNTIF($L67:$AP67,"放假")+COUNTIF($L68:$AP68,"放假"))*0.5 -> 0 | J67: =(SUM(L69:AP69))/$AO$2 -> 0 | K67: =IF(A67="","",IF(MOD(ROW(),3)=1,"上午",IF(MOD(ROW(),3)=2,"下午","加班")))
K68: =IF(A67="","",IF(MOD(ROW(),3)=1,"上午",IF(MOD(ROW(),3)=2,"下午","加班")))
K69: =IF(A67="","",IF(MOD(ROW(),3)=1,"上午",IF(MOD(ROW(),3)=2,"下午","加班")))
A70: =IF(B70=0,"",COUNTA($B$3:$B69)) | B70: =INDIRECT("员工信息表!B"&COUNTA($B$3:$B69)+2) -> 0 | D70: =(COUNTIF($L70:$AP70,"出勤")+COUNTIF($L71:$AP71,"出勤"))*0.5 -> 0 | E70: =(COUNTIF($L70:$AP70,"事假")+COUNTIF($L71:$AP71,"事假"))*0.5 -> 0 | F70: =(COUNTIF($L70:$AP70,"病假")+COUNTIF($L71:$AP71,"病假"))*0.5 -> 0 | G70: =(COUNTIF($L70:$AP70,"休假")+COUNTIF($L71:$AP71,"休假"))*0.5 -> 0 | H70: =(COUNTIF($L70:$AP70,"缺勤")+COUNTIF($L71:$AP71,"缺勤"))*0.5 -> 0 | I70: =(COUNTIF($L70:$AP70,"放假")+COUNTIF($L71:$AP71,"放假"))*0.5 -> 0 | J70: =(SUM(L72:AP72))/$AO$2 -> 0 | K70: =IF(A70="","",IF(MOD(ROW(),3)=1,"上午",IF(MOD(ROW(),3)=2,"下午","加班")))
K71: =IF(A70="","",IF(MOD(ROW(),3)=1,"上午",IF(MOD(ROW(),3)=2,"下午","加班")))
K72: =IF(A70="","",IF(MOD(ROW(),3)=1,"上午",IF(MOD(ROW(),3)=2,"下午","加班")))
A73: =IF(B73=0,"",COUNTA($B$3:$B72)) | B73: =INDIRECT("员工信息表!B"&COUNTA($B$3:$B72)+2) -> 0 | D73: =(COUNTIF($L73:$AP73,"出勤")+COUNTIF($L74:$AP74,"出勤"))*0.5 -> 0 | E73: =(COUNTIF($L73:$AP73,"事假")+COUNTIF($L74:$AP74,"事假"))*0.5 -> 0 | F73: =(COUNTIF($L73:$AP73,"病假")+COUNTIF($L74:$AP74,"病假"))*0.5 -> 0 | G73: =(COUNTIF($L73:$AP73,"休假")+COUNTIF($L74:$AP74,"休假"))*0.5 -> 0 | H73: =(COUNTIF($L73:$AP73,"缺勤")+COUNTIF($L74:$AP74,"缺勤"))*0.5 -> 0 | I73: =(COUNTIF($L73:$AP73,"放假")+COUNTIF($L74:$AP74,"放假"))*0.5 -> 0 | J73: =(SUM(L75:AP75))/$AO$2 -> 0 | K73: =IF(A73="","",IF(MOD(ROW(),3)=1,"上午",IF(MOD(ROW(),3)=2,"下午","加班")))
K74: =IF(A73="","",IF(MOD(ROW(),3)=1,"上午",IF(MOD(ROW(),3)=2,"下午","加班")))
K75: =IF(A73="","",IF(MOD(ROW(),3)=1,"上午",IF(MOD(ROW(),3)=2,"下午","加班")))
A76: =IF(B76=0,"",COUNTA($B$3:$B75)) | B76: =INDIRECT("员工信息表!B"&COUNTA($B$3:$B75)+2) -> 0 | D76: =(COUNTIF($L76:$AP76,"出勤")+COUNTIF($L77:$AP77,"出勤"))*0.5 -> 0 | E76: =(COUNTIF($L76:$AP76,"事假")+COUNTIF($L77:$AP77,"事假"))*0.5 -> 0 | F76: =(COUNTIF($L76:$AP76,"病假")+COUNTIF($L77:$AP77,"病假"))*0.5 -> 0 | G76: =(COUNTIF($L76:$AP76,"休假")+COUNTIF($L77:$AP77,"休假"))*0.5 -> 0 | H76: =(COUNTIF($L76:$AP76,"缺勤")+COUNTIF($L77:$AP77,"缺勤"))*0.5 -> 0 | I76: =(COUNTIF($L76:$AP76,"放假")+COUNTIF($L77:$AP77,"放假"))*0.5 -> 0 | J76: =(SUM(L78:AP78))/$AO$2 -> 0 | K76: =IF(A76="","",IF(MOD(ROW(),3)=1,"上午",IF(MOD(ROW(),3)=2,"下午","加班")))
K77: =IF(A76="","",IF(MOD(ROW(),3)=1,"上午",IF(MOD(ROW(),3)=2,"下午","加班")))
K78: =IF(A76="","",IF(MOD(ROW(),3)=1,"上午",IF(MOD(ROW(),3)=2,"下午","加班")))
A79: =IF(B79=0,"",COUNTA($B$3:$B78)) | B79: =INDIRECT("员工信息表!B"&COUNTA($B$3:$B78)+2) -> 0 | D79: =(COUNTIF($L79:$AP79,"出勤")+COUNTIF($L80:$AP80,"出勤"))*0.5 -> 0 | E79: =(COUNTIF($L79:$AP79,"事假")+COUNTIF($L80:$AP80,"事假"))*0.5 -> 0 | F79: =(COUNTIF($L79:$AP79,"病假")+COUNTIF($L80:$AP80,"病假"))*0.5 -> 0 | G79: =(COUNTIF($L79:$AP79,"休假")+COUNTIF($L80:$AP80,"休假"))*0.5 -> 0 | H79: =(COUNTIF($L79:$AP79,"缺勤")+COUNTIF($L80:$AP80,"缺勤"))*0.5 -> 0 | I79: =(COUNTIF($L79:$AP79,"放假")+COUNTIF($L80:$AP80,"放假"))*0.5 -> 0 | J79: =(SUM(L81:AP81))/$AO$2 -> 0 | K79: =IF(A79="","",IF(MOD(ROW(),3)=1,"上午",IF(MOD(ROW(),3)=2,"下午","加班")))
K80: =IF(A79="","",IF(MOD(ROW(),3)=1,"上午",IF(MOD(ROW(),3)=2,"下午","加班")))
K81: =IF(A79="","",IF(MOD(ROW(),3)=1,"上午",IF(MOD(ROW(),3)=2,"下午","加班")))
A82: =IF(B82=0,"",COUNTA($B$3:$B81)) | B82: =INDIRECT("员工信息表!B"&COUNTA($B$3:$B81)+2) -> 0 | D82: =(COUNTIF($L82:$AP82,"出勤")+COUNTIF($L83:$AP83,"出勤"))*0.5 -> 0 | E82: =(COUNTIF($L82:$AP82,"事假")+COUNTIF($L83:$AP83,"事假"))*0.5 -> 0 | F82: =(COUNTIF($L82:$AP82,"病假")+COUNTIF($L83:$AP83,"病假"))*0.5 -> 0 | G82: =(COUNTIF($L82:$AP82,"休假")+COUNTIF($L83:$AP83,"休假"))*0.5 -> 0 | H82: =(COUNTIF($L82:$AP82,"缺勤")+COUNTIF($L83:$AP83,"缺勤"))*0.5 -> 0 | I82: =(COUNTIF($L82:$AP82,"放假")+COUNTIF($L83:$AP83,"放假"))*0.5 -> 0 | J82: =(SUM(L84:AP84))/$AO$2 -> 0 | K82: =IF(A82="","",IF(MOD(ROW(),3)=1,"上午",IF(MOD(ROW(),3)=2,"下午","加班")))
K83: =IF(A82="","",IF(MOD(ROW(),3)=1,"上午",IF(MOD(ROW(),3)=2,"下午","加班")))
K84: =IF(A82="","",IF(MOD(ROW(),3)=1,"上午",IF(MOD(ROW(),3)=2,"下午","加班")))
A85: =IF(B85=0,"",COUNTA($B$3:$B84)) | B85: =INDIRECT("员工信息表!B"&COUNTA($B$3:$B84)+2) -> 0 | D85: =(COUNTIF($L85:$AP85,"出勤")+COUNTIF($L86:$AP86,"出勤"))*0.5 -> 0 | E85: =(COUNTIF($L85:$AP85,"事假")+COUNTIF($L86:$AP86,"事假"))*0.5 -> 0 | F85: =(COUNTIF($L85:$AP85,"病假")+COUNTIF($L86:$AP86,"病假"))*0.5 -> 0 | G85: =(COUNTIF($L85:$AP85,"休假")+COUNTIF($L86:$AP86,"休假"))*0.5 -> 0 | H85: =(COUNTIF($L85:$AP85,"缺勤")+COUNTIF($L86:$AP86,"缺勤"))*0.5 -> 0 | I85: =(COUNTIF($L85:$AP85,"放假")+COUNTIF($L86:$AP86,"放假"))*0.5 -> 0 | J85: =(SUM(L87:AP87))/$AO$2 -> 0 | K85: =IF(A85="","",IF(MOD(ROW(),3)=1,"上午",IF(MOD(ROW(),3)=2,"下午","加班")))
K86: =IF(A85="","",IF(MOD(ROW(),3)=1,"上午",IF(MOD(ROW(),3)=2,"下午","加班")))
K87: =IF(A85="","",IF(MOD(ROW(),3)=1,"上午",IF(MOD(ROW(),3)=2,"下午","加班")))
A88: =IF(B88=0,"",COUNTA($B$3:$B87)) | B88: =INDIRECT("员工信息表!B"&COUNTA($B$3:$B87)+2) -> 0 | D88: =(COUNTIF($L88:$AP88,"出勤")+COUNTIF($L89:$AP89,"出勤"))*0.5 -> 0 | E88: =(COUNTIF($L88:$AP88,"事假")+COUNTIF($L89:$AP89,"事假"))*0.5 -> 0 | F88: =(COUNTIF($L88:$AP88,"病假")+COUNTIF($L89:$AP89,"病假"))*0.5 -> 0 | G88: =(COUNTIF($L88:$AP88,"休假")+COUNTIF($L89:$AP89,"休假"))*0.5 -> 0 | H88: =(COUNTIF($L88:$AP88,"缺勤")+COUNTIF($L89:$AP89,"缺勤"))*0.5 -> 0 | I88: =(COUNTIF($L88:$AP88,"放假")+COUNTIF($L89:$AP89,"放假"))*0.5 -> 0 | J88: =(SUM(L90:AP90))/$AO$2 -> 0 | K88: =IF(A88="","",IF(MOD(ROW(),3)=1,"上午",IF(MOD(ROW(),3)=2,"下午","加班")))
K89: =IF(A88="","",IF(MOD(ROW(),3)=1,"上午",IF(MOD(ROW(),3)=2,"下午","加班")))
K90: =IF(A88="","",IF(MOD(ROW(),3)=1,"上午",IF(MOD(ROW(),3)=2,"下午","加班")))
A91: =IF(B91=0,"",COUNTA($B$3:$B90)) | B91: =INDIRECT("员工信息表!B"&COUNTA($B$3:$B90)+2) -> 0 | D91: =(COUNTIF($L91:$AP91,"出勤")+COUNTIF($L92:$AP92,"出勤"))*0.5 -> 0 | E91: =(COUNTIF($L91:$AP91,"事假")+COUNTIF($L92:$AP92,"事假"))*0.5 -> 0 | F91: =(COUNTIF($L91:$AP91,"病假")+COUNTIF($L92:$AP92,"病假"))*0.5 -> 0 | G91: =(COUNTIF($L91:$AP91,"休假")+COUNTIF($L92:$AP92,"休假"))*0.5 -> 0 | H91: =(COUNTIF($L91:$AP91,"缺勤")+COUNTIF($L92:$AP92,"缺勤"))*0.5 -> 0 | I91: =(COUNTIF($L91:$AP91,"放假")+COUNTIF($L92:$AP92,"放假"))*0.5 -> 0 | J91: =(SUM(L93:AP93))/$AO$2 -> 0 | K91: =IF(A91="","",IF(MOD(ROW(),3)=1,"上午",IF(MOD(ROW(),3)=2,"下午","加班")))
K92: =IF(A91="","",IF(MOD(ROW(),3)=1,"上午",IF(MOD(ROW(),3)=2,"下午","加班")))
K93: =IF(A91="","",IF(MOD(ROW(),3)=1,"上午",IF(MOD(ROW(),3)=2,"下午","加班")))
A94: =IF(B94=0,"",COUNTA($B$3:$B93)) | B94: =INDIRECT("员工信息表!B"&COUNTA($B$3:$B93)+2) -> 0 | D94: =(COUNTIF($L94:$AP94,"出勤")+COUNTIF($L95:$AP95,"出勤"))*0.5 -> 0 | E94: =(COUNTIF($L94:$AP94,"事假")+COUNTIF($L95:$AP95,"事假"))*0.5 -> 0 | F94: =(COUNTIF($L94:$AP94,"病假")+COUNTIF($L95:$AP95,"病假"))*0.5 -> 0 | G94: =(COUNTIF($L94:$AP94,"休假")+COUNTIF($L95:$AP95,"休假"))*0.5 -> 0 | H94: =(COUNTIF($L94:$AP94,"缺勤")+COUNTIF($L95:$AP95,"缺勤"))*0.5 -> 0 | I94: =(COUNTIF($L94:$AP94,"放假")+COUNTIF($L95:$AP95,"放假"))*0.5 -> 0 | J94: =(SUM(L96:AP96))/$AO$2 -> 0 | K94: =IF(A94="","",IF(MOD(ROW(),3)=1,"上午",IF(MOD(ROW(),3)=2,"下午","加班")))
K95: =IF(A94="","",IF(MOD(ROW(),3)=1,"上午",IF(MOD(ROW(),3)=2,"下午","加班")))
K96: =IF(A94="","",IF(MOD(ROW(),3)=1,"上午",IF(MOD(ROW(),3)=2,"下午","加班")))
A97: =IF(B97=0,"",COUNTA($B$3:$B96)) | B97: =INDIRECT("员工信息表!B"&COUNTA($B$3:$B96)+2) -> 0 | D97: =(COUNTIF($L97:$AP97,"出勤")+COUNTIF($L98:$AP98,"出勤"))*0.5 -> 0 | E97: =(COUNTIF($L97:$AP97,"事假")+COUNTIF($L98:$AP98,"事假"))*0.5 -> 0 | F97: =(COUNTIF($L97:$AP97,"病假")+COUNTIF($L98:$AP98,"病假"))*0.5 -> 0 | G97: =(COUNTIF($L97:$AP97,"休假")+COUNTIF($L98:$AP98,"休假"))*0.5 -> 0 | H97: =(COUNTIF($L97:$AP97,"缺勤")+COUNTIF($L98:$AP98,"缺勤"))*0.5 -> 0 | I97: =(COUNTIF($L97:$AP97,"放假")+COUNTIF($L98:$AP98,"放假"))*0.5 -> 0 | J97: =(SUM(L99:AP99))/$AO$2 -> 0 | K97: =IF(A97="","",IF(MOD(ROW(),3)=1,"上午",IF(MOD(ROW(),3)=2,"下午","加班")))
K98: =IF(A97="","",IF(MOD(ROW(),3)=1,"上午",IF(MOD(ROW(),3)=2,"下午","加班")))
K99: =IF(A97="","",IF(MOD(ROW(),3)=1,"上午",IF(MOD(ROW(),3)=2,"下午","加班")))
A100: =IF(B100=0,"",COUNTA($B$3:$B99)) | B100: =INDIRECT("员工信息表!B"&COUNTA($B$3:$B99)+2) -> 0 | D100: =(COUNTIF($L100:$AP100,"出勤")+COUNTIF($L101:$AP101,"出勤"))*0.5 -> 0 | E100: =(COUNTIF($L100:$AP100,"事假")+COUNTIF($L101:$AP101,"事假"))*0.5 -> 0 | F100: =(COUNTIF($L100:$AP100,"病假")+COUNTIF($L101:$AP101,"病假"))*0.5 -> 0 | G100: =(COUNTIF($L100:$AP100,"休假")+COUNTIF($L101:$AP101,"休假"))*0.5 -> 0 | H100: =(COUNTIF($L100:$AP100,"缺勤")+COUNTIF($L101:$AP101,"缺勤"))*0.5 -> 0 | I100: =(COUNTIF($L100:$AP100,"放假")+COUNTIF($L101:$AP101,"放假"))*0.5 -> 0 | J100: =(SUM(L102:AP102))/$AO$2 -> 0 | K100: =IF(A100="","",IF(MOD(ROW(),3)=1,"上午",IF(MOD(ROW(),3)=2,"下午","加班")))
...

Sheet 6月
A1: 考 勤 表
A2: 2022 | C2: 6 | J2: ="本月 "&DAY(DATE(A2,C2+1,1)-1)&" 天" -> 本月 30 天 | AJ2: 输入每天工作小时 | AO2: 7 | AP2: h
A3: 序号 | B3: 姓名 | C3: 应出勤 天数 | D3: 实际出勤 天数 | E3: 事假 天数 | F3: 病假 天数 | G3: 休假 天数 | H3: 缺勤 天数 | I3: 放假 天数 | J3: 加班 天数 | K3: 班次 | L3: =IF(MONTH(DATE($A$2,$C$2,COLUMN(A1)))=$C$2,DATE($A$2,$C$2,COLUMN(A1)),"") -> 44713 | M3: =IF(MONTH(DATE($A$2,$C$2,COLUMN(B1)))=$C$2,DATE($A$2,$C$2,COLUMN(B1)),"") -> 44714 | N3: =IF(MONTH(DATE($A$2,$C$2,COLUMN(C1)))=$C$2,DATE($A$2,$C$2,COLUMN(C1)),"") -> 44715 | O3: =IF(MONTH(DATE($A$2,$C$2,COLUMN(D1)))=$C$2,DATE($A$2,$C$2,COLUMN(D1)),"") -> 44716 | P3: =IF(MONTH(DATE($A$2,$C$2,COLUMN(E1)))=$C$2,DATE($A$2,$C$2,COLUMN(E1)),"") -> 44717 | Q3: =IF(MONTH(DATE($A$2,$C$2,COLUMN(F1)))=$C$2,DATE($A$2,$C$2,COLUMN(F1)),"") -> 44718 | R3: =IF(MONTH(DATE($A$2,$C$2,COLUMN(G1)))=$C$2,DATE($A$2,$C$2,COLUMN(G1)),"") -> 44719 | S3: =IF(MONTH(DATE($A$2,$C$2,COLUMN(H1)))=$C$2,DATE($A$2,$C$2,COLUMN(H1)),"") -> 44720 | ... AP3: =IF(MONTH(DATE($A$2,$C$2,COLUMN(AE1)))=$C$2,DATE($A$2,$C$2,COLUMN(AE1)),"")
A4: =IF(B4=0,"",COUNTA($B$3:$B3)) -> 1 | B4: =INDIRECT("员工信息表!B"&COUNTA($B$3:$B3)+2) -> 苏继兵 | C4: 22 | D4: =(COUNTIF($L4:$AP4,"出勤")+COUNTIF($L5:$AP5,"出勤"))*0.5 -> 2.5 | E4: =(COUNTIF($L4:$AP4,"事假")+COUNTIF($L5:$AP5,"事假"))*0.5 -> 0.5 | F4: =(COUNTIF($L4:$AP4,"病假")+COUNTIF($L5:$AP5,"病假"))*0.5 -> 0.5 | G4: =(COUNTIF($L4:$AP4,"休假")+COUNTIF($L5:$AP5,"休假"))*0.5 -> 0.5 | H4: =(COUNTIF($L4:$AP4,"缺勤")+COUNTIF($L5:$AP5,"缺勤"))*0.5 -> 0.5 | I4: =(COUNTIF($L4:$AP4,"放假")+COUNTIF($L5:$AP5,"放假"))*0.5 -> 0.5 | J4: =(SUM(L6:AP6))/$AO$2 -> 1.2857143 | K4: =IF(A4="","",IF(MOD(ROW(),3)=1,"上午",IF(MOD(ROW(),3)=2,"下午","加班"))) -> 上午 | L4: 出勤 | M4: 出勤 | N4: 出勤 | P4: 休假 | T4: 缺勤 | V4: 放假
K5: =IF(A4="","",IF(MOD(ROW(),3)=1,"上午",IF(MOD(ROW(),3)=2,"下午","加班"))) -> 下午 | L5: 出勤 | M5: 出勤 | O5: 事假 | R5: 病假
K6: =IF(A4="","",IF(MOD(ROW(),3)=1,"上午",IF(MOD(ROW(),3)=2,"下午","加班"))) -> 加班 | L6: 6 | N6: 3
A7: =IF(B7=0,"",COUNTA($B$3:$B6)) -> 2 | B7: =INDIRECT("员工信息表!B"&COUNTA($B$3:$B6)+2) -> 苏继中 | C7: 22 | D7: =(COUNTIF($L7:$AP7,"出勤")+COUNTIF($L8:$AP8,"出勤"))*0.5 -> 2.5 | E7: =(COUNTIF($L7:$AP7,"事假")+COUNTIF($L8:$AP8,"事假"))*0.5 -> 0.5 | F7: =(COUNTIF($L7:$AP7,"病假")+COUNTIF($L8:$AP8,"病假"))*0.5 -> 0.5 | G7: =(COUNTIF($L7:$AP7,"休假")+COUNTIF($L8:$AP8,"休假"))*0.5 -> 0.5 | H7: =(COUNTIF($L7:$AP7,"缺勤")+COUNTIF($L8:$AP8,"缺勤"))*0.5 -> 0.5 | I7: =(COUNTIF($L7:$AP7,"放假")+COUNTIF($L8:$AP8,"放假"))*0.5 -> 0.5 | J7: =(SUM(L9:AP9))/$AO$2 -> 1.5714286 | K7: =IF(A7="","",IF(MOD(ROW(),3)=1,"上午",IF(MOD(ROW(),3)=2,"下午","加班"))) -> 上午 | L7: 出勤 | M7: 出勤 | N7: 出勤 | P7: 休假 | T7: 缺勤 | V7: 放假
K8: =IF(A7="","",IF(MOD(ROW(),3)=1,"上午",IF(MOD(ROW(),3)=2,"下午","加班"))) -> 下午 | L8: 出勤 | M8: 出勤 | O8: 事假 | R8: 病假
K9: =IF(A7="","",IF(MOD(ROW(),3)=1,"上午",IF(MOD(ROW(),3)=2,"下午","加班"))) -> 加班 | L9: 7 | N9: 4
A10: =IF(B10=0,"",COUNTA($B$3:$B9)) -> 3 | B10: =INDIRECT("员工信息表!B"&COUNTA($B$3:$B9)+2) -> 刘毅 | C10: 22 | D10: =(COUNTIF($L10:$AP10,"出勤")+COUNTIF($L11:$AP11,"出勤"))*0.5 -> 2.5 | E10: =(COUNTIF($L10:$AP10,"事假")+COUNTIF($L11:$AP11,"事假"))*0.5 -> 0.5 | F10: =(COUNTIF($L10:$AP10,"病假")+COUNTIF($L11:$AP11,"病假"))*0.5 -> 0.5 | G10: =(COUNTIF($L10:$AP10,"休假")+COUNTIF($L11:$AP11,"休假"))*0.5 -> 0.5 | H10: =(COUNTIF($L10:$AP10,"缺勤")+COUNTIF($L11:$AP11,"缺勤"))*0.5 -> 0.5 | I10: =(COUNTIF($L10:$AP10,"放假")+COUNTIF($L11:$AP11,"放假"))*0.5 -> 0.5 | J10: =(SUM(L12:AP12))/$AO$2 -> 1.8571429 | K10: =IF(A10="","",IF(MOD(ROW(),3)=1,"上午",IF(MOD(ROW(),3)=2,"下午","加班"))) -> 上午 | L10: 出勤 | M10: 出勤 | N10: 出勤 | P10: 休假 | T10: 缺勤 | V10: 放假
K11: =IF(A10="","",IF(MOD(ROW(),3)=1,"上午",IF(MOD(ROW(),3)=2,"下午","加班"))) -> 下午 | L11: 出勤 | M11: 出勤 | O11: 事假 | R11: 病假
K12: =IF(A10="","",IF(MOD(ROW(),3)=1,"上午",IF(MOD(ROW(),3)=2,"下午","加班"))) -> 加班 | L12: 8 | N12: 5
A13: =IF(B13=0,"",COUNTA($B$3:$B12)) -> 4 | B13: =INDIRECT("员工信息表!B"&COUNTA($B$3:$B12)+2) -> 伍亦中 | C13: 22 | D13: =(COUNTIF($L13:$AP13,"出勤")+COUNTIF($L14:$AP14,"出勤"))*0.5 -> 2.5 | E13: =(COUNTIF($L13:$AP13,"事假")+COUNTIF($L14:$AP14,"事假"))*0.5 -> 0.5 | F13: =(COUNTIF($L13:$AP13,"病假")+COUNTIF($L14:$AP14,"病假"))*0.5 -> 0.5 | G13: =(COUNTIF($L13:$AP13,"休假")+COUNTIF($L14:$AP14,"休假"))*0.5 -> 0.5 | H13: =(COUNTIF($L13:$AP13,"缺勤")+COUNTIF($L14:$AP14,"缺勤"))*0.5 -> 0.5 | I13: =(COUNTIF($L13:$AP13,"放假")+COUNTIF($L14:$AP14,"放假"))*0.5 -> 0.5 | J13: =(SUM(L15:AP15))/$AO$2 -> 2.1428571 | K13: =IF(A13="","",IF(MOD(ROW(),3)=1,"上午",IF(MOD(ROW(),3)=2,"下午","加班"))) -> 上午 | L13: 出勤 | M13: 出勤 | N13: 出勤 | P13: 休假 | T13: 缺勤 | V13: 放假
K14: =IF(A13="","",IF(MOD(ROW(),3)=1,"上午",IF(MOD(ROW(),3)=2,"下午","加班"))) -> 下午 | L14: 出勤 | M14: 出勤 | O14: 事假 | R14: 病假
K15: =IF(A13="","",IF(MOD(ROW(),3)=1,"上午",IF(MOD(ROW(),3)=2,"下午","加班"))) -> 加班 | L15: 9 | N15: 6
A16: =IF(B16=0,"",COUNTA($B$3:$B15)) -> 5 | B16: =INDIRECT("员工信息表!B"&COUNTA($B$3:$B15)+2) -> 苏绿华 | C16: 22 | D16: =(COUNTIF($L16:$AP16,"出勤")+COUNTIF($L17:$AP17,"出勤"))*0.5 -> 2.5 | E16: =(COUNTIF($L16:$AP16,"事假")+COUNTIF($L17:$AP17,"事假"))*0.5 -> 0.5 | F16: =(COUNTIF($L16:$AP16,"病假")+COUNTIF($L17:$AP17,"病假"))*0.5 -> 0.5 | G16: =(COUNTIF($L16:$AP16,"休假")+COUNTIF($L17:$AP17,"休假"))*0.5 -> 0.5 | H16: =(COUNTIF($L16:$AP16,"缺勤")+COUNTIF($L17:$AP17,"缺勤"))*0.5 -> 0.5 | I16: =(COUNTIF($L16:$AP16,"放假")+COUNTIF($L17:$AP17,"放假"))*0.5 -> 0.5 | J16: =(SUM(L18:AP18))/$AO$2 -> 2.4285714 | K16: =IF(A16="","",IF(MOD(ROW(),3)=1,"上午",IF(MOD(ROW(),3)=2,"下午","加班"))) -> 上午 | L16: 出勤 | M16: 出勤 | N16: 出勤 | P16: 休假 | T16: 缺勤 | V16: 放假
K17: =IF(A16="","",IF(MOD(ROW(),3)=1,"上午",IF(MOD(ROW(),3)=2,"下午","加班"))) -> 下午 | L17: 出勤 | M17: 出勤 | O17: 事假 | R17: 病假
K18: =IF(A16="","",IF(MOD(ROW(),3)=1,"上午",IF(MOD(ROW(),3)=2,"下午","加班"))) -> 加班 | L18: 10 | N18: 7
A19: =IF(B19=0,"",COUNTA($B$3:$B18)) -> 6 | B19: =INDIRECT("员工信息表!B"&COUNTA($B$3:$B18)+2) -> 王升祥 | C19: 22 | D19: =(COUNTIF($L19:$AP19,"出勤")+COUNTIF($L20:$AP20,"出勤"))*0.5 -> 2.5 | E19: =(COUNTIF($L19:$AP19,"事假")+COUNTIF($L20:$AP20,"事假"))*0.5 -> 0.5 | F19: =(COUNTIF($L19:$AP19,"病假")+COUNTIF($L20:$AP20,"病假"))*0.5 -> 0.5 | G19: =(COUNTIF($L19:$AP19,"休假")+COUNTIF($L20:$AP20,"休假"))*0.5 -> 0.5 | H19: =(COUNTIF($L19:$AP19,"缺勤")+COUNTIF($L20:$AP20,"缺勤"))*0.5 -> 0.5 | I19: =(COUNTIF($L19:$AP19,"放假")+COUNTIF($L20:$AP20,"放假"))*0.5 -> 0.5 | J19: =(SUM(L21:AP21))/$AO$2 -> 2.7142857 | K19: =IF(A19="","",IF(MOD(ROW(),3)=1,"上午",IF(MOD(ROW(),3)=2,"下午","加班"))) -> 上午 | L19: 出勤 | M19: 出勤 | N19: 出勤 | P19: 休假 | T19: 缺勤 | V19: 放假
K20: =IF(A19="","",IF(MOD(ROW(),3)=1,"上午",IF(MOD(ROW(),3)=2,"下午","加班"))) -> 下午 | L20: 出勤 | M20: 出勤 | O20: 事假 | R20: 病假
K21: =IF(A19="","",IF(MOD(ROW(),3)=1,"上午",IF(MOD(ROW(),3)=2,"下午","加班"))) -> 加班 | L21: 11 | N21: 8
A22: =IF(B22=0,"",COUNTA($B$3:$B21)) -> 7 | B22: =INDIRECT("员工信息表!B"&COUNTA($B$3:$B21)+2) -> 刘让铁 | C22: 22 | D22: =(COUNTIF($L22:$AP22,"出勤")+COUNTIF($L23:$AP23,"出勤"))*0.5 -> 2.5 | E22: =(COUNTIF($L22:$AP22,"事假")+COUNTIF($L23:$AP23,"事假"))*0.5 -> 0.5 | F22: =(COUNTIF($L22:$AP22,"病假")+COUNTIF($L23:$AP23,"病假"))*0.5 -> 0.5 | G22: =(COUNTIF($L22:$AP22,"休假")+COUNTIF($L23:$AP23,"休假"))*0.5 -> 0.5 | H22: =(COUNTIF($L22:$AP22,"缺勤")+COUNTIF($L23:$AP23,"缺勤"))*0.5 -> 0.5 | I22: =(COUNTIF($L22:$AP22,"放假")+COUNTIF($L23:$AP23,"放假"))*0.5 -> 0.5 | J22: =(SUM(L24:AP24))/$AO$2 -> 3 | K22: =IF(A22="","",IF(MOD(ROW(),3)=1,"上午",IF(MOD(ROW(),3)=2,"下午","加班"))) -> 上午 | L22: 出勤 | M22: 出勤 | N22: 出勤 | P22: 休假 | T22: 缺勤 | V22: 放假
K23: =IF(A22="","",IF(MOD(ROW(),3)=1,"上午",IF(MOD(ROW(),3)=2,"下午","加班"))) -> 下午 | L23: 出勤 | M23: 出勤 | O23: 事假 | R23: 病假
K24: =IF(A22="","",IF(MOD(ROW(),3)=1,"上午",IF(MOD(ROW(),3)=2,"下午","加班"))) -> 加班 | L24: 12 | N24: 9
A25: =IF(B25=0,"",COUNTA($B$3:$B24)) -> 8 | B25: =INDIRECT("员工信息表!B"&COUNTA($B$3:$B24)+2) -> 颜运回 | C25: 22 | D25: =(COUNTIF($L25:$AP25,"出勤")+COUNTIF($L26:$AP26,"出勤"))*0.5 -> 2.5 | E25: =(COUNTIF($L25:$AP25,"事假")+COUNTIF($L26:$AP26,"事假"))*0.5 -> 0.5 | F25: =(COUNTIF($L25:$AP25,"病假")+COUNTIF($L26:$AP26,"病假"))*0.5 -> 0.5 | G25: =(COUNTIF($L25:$AP25,"休假")+COUNTIF($L26:$AP26,"休假"))*0.5 -> 0.5 | H25: =(COUNTIF($L25:$AP25,"缺勤")+COUNTIF($L26:$AP26,"缺勤"))*0.5 -> 0.5 | I25: =(COUNTIF($L25:$AP25,"放假")+COUNTIF($L26:$AP26,"放假"))*0.5 -> 0.5 | J25: =(SUM(L27:AP27))/$AO$2 -> 3.2857143 | K25: =IF(A25="","",IF(MOD(ROW(),3)=1,"上午",IF(MOD(ROW(),3)=2,"下午","加班"))) -> 上午 | L25: 出勤 | M25: 出勤 | N25: 出勤 | P25: 休假 | T25: 缺勤 | V25: 放假
K26: =IF(A25="","",IF(MOD(ROW(),3)=1,"上午",IF(MOD(ROW(),3)=2,"下午","加班"))) -> 下午 | L26: 出勤 | M26: 出勤 | O26: 事假 | R26: 病假
K27: =IF(A25="","",IF(MOD(ROW(),3)=1,"上午",IF(MOD(ROW(),3)=2,"下午","加班"))) -> 加班 | L27: 13 | N27: 10
A28: =IF(B28=0,"",COUNTA($B$3:$B27)) -> 9 | B28: =INDIRECT("员工信息表!B"&COUNTA($B$3:$B27)+2) -> 尹小平 | C28: 22 | D28: =(COUNTIF($L28:$AP28,"出勤")+COUNTIF($L29:$AP29,"出勤"))*0.5 -> 2.5 | E28: =(COUNTIF($L28:$AP28,"事假")+COUNTIF($L29:$AP29,"事假"))*0.5 -> 0.5 | F28: =(COUNTIF($L28:$AP28,"病假")+COUNTIF($L29:$AP29,"病假"))*0.5 -> 0.5 | G28: =(COUNTIF($L28:$AP28,"休假")+COUNTIF($L29:$AP29,"休假"))*0.5 -> 0.5 | H28: =(COUNTIF($L28:$AP28,"缺勤")+COUNTIF($L29:$AP29,"缺勤"))*0.5 -> 0.5 | I28: =(COUNTIF($L28:$AP28,"放假")+COUNTIF($L29:$AP29,"放假"))*0.5 -> 0.5 | J28: =(SUM(L30:AP30))/$AO$2 -> 3.5714286 | K28: =IF(A28="","",IF(MOD(ROW(),3)=1,"上午",IF(MOD(ROW(),3)=2,"下午","加班"))) -> 上午 | L28: 出勤 | M28: 出勤 | N28: 出勤 | P28: 休假 | T28: 缺勤 | V28: 放假
K29: =IF(A28="","",IF(MOD(ROW(),3)=1,"上午",IF(MOD(ROW(),3)=2,"下午","加班"))) -> 下午 | L29: 出勤 | M29: 出勤 | O29: 事假 | R29: 病假
K30: =IF(A28="","",IF(MOD(ROW(),3)=1,"上午",IF(MOD(ROW(),3)=2,"下午","加班"))) -> 加班 | L30: 14 | N30: 11
A31: =IF(B31=0,"",COUNTA($B$3:$B30)) -> 10 | B31: =INDIRECT("员工信息表!B"&COUNTA($B$3:$B30)+2) -> 颜建美 | C31: 22 | D31: =(COUNTIF($L31:$AP31,"出勤")+COUNTIF($L32:$AP32,"出勤"))*0.5 -> 2.5 | E31: =(COUNTIF($L31:$AP31,"事假")+COUNTIF($L32:$AP32,"事假"))*0.5 -> 0.5 | F31: =(COUNTIF($L31:$AP31,"病假")+COUNTIF($L32:$AP32,"病假"))*0.5 -> 0.5 | G31: =(COUNTIF($L31:$AP31,"休假")+COUNTIF($L32:$AP32,"休假"))*0.5 -> 0.5 | H31: =(COUNTIF($L31:$AP31,"缺勤")+COUNTIF($L32:$AP32,"缺勤"))*0.5 -> 0.5 | I31: =(COUNTIF($L31:$AP31,"放假")+COUNTIF($L32:$AP32,"放假"))*0.5 -> 0.5 | J31: =(SUM(L33:AP33))/$AO$2 -> 3.8571429 | K31: =IF(A31="","",IF(MOD(ROW(),3)=1,"上午",IF(MOD(ROW(),3)=2,"下午","加班"))) -> 上午 | L31: 出勤 | M31: 出勤 | N31: 出勤 | P31: 休假 | T31: 缺勤 | V31: 放假
K32: =IF(A31="","",IF(MOD(ROW(),3)=1,"上午",IF(MOD(ROW(),3)=2,"下午","加班"))) -> 下午 | L32: 出勤 | M32: 出勤 | O32: 事假 | R32: 病假
K33: =IF(A31="","",IF(MOD(ROW(),3)=1,"上午",IF(MOD(ROW(),3)=2,"下午","加班"))) -> 加班 | L33: 15 | N33: 12
A34: =IF(B34=0,"",COUNTA($B$3:$B33)) -> 11 | B34: =INDIRECT("员工信息表!B"&COUNTA($B$3:$B33)+2) -> 尹乔丽 | C34: 22 | D34: =(COUNTIF($L34:$AP34,"出勤")+COUNTIF($L35:$AP35,"出勤"))*0.5 -> 2.5 | E34: =(COUNTIF($L34:$AP34,"事假")+COUNTIF($L35:$AP35,"事假"))*0.5 -> 0.5 | F34: =(COUNTIF($L34:$AP34,"病假")+COUNTIF($L35:$AP35,"病假"))*0.5 -> 0.5 | G34: =(COUNTIF($L34:$AP34,"休假")+COUNTIF($L35:$AP35,"休假"))*0.5 -> 0.5 | H34: =(COUNTIF($L34:$AP34,"缺勤")+COUNTIF($L35:$AP35,"缺勤"))*0.5 -> 0.5 | I34: =(COUNTIF($L34:$AP34,"放假")+COUNTIF($L35:$AP35,"放假"))*0.5 -> 0.5 | J34: =(SUM(L36:AP36))/$AO$2 -> 4.1428571 | K34: =IF(A34="","",IF(MOD(ROW(),3)=1,"上午",IF(MOD(ROW(),3)=2,"下午","加班"))) -> 上午 | L34: 出勤 | M34: 出勤 | N34: 出勤 | P34: 休假 | T34: 缺勤 | V34: 放假
K35: =IF(A34="","",IF(MOD(ROW(),3)=1,"上午",IF(MOD(ROW(),3)=2,"下午","加班"))) -> 下午 | L35: 出勤 | M35: 出勤 | O35: 事假 | R35: 病假
K36: =IF(A34="","",IF(MOD(ROW(),3)=1,"上午",IF(MOD(ROW(),3)=2,"下午","加班"))) -> 加班 | L36: 16 | N36: 13
A37: =IF(B37=0,"",COUNTA($B$3:$B36)) | B37: =INDIRECT("员工信息表!B"&COUNTA($B$3:$B36)+2) -> 0 | D37: =(COUNTIF($L37:$AP37,"出勤")+COUNTIF($L38:$AP38,"出勤"))*0.5 -> 0 | E37: =(COUNTIF($L37:$AP37,"事假")+COUNTIF($L38:$AP38,"事假"))*0.5 -> 0 | F37: =(COUNTIF($L37:$AP37,"病假")+COUNTIF($L38:$AP38,"病假"))*0.5 -> 0 | G37: =(COUNTIF($L37:$AP37,"休假")+COUNTIF($L38:$AP38,"休假"))*0.5 -> 0 | H37: =(COUNTIF($L37:$AP37,"缺勤")+COUNTIF($L38:$AP38,"缺勤"))*0.5 -> 0 | I37: =(COUNTIF($L37:$AP37,"放假")+COUNTIF($L38:$AP38,"放假"))*0.5 -> 0 | J37: =(SUM(L39:AP39))/$AO$2 -> 0 | K37: =IF(A37="","",IF(MOD(ROW(),3)=1,"上午",IF(MOD(ROW(),3)=2,"下午","加班")))
K38: =IF(A37="","",IF(MOD(ROW(),3)=1,"上午",IF(MOD(ROW(),3)=2,"下午","加班")))
K39: =IF(A37="","",IF(MOD(ROW(),3)=1,"上午",IF(MOD(ROW(),3)=2,"下午","加班")))
A40: =IF(B40=0,"",COUNTA($B$3:$B39)) | B40: =INDIRECT("员工信息表!B"&COUNTA($B$3:$B39)+2) -> 0 | D40: =(COUNTIF($L40:$AP40,"出勤")+COUNTIF($L41:$AP41,"出勤"))*0.5 -> 0 | E40: =(COUNTIF($L40:$AP40,"事假")+COUNTIF($L41:$AP41,"事假"))*0.5 -> 0 | F40: =(COUNTIF($L40:$AP40,"病假")+COUNTIF($L41:$AP41,"病假"))*0.5 -> 0 | G40: =(COUNTIF($L40:$AP40,"休假")+COUNTIF($L41:$AP41,"休假"))*0.5 -> 0 | H40: =(COUNTIF($L40:$AP40,"缺勤")+COUNTIF($L41:$AP41,"缺勤"))*0.5 -> 0 | I40: =(COUNTIF($L40:$AP40,"放假")+COUNTIF($L41:$AP41,"放假"))*0.5 -> 0 | J40: =(SUM(L42:AP42))/$AO$2 -> 0 | K40: =IF(A40="","",IF(MOD(ROW(),3)=1,"上午",IF(MOD(ROW(),3)=2,"下午","加班")))
K41: =IF(A40="","",IF(MOD(ROW(),3)=1,"上午",IF(MOD(ROW(),3)=2,"下午","加班")))
K42: =IF(A40="","",IF(MOD(ROW(),3)=1,"上午",IF(MOD(ROW(),3)=2,"下午","加班")))
A43: =IF(B43=0,"",COUNTA($B$3:$B42)) | B43: =INDIRECT("员工信息表!B"&COUNTA($B$3:$B42)+2) -> 0 | D43: =(COUNTIF($L43:$AP43,"出勤")+COUNTIF($L44:$AP44,"出勤"))*0.5 -> 0 | E43: =(COUNTIF($L43:$AP43,"事假")+COUNTIF($L44:$AP44,"事假"))*0.5 -> 0 | F43: =(COUNTIF($L43:$AP43,"病假")+COUNTIF($L44:$AP44,"病假"))*0.5 -> 0 | G43: =(COUNTIF($L43:$AP43,"休假")+COUNTIF($L44:$AP44,"休假"))*0.5 -> 0 | H43: =(COUNTIF($L43:$AP43,"缺勤")+COUNTIF($L44:$AP44,"缺勤"))*0.5 -> 0 | I43: =(COUNTIF($L43:$AP43,"放假")+COUNTIF($L44:$AP44,"放假"))*0.5 -> 0 | J43: =(SUM(L45:AP45))/$AO$2 -> 0 | K43: =IF(A43="","",IF(MOD(ROW(),3)=1,"上午",IF(MOD(ROW(),3)=2,"下午","加班")))
K44: =IF(A43="","",IF(MOD(ROW(),3)=1,"上午",IF(MOD(ROW(),3)=2,"下午","加班")))
K45: =IF(A43="","",IF(MOD(ROW(),3)=1,"上午",IF(MOD(ROW(),3)=2,"下午","加班")))
A46: =IF(B46=0,"",COUNTA($B$3:$B45)) | B46: =INDIRECT("员工信息表!B"&COUNTA($B$3:$B45)+2) -> 0 | D46: =(COUNTIF($L46:$AP46,"出勤")+COUNTIF($L47:$AP47,"出勤"))*0.5 -> 0 | E46: =(COUNTIF($L46:$AP46,"事假")+COUNTIF($L47:$AP47,"事假"))*0.5 -> 0 | F46: =(COUNTIF($L46:$AP46,"病假")+COUNTIF($L47:$AP47,"病假"))*0.5 -> 0 | G46: =(COUNTIF($L46:$AP46,"休假")+COUNTIF($L47:$AP47,"休假"))*0.5 -> 0 | H46: =(COUNTIF($L46:$AP46,"缺勤")+COUNTIF($L47:$AP47,"缺勤"))*0.5 -> 0 | I46: =(COUNTIF($L46:$AP46,"放假")+COUNTIF($L47:$AP47,"放假"))*0.5 -> 0 | J46: =(SUM(L48:AP48))/$AO$2 -> 0 | K46: =IF(A46="","",IF(MOD(ROW(),3)=1,"上午",IF(MOD(ROW(),3)=2,"下午","加班")))
K47: =IF(A46="","",IF(MOD(ROW(),3)=1,"上午",IF(MOD(ROW(),3)=2,"下午","加班")))
K48: =IF(A46="","",IF(MOD(ROW(),3)=1,"上午",IF(MOD(ROW(),3)=2,"下午","加班")))
A49: =IF(B49=0,"",COUNTA($B$3:$B48)) | B49: =INDIRECT("员工信息表!B"&COUNTA($B$3:$B48)+2) -> 0 | D49: =(COUNTIF($L49:$AP49,"出勤")+COUNTIF($L50:$AP50,"出勤"))*0.5 -> 0 | E49: =(COUNTIF($L49:$AP49,"事假")+COUNTIF($L50:$AP50,"事假"))*0.5 -> 0 | F49: =(COUNTIF($L49:$AP49,"病假")+COUNTIF($L50:$AP50,"病假"))*0.5 -> 0 | G49: =(COUNTIF($L49:$AP49,"休假")+COUNTIF($L50:$AP50,"休假"))*0.5 -> 0 | H49: =(COUNTIF($L49:$AP49,"缺勤")+COUNTIF($L50:$AP50,"缺勤"))*0.5 -> 0 | I49: =(COUNTIF($L49:$AP49,"放假")+COUNTIF($L50:$AP50,"放假"))*0.5 -> 0 | J49: =(SUM(L51:AP51))/$AO$2 -> 0 | K49: =IF(A49="","",IF(MOD(ROW(),3)=1,"上午",IF(MOD(ROW(),3)=2,"下午","加班")))
K50: =IF(A49="","",IF(MOD(ROW(),3)=1,"上午",IF(MOD(ROW(),3)=2,"下午","加班")))
K51: =IF(A49="","",IF(MOD(ROW(),3)=1,"上午",IF(MOD(ROW(),3)=2,"下午","加班")))
A52: =IF(B52=0,"",COUNTA($B$3:$B51)) | B52: =INDIRECT("员工信息表!B"&COUNTA($B$3:$B51)+2) -> 0 | D52: =(COUNTIF($L52:$AP52,"出勤")+COUNTIF($L53:$AP53,"出勤"))*0.5 -> 0 | E52: =(COUNTIF($L52:$AP52,"事假")+COUNTIF($L53:$AP53,"事假"))*0.5 -> 0 | F52: =(COUNTIF($L52:$AP52,"病假")+COUNTIF($L53:$AP53,"病假"))*0.5 -> 0 | G52: =(COUNTIF($L52:$AP52,"休假")+COUNTIF($L53:$AP53,"休假"))*0.5 -> 0 | H52: =(COUNTIF($L52:$AP52,"缺勤")+COUNTIF($L53:$AP53,"缺勤"))*0.5 -> 0 | I52: =(COUNTIF($L52:$AP52,"放假")+COUNTIF($L53:$AP53,"放假"))*0.5 -> 0 | J52: =(SUM(L54:AP54))/$AO$2 -> 0 | K52: =IF(A52="","",IF(MOD(ROW(),3)=1,"上午",IF(MOD(ROW(),3)=2,"下午","加班")))
K53: =IF(A52="","",IF(MOD(ROW(),3)=1,"上午",IF(MOD(ROW(),3)=2,"下午","加班")))
K54: =IF(A52="","",IF(MOD(ROW(),3)=1,"上午",IF(MOD(ROW(),3)=2,"下午","加班")))
A55: =IF(B55=0,"",COUNTA($B$3:$B54)) | B55: =INDIRECT("员工信息表!B"&COUNTA($B$3:$B54)+2) -> 0 | D55: =(COUNTIF($L55:$AP55,"出勤")+COUNTIF($L56:$AP56,"出勤"))*0.5 -> 0 | E55: =(COUNTIF($L55:$AP55,"事假")+COUNTIF($L56:$AP56,"事假"))*0.5 -> 0 | F55: =(COUNTIF($L55:$AP55,"病假")+COUNTIF($L56:$AP56,"病假"))*0.5 -> 0 | G55: =(COUNTIF($L55:$AP55,"休假")+COUNTIF($L56:$AP56,"休假"))*0.5 -> 0 | H55: =(COUNTIF($L55:$AP55,"缺勤")+COUNTIF($L56:$AP56,"缺勤"))*0.5 -> 0 | I55: =(COUNTIF($L55:$AP55,"放假")+COUNTIF($L56:$AP56,"放假"))*0.5 -> 0 | J55: =(SUM(L57:AP57))/$AO$2 -> 0 | K55: =IF(A55="","",IF(MOD(ROW(),3)=1,"上午",IF(MOD(ROW(),3)=2,"下午","加班")))
K56: =IF(A55="","",IF(MOD(ROW(),3)=1,"上午",IF(MOD(ROW(),3)=2,"下午","加班")))
K57: =IF(A55="","",IF(MOD(ROW(),3)=1,"上午",IF(MOD(ROW(),3)=2,"下午","加班")))
A58: =IF(B58=0,"",COUNTA($B$3:$B57)) | B58: =INDIRECT("员工信息表!B"&COUNTA($B$3:$B57)+2) -> 0 | D58: =(COUNTIF($L58:$AP58,"出勤")+COUNTIF($L59:$AP59,"出勤"))*0.5 -> 0 | E58: =(COUNTIF($L58:$AP58,"事假")+COUNTIF($L59:$AP59,"事假"))*0.5 -> 0 | F58: =(COUNTIF($L58:$AP58,"病假")+COUNTIF($L59:$AP59,"病假"))*0.5 -> 0 | G58: =(COUNTIF($L58:$AP58,"休假")+COUNTIF($L59:$AP59,"休假"))*0.5 -> 0 | H58: =(COUNTIF($L58:$AP58,"缺勤")+COUNTIF($L59:$AP59,"缺勤"))*0.5 -> 0 | I58: =(COUNTIF($L58:$AP58,"放假")+COUNTIF($L59:$AP59,"放假"))*0.5 -> 0 | J58: =(SUM(L60:AP60))/$AO$2 -> 0 | K58: =IF(A58="","",IF(MOD(ROW(),3)=1,"上午",IF(MOD(ROW(),3)=2,"下午","加班")))
K59: =IF(A58="","",IF(MOD(ROW(),3)=1,"上午",IF(MOD(ROW(),3)=2,"下午","加班")))
K60: =IF(A58="","",IF(MOD(ROW(),3)=1,"上午",IF(MOD(ROW(),3)=2,"下午","加班")))
A61: =IF(B61=0,"",COUNTA($B$3:$B60)) | B61: =INDIRECT("员工信息表!B"&COUNTA($B$3:$B60)+2) -> 0 | D61: =(COUNTIF($L61:$AP61,"出勤")+COUNTIF($L62:$AP62,"出勤"))*0.5 -> 0 | E61: =(COUNTIF($L61:$AP61,"事假")+COUNTIF($L62:$AP62,"事假"))*0.5 -> 0 | F61: =(COUNTIF($L61:$AP61,"病假")+COUNTIF($L62:$AP62,"病假"))*0.5 -> 0 | G61: =(COUNTIF($L61:$AP61,"休假")+COUNTIF($L62:$AP62,"休假"))*0.5 -> 0 | H61: =(COUNTIF($L61:$AP61,"缺勤")+COUNTIF($L62:$AP62,"缺勤"))*0.5 -> 0 | I61: =(COUNTIF($L61:$AP61,"放假")+COUNTIF($L62:$AP62,"放假"))*0.5 -> 0 | J61: =(SUM(L63:AP63))/$AO$2 -> 0 | K61: =IF(A61="","",IF(MOD(ROW(),3)=1,"上午",IF(MOD(ROW(),3)=2,"下午","加班")))
K62: =IF(A61="","",IF(MOD(ROW(),3)=1,"上午",IF(MOD(ROW(),3)=2,"下午","加班")))
K63: =IF(A61="","",IF(MOD(ROW(),3)=1,"上午",IF(MOD(ROW(),3)=2,"下午","加班")))
A64: =IF(B64=0,"",COUNTA($B$3:$B63)) | B64: =INDIRECT("员工信息表!B"&COUNTA($B$3:$B63)+2) -> 0 | D64: =(COUNTIF($L64:$AP64,"出勤")+COUNTIF($L65:$AP65,"出勤"))*0.5 -> 0 | E64: =(COUNTIF($L64:$AP64,"事假")+COUNTIF($L65:$AP65,"事假"))*0.5 -> 0 | F64: =(COUNTIF($L64:$AP64,"病假")+COUNTIF($L65:$AP65,"病假"))*0.5 -> 0 | G64: =(COUNTIF($L64:$AP64,"休假")+COUNTIF($L65:$AP65,"休假"))*0.5 -> 0 | H64: =(COUNTIF($L64:$AP64,"缺勤")+COUNTIF($L65:$AP65,"缺勤"))*0.5 -> 0 | I64: =(COUNTIF($L64:$AP64,"放假")+COUNTIF($L65:$AP65,"放假"))*0.5 -> 0 | J64: =(SUM(L66:AP66))/$AO$2 -> 0 | K64: =IF(A64="","",IF(MOD(ROW(),3)=1,"上午",IF(MOD(ROW(),3)=2,"下午","加班")))
K65: =IF(A64="","",IF(MOD(ROW(),3)=1,"上午",IF(MOD(ROW(),3)=2,"下午","加班")))
K66: =IF(A64="","",IF(MOD(ROW(),3)=1,"上午",IF(MOD(ROW(),3)=2,"下午","加班")))
A67: =IF(B67=0,"",COUNTA($B$3:$B66)) | B67: =INDIRECT("员工信息表!B"&COUNTA($B$3:$B66)+2) -> 0 | D67: =(COUNTIF($L67:$AP67,"出勤")+COUNTIF($L68:$AP68,"出勤"))*0.5 -> 0 | E67: =(COUNTIF($L67:$AP67,"事假")+COUNTIF($L68:$AP68,"事假"))*0.5 -> 0 | F67: =(COUNTIF($L67:$AP67,"病假")+COUNTIF($L68:$AP68,"病假"))*0.5 -> 0 | G67: =(COUNTIF($L67:$AP67,"休假")+COUNTIF($L68:$AP68,"休假"))*0.5 -> 0 | H67: =(COUNTIF($L67:$AP67,"缺勤")+COUNTIF($L68:$AP68,"缺勤"))*0.5 -> 0 | I67: =(COUNTIF($L67:$AP67,"放假")+COUNTIF($L68:$AP68,"放假"))*0.5 -> 0 | J67: =(SUM(L69:AP69))/$AO$2 -> 0 | K67: =IF(A67="","",IF(MOD(ROW(),3)=1,"上午",IF(MOD(ROW(),3)=2,"下午","加班")))
K68: =IF(A67="","",IF(MOD(ROW(),3)=1,"上午",IF(MOD(ROW(),3)=2,"下午","加班")))
K69: =IF(A67="","",IF(MOD(ROW(),3)=1,"上午",IF(MOD(ROW(),3)=2,"下午","加班")))
A70: =IF(B70=0,"",COUNTA($B$3:$B69)) | B70: =INDIRECT("员工信息表!B"&COUNTA($B$3:$B69)+2) -> 0 | D70: =(COUNTIF($L70:$AP70,"出勤")+COUNTIF($L71:$AP71,"出勤"))*0.5 -> 0 | E70: =(COUNTIF($L70:$AP70,"事假")+COUNTIF($L71:$AP71,"事假"))*0.5 -> 0 | F70: =(COUNTIF($L70:$AP70,"病假")+COUNTIF($L71:$AP71,"病假"))*0.5 -> 0 | G70: =(COUNTIF($L70:$AP70,"休假")+COUNTIF($L71:$AP71,"休假"))*0.5 -> 0 | H70: =(COUNTIF($L70:$AP70,"缺勤")+COUNTIF($L71:$AP71,"缺勤"))*0.5 -> 0 | I70: =(COUNTIF($L70:$AP70,"放假")+COUNTIF($L71:$AP71,"放假"))*0.5 -> 0 | J70: =(SUM(L72:AP72))/$AO$2 -> 0 | K70: =IF(A70="","",IF(MOD(ROW(),3)=1,"上午",IF(MOD(ROW(),3)=2,"下午","加班")))
K71: =IF(A70="","",IF(MOD(ROW(),3)=1,"上午",IF(MOD(ROW(),3)=2,"下午","加班")))
K72: =IF(A70="","",IF(MOD(ROW(),3)=1,"上午",IF(MOD(ROW(),3)=2,"下午","加班")))
A73: =IF(B73=0,"",COUNTA($B$3:$B72)) | B73: =INDIRECT("员工信息表!B"&COUNTA($B$3:$B72)+2) -> 0 | D73: =(COUNTIF($L73:$AP73,"出勤")+COUNTIF($L74:$AP74,"出勤"))*0.5 -> 0 | E73: =(COUNTIF($L73:$AP73,"事假")+COUNTIF($L74:$AP74,"事假"))*0.5 -> 0 | F73: =(COUNTIF($L73:$AP73,"病假")+COUNTIF($L74:$AP74,"病假"))*0.5 -> 0 | G73: =(COUNTIF($L73:$AP73,"休假")+COUNTIF($L74:$AP74,"休假"))*0.5 -> 0 | H73: =(COUNTIF($L73:$AP73,"缺勤")+COUNTIF($L74:$AP74,"缺勤"))*0.5 -> 0 | I73: =(COUNTIF($L73:$AP73,"放假")+COUNTIF($L74:$AP74,"放假"))*0.5 -> 0 | J73: =(SUM(L75:AP75))/$AO$2 -> 0 | K73: =IF(A73="","",IF(MOD(ROW(),3)=1,"上午",IF(MOD(ROW(),3)=2,"下午","加班")))
K74: =IF(A73="","",IF(MOD(ROW(),3)=1,"上午",IF(MOD(ROW(),3)=2,"下午","加班")))
K75: =IF(A73="","",IF(MOD(ROW(),3)=1,"上午",IF(MOD(ROW(),3)=2,"下午","加班")))
A76: =IF(B76=0,"",COUNTA($B$3:$B75)) | B76: =INDIRECT("员工信息表!B"&COUNTA($B$3:$B75)+2) -> 0 | D76: =(COUNTIF($L76:$AP76,"出勤")+COUNTIF($L77:$AP77,"出勤"))*0.5 -> 0 | E76: =(COUNTIF($L76:$AP76,"事假")+COUNTIF($L77:$AP77,"事假"))*0.5 -> 0 | F76: =(COUNTIF($L76:$AP76,"病假")+COUNTIF($L77:$AP77,"病假"))*0.5 -> 0 | G76: =(COUNTIF($L76:$AP76,"休假")+COUNTIF($L77:$AP77,"休假"))*0.5 -> 0 | H76: =(COUNTIF($L76:$AP76,"缺勤")+COUNTIF($L77:$AP77,"缺勤"))*0.5 -> 0 | I76: =(COUNTIF($L76:$AP76,"放假")+COUNTIF($L77:$AP77,"放假"))*0.5 -> 0 | J76: =(SUM(L78:AP78))/$AO$2 -> 0 | K76: =IF(A76="","",IF(MOD(ROW(),3)=1,"上午",IF(MOD(ROW(),3)=2,"下午","加班")))
K77: =IF(A76="","",IF(MOD(ROW(),3)=1,"上午",IF(MOD(ROW(),3)=2,"下午","加班")))
K78: =IF(A76="","",IF(MOD(ROW(),3)=1,"上午",IF(MOD(ROW(),3)=2,"下午","加班")))
A79: =IF(B79=0,"",COUNTA($B$3:$B78)) | B79: =INDIRECT("员工信息表!B"&COUNTA($B$3:$B78)+2) -> 0 | D79: =(COUNTIF($L79:$AP79,"出勤")+COUNTIF($L80:$AP80,"出勤"))*0.5 -> 0 | E79: =(COUNTIF($L79:$AP79,"事假")+COUNTIF($L80:$AP80,"事假"))*0.5 -> 0 | F79: =(COUNTIF($L79:$AP79,"病假")+COUNTIF($L80:$AP80,"病假"))*0.5 -> 0 | G79: =(COUNTIF($L79:$AP79,"休假")+COUNTIF($L80:$AP80,"休假"))*0.5 -> 0 | H79: =(COUNTIF($L79:$AP79,"缺勤")+COUNTIF($L80:$AP80,"缺勤"))*0.5 -> 0 | I79: =(COUNTIF($L79:$AP79,"放假")+COUNTIF($L80:$AP80,"放假"))*0.5 -> 0 | J79: =(SUM(L81:AP81))/$AO$2 -> 0 | K79: =IF(A79="","",IF(MOD(ROW(),3)=1,"上午",IF(MOD(ROW(),3)=2,"下午","加班")))
K80: =IF(A79="","",IF(MOD(ROW(),3)=1,"上午",IF(MOD(ROW(),3)=2,"下午","加班")))
K81: =IF(A79="","",IF(MOD(ROW(),3)=1,"上午",IF(MOD(ROW(),3)=2,"下午","加班")))
A82: =IF(B82=0,"",COUNTA($B$3:$B81)) | B82: =INDIRECT("员工信息表!B"&COUNTA($B$3:$B81)+2) -> 0 | D82: =(COUNTIF($L82:$AP82,"出勤")+COUNTIF($L83:$AP83,"出勤"))*0.5 -> 0 | E82: =(COUNTIF($L82:$AP82,"事假")+COUNTIF($L83:$AP83,"事假"))*0.5 -> 0 | F82: =(COUNTIF($L82:$AP82,"病假")+COUNTIF($L83:$AP83,"病假"))*0.5 -> 0 | G82: =(COUNTIF($L82:$AP82,"休假")+COUNTIF($L83:$AP83,"休假"))*0.5 -> 0 | H82: =(COUNTIF($L82:$AP82,"缺勤")+COUNTIF($L83:$AP83,"缺勤"))*0.5 -> 0 | I82: =(COUNTIF($L82:$AP82,"放假")+COUNTIF($L83:$AP83,"放假"))*0.5 -> 0 | J82: =(SUM(L84:AP84))/$AO$2 -> 0 | K82: =IF(A82="","",IF(MOD(ROW(),3)=1,"上午",IF(MOD(ROW(),3)=2,"下午","加班")))
K83: =IF(A82="","",IF(MOD(ROW(),3)=1,"上午",IF(MOD(ROW(),3)=2,"下午","加班")))
K84: =IF(A82="","",IF(MOD(ROW(),3)=1,"上午",IF(MOD(ROW(),3)=2,"下午","加班")))
A85: =IF(B85=0,"",COUNTA($B$3:$B84)) | B85: =INDIRECT("员工信息表!B"&COUNTA($B$3:$B84)+2) -> 0 | D85: =(COUNTIF($L85:$AP85,"出勤")+COUNTIF($L86:$AP86,"出勤"))*0.5 -> 0 | E85: =(COUNTIF($L85:$AP85,"事假")+COUNTIF($L86:$AP86,"事假"))*0.5 -> 0 | F85: =(COUNTIF($L85:$AP85,"病假")+COUNTIF($L86:$AP86,"病假"))*0.5 -> 0 | G85: =(COUNTIF($L85:$AP85,"休假")+COUNTIF($L86:$AP86,"休假"))*0.5 -> 0 | H85: =(COUNTIF($L85:$AP85,"缺勤")+COUNTIF($L86:$AP86,"缺勤"))*0.5 -> 0 | I85: =(COUNTIF($L85:$AP85,"放假")+COUNTIF($L86:$AP86,"放假"))*0.5 -> 0 | J85: =(SUM(L87:AP87))/$AO$2 -> 0 | K85: =IF(A85="","",IF(MOD(ROW(),3)=1,"上午",IF(MOD(ROW(),3)=2,"下午","加班")))
K86: =IF(A85="","",IF(MOD(ROW(),3)=1,"上午",IF(MOD(ROW(),3)=2,"下午","加班")))
K87: =IF(A85="","",IF(MOD(ROW(),3)=1,"上午",IF(MOD(ROW(),3)=2,"下午","加班")))
A88: =IF(B88=0,"",COUNTA($B$3:$B87)) | B88: =INDIRECT("员工信息表!B"&COUNTA($B$3:$B87)+2) -> 0 | D88: =(COUNTIF($L88:$AP88,"出勤")+COUNTIF($L89:$AP89,"出勤"))*0.5 -> 0 | E88: =(COUNTIF($L88:$AP88,"事假")+COUNTIF($L89:$AP89,"事假"))*0.5 -> 0 | F88: =(COUNTIF($L88:$AP88,"病假")+COUNTIF($L89:$AP89,"病假"))*0.5 -> 0 | G88: =(COUNTIF($L88:$AP88,"休假")+COUNTIF($L89:$AP89,"休假"))*0.5 -> 0 | H88: =(COUNTIF($L88:$AP88,"缺勤")+COUNTIF($L89:$AP89,"缺勤"))*0.5 -> 0 | I88: =(COUNTIF($L88:$AP88,"放假")+COUNTIF($L89:$AP89,"放假"))*0.5 -> 0 | J88: =(SUM(L90:AP90))/$AO$2 -> 0 | K88: =IF(A88="","",IF(MOD(ROW(),3)=1,"上午",IF(MOD(ROW(),3)=2,"下午","加班")))
K89: =IF(A88="","",IF(MOD(ROW(),3)=1,"上午",IF(MOD(ROW(),3)=2,"下午","加班")))
K90: =IF(A88="","",IF(MOD(ROW(),3)=1,"上午",IF(MOD(ROW(),3)=2,"下午","加班")))
A91: =IF(B91=0,"",COUNTA($B$3:$B90)) | B91: =INDIRECT("员工信息表!B"&COUNTA($B$3:$B90)+2) -> 0 | D91: =(COUNTIF($L91:$AP91,"出勤")+COUNTIF($L92:$AP92,"出勤"))*0.5 -> 0 | E91: =(COUNTIF($L91:$AP91,"事假")+COUNTIF($L92:$AP92,"事假"))*0.5 -> 0 | F91: =(COUNTIF($L91:$AP91,"病假")+COUNTIF($L92:$AP92,"病假"))*0.5 -> 0 | G91: =(COUNTIF($L91:$AP91,"休假")+COUNTIF($L92:$AP92,"休假"))*0.5 -> 0 | H91: =(COUNTIF($L91:$AP91,"缺勤")+COUNTIF($L92:$AP92,"缺勤"))*0.5 -> 0 | I91: =(COUNTIF($L91:$AP91,"放假")+COUNTIF($L92:$AP92,"放假"))*0.5 -> 0 | J91: =(SUM(L93:AP93))/$AO$2 -> 0 | K91: =IF(A91="","",IF(MOD(ROW(),3)=1,"上午",IF(MOD(ROW(),3)=2,"下午","加班")))
K92: =IF(A91="","",IF(MOD(ROW(),3)=1,"上午",IF(MOD(ROW(),3)=2,"下午","加班")))
K93: =IF(A91="","",IF(MOD(ROW(),3)=1,"上午",IF(MOD(ROW(),3)=2,"下午","加班")))
A94: =IF(B94=0,"",COUNTA($B$3:$B93)) | B94: =INDIRECT("员工信息表!B"&COUNTA($B$3:$B93)+2) -> 0 | D94: =(COUNTIF($L94:$AP94,"出勤")+COUNTIF($L95:$AP95,"出勤"))*0.5 -> 0 | E94: =(COUNTIF($L94:$AP94,"事假")+COUNTIF($L95:$AP95,"事假"))*0.5 -> 0 | F94: =(COUNTIF($L94:$AP94,"病假")+COUNTIF($L95:$AP95,"病假"))*0.5 -> 0 | G94: =(COUNTIF($L94:$AP94,"休假")+COUNTIF($L95:$AP95,"休假"))*0.5 -> 0 | H94: =(COUNTIF($L94:$AP94,"缺勤")+COUNTIF($L95:$AP95,"缺勤"))*0.5 -> 0 | I94: =(COUNTIF($L94:$AP94,"放假")+COUNTIF($L95:$AP95,"放假"))*0.5 -> 0 | J94: =(SUM(L96:AP96))/$AO$2 -> 0 | K94: =IF(A94="","",IF(MOD(ROW(),3)=1,"上午",IF(MOD(ROW(),3)=2,"下午","加班")))
K95: =IF(A94="","",IF(MOD(ROW(),3)=1,"上午",IF(MOD(ROW(),3)=2,"下午","加班")))
K96: =IF(A94="","",IF(MOD(ROW(),3)=1,"上午",IF(MOD(ROW(),3)=2,"下午","加班")))
A97: =IF(B97=0,"",COUNTA($B$3:$B96)) | B97: =INDIRECT("员工信息表!B"&COUNTA($B$3:$B96)+2) -> 0 | D97: =(COUNTIF($L97:$AP97,"出勤")+COUNTIF($L98:$AP98,"出勤"))*0.5 -> 0 | E97: =(COUNTIF($L97:$AP97,"事假")+COUNTIF($L98:$AP98,"事假"))*0.5 -> 0 | F97: =(COUNTIF($L97:$AP97,"病假")+COUNTIF($L98:$AP98,"病假"))*0.5 -> 0 | G97: =(COUNTIF($L97:$AP97,"休假")+COUNTIF($L98:$AP98,"休假"))*0.5 -> 0 | H97: =(COUNTIF($L97:$AP97,"缺勤")+COUNTIF($L98:$AP98,"缺勤"))*0.5 -> 0 | I97: =(COUNTIF($L97:$AP97,"放假")+COUNTIF($L98:$AP98,"放假"))*0.5 -> 0 | J97: =(SUM(L99:AP99))/$AO$2 -> 0 | K97: =IF(A97="","",IF(MOD(ROW(),3)=1,"上午",IF(MOD(ROW(),3)=2,"下午","加班")))
K98: =IF(A97="","",IF(MOD(ROW(),3)=1,"上午",IF(MOD(ROW(),3)=2,"下午","加班")))
K99: =IF(A97="","",IF(MOD(ROW(),3)=1,"上午",IF(MOD(ROW(),3)=2,"下午","加班")))
A100: =IF(B100=0,"",COUNTA($B$3:$B99)) | B100: =INDIRECT("员工信息表!B"&COUNTA($B$3:$B99)+2) -> 0 | D100: =(COUNTIF($L100:$AP100,"出勤")+COUNTIF($L101:$AP101,"出勤"))*0.5 -> 0 | E100: =(COUNTIF($L100:$AP100,"事假")+COUNTIF($L101:$AP101,"事假"))*0.5 -> 0 | F100: =(COUNTIF($L100:$AP100,"病假")+COUNTIF($L101:$AP101,"病假"))*0.5 -> 0 | G100: =(COUNTIF($L100:$AP100,"休假")+COUNTIF($L101:$AP101,"休假"))*0.5 -> 0 | H100: =(COUNTIF($L100:$AP100,"缺勤")+COUNTIF($L101:$AP101,"缺勤"))*0.5 -> 0 | I100: =(COUNTIF($L100:$AP100,"放假")+COUNTIF($L101:$AP101,"放假"))*0.5 -> 0 | J100: =(SUM(L102:AP102))/$AO$2 -> 0 | K100: =IF(A100="","",IF(MOD(ROW(),3)=1,"上午",IF(MOD(ROW(),3)=2,"下午","加班")))
...

Sheet 7月
A1: 考 勤 表
A2: 2022 | C2: 7 | J2: ="本月 "&DAY(DATE(A2,C2+1,1)-1)&" 天" -> 本月 31 天 | AJ2: 输入每天工作小时 | AO2: 7 | AP2: h
A3: 序号 | B3: 姓名 | C3: 应出勤 天数 | D3: 实际出勤 天数 | E3: 事假 天数 | F3: 病假 天数 | G3: 休假 天数 | H3: 缺勤 天数 | I3: 放假 天数 | J3: 加班 天数 | K3: 班次 | L3: =IF(MONTH(DATE($A$2,$C$2,COLUMN(A1)))=$C$2,DATE($A$2,$C$2,COLUMN(A1)),"") -> 44743 | M3: =IF(MONTH(DATE($A$2,$C$2,COLUMN(B1)))=$C$2,DATE($A$2,$C$2,COLUMN(B1)),"") -> 44744 | N3: =IF(MONTH(DATE($A$2,$C$2,COLUMN(C1)))=$C$2,DATE($A$2,$C$2,COLUMN(C1)),"") -> 44745 | O3: =IF(MONTH(DATE($A$2,$C$2,COLUMN(D1)))=$C$2,DATE($A$2,$C$2,COLUMN(D1)),"") -> 44746 | P3: =IF(MONTH(DATE($A$2,$C$2,COLUMN(E1)))=$C$2,DATE($A$2,$C$2,COLUMN(E1)),"") -> 44747 | Q3: =IF(MONTH(DATE($A$2,$C$2,COLUMN(F1)))=$C$2,DATE($A$2,$C$2,COLUMN(F1)),"") -> 44748 | R3: =IF(MONTH(DATE($A$2,$C$2,COLUMN(G1)))=$C$2,DATE($A$2,$C$2,COLUMN(G1)),"") -> 44749 | S3: =IF(MONTH(DATE($A$2,$C$2,COLUMN(H1)))=$C$2,DATE($A$2,$C$2,COLUMN(H1)),"") -> 44750 | ... AP3: =IF(MONTH(DATE($A$2,$C$2,COLUMN(AE1)))=$C$2,DATE($A$2,$C$2,COLUMN(AE1)),"") -> 44773
A4: =IF(B4=0,"",COUNTA($B$3:$B3)) -> 1 | B4: =INDIRECT("员工信息表!B"&COUNTA($B$3:$B3)+2) -> 苏继兵 | C4: 22 | D4: =(COUNTIF($L4:$AP4,"出勤")+COUNTIF($L5:$AP5,"出勤"))*0.5 -> 2.5 | E4: =(COUNTIF($L4:$AP4,"事假")+COUNTIF($L5:$AP5,"事假"))*0.5 -> 0.5 | F4: =(COUNTIF($L4:$AP4,"病假")+COUNTIF($L5:$AP5,"病假"))*0.5 -> 0.5 | G4: =(COUNTIF($L4:$AP4,"休假")+COUNTIF($L5:$AP5,"休假"))*0.5 -> 0.5 | H4: =(COUNTIF($L4:$AP4,"缺勤")+COUNTIF($L5:$AP5,"缺勤"))*0.5 -> 0.5 | I4: =(COUNTIF($L4:$AP4,"放假")+COUNTIF($L5:$AP5,"放假"))*0.5 -> 0.5 | J4: =(SUM(L6:AP6))/$AO$2 -> 1.2857143 | K4: =IF(A4="","",IF(MOD(ROW(),3)=1,"上午",IF(MOD(ROW(),3)=2,"下午","加班"))) -> 上午 | L4: 出勤 | M4: 出勤 | N4: 出勤 | P4: 休假 | T4: 缺勤 | V4: 放假
K5: =IF(A4="","",IF(MOD(ROW(),3)=1,"上午",IF(MOD(ROW(),3)=2,"下午","加班"))) -> 下午 | L5: 出勤 | M5: 出勤 | O5: 事假 | R5: 病假
K6: =IF(A4="","",IF(MOD(ROW(),3)=1,"上午",IF(MOD(ROW(),3)=2,"下午","加班"))) -> 加班 | L6: 6 | N6: 3
A7: =IF(B7=0,"",COUNTA($B$3:$B6)) -> 2 | B7: =INDIRECT("员工信息表!B"&COUNTA($B$3:$B6)+2) -> 苏继中 | C7: 22 | D7: =(COUNTIF($L7:$AP7,"出勤")+COUNTIF($L8:$AP8,"出勤"))*0.5 -> 2.5 | E7: =(COUNTIF($L7:$AP7,"事假")+COUNTIF($L8:$AP8,"事假"))*0.5 -> 0.5 | F7: =(COUNTIF($L7:$AP7,"病假")+COUNTIF($L8:$AP8,"病假"))*0.5 -> 0.5 | G7: =(COUNTIF($L7:$AP7,"休假")+COUNTIF($L8:$AP8,"休假"))*0.5 -> 0.5 | H7: =(COUNTIF($L7:$AP7,"缺勤")+COUNTIF($L8:$AP8,"缺勤"))*0.5 -> 0.5 | I7: =(COUNTIF($L7:$AP7,"放假")+COUNTIF($L8:$AP8,"放假"))*0.5 -> 0.5 | J7: =(SUM(L9:AP9))/$AO$2 -> 1.5714286 | K7: =IF(A7="","",IF(MOD(ROW(),3)=1,"上午",IF(MOD(ROW(),3)=2,"下午","加班"))) -> 上午 | L7: 出勤 | M7: 出勤 | N7: 出勤 | P7: 休假 | T7: 缺勤 | V7: 放假
K8: =IF(A7="","",IF(MOD(ROW(),3)=1,"上午",IF(MOD(ROW(),3)=2,"下午","加班"))) -> 下午 | L8: 出勤 | M8: 出勤 | O8: 事假 | R8: 病假
K9: =IF(A7="","",IF(MOD(ROW(),3)=1,"上午",IF(MOD(ROW(),3)=2,"下午","加班"))) -> 加班 | L9: 7 | N9: 4
A10: =IF(B10=0,"",COUNTA($B$3:$B9)) -> 3 | B10: =INDIRECT("员工信息表!B"&COUNTA($B$3:$B9)+2) -> 刘毅 | C10: 22 | D10: =(COUNTIF($L10:$AP10,"出勤")+COUNTIF($L11:$AP11,"出勤"))*0.5 -> 2.5 | E10: =(COUNTIF($L10:$AP10,"事假")+COUNTIF($L11:$AP11,"事假"))*0.5 -> 0.5 | F10: =(COUNTIF($L10:$AP10,"病假")+COUNTIF($L11:$AP11,"病假"))*0.5 -> 0.5 | G10: =(COUNTIF($L10:$AP10,"休假")+COUNTIF($L11:$AP11,"休假"))*0.5 -> 0.5 | H10: =(COUNTIF($L10:$AP10,"缺勤")+COUNTIF($L11:$AP11,"缺勤"))*0.5 -> 0.5 | I10: =(COUNTIF($L10:$AP10,"放假")+COUNTIF($L11:$AP11,"放假"))*0.5 -> 0.5 | J10: =(SUM(L12:AP12))/$AO$2 -> 1.8571429 | K10: =IF(A10="","",IF(MOD(ROW(),3)=1,"上午",IF(MOD(ROW(),3)=2,"下午","加班"))) -> 上午 | L10: 出勤 | M10: 出勤 | N10: 出勤 | P10: 休假 | T10: 缺勤 | V10: 放假
K11: =IF(A10="","",IF(MOD(ROW(),3)=1,"上午",IF(MOD(ROW(),3)=2,"下午","加班"))) -> 下午 | L11: 出勤 | M11: 出勤 | O11: 事假 | R11: 病假
K12: =IF(A10="","",IF(MOD(ROW(),3)=1,"上午",IF(MOD(ROW(),3)=2,"下午","加班"))) -> 加班 | L12: 8 | N12: 5
A13: =IF(B13=0,"",COUNTA($B$3:$B12)) -> 4 | B13: =INDIRECT("员工信息表!B"&COUNTA($B$3:$B12)+2) -> 伍亦中 | C13: 22 | D13: =(COUNTIF($L13:$AP13,"出勤")+COUNTIF($L14:$AP14,"出勤"))*0.5 -> 2.5 | E13: =(COUNTIF($L13:$AP13,"事假")+COUNTIF($L14:$AP14,"事假"))*0.5 -> 0.5 | F13: =(COUNTIF($L13:$AP13,"病假")+COUNTIF($L14:$AP14,"病假"))*0.5 -> 0.5 | G13: =(COUNTIF($L13:$AP13,"休假")+COUNTIF($L14:$AP14,"休假"))*0.5 -> 0.5 | H13: =(COUNTIF($L13:$AP13,"缺勤")+COUNTIF($L14:$AP14,"缺勤"))*0.5 -> 0.5 | I13: =(COUNTIF($L13:$AP13,"放假")+COUNTIF($L14:$AP14,"放假"))*0.5 -> 0.5 | J13: =(SUM(L15:AP15))/$AO$2 -> 2.1428571 | K13: =IF(A13="","",IF(MOD(ROW(),3)=1,"上午",IF(MOD(ROW(),3)=2,"下午","加班"))) -> 上午 | L13: 出勤 | M13: 出勤 | N13: 出勤 | P13: 休假 | T13: 缺勤 | V13: 放假
K14: =IF(A13="","",IF(MOD(ROW(),3)=1,"上午",IF(MOD(ROW(),3)=2,"下午","加班"))) -> 下午 | L14: 出勤 | M14: 出勤 | O14: 事假 | R14: 病假
K15: =IF(A13="","",IF(MOD(ROW(),3)=1,"上午",IF(MOD(ROW(),3)=2,"下午","加班"))) -> 加班 | L15: 9 | N15: 6
