Workbook

Sheet 首页
A1: 行政办公用品管理系统
F22: ❖更多作品❖
K30: 密码：xdcw888

Sheet HR在线人才测评系统
B4: HR人才测评工具 技术研发岗位，市场营销岗，行政服务岗，中高层管理岗 MBTI、DISC、职业性格，职业兴趣，职业价值观，心理素质
B8: HR在线人才测评系统 | C8: https://www.zxgj.cn/m/tuance
B11: 职业性格和人格测评 | C11: https://www.xmcs.cn/d/zhiye

Sheet 型号管理
A1: 编码 | B1: 名称 | C1: 规格型号 | D1: 单位 | E1: 品类 | F1: 单价 | G1: 订购网址 | H1: 备注
A2: BG00001 | B2: A4打印纸 | C2: 500张/包 5包/箱 | D2: 箱 | E2: 纸制 | F2: 113
A3: BG00002 | B3: A5凭证打印纸 | C3: 500张/包 10包/箱 | D3: 箱 | E3: 纸制 | F3: 125
A4: BG00003 | B4: 凭证封面封底/封底/包角 | C4: 适配A5尺寸凭证 40套/包 | D4: 包 | E4: 纸制 | F4: 27
A5: BG00004 | B5: 凭证包装盒 | C5: 适配A5尺寸凭证 10个/包 | D5: 包 | E5: 纸制 | F5: 16
A6: BG00005 | B6: 牛皮纸档案袋 | C6: A4尺寸 50个/包 | D6: 包 | E6: 纸制 | F6: 30
A7: BG00006 | B7: A3打印纸* | C7: 500张/包 | D7: 包 | E7: 纸制 | F7: 46
A8: BG00007 | B8: A4牛皮纸 | C8: 100张/包 | D8: 包 | E8: 纸制 | F8: 30
A9: BG00008 | B9: 笔记本 | C9: A5尺寸 60页/本 10本/包 | D9: 包 | E9: 纸制 | F9: 22
A10: BG00009 | B10: 大号便利贴 | C10: 76mmm×76mm 100页/本 4本/袋 4色 | D10: 袋 | E10: 纸制 | F10: 9.9
A11: BG00010 | B11: 小号便利贴 | C11: 76mm×19mm 100页/本 4本/袋 4色 | D11: 袋 | E11: 纸制 | F11: 2
A12: BG00011 | B12: 针式打印纸 | C12: 一联二等分 白色 可撕边 1000页/箱 | D12: 箱 | E12: 纸制 | F12: 45
A13: BG00012 | B13: 针式打印纸 | C13: 二联二等分 彩色 可撕边 1000页/箱 | D13: 箱 | E13: 纸制 | F13: 52
... A81: BG00080 | B81: 一次性纸杯 | C81: 妙洁 100只装 228ml 加厚型 | D81: 袋 | E81: 其他 | F81: 18.9

Sheet 采购明细
A1: 日期 | B1: 物料编码 | C1: 物料名称 | D1: 规格型号 | E1: 单位 | F1: 入库数量 | G1: 单价 | H1: 入库金额 | I1: 备注
A2: 43466 | B2: BG00001 | C2: =IF(B2="","",VLOOKUP(B2,型号管理!A:D,2,0)) -> A4打印纸 | D2: =IF(B2="","",VLOOKUP(B2,型号管理!A:D,3,0)) -> 500张/包 5包/箱 | E2: =IF(B2="","",VLOOKUP(B2,型号管理!A:D,4,0)) -> 箱 | F2: 5 | G2: 120 | H2: =F2*G2 -> 600
A3: 43467 | B3: BG00002 | C3: =IF(B3="","",VLOOKUP(B3,型号管理!A:D,2,0)) -> A5凭证打印纸 | D3: =IF(B3="","",VLOOKUP(B3,型号管理!A:D,3,0)) -> 500张/包 10包/箱 | E3: =IF(B3="","",VLOOKUP(B3,型号管理!A:D,4,0)) -> 箱 | F3: 5 | G3: 125 | H3: =F3*G3 -> 625
A4: 43468 | B4: BG00003 | C4: =IF(B4="","",VLOOKUP(B4,型号管理!A:D,2,0)) -> 凭证封面封底/封底/包角 | D4: =IF(B4="","",VLOOKUP(B4,型号管理!A:D,3,0)) -> 适配A5尺寸凭证 40套/包 | E4: =IF(B4="","",VLOOKUP(B4,型号管理!A:D,4,0)) -> 包 | F4: 5 | G4: 15 | H4: =F4*G4 -> 75
A5: 43469 | B5: BG00004 | C5: =IF(B5="","",VLOOKUP(B5,型号管理!A:D,2,0)) -> 凭证包装盒 | D5: =IF(B5="","",VLOOKUP(B5,型号管理!A:D,3,0)) -> 适配A5尺寸凭证 10个/包 | E5: =IF(B5="","",VLOOKUP(B5,型号管理!A:D,4,0)) -> 包 | F5: 5 | G5: 22 | H5: =F5*G5 -> 110
A6: 43470 | B6: BG00005 | C6: =IF(B6="","",VLOOKUP(B6,型号管理!A:D,2,0)) -> 牛皮纸档案袋 | D6: =IF(B6="","",VLOOKUP(B6,型号管理!A:D,3,0)) -> A4尺寸 50个/包 | E6: =IF(B6="","",VLOOKUP(B6,型号管理!A:D,4,0)) -> 包 | F6: 5 | G6: 45 | H6: =F6*G6 -> 225
A7: 43471 | B7: BG00001 | C7: =IF(B7="","",VLOOKUP(B7,型号管理!A:D,2,0)) -> A4打印纸 | D7: =IF(B7="","",VLOOKUP(B7,型号管理!A:D,3,0)) -> 500张/包 5包/箱 | E7: =IF(B7="","",VLOOKUP(B7,型号管理!A:D,4,0)) -> 箱 | F7: 5 | G7: 118 | H7: =F7*G7 -> 590
A8: 43472 | B8: BG00002 | C8: =IF(B8="","",VLOOKUP(B8,型号管理!A:D,2,0)) -> A5凭证打印纸 | D8: =IF(B8="","",VLOOKUP(B8,型号管理!A:D,3,0)) -> 500张/包 10包/箱 | E8: =IF(B8="","",VLOOKUP(B8,型号管理!A:D,4,0)) -> 箱 | F8: 5 | G8: 123 | H8: =F8*G8 -> 615
A9: 43473 | B9: BG00003 | C9: =IF(B9="","",VLOOKUP(B9,型号管理!A:D,2,0)) -> 凭证封面封底/封底/包角 | D9: =IF(B9="","",VLOOKUP(B9,型号管理!A:D,3,0)) -> 适配A5尺寸凭证 40套/包 | E9: =IF(B9="","",VLOOKUP(B9,型号管理!A:D,4,0)) -> 包 | F9: 5 | G9: 16 | H9: =F9*G9 -> 80
A10: 43474 | B10: BG00004 | C10: =IF(B10="","",VLOOKUP(B10,型号管理!A:D,2,0)) -> 凭证包装盒 | D10: =IF(B10="","",VLOOKUP(B10,型号管理!A:D,3,0)) -> 适配A5尺寸凭证 10个/包 | E10: =IF(B10="","",VLOOKUP(B10,型号管理!A:D,4,0)) -> 包 | F10: 5 | G10: 24 | H10: =F10*G10 -> 120
A11: 43475 | B11: BG00005 | C11: =IF(B11="","",VLOOKUP(B11,型号管理!A:D,2,0)) -> 牛皮纸档案袋 | D11: =IF(B11="","",VLOOKUP(B11,型号管理!A:D,3,0)) -> A4尺寸 50个/包 | E11: =IF(B11="","",VLOOKUP(B11,型号管理!A:D,4,0)) -> 包 | F11: 5 | G11: 43 | H11: =F11*G11 -> 215
C12: =IF(B12="","",VLOOKUP(B12,型号管理!A:D,2,0)) | D12: =IF(B12="","",VLOOKUP(B12,型号管理!A:D,3,0)) | E12: =IF(B12="","",VLOOKUP(B12,型号管理!A:D,4,0)) | H12: =F12*G12 -> 0
C13: =IF(B13="","",VLOOKUP(B13,型号管理!A:D,2,0)) | D13: =IF(B13="","",VLOOKUP(B13,型号管理!A:D,3,0)) | E13: =IF(B13="","",VLOOKUP(B13,型号管理!A:D,4,0)) | H13: =F13*G13 -> 0
C14: =IF(B14="","",VLOOKUP(B14,型号管理!A:D,2,0)) | D14: =IF(B14="","",VLOOKUP(B14,型号管理!A:D,3,0)) | E14: =IF(B14="","",VLOOKUP(B14,型号管理!A:D,4,0)) | H14: =F14*G14 -> 0
C15: =IF(B15="","",VLOOKUP(B15,型号管理!A:D,2,0)) | D15: =IF(B15="","",VLOOKUP(B15,型号管理!A:D,3,0)) | E15: =IF(B15="","",VLOOKUP(B15,型号管理!A:D,4,0)) | H15: =F15*G15 -> 0
C16: =IF(B16="","",VLOOKUP(B16,型号管理!A:D,2,0)) | D16: =IF(B16="","",VLOOKUP(B16,型号管理!A:D,3,0)) | E16: =IF(B16="","",VLOOKUP(B16,型号管理!A:D,4,0)) | H16: =F16*G16 -> 0
C17: =IF(B17="","",VLOOKUP(B17,型号管理!A:D,2,0)) | D17: =IF(B17="","",VLOOKUP(B17,型号管理!A:D,3,0)) | E17: =IF(B17="","",VLOOKUP(B17,型号管理!A:D,4,0)) | H17: =F17*G17 -> 0
C18: =IF(B18="","",VLOOKUP(B18,型号管理!A:D,2,0)) | D18: =IF(B18="","",VLOOKUP(B18,型号管理!A:D,3,0)) | E18: =IF(B18="","",VLOOKUP(B18,型号管理!A:D,4,0)) | H18: =F18*G18 -> 0
C19: =IF(B19="","",VLOOKUP(B19,型号管理!A:D,2,0)) | D19: =IF(B19="","",VLOOKUP(B19,型号管理!A:D,3,0)) | E19: =IF(B19="","",VLOOKUP(B19,型号管理!A:D,4,0)) | H19: =F19*G19 -> 0
C20: =IF(B20="","",VLOOKUP(B20,型号管理!A:D,2,0)) | D20: =IF(B20="","",VLOOKUP(B20,型号管理!A:D,3,0)) | E20: =IF(B20="","",VLOOKUP(B20,型号管理!A:D,4,0)) | H20: =F20*G20 -> 0
C21: =IF(B21="","",VLOOKUP(B21,型号管理!A:D,2,0)) | D21: =IF(B21="","",VLOOKUP(B21,型号管理!A:D,3,0)) | E21: =IF(B21="","",VLOOKUP(B21,型号管理!A:D,4,0)) | H21: =F21*G21 -> 0
C22: =IF(B22="","",VLOOKUP(B22,型号管理!A:D,2,0)) | D22: =IF(B22="","",VLOOKUP(B22,型号管理!A:D,3,0)) | E22: =IF(B22="","",VLOOKUP(B22,型号管理!A:D,4,0)) | H22: =F22*G22 -> 0
C23: =IF(B23="","",VLOOKUP(B23,型号管理!A:D,2,0)) | D23: =IF(B23="","",VLOOKUP(B23,型号管理!A:D,3,0)) | E23: =IF(B23="","",VLOOKUP(B23,型号管理!A:D,4,0)) | H23: =F23*G23 -> 0
... C1000: =IF(B1000="","",VLOOKUP(B1000,型号管理!A:D,2,0)) | D1000: =IF(B1000="","",VLOOKUP(B1000,型号管理!A:D,3,0)) | E1000: =IF(B1000="","",VLOOKUP(B1000,型号管理!A:D,4,0)) | H1000: =F1000*G1000 -> 0

Sheet 领用明细
A1: 日期 | B1: 物料编码 | C1: 物料名称 | D1: 规格型号 | E1: 单位 | F1: 领用数量 | G1: 单价 | H1: 出库金额 | I1: 领用部门代码 | J1: 领用部门名称 | K1: 备注
A2: 43466 | B2: BG00001 | C2: =IF(B2="","",VLOOKUP(B2,型号管理!A:D,2,0)) -> A4打印纸 | D2: =IF(B2="","",VLOOKUP(B2,型号管理!A:D,3,0)) -> 500张/包 5包/箱 | E2: =IF(B2="","",VLOOKUP(B2,型号管理!A:D,4,0)) -> 箱 | F2: 2 | G2: =IF(F2=0,0,SUMIF(采购明细!B:B,B2,采购明细!H:H)/SUMIF(采购明细!B:B,B2,采购明细!F:F)) -> 119 | H2: =F2*G2 -> 238 | I2: BM001 | J2: =IF(I2="","",VLOOKUP(I2,部门列表!A:B,2,0)) -> 采购部
A3: 43467 | B3: BG00002 | C3: =IF(B3="","",VLOOKUP(B3,型号管理!A:D,2,0)) -> A5凭证打印纸 | D3: =IF(B3="","",VLOOKUP(B3,型号管理!A:D,3,0)) -> 500张/包 10包/箱 | E3: =IF(B3="","",VLOOKUP(B3,型号管理!A:D,4,0)) -> 箱 | F3: 2 | G3: =IF(F3=0,0,SUMIF(采购明细!B:B,B3,采购明细!H:H)/SUMIF(采购明细!B:B,B3,采购明细!F:F)) -> 124 | H3: =F3*G3 -> 248 | I3: BM002 | J3: =IF(I3="","",VLOOKUP(I3,部门列表!A:B,2,0)) -> 仓储部
A4: 43468 | B4: BG00003 | C4: =IF(B4="","",VLOOKUP(B4,型号管理!A:D,2,0)) -> 凭证封面封底/封底/包角 | D4: =IF(B4="","",VLOOKUP(B4,型号管理!A:D,3,0)) -> 适配A5尺寸凭证 40套/包 | E4: =IF(B4="","",VLOOKUP(B4,型号管理!A:D,4,0)) -> 包 | F4: 1 | G4: =IF(F4=0,0,SUMIF(采购明细!B:B,B4,采购明细!H:H)/SUMIF(采购明细!B:B,B4,采购明细!F:F)) -> 15.5 | H4: =F4*G4 -> 15.5 | I4: BM003 | J4: =IF(I4="","",VLOOKUP(I4,部门列表!A:B,2,0)) -> 物流部
A5: 43469 | B5: BG00004 | C5: =IF(B5="","",VLOOKUP(B5,型号管理!A:D,2,0)) -> 凭证包装盒 | D5: =IF(B5="","",VLOOKUP(B5,型号管理!A:D,3,0)) -> 适配A5尺寸凭证 10个/包 | E5: =IF(B5="","",VLOOKUP(B5,型号管理!A:D,4,0)) -> 包 | F5: 2 | G5: =IF(F5=0,0,SUMIF(采购明细!B:B,B5,采购明细!H:H)/SUMIF(采购明细!B:B,B5,采购明细!F:F)) -> 23 | H5: =F5*G5 -> 46 | I5: BM004 | J5: =IF(I5="","",VLOOKUP(I5,部门列表!A:B,2,0)) -> 研发部
A6: 43470 | B6: BG00005 | C6: =IF(B6="","",VLOOKUP(B6,型号管理!A:D,2,0)) -> 牛皮纸档案袋 | D6: =IF(B6="","",VLOOKUP(B6,型号管理!A:D,3,0)) -> A4尺寸 50个/包 | E6: =IF(B6="","",VLOOKUP(B6,型号管理!A:D,4,0)) -> 包 | F6: 3 | G6: =IF(F6=0,0,SUMIF(采购明细!B:B,B6,采购明细!H:H)/SUMIF(采购明细!B:B,B6,采购明细!F:F)) -> 44 | H6: =F6*G6 -> 132 | I6: BM005 | J6: =IF(I6="","",VLOOKUP(I6,部门列表!A:B,2,0)) -> 生产部
A7: 43471 | B7: BG00001 | C7: =IF(B7="","",VLOOKUP(B7,型号管理!A:D,2,0)) -> A4打印纸 | D7: =IF(B7="","",VLOOKUP(B7,型号管理!A:D,3,0)) -> 500张/包 5包/箱 | E7: =IF(B7="","",VLOOKUP(B7,型号管理!A:D,4,0)) -> 箱 | F7: 1 | G7: =IF(F7=0,0,SUMIF(采购明细!B:B,B7,采购明细!H:H)/SUMIF(采购明细!B:B,B7,采购明细!F:F)) -> 119 | H7: =F7*G7 -> 119 | I7: BM006 | J7: =IF(I7="","",VLOOKUP(I7,部门列表!A:B,2,0)) -> 销售部
A8: 43472 | B8: BG00002 | C8: =IF(B8="","",VLOOKUP(B8,型号管理!A:D,2,0)) -> A5凭证打印纸 | D8: =IF(B8="","",VLOOKUP(B8,型号管理!A:D,3,0)) -> 500张/包 10包/箱 | E8: =IF(B8="","",VLOOKUP(B8,型号管理!A:D,4,0)) -> 箱 | F8: 2 | G8: =IF(F8=0,0,SUMIF(采购明细!B:B,B8,采购明细!H:H)/SUMIF(采购明细!B:B,B8,采购明细!F:F)) -> 124 | H8: =F8*G8 -> 248 | I8: BM007 | J8: =IF(I8="","",VLOOKUP(I8,部门列表!A:B,2,0)) -> 财务部
A9: 43473 | B9: BG00003 | C9: =IF(B9="","",VLOOKUP(B9,型号管理!A:D,2,0)) -> 凭证封面封底/封底/包角 | D9: =IF(B9="","",VLOOKUP(B9,型号管理!A:D,3,0)) -> 适配A5尺寸凭证 40套/包 | E9: =IF(B9="","",VLOOKUP(B9,型号管理!A:D,4,0)) -> 包 | F9: 3 | G9: =IF(F9=0,0,SUMIF(采购明细!B:B,B9,采购明细!H:H)/SUMIF(采购明细!B:B,B9,采购明细!F:F)) -> 15.5 | H9: =F9*G9 -> 46.5 | I9: BM008 | J9: =IF(I9="","",VLOOKUP(I9,部门列表!A:B,2,0)) -> 人事部
A10: 43474 | B10: BG00004 | C10: =IF(B10="","",VLOOKUP(B10,型号管理!A:D,2,0)) -> 凭证包装盒 | D10: =IF(B10="","",VLOOKUP(B10,型号管理!A:D,3,0)) -> 适配A5尺寸凭证 10个/包 | E10: =IF(B10="","",VLOOKUP(B10,型号管理!A:D,4,0)) -> 包 | F10: 4 | G10: =IF(F10=0,0,SUMIF(采购明细!B:B,B10,采购明细!H:H)/SUMIF(采购明细!B:B,B10,采购明细!F:F)) -> 23 | H10: =F10*G10 -> 92 | I10: BM009 | J10: =IF(I10="","",VLOOKUP(I10,部门列表!A:B,2,0)) -> 行政部
A11: 43475 | B11: BG00005 | C11: =IF(B11="","",VLOOKUP(B11,型号管理!A:D,2,0)) -> 牛皮纸档案袋 | D11: =IF(B11="","",VLOOKUP(B11,型号管理!A:D,3,0)) -> A4尺寸 50个/包 | E11: =IF(B11="","",VLOOKUP(B11,型号管理!A:D,4,0)) -> 包 | F11: 5 | G11: =IF(F11=0,0,SUMIF(采购明细!B:B,B11,采购明细!H:H)/SUMIF(采购明细!B:B,B11,采购明细!F:F)) -> 44 | H11: =F11*G11 -> 220 | I11: BM010 | J11: =IF(I11="","",VLOOKUP(I11,部门列表!A:B,2,0)) -> 总经办
C12: =IF(B12="","",VLOOKUP(B12,型号管理!A:D,2,0)) | D12: =IF(B12="","",VLOOKUP(B12,型号管理!A:D,3,0)) | E12: =IF(B12="","",VLOOKUP(B12,型号管理!A:D,4,0)) | G12: =IF(F12=0,0,SUMIF(采购明细!B:B,B12,采购明细!H:H)/SUMIF(采购明细!B:B,B12,采购明细!F:F)) -> 0 | H12: =F12*G12 -> 0 | J12: =IF(I12="","",VLOOKUP(I12,部门列表!A:B,2,0))
C13: =IF(B13="","",VLOOKUP(B13,型号管理!A:D,2,0)) | D13: =IF(B13="","",VLOOKUP(B13,型号管理!A:D,3,0)) | E13: =IF(B13="","",VLOOKUP(B13,型号管理!A:D,4,0)) | G13: =IF(F13=0,0,SUMIF(采购明细!B:B,B13,采购明细!H:H)/SUMIF(采购明细!B:B,B13,采购明细!F:F)) -> 0 | H13: =F13*G13 -> 0 | J13: =IF(I13="","",VLOOKUP(I13,部门列表!A:B,2,0))
C14: =IF(B14="","",VLOOKUP(B14,型号管理!A:D,2,0)) | D14: =IF(B14="","",VLOOKUP(B14,型号管理!A:D,3,0)) | E14: =IF(B14="","",VLOOKUP(B14,型号管理!A:D,4,0)) | G14: =IF(F14=0,0,SUMIF(采购明细!B:B,B14,采购明细!H:H)/SUMIF(采购明细!B:B,B14,采购明细!F:F)) -> 0 | H14: =F14*G14 -> 0 | J14: =IF(I14="","",VLOOKUP(I14,部门列表!A:B,2,0))
C15: =IF(B15="","",VLOOKUP(B15,型号管理!A:D,2,0)) | D15: =IF(B15="","",VLOOKUP(B15,型号管理!A:D,3,0)) | E15: =IF(B15="","",VLOOKUP(B15,型号管理!A:D,4,0)) | G15: =IF(F15=0,0,SUMIF(采购明细!B:B,B15,采购明细!H:H)/SUMIF(采购明细!B:B,B15,采购明细!F:F)) -> 0 | H15: =F15*G15 -> 0 | J15: =IF(I15="","",VLOOKUP(I15,部门列表!A:B,2,0))
C16: =IF(B16="","",VLOOKUP(B16,型号管理!A:D,2,0)) | D16: =IF(B16="","",VLOOKUP(B16,型号管理!A:D,3,0)) | E16: =IF(B16="","",VLOOKUP(B16,型号管理!A:D,4,0)) | G16: =IF(F16=0,0,SUMIF(采购明细!B:B,B16,采购明细!H:H)/SUMIF(采购明细!B:B,B16,采购明细!F:F)) -> 0 | H16: =F16*G16 -> 0 | J16: =IF(I16="","",VLOOKUP(I16,部门列表!A:B,2,0))
C17: =IF(B17="","",VLOOKUP(B17,型号管理!A:D,2,0)) | D17: =IF(B17="","",VLOOKUP(B17,型号管理!A:D,3,0)) | E17: =IF(B17="","",VLOOKUP(B17,型号管理!A:D,4,0)) | G17: =IF(F17=0,0,SUMIF(采购明细!B:B,B17,采购明细!H:H)/SUMIF(采购明细!B:B,B17,采购明细!F:F)) -> 0 | H17: =F17*G17 -> 0 | J17: =IF(I17="","",VLOOKUP(I17,部门列表!A:B,2,0))
C18: =IF(B18="","",VLOOKUP(B18,型号管理!A:D,2,0)) | D18: =IF(B18="","",VLOOKUP(B18,型号管理!A:D,3,0)) | E18: =IF(B18="","",VLOOKUP(B18,型号管理!A:D,4,0)) | G18: =IF(F18=0,0,SUMIF(采购明细!B:B,B18,采购明细!H:H)/SUMIF(采购明细!B:B,B18,采购明细!F:F)) -> 0 | H18: =F18*G18 -> 0 | J18: =IF(I18="","",VLOOKUP(I18,部门列表!A:B,2,0))
C19: =IF(B19="","",VLOOKUP(B19,型号管理!A:D,2,0)) | D19: =IF(B19="","",VLOOKUP(B19,型号管理!A:D,3,0)) | E19: =IF(B19="","",VLOOKUP(B19,型号管理!A:D,4,0)) | G19: =IF(F19=0,0,SUMIF(采购明细!B:B,B19,采购明细!H:H)/SUMIF(采购明细!B:B,B19,采购明细!F:F)) -> 0 | H19: =F19*G19 -> 0 | J19: =IF(I19="","",VLOOKUP(I19,部门列表!A:B,2,0))
C20: =IF(B20="","",VLOOKUP(B20,型号管理!A:D,2,0)) | D20: =IF(B20="","",VLOOKUP(B20,型号管理!A:D,3,0)) | E20: =IF(B20="","",VLOOKUP(B20,型号管理!A:D,4,0)) | G20: =IF(F20=0,0,SUMIF(采购明细!B:B,B20,采购明细!H:H)/SUMIF(采购明细!B:B,B20,采购明细!F:F)) -> 0 | H20: =F20*G20 -> 0 | J20: =IF(I20="","",VLOOKUP(I20,部门列表!A:B,2,0))
C21: =IF(B21="","",VLOOKUP(B21,型号管理!A:D,2,0)) | D21: =IF(B21="","",VLOOKUP(B21,型号管理!A:D,3,0)) | E21: =IF(B21="","",VLOOKUP(B21,型号管理!A:D,4,0)) | G21: =IF(F21=0,0,SUMIF(采购明细!B:B,B21,采购明细!H:H)/SUMIF(采购明细!B:B,B21,采购明细!F:F)) -> 0 | H21: =F21*G21 -> 0 | J21: =IF(I21="","",VLOOKUP(I21,部门列表!A:B,2,0))
C22: =IF(B22="","",VLOOKUP(B22,型号管理!A:D,2,0)) | D22: =IF(B22="","",VLOOKUP(B22,型号管理!A:D,3,0)) | E22: =IF(B22="","",VLOOKUP(B22,型号管理!A:D,4,0)) | G22: =IF(F22=0,0,SUMIF(采购明细!B:B,B22,采购明细!H:H)/SUMIF(采购明细!B:B,B22,采购明细!F:F)) -> 0 | H22: =F22*G22 -> 0 | J22: =IF(I22="","",VLOOKUP(I22,部门列表!A:B,2,0))
C23: =IF(B23="","",VLOOKUP(B23,型号管理!A:D,2,0)) | D23: =IF(B23="","",VLOOKUP(B23,型号管理!A:D,3,0)) | E23: =IF(B23="","",VLOOKUP(B23,型号管理!A:D,4,0)) | G23: =IF(F23=0,0,SUMIF(采购明细!B:B,B23,采购明细!H:H)/SUMIF(采购明细!B:B,B23,采购明细!F:F)) -> 0 | H23: =F23*G23 -> 0 | J23: =IF(I23="","",VLOOKUP(I23,部门列表!A:B,2,0))
... C1000: =IF(B1000="","",VLOOKUP(B1000,型号管理!A:D,2,0)) | D1000: =IF(B1000="","",VLOOKUP(B1000,型号管理!A:D,3,0)) | E1000: =IF(B1000="","",VLOOKUP(B1000,型号管理!A:D,4,0)) | G1000: =IF(F1000=0,0,SUMIF(采购明细!B:B,B1000,采购明细!H:H)/SUMIF(采购明细!B:B,B1000,采购明细!F:F)) -> 0 | H1000: =F1000*G1000 -> 0 | J1000: =IF(I1000="","",VLOOKUP(I1000,部门列表!A:B,2,0))

Sheet 库存报表
A1: 办 公 用 品 库 存 报 表
A3: 开始日期 | C3: 43467 | D3: 结束日期 | E3: 43480 | I3: =IF(AND(C3<>"",E3<>""),"所有物料收发存统计如下","开始和结束日期不能为空！") -> 所有物料收发存统计如下
A4: 序号 | B4: 物料编码 | C4: 物料名称 | D4: 规格型号 | E4: 单位 | F4: 期初结存 | G4: 本期采购 | H4: 本期领用 | I4: 期末结存 | J4: 结存单价 | K4: 结存金额 | L4: 备注
A5: 1 | B5: =IF(型号管理!A2="","",型号管理!A2) -> BG00001 | C5: =IF(B5="","",VLOOKUP(B5,型号管理!A:D,2,0)) -> A4打印纸 | D5: =IF(B5="","",VLOOKUP(B5,型号管理!A:D,3,0)) -> 500张/包 5包/箱 | E5: =IF(B5="","",VLOOKUP(B5,型号管理!A:D,4,0)) -> 箱 | F5: =IF(B5="",0,SUMIFS(采购明细!F:F,采购明细!B:B,B5,采购明细!A:A,"<"&$C$3)-SUMIFS(领用明细!F:F,领用明细!B:B,B5,领用明细!A:A,"<"&$C$3)) -> 3 | G5: =IF(B5="",0,SUMIFS(采购明细!F:F,采购明细!B:B,B5,采购明细!A:A,">="&$C$3,采购明细!A:A,"<="&$E$3)) -> 5 | H5: =IF(B5="",0,SUMIFS(领用明细!F:F,领用明细!B:B,B5,领用明细!A:A,">="&$C$3,领用明细!A:A,"<="&$E$3)) -> 1 | I5: =IF(B5="","",F5+G5-H5) -> 7 | J5: =IF(B5="","",IF(SUMIF(采购明细!B:B,B5,采购明细!F:F)=0,0,SUMIF(采购明细!B:B,B5,采购明细!H:H)/SUMIF(采购明细!B:B,B5,采购明细!F:F))) -> 119 | K5: =IF(B5="","",I5*J5) -> 833
A6: 2 | B6: =IF(型号管理!A3="","",型号管理!A3) -> BG00002 | C6: =IF(B6="","",VLOOKUP(B6,型号管理!A:D,2,0)) -> A5凭证打印纸 | D6: =IF(B6="","",VLOOKUP(B6,型号管理!A:D,3,0)) -> 500张/包 10包/箱 | E6: =IF(B6="","",VLOOKUP(B6,型号管理!A:D,4,0)) -> 箱 | F6: =IF(B6="",0,SUMIFS(采购明细!F:F,采购明细!B:B,B6,采购明细!A:A,"<"&$C$3)-SUMIFS(领用明细!F:F,领用明细!B:B,B6,领用明细!A:A,"<"&$C$3)) -> 0 | G6: =IF(B6="",0,SUMIFS(采购明细!F:F,采购明细!B:B,B6,采购明细!A:A,">="&$C$3,采购明细!A:A,"<="&$E$3)) -> 10 | H6: =IF(B6="",0,SUMIFS(领用明细!F:F,领用明细!B:B,B6,领用明细!A:A,">="&$C$3,领用明细!A:A,"<="&$E$3)) -> 4 | I6: =IF(B6="","",F6+G6-H6) -> 6 | J6: =IF(B6="","",IF(SUMIF(采购明细!B:B,B6,采购明细!F:F)=0,0,SUMIF(采购明细!B:B,B6,采购明细!H:H)/SUMIF(采购明细!B:B,B6,采购明细!F:F))) -> 124 | K6: =IF(B6="","",I6*J6) -> 744
A7: 3 | B7: =IF(型号管理!A4="","",型号管理!A4) -> BG00003 | C7: =IF(B7="","",VLOOKUP(B7,型号管理!A:D,2,0)) -> 凭证封面封底/封底/包角 | D7: =IF(B7="","",VLOOKUP(B7,型号管理!A:D,3,0)) -> 适配A5尺寸凭证 40套/包 | E7: =IF(B7="","",VLOOKUP(B7,型号管理!A:D,4,0)) -> 包 | F7: =IF(B7="",0,SUMIFS(采购明细!F:F,采购明细!B:B,B7,采购明细!A:A,"<"&$C$3)-SUMIFS(领用明细!F:F,领用明细!B:B,B7,领用明细!A:A,"<"&$C$3)) -> 0 | G7: =IF(B7="",0,SUMIFS(采购明细!F:F,采购明细!B:B,B7,采购明细!A:A,">="&$C$3,采购明细!A:A,"<="&$E$3)) -> 10 | H7: =IF(B7="",0,SUMIFS(领用明细!F:F,领用明细!B:B,B7,领用明细!A:A,">="&$C$3,领用明细!A:A,"<="&$E$3)) -> 4 | I7: =IF(B7="","",F7+G7-H7) -> 6 | J7: =IF(B7="","",IF(SUMIF(采购明细!B:B,B7,采购明细!F:F)=0,0,SUMIF(采购明细!B:B,B7,采购明细!H:H)/SUMIF(采购明细!B:B,B7,采购明细!F:F))) -> 15.5 | K7: =IF(B7="","",I7*J7) -> 93
A8: 4 | B8: =IF(型号管理!A5="","",型号管理!A5) -> BG00004 | C8: =IF(B8="","",VLOOKUP(B8,型号管理!A:D,2,0)) -> 凭证包装盒 | D8: =IF(B8="","",VLOOKUP(B8,型号管理!A:D,3,0)) -> 适配A5尺寸凭证 10个/包 | E8: =IF(B8="","",VLOOKUP(B8,型号管理!A:D,4,0)) -> 包 | F8: =IF(B8="",0,SUMIFS(采购明细!F:F,采购明细!B:B,B8,采购明细!A:A,"<"&$C$3)-SUMIFS(领用明细!F:F,领用明细!B:B,B8,领用明细!A:A,"<"&$C$3)) -> 0 | G8: =IF(B8="",0,SUMIFS(采购明细!F:F,采购明细!B:B,B8,采购明细!A:A,">="&$C$3,采购明细!A:A,"<="&$E$3)) -> 10 | H8: =IF(B8="",0,SUMIFS(领用明细!F:F,领用明细!B:B,B8,领用明细!A:A,">="&$C$3,领用明细!A:A,"<="&$E$3)) -> 6 | I8: =IF(B8="","",F8+G8-H8) -> 4 | J8: =IF(B8="","",IF(SUMIF(采购明细!B:B,B8,采购明细!F:F)=0,0,SUMIF(采购明细!B:B,B8,采购明细!H:H)/SUMIF(采购明细!B:B,B8,采购明细!F:F))) -> 23 | K8: =IF(B8="","",I8*J8) -> 92
A9: 5 | B9: =IF(型号管理!A6="","",型号管理!A6) -> BG00005 | C9: =IF(B9="","",VLOOKUP(B9,型号管理!A:D,2,0)) -> 牛皮纸档案袋 | D9: =IF(B9="","",VLOOKUP(B9,型号管理!A:D,3,0)) -> A4尺寸 50个/包 | E9: =IF(B9="","",VLOOKUP(B9,型号管理!A:D,4,0)) -> 包 | F9: =IF(B9="",0,SUMIFS(采购明细!F:F,采购明细!B:B,B9,采购明细!A:A,"<"&$C$3)-SUMIFS(领用明细!F:F,领用明细!B:B,B9,领用明细!A:A,"<"&$C$3)) -> 0 | G9: =IF(B9="",0,SUMIFS(采购明细!F:F,采购明细!B:B,B9,采购明细!A:A,">="&$C$3,采购明细!A:A,"<="&$E$3)) -> 10 | H9: =IF(B9="",0,SUMIFS(领用明细!F:F,领用明细!B:B,B9,领用明细!A:A,">="&$C$3,领用明细!A:A,"<="&$E$3)) -> 8 | I9: =IF(B9="","",F9+G9-H9) -> 2 | J9: =IF(B9="","",IF(SUMIF(采购明细!B:B,B9,采购明细!F:F)=0,0,SUMIF(采购明细!B:B,B9,采购明细!H:H)/SUMIF(采购明细!B:B,B9,采购明细!F:F))) -> 44 | K9: =IF(B9="","",I9*J9) -> 88
A10: 6 | B10: =IF(型号管理!A7="","",型号管理!A7) -> BG00006 | C10: =IF(B10="","",VLOOKUP(B10,型号管理!A:D,2,0)) -> A3打印纸* | D10: =IF(B10="","",VLOOKUP(B10,型号管理!A:D,3,0)) -> 500张/包 | E10: =IF(B10="","",VLOOKUP(B10,型号管理!A:D,4,0)) -> 包 | F10: =IF(B10="",0,SUMIFS(采购明细!F:F,采购明细!B:B,B10,采购明细!A:A,"<"&$C$3)-SUMIFS(领用明细!F:F,领用明细!B:B,B10,领用明细!A:A,"<"&$C$3)) -> 0 | G10: =IF(B10="",0,SUMIFS(采购明细!F:F,采购明细!B:B,B10,采购明细!A:A,">="&$C$3,采购明细!A:A,"<="&$E$3)) -> 0 | H10: =IF(B10="",0,SUMIFS(领用明细!F:F,领用明细!B:B,B10,领用明细!A:A,">="&$C$3,领用明细!A:A,"<="&$E$3)) -> 0 | I10: =IF(B10="","",F10+G10-H10) -> 0 | J10: =IF(B10="","",IF(SUMIF(采购明细!B:B,B10,采购明细!F:F)=0,0,SUMIF(采购明细!B:B,B10,采购明细!H:H)/SUMIF(采购明细!B:B,B10,采购明细!F:F))) -> 0 | K10: =IF(B10="","",I10*J10) -> 0
A11: 7 | B11: =IF(型号管理!A8="","",型号管理!A8) -> BG00007 | C11: =IF(B11="","",VLOOKUP(B11,型号管理!A:D,2,0)) -> A4牛皮纸 | D11: =IF(B11="","",VLOOKUP(B11,型号管理!A:D,3,0)) -> 100张/包 | E11: =IF(B11="","",VLOOKUP(B11,型号管理!A:D,4,0)) -> 包 | F11: =IF(B11="",0,SUMIFS(采购明细!F:F,采购明细!B:B,B11,采购明细!A:A,"<"&$C$3)-SUMIFS(领用明细!F:F,领用明细!B:B,B11,领用明细!A:A,"<"&$C$3)) -> 0 | G11: =IF(B11="",0,SUMIFS(采购明细!F:F,采购明细!B:B,B11,采购明细!A:A,">="&$C$3,采购明细!A:A,"<="&$E$3)) -> 0 | H11: =IF(B11="",0,SUMIFS(领用明细!F:F,领用明细!B:B,B11,领用明细!A:A,">="&$C$3,领用明细!A:A,"<="&$E$3)) -> 0 | I11: =IF(B11="","",F11+G11-H11) -> 0 | J11: =IF(B11="","",IF(SUMIF(采购明细!B:B,B11,采购明细!F:F)=0,0,SUMIF(采购明细!B:B,B11,采购明细!H:H)/SUMIF(采购明细!B:B,B11,采购明细!F:F))) -> 0 | K11: =IF(B11="","",I11*J11) -> 0
A12: 8 | B12: =IF(型号管理!A9="","",型号管理!A9) -> BG00008 | C12: =IF(B12="","",VLOOKUP(B12,型号管理!A:D,2,0)) -> 笔记本 | D12: =IF(B12="","",VLOOKUP(B12,型号管理!A:D,3,0)) -> A5尺寸 60页/本 10本/包 | E12: =IF(B12="","",VLOOKUP(B12,型号管理!A:D,4,0)) -> 包 | F12: =IF(B12="",0,SUMIFS(采购明细!F:F,采购明细!B:B,B12,采购明细!A:A,"<"&$C$3)-SUMIFS(领用明细!F:F,领用明细!B:B,B12,领用明细!A:A,"<"&$C$3)) -> 0 | G12: =IF(B12="",0,SUMIFS(采购明细!F:F,采购明细!B:B,B12,采购明细!A:A,">="&$C$3,采购明细!A:A,"<="&$E$3)) -> 0 | H12: =IF(B12="",0,SUMIFS(领用明细!F:F,领用明细!B:B,B12,领用明细!A:A,">="&$C$3,领用明细!A:A,"<="&$E$3)) -> 0 | I12: =IF(B12="","",F12+G12-H12) -> 0 | J12: =IF(B12="","",IF(SUMIF(采购明细!B:B,B12,采购明细!F:F)=0,0,SUMIF(采购明细!B:B,B12,采购明细!H:H)/SUMIF(采购明细!B:B,B12,采购明细!F:F))) -> 0 | K12: =IF(B12="","",I12*J12) -> 0
A13: 9 | B13: =IF(型号管理!A10="","",型号管理!A10) -> BG00009 | C13: =IF(B13="","",VLOOKUP(B13,型号管理!A:D,2,0)) -> 大号便利贴 | D13: =IF(B13="","",VLOOKUP(B13,型号管理!A:D,3,0)) -> 76mmm×76mm 100页/本 4本/袋 4色 | E13: =IF(B13="","",VLOOKUP(B13,型号管理!A:D,4,0)) -> 袋 | F13: =IF(B13="",0,SUMIFS(采购明细!F:F,采购明细!B:B,B13,采购明细!A:A,"<"&$C$3)-SUMIFS(领用明细!F:F,领用明细!B:B,B13,领用明细!A:A,"<"&$C$3)) -> 0 | G13: =IF(B13="",0,SUMIFS(采购明细!F:F,采购明细!B:B,B13,采购明细!A:A,">="&$C$3,采购明细!A:A,"<="&$E$3)) -> 0 | H13: =IF(B13="",0,SUMIFS(领用明细!F:F,领用明细!B:B,B13,领用明细!A:A,">="&$C$3,领用明细!A:A,"<="&$E$3)) -> 0 | I13: =IF(B13="","",F13+G13-H13) -> 0 | J13: =IF(B13="","",IF(SUMIF(采购明细!B:B,B13,采购明细!F:F)=0,0,SUMIF(采购明细!B:B,B13,采购明细!H:H)/SUMIF(采购明细!B:B,B13,采购明细!F:F))) -> 0 | K13: =IF(B13="","",I13*J13) -> 0
A14: 10 | B14: =IF(型号管理!A11="","",型号管理!A11) -> BG00010 | C14: =IF(B14="","",VLOOKUP(B14,型号管理!A:D,2,0)) -> 小号便利贴 | D14: =IF(B14="","",VLOOKUP(B14,型号管理!A:D,3,0)) -> 76mm×19mm 100页/本 4本/袋 4色 | E14: =IF(B14="","",VLOOKUP(B14,型号管理!A:D,4,0)) -> 袋 | F14: =IF(B14="",0,SUMIFS(采购明细!F:F,采购明细!B:B,B14,采购明细!A:A,"<"&$C$3)-SUMIFS(领用明细!F:F,领用明细!B:B,B14,领用明细!A:A,"<"&$C$3)) -> 0 | G14: =IF(B14="",0,SUMIFS(采购明细!F:F,采购明细!B:B,B14,采购明细!A:A,">="&$C$3,采购明细!A:A,"<="&$E$3)) -> 0 | H14: =IF(B14="",0,SUMIFS(领用明细!F:F,领用明细!B:B,B14,领用明细!A:A,">="&$C$3,领用明细!A:A,"<="&$E$3)) -> 0 | I14: =IF(B14="","",F14+G14-H14) -> 0 | J14: =IF(B14="","",IF(SUMIF(采购明细!B:B,B14,采购明细!F:F)=0,0,SUMIF(采购明细!B:B,B14,采购明细!H:H)/SUMIF(采购明细!B:B,B14,采购明细!F:F))) -> 0 | K14: =IF(B14="","",I14*J14) -> 0
A15: 11 | B15: =IF(型号管理!A12="","",型号管理!A12) -> BG00011 | C15: =IF(B15="","",VLOOKUP(B15,型号管理!A:D,2,0)) -> 针式打印纸 | D15: =IF(B15="","",VLOOKUP(B15,型号管理!A:D,3,0)) -> 一联二等分 白色 可撕边 1000页/箱 | E15: =IF(B15="","",VLOOKUP(B15,型号管理!A:D,4,0)) -> 箱 | F15: =IF(B15="",0,SUMIFS(采购明细!F:F,采购明细!B:B,B15,采购明细!A:A,"<"&$C$3)-SUMIFS(领用明细!F:F,领用明细!B:B,B15,领用明细!A:A,"<"&$C$3)) -> 0 | G15: =IF(B15="",0,SUMIFS(采购明细!F:F,采购明细!B:B,B15,采购明细!A:A,">="&$C$3,采购明细!A:A,"<="&$E$3)) -> 0 | H15: =IF(B15="",0,SUMIFS(领用明细!F:F,领用明细!B:B,B15,领用明细!A:A,">="&$C$3,领用明细!A:A,"<="&$E$3)) -> 0 | I15: =IF(B15="","",F15+G15-H15) -> 0 | J15: =IF(B15="","",IF(SUMIF(采购明细!B:B,B15,采购明细!F:F)=0,0,SUMIF(采购明细!B:B,B15,采购明细!H:H)/SUMIF(采购明细!B:B,B15,采购明细!F:F))) -> 0 | K15: =IF(B15="","",I15*J15) -> 0
A16: 12 | B16: =IF(型号管理!A13="","",型号管理!A13) -> BG00012 | C16: =IF(B16="","",VLOOKUP(B16,型号管理!A:D,2,0)) -> 针式打印纸 | D16: =IF(B16="","",VLOOKUP(B16,型号管理!A:D,3,0)) -> 二联二等分 彩色 可撕边 1000页/箱 | E16: =IF(B16="","",VLOOKUP(B16,型号管理!A:D,4,0)) -> 箱 | F16: =IF(B16="",0,SUMIFS(采购明细!F:F,采购明细!B:B,B16,采购明细!A:A,"<"&$C$3)-SUMIFS(领用明细!F:F,领用明细!B:B,B16,领用明细!A:A,"<"&$C$3)) -> 0 | G16: =IF(B16="",0,SUMIFS(采购明细!F:F,采购明细!B:B,B16,采购明细!A:A,">="&$C$3,采购明细!A:A,"<="&$E$3)) -> 0 | H16: =IF(B16="",0,SUMIFS(领用明细!F:F,领用明细!B:B,B16,领用明细!A:A,">="&$C$3,领用明细!A:A,"<="&$E$3)) -> 0 | I16: =IF(B16="","",F16+G16-H16) -> 0 | J16: =IF(B16="","",IF(SUMIF(采购明细!B:B,B16,采购明细!F:F)=0,0,SUMIF(采购明细!B:B,B16,采购明细!H:H)/SUMIF(采购明细!B:B,B16,采购明细!F:F))) -> 0 | K16: =IF(B16="","",I16*J16) -> 0
... A204: 200 | B204: =IF(型号管理!A201="","",型号管理!A201) | C204: =IF(B204="","",VLOOKUP(B204,型号管理!A:D,2,0)) | D204: =IF(B204="","",VLOOKUP(B204,型号管理!A:D,3,0)) | E204: =IF(B204="","",VLOOKUP(B204,型号管理!A:D,4,0)) | F204: =IF(B204="",0,SUMIFS(采购明细!F:F,采购明细!B:B,B204,采购明细!A:A,"<"&$C$3)-SUMIFS(领用明细!F:F,领用明细!B:B,B204,领用明细!A:A,"<"&$C$3)) -> 0 | G204: =IF(B204="",0,SUMIFS(采购明细!F:F,采购明细!B:B,B204,采购明细!A:A,">="&$C$3,采购明细!A:A,"<="&$E$3)) -> 0 | H204: =IF(B204="",0,SUMIFS(领用明细!F:F,领用明细!B:B,B204,领用明细!A:A,">="&$C$3,领用明细!A:A,"<="&$E$3)) -> 0 | I204: =IF(B204="","",F204+G204-H204) | J204: =IF(B204="","",IF(SUMIF(采购明细!B:B,B204,采购明细!F:F)=0,0,SUMIF(采购明细!B:B,B204,采购明细!H:H)/SUMIF(采购明细!B:B,B204,采购明细!F:F))) | K204: =IF(B204="","",I204*J204)

Sheet 部门列表
A1: 部门代码 | B1: 部门名称 | C1: 部门类型 | D1: 备注
A2: BM001 | B2: 采购部 | C2: 管理类
A3: BM002 | B3: 仓储部 | C3: 管理类
A4: BM003 | B4: 物流部 | C4: 销售类
A5: BM004 | B5: 研发部 | C5: 研发类
A6: BM005 | B6: 生产部 | C6: 生产类
A7: BM006 | B7: 销售部 | C7: 销售类
A8: BM007 | B8: 财务部 | C8: 管理类
A9: BM008 | B9: 人事部 | C9: 管理类
A10: BM009 | B10: 行政部 | C10: 管理类
A11: BM010 | B11: 总经办 | C11: 管理类

Sheet 部门耗费
A1: 部 门 费 用 分 摊 表
A3: 开始日期 | C3: 43466 | D3: 结束日期 | E3: 43496
A4: =IF(AND(C3<>"",E3<>""),"所有部门本期办公费用分摊如下","开始和结束日期不能为空！") -> 所有部门本期办公费用分摊如下
A5: 序号 | B5: 部门代码 | C5: 部门名称 | D5: 耗费总额 | E5: 备注
A6: 1 | B6: =IF(部门列表!A2="","",部门列表!A2) -> BM001 | C6: =IF(B6="","",VLOOKUP(B6,部门列表!A:B,2,0)) -> 采购部 | D6: =IF(B6="",0,SUMIFS(领用明细!H:H,领用明细!I:I,B6,领用明细!A:A,">="&$C$3,领用明细!A:A,"<="&部门耗费!$E$3)) -> 238
A7: 2 | B7: =IF(部门列表!A3="","",部门列表!A3) -> BM002 | C7: =IF(B7="","",VLOOKUP(B7,部门列表!A:B,2,0)) -> 仓储部 | D7: =IF(B7="",0,SUMIFS(领用明细!H:H,领用明细!I:I,B7,领用明细!A:A,">="&$C$3,领用明细!A:A,"<="&部门耗费!$E$3)) -> 248
A8: 3 | B8: =IF(部门列表!A4="","",部门列表!A4) -> BM003 | C8: =IF(B8="","",VLOOKUP(B8,部门列表!A:B,2,0)) -> 物流部 | D8: =IF(B8="",0,SUMIFS(领用明细!H:H,领用明细!I:I,B8,领用明细!A:A,">="&$C$3,领用明细!A:A,"<="&部门耗费!$E$3)) -> 15.5
A9: 4 | B9: =IF(部门列表!A5="","",部门列表!A5) -> BM004 | C9: =IF(B9="","",VLOOKUP(B9,部门列表!A:B,2,0)) -> 研发部 | D9: =IF(B9="",0,SUMIFS(领用明细!H:H,领用明细!I:I,B9,领用明细!A:A,">="&$C$3,领用明细!A:A,"<="&部门耗费!$E$3)) -> 46
A10: 5 | B10: =IF(部门列表!A6="","",部门列表!A6) -> BM005 | C10: =IF(B10="","",VLOOKUP(B10,部门列表!A:B,2,0)) -> 生产部 | D10: =IF(B10="",0,SUMIFS(领用明细!H:H,领用明细!I:I,B10,领用明细!A:A,">="&$C$3,领用明细!A:A,"<="&部门耗费!$E$3)) -> 132
A11: 6 | B11: =IF(部门列表!A7="","",部门列表!A7) -> BM006 | C11: =IF(B11="","",VLOOKUP(B11,部门列表!A:B,2,0)) -> 销售部 | D11: =IF(B11="",0,SUMIFS(领用明细!H:H,领用明细!I:I,B11,领用明细!A:A,">="&$C$3,领用明细!A:A,"<="&部门耗费!$E$3)) -> 119
A12: 7 | B12: =IF(部门列表!A8="","",部门列表!A8) -> BM007 | C12: =IF(B12="","",VLOOKUP(B12,部门列表!A:B,2,0)) -> 财务部 | D12: =IF(B12="",0,SUMIFS(领用明细!H:H,领用明细!I:I,B12,领用明细!A:A,">="&$C$3,领用明细!A:A,"<="&部门耗费!$E$3)) -> 248
A13: 8 | B13: =IF(部门列表!A9="","",部门列表!A9) -> BM008 | C13: =IF(B13="","",VLOOKUP(B13,部门列表!A:B,2,0)) -> 人事部 | D13: =IF(B13="",0,SUMIFS(领用明细!H:H,领用明细!I:I,B13,领用明细!A:A,">="&$C$3,领用明细!A:A,"<="&部门耗费!$E$3)) -> 46.5
A14: 9 | B14: =IF(部门列表!A10="","",部门列表!A10) -> BM009 | C14: =IF(B14="","",VLOOKUP(B14,部门列表!A:B,2,0)) -> 行政部 | D14: =IF(B14="",0,SUMIFS(领用明细!H:H,领用明细!I:I,B14,领用明细!A:A,">="&$C$3,领用明细!A:A,"<="&部门耗费!$E$3)) -> 92
A15: 10 | B15: =IF(部门列表!A11="","",部门列表!A11) -> BM010 | C15: =IF(B15="","",VLOOKUP(B15,部门列表!A:B,2,0)) -> 总经办 | D15: =IF(B15="",0,SUMIFS(领用明细!H:H,领用明细!I:I,B15,领用明细!A:A,">="&$C$3,领用明细!A:A,"<="&部门耗费!$E$3)) -> 220
A16: 11 | B16: =IF(部门列表!A12="","",部门列表!A12) | C16: =IF(B16="","",VLOOKUP(B16,部门列表!A:B,2,0)) | D16: =IF(B16="",0,SUMIFS(领用明细!H:H,领用明细!I:I,B16,领用明细!A:A,">="&$C$3,领用明细!A:A,"<="&部门耗费!$E$3)) -> 0
A17: 12 | B17: =IF(部门列表!A13="","",部门列表!A13) | C17: =IF(B17="","",VLOOKUP(B17,部门列表!A:B,2,0)) | D17: =IF(B17="",0,SUMIFS(领用明细!H:H,领用明细!I:I,B17,领用明细!A:A,">="&$C$3,领用明细!A:A,"<="&部门耗费!$E$3)) -> 0
... A105: 100 | B105: =IF(部门列表!A101="","",部门列表!A101) | C105: =IF(B105="","",VLOOKUP(B105,部门列表!A:B,2,0)) | D105: =IF(B105="",0,SUMIFS(领用明细!H:H,领用明细!I:I,B105,领用明细!A:A,">="&$C$3,领用明细!A:A,"<="&部门耗费!$E$3)) -> 0

Sheet 采购申请表
A1: 办 公 用 品 采 购 申 请 表
A3: 申请人 | D3: 申请部门 | G3: 需求月份 | J3: 申请日期
A4: 序号 | B4: 编码 | C4: 名称 | D4: 规格型号 | E4: 单位 | F4: 数量 | G4: 单价 | H4: 金额 | I4: 京东链接 （新物料填写） | J4: 备注
A5: 1 | H5: =F5*G5 -> 0
A6: 2 | H6: =F6*G6 -> 0
A7: 3 | H7: =F7*G7 -> 0
A8: 4 | H8: =F8*G8 -> 0
A9: 5 | H9: =F9*G9 -> 0
A10: 6 | H10: =F10*G10 -> 0
A11: 7 | H11: =F11*G11 -> 0
A12: 8 | H12: =F12*G12 -> 0
A13: 9 | H13: =F13*G13 -> 0
A14: 10 | H14: =F14*G14 -> 0
A15: 11 | H15: =F15*G15 -> 0
A16: 12 | H16: =F16*G16 -> 0
... A24: 20 | H24: =F24*G24 -> 0
C25: 合计 | H25: =SUM(H5:H24) -> 0
A26: 部门主管审批 | E26: 部门经理审批 | J26: 行政部门审批
A32: 备注： 1.每月X日前提报本部门下月采购需求，电子表和经签批的纸质表均需提供至行政部 2.办公用品优先从“型号管理”表选择，“型号管理”表中没有时上京东进行查找，并将链接填写在“京东链接”单元格

Sheet 需求汇总表
A1: 编码 | B1: 名称 | C1: 规格型号 | D1: 单位 | E1: 品类 | F1: 单价 | G1: 需求总量 | H1: 费用总额 | I1: BM001 | J1: BM002 | K1: BM003 | L1: BM004 | M1: BM005 | N1: BM006 | O1: BM007 | P1: BM008 | Q1: BM009 | R1: BM010 | S1: 空位 | T1: 空位 | U1: 空位 | V1: 空位 | W1: 空位 | X1: 空位 | Y1: 空位 | Z1: 空位 | AA1: 空位 | AB1: 空位 | AC1: 空位
I2: 采购部 | J2: 仓储部 | K2: 物流部 | L2: 研发部 | M2: 生产部 | N2: 销售部 | O2: 财务部 | P2: 人事部 | Q2: 行政部 | R2: 总经办
A3: =IF(型号管理!A2="","",型号管理!A2) -> BG00001 | B3: =IF(型号管理!B2="","",型号管理!B2) -> A4打印纸 | C3: =IF(型号管理!C2="","",型号管理!C2) -> 500张/包 5包/箱 | D3: =IF(型号管理!D2="","",型号管理!D2) -> 箱 | E3: =IF(型号管理!E2="","",型号管理!E2) -> 纸制 | F3: =IF(型号管理!F2="",0,型号管理!F2) -> 113 | G3: =SUM(I3:AC3) -> 0 | H3: =F3*G3 -> 0
A4: =IF(型号管理!A3="","",型号管理!A3) -> BG00002 | B4: =IF(型号管理!B3="","",型号管理!B3) -> A5凭证打印纸 | C4: =IF(型号管理!C3="","",型号管理!C3) -> 500张/包 10包/箱 | D4: =IF(型号管理!D3="","",型号管理!D3) -> 箱 | E4: =IF(型号管理!E3="","",型号管理!E3) -> 纸制 | F4: =IF(型号管理!F3="",0,型号管理!F3) -> 125 | G4: =SUM(I4:AC4) -> 0 | H4: =F4*G4 -> 0
A5: =IF(型号管理!A4="","",型号管理!A4) -> BG00003 | B5: =IF(型号管理!B4="","",型号管理!B4) -> 凭证封面封底/封底/包角 | C5: =IF(型号管理!C4="","",型号管理!C4) -> 适配A5尺寸凭证 40套/包 | D5: =IF(型号管理!D4="","",型号管理!D4) -> 包 | E5: =IF(型号管理!E4="","",型号管理!E4) -> 纸制 | F5: =IF(型号管理!F4="",0,型号管理!F4) -> 27 | G5: =SUM(I5:AC5) -> 0 | H5: =F5*G5 -> 0
A6: =IF(型号管理!A5="","",型号管理!A5) -> BG00004 | B6: =IF(型号管理!B5="","",型号管理!B5) -> 凭证包装盒 | C6: =IF(型号管理!C5="","",型号管理!C5) -> 适配A5尺寸凭证 10个/包 | D6: =IF(型号管理!D5="","",型号管理!D5) -> 包 | E6: =IF(型号管理!E5="","",型号管理!E5) -> 纸制 | F6: =IF(型号管理!F5="",0,型号管理!F5) -> 16 | G6: =SUM(I6:AC6) -> 0 | H6: =F6*G6 -> 0
A7: =IF(型号管理!A6="","",型号管理!A6) -> BG00005 | B7: =IF(型号管理!B6="","",型号管理!B6) -> 牛皮纸档案袋 | C7: =IF(型号管理!C6="","",型号管理!C6) -> A4尺寸 50个/包 | D7: =IF(型号管理!D6="","",型号管理!D6) -> 包 | E7: =IF(型号管理!E6="","",型号管理!E6) -> 纸制 | F7: =IF(型号管理!F6="",0,型号管理!F6) -> 30 | G7: =SUM(I7:AC7) -> 0 | H7: =F7*G7 -> 0
A8: =IF(型号管理!A7="","",型号管理!A7) -> BG00006 | B8: =IF(型号管理!B7="","",型号管理!B7) -> A3打印纸* | C8: =IF(型号管理!C7="","",型号管理!C7) -> 500张/包 | D8: =IF(型号管理!D7="","",型号管理!D7) -> 包 | E8: =IF(型号管理!E7="","",型号管理!E7) -> 纸制 | F8: =IF(型号管理!F7="",0,型号管理!F7) -> 46 | G8: =SUM(I8:AC8) -> 0 | H8: =F8*G8 -> 0
A9: =IF(型号管理!A8="","",型号管理!A8) -> BG00007 | B9: =IF(型号管理!B8="","",型号管理!B8) -> A4牛皮纸 | C9: =IF(型号管理!C8="","",型号管理!C8) -> 100张/包 | D9: =IF(型号管理!D8="","",型号管理!D8) -> 包 | E9: =IF(型号管理!E8="","",型号管理!E8) -> 纸制 | F9: =IF(型号管理!F8="",0,型号管理!F8) -> 30 | G9: =SUM(I9:AC9) -> 0 | H9: =F9*G9 -> 0
A10: =IF(型号管理!A9="","",型号管理!A9) -> BG00008 | B10: =IF(型号管理!B9="","",型号管理!B9) -> 笔记本 | C10: =IF(型号管理!C9="","",型号管理!C9) -> A5尺寸 60页/本 10本/包 | D10: =IF(型号管理!D9="","",型号管理!D9) -> 包 | E10: =IF(型号管理!E9="","",型号管理!E9) -> 纸制 | F10: =IF(型号管理!F9="",0,型号管理!F9) -> 22 | G10: =SUM(I10:AC10) -> 0 | H10: =F10*G10 -> 0
A11: =IF(型号管理!A10="","",型号管理!A10) -> BG00009 | B11: =IF(型号管理!B10="","",型号管理!B10) -> 大号便利贴 | C11: =IF(型号管理!C10="","",型号管理!C10) -> 76mmm×76mm 100页/本 4本/袋 4色 | D11: =IF(型号管理!D10="","",型号管理!D10) -> 袋 | E11: =IF(型号管理!E10="","",型号管理!E10) -> 纸制 | F11: =IF(型号管理!F10="",0,型号管理!F10) -> 9.9 | G11: =SUM(I11:AC11) -> 0 | H11: =F11*G11 -> 0
A12: =IF(型号管理!A11="","",型号管理!A11) -> BG00010 | B12: =IF(型号管理!B11="","",型号管理!B11) -> 小号便利贴 | C12: =IF(型号管理!C11="","",型号管理!C11) -> 76mm×19mm 100页/本 4本/袋 4色 | D12: =IF(型号管理!D11="","",型号管理!D11) -> 袋 | E12: =IF(型号管理!E11="","",型号管理!E11) -> 纸制 | F12: =IF(型号管理!F11="",0,型号管理!F11) -> 2 | G12: =SUM(I12:AC12) -> 0 | H12: =F12*G12 -> 0
A13: =IF(型号管理!A12="","",型号管理!A12) -> BG00011 | B13: =IF(型号管理!B12="","",型号管理!B12) -> 针式打印纸 | C13: =IF(型号管理!C12="","",型号管理!C12) -> 一联二等分 白色 可撕边 1000页/箱 | D13: =IF(型号管理!D12="","",型号管理!D12) -> 箱 | E13: =IF(型号管理!E12="","",型号管理!E12) -> 纸制 | F13: =IF(型号管理!F12="",0,型号管理!F12) -> 45 | G13: =SUM(I13:AC13) -> 0 | H13: =F13*G13 -> 0
A14: =IF(型号管理!A13="","",型号管理!A13) -> BG00012 | B14: =IF(型号管理!B13="","",型号管理!B13) -> 针式打印纸 | C14: =IF(型号管理!C13="","",型号管理!C13) -> 二联二等分 彩色 可撕边 1000页/箱 | D14: =IF(型号管理!D13="","",型号管理!D13) -> 箱 | E14: =IF(型号管理!E13="","",型号管理!E13) -> 纸制 | F14: =IF(型号管理!F13="",0,型号管理!F13) -> 52 | G14: =SUM(I14:AC14) -> 0 | H14: =F14*G14 -> 0
... A100: =IF(型号管理!A99="","",型号管理!A99) | B100: =IF(型号管理!B99="","",型号管理!B99) | C100: =IF(型号管理!C99="","",型号管理!C99) | D100: =IF(型号管理!D99="","",型号管理!D99) | E100: =IF(型号管理!E99="","",型号管理!E99) | F100: =IF(型号管理!F99="",0,型号管理!F99) -> 0 | G100: =SUM(I100:AC100) -> 0 | H100: =F100*G100 -> 0

Sheet 采购量分析
A1: 采 购 统 计 表
A3: 开始日期 | C3: 43466 | D3: 结束日期 | E3: 43480 | I3: =IF(AND(C3<>"",E3<>""),"所有物料收发存统计如下","开始和结束日期不能为空！") -> 所有物料收发存统计如下
A4: 序号 | B4: 物料编码 | C4: 物料名称 | D4: 规格型号 | E4: 单位 | F4: 采购数量 | G4: 采购金额 | H4: 平均单价 | I4: 备注
A5: 1 | B5: =IF(型号管理!A2="","",型号管理!A2) -> BG00001 | C5: =IF(B5="","",VLOOKUP(B5,型号管理!A:D,2,0)) -> A4打印纸 | D5: =IF(B5="","",VLOOKUP(B5,型号管理!A:D,3,0)) -> 500张/包 5包/箱 | E5: =IF(B5="","",VLOOKUP(B5,型号管理!A:D,4,0)) -> 箱 | F5: =IF(B5="",0,SUMIFS(采购明细!F:F,采购明细!B:B,B5,采购明细!A:A,">="&$C$3,采购明细!A:A,"<="&$E$3)) -> 10 | G5: =IF(B5="",0,SUMIFS(采购明细!H:H,采购明细!A:A,">="&$C$3,采购明细!A:A,"<="&$E$3,采购明细!B:B,B5)) -> 1190 | H5: =IF(F5=0,0,G5/F5) -> 119
A6: 2 | B6: =IF(型号管理!A3="","",型号管理!A3) -> BG00002 | C6: =IF(B6="","",VLOOKUP(B6,型号管理!A:D,2,0)) -> A5凭证打印纸 | D6: =IF(B6="","",VLOOKUP(B6,型号管理!A:D,3,0)) -> 500张/包 10包/箱 | E6: =IF(B6="","",VLOOKUP(B6,型号管理!A:D,4,0)) -> 箱 | F6: =IF(B6="",0,SUMIFS(采购明细!F:F,采购明细!B:B,B6,采购明细!A:A,">="&$C$3,采购明细!A:A,"<="&$E$3)) -> 10 | G6: =IF(B6="",0,SUMIFS(采购明细!H:H,采购明细!A:A,">="&$C$3,采购明细!A:A,"<="&$E$3,采购明细!B:B,B6)) -> 1240 | H6: =IF(F6=0,0,G6/F6) -> 124
A7: 3 | B7: =IF(型号管理!A4="","",型号管理!A4) -> BG00003 | C7: =IF(B7="","",VLOOKUP(B7,型号管理!A:D,2,0)) -> 凭证封面封底/封底/包角 | D7: =IF(B7="","",VLOOKUP(B7,型号管理!A:D,3,0)) -> 适配A5尺寸凭证 40套/包 | E7: =IF(B7="","",VLOOKUP(B7,型号管理!A:D,4,0)) -> 包 | F7: =IF(B7="",0,SUMIFS(采购明细!F:F,采购明细!B:B,B7,采购明细!A:A,">="&$C$3,采购明细!A:A,"<="&$E$3)) -> 10 | G7: =IF(B7="",0,SUMIFS(采购明细!H:H,采购明细!A:A,">="&$C$3,采购明细!A:A,"<="&$E$3,采购明细!B:B,B7)) -> 155 | H7: =IF(F7=0,0,G7/F7) -> 15.5
A8: 4 | B8: =IF(型号管理!A5="","",型号管理!A5) -> BG00004 | C8: =IF(B8="","",VLOOKUP(B8,型号管理!A:D,2,0)) -> 凭证包装盒 | D8: =IF(B8="","",VLOOKUP(B8,型号管理!A:D,3,0)) -> 适配A5尺寸凭证 10个/包 | E8: =IF(B8="","",VLOOKUP(B8,型号管理!A:D,4,0)) -> 包 | F8: =IF(B8="",0,SUMIFS(采购明细!F:F,采购明细!B:B,B8,采购明细!A:A,">="&$C$3,采购明细!A:A,"<="&$E$3)) -> 10 | G8: =IF(B8="",0,SUMIFS(采购明细!H:H,采购明细!A:A,">="&$C$3,采购明细!A:A,"<="&$E$3,采购明细!B:B,B8)) -> 230 | H8: =IF(F8=0,0,G8/F8) -> 23
A9: 5 | B9: =IF(型号管理!A6="","",型号管理!A6) -> BG00005 | C9: =IF(B9="","",VLOOKUP(B9,型号管理!A:D,2,0)) -> 牛皮纸档案袋 | D9: =IF(B9="","",VLOOKUP(B9,型号管理!A:D,3,0)) -> A4尺寸 50个/包 | E9: =IF(B9="","",VLOOKUP(B9,型号管理!A:D,4,0)) -> 包 | F9: =IF(B9="",0,SUMIFS(采购明细!F:F,采购明细!B:B,B9,采购明细!A:A,">="&$C$3,采购明细!A:A,"<="&$E$3)) -> 10 | G9: =IF(B9="",0,SUMIFS(采购明细!H:H,采购明细!A:A,">="&$C$3,采购明细!A:A,"<="&$E$3,采购明细!B:B,B9)) -> 440 | H9: =IF(F9=0,0,G9/F9) -> 44
A10: 6 | B10: =IF(型号管理!A7="","",型号管理!A7) -> BG00006 | C10: =IF(B10="","",VLOOKUP(B10,型号管理!A:D,2,0)) -> A3打印纸* | D10: =IF(B10="","",VLOOKUP(B10,型号管理!A:D,3,0)) -> 500张/包 | E10: =IF(B10="","",VLOOKUP(B10,型号管理!A:D,4,0)) -> 包 | F10: =IF(B10="",0,SUMIFS(采购明细!F:F,采购明细!B:B,B10,采购明细!A:A,">="&$C$3,采购明细!A:A,"<="&$E$3)) -> 0 | G10: =IF(B10="",0,SUMIFS(采购明细!H:H,采购明细!A:A,">="&$C$3,采购明细!A:A,"<="&$E$3,采购明细!B:B,B10)) -> 0 | H10: =IF(F10=0,0,G10/F10) -> 0
A11: 7 | B11: =IF(型号管理!A8="","",型号管理!A8) -> BG00007 | C11: =IF(B11="","",VLOOKUP(B11,型号管理!A:D,2,0)) -> A4牛皮纸 | D11: =IF(B11="","",VLOOKUP(B11,型号管理!A:D,3,0)) -> 100张/包 | E11: =IF(B11="","",VLOOKUP(B11,型号管理!A:D,4,0)) -> 包 | F11: =IF(B11="",0,SUMIFS(采购明细!F:F,采购明细!B:B,B11,采购明细!A:A,">="&$C$3,采购明细!A:A,"<="&$E$3)) -> 0 | G11: =IF(B11="",0,SUMIFS(采购明细!H:H,采购明细!A:A,">="&$C$3,采购明细!A:A,"<="&$E$3,采购明细!B:B,B11)) -> 0 | H11: =IF(F11=0,0,G11/F11) -> 0
A12: 8 | B12: =IF(型号管理!A9="","",型号管理!A9) -> BG00008 | C12: =IF(B12="","",VLOOKUP(B12,型号管理!A:D,2,0)) -> 笔记本 | D12: =IF(B12="","",VLOOKUP(B12,型号管理!A:D,3,0)) -> A5尺寸 60页/本 10本/包 | E12: =IF(B12="","",VLOOKUP(B12,型号管理!A:D,4,0)) -> 包 | F12: =IF(B12="",0,SUMIFS(采购明细!F:F,采购明细!B:B,B12,采购明细!A:A,">="&$C$3,采购明细!A:A,"<="&$E$3)) -> 0 | G12: =IF(B12="",0,SUMIFS(采购明细!H:H,采购明细!A:A,">="&$C$3,采购明细!A:A,"<="&$E$3,采购明细!B:B,B12)) -> 0 | H12: =IF(F12=0,0,G12/F12) -> 0
A13: 9 | B13: =IF(型号管理!A10="","",型号管理!A10) -> BG00009 | C13: =IF(B13="","",VLOOKUP(B13,型号管理!A:D,2,0)) -> 大号便利贴 | D13: =IF(B13="","",VLOOKUP(B13,型号管理!A:D,3,0)) -> 76mmm×76mm 100页/本 4本/袋 4色 | E13: =IF(B13="","",VLOOKUP(B13,型号管理!A:D,4,0)) -> 袋 | F13: =IF(B13="",0,SUMIFS(采购明细!F:F,采购明细!B:B,B13,采购明细!A:A,">="&$C$3,采购明细!A:A,"<="&$E$3)) -> 0 | G13: =IF(B13="",0,SUMIFS(采购明细!H:H,采购明细!A:A,">="&$C$3,采购明细!A:A,"<="&$E$3,采购明细!B:B,B13)) -> 0 | H13: =IF(F13=0,0,G13/F13) -> 0
A14: 10 | B14: =IF(型号管理!A11="","",型号管理!A11) -> BG00010 | C14: =IF(B14="","",VLOOKUP(B14,型号管理!A:D,2,0)) -> 小号便利贴 | D14: =IF(B14="","",VLOOKUP(B14,型号管理!A:D,3,0)) -> 76mm×19mm 100页/本 4本/袋 4色 | E14: =IF(B14="","",VLOOKUP(B14,型号管理!A:D,4,0)) -> 袋 | F14: =IF(B14="",0,SUMIFS(采购明细!F:F,采购明细!B:B,B14,采购明细!A:A,">="&$C$3,采购明细!A:A,"<="&$E$3)) -> 0 | G14: =IF(B14="",0,SUMIFS(采购明细!H:H,采购明细!A:A,">="&$C$3,采购明细!A:A,"<="&$E$3,采购明细!B:B,B14)) -> 0 | H14: =IF(F14=0,0,G14/F14) -> 0
A15: 11 | B15: =IF(型号管理!A12="","",型号管理!A12) -> BG00011 | C15: =IF(B15="","",VLOOKUP(B15,型号管理!A:D,2,0)) -> 针式打印纸 | D15: =IF(B15="","",VLOOKUP(B15,型号管理!A:D,3,0)) -> 一联二等分 白色 可撕边 1000页/箱 | E15: =IF(B15="","",VLOOKUP(B15,型号管理!A:D,4,0)) -> 箱 | F15: =IF(B15="",0,SUMIFS(采购明细!F:F,采购明细!B:B,B15,采购明细!A:A,">="&$C$3,采购明细!A:A,"<="&$E$3)) -> 0 | G15: =IF(B15="",0,SUMIFS(采购明细!H:H,采购明细!A:A,">="&$C$3,采购明细!A:A,"<="&$E$3,采购明细!B:B,B15)) -> 0 | H15: =IF(F15=0,0,G15/F15) -> 0
A16: 12 | B16: =IF(型号管理!A13="","",型号管理!A13) -> BG00012 | C16: =IF(B16="","",VLOOKUP(B16,型号管理!A:D,2,0)) -> 针式打印纸 | D16: =IF(B16="","",VLOOKUP(B16,型号管理!A:D,3,0)) -> 二联二等分 彩色 可撕边 1000页/箱 | E16: =IF(B16="","",VLOOKUP(B16,型号管理!A:D,4,0)) -> 箱 | F16: =IF(B16="",0,SUMIFS(采购明细!F:F,采购明细!B:B,B16,采购明细!A:A,">="&$C$3,采购明细!A:A,"<="&$E$3)) -> 0 | G16: =IF(B16="",0,SUMIFS(采购明细!H:H,采购明细!A:A,">="&$C$3,采购明细!A:A,"<="&$E$3,采购明细!B:B,B16)) -> 0 | H16: =IF(F16=0,0,G16/F16) -> 0
... A204: 200 | B204: =IF(型号管理!A201="","",型号管理!A201) | C204: =IF(B204="","",VLOOKUP(B204,型号管理!A:D,2,0)) | D204: =IF(B204="","",VLOOKUP(B204,型号管理!A:D,3,0)) | E204: =IF(B204="","",VLOOKUP(B204,型号管理!A:D,4,0)) | F204: =IF(B204="",0,SUMIFS(采购明细!F:F,采购明细!B:B,B204,采购明细!A:A,">="&$C$3,采购明细!A:A,"<="&$E$3)) -> 0 | G204: =IF(B204="",0,SUMIFS(采购明细!H:H,采购明细!A:A,">="&$C$3,采购明细!A:A,"<="&$E$3,采购明细!B:B,B204)) -> 0 | H204: =IF(F204=0,0,G204/F204) -> 0

Sheet 领用登记表
A1: 办 公 用 品 领 用 登 记 表
A3: 序号 | B3: 编码 | C3: 名称 | D3: 规格型号 | E3: 单位 | F3: 数量 | G3: 领用部门 | H3: 领取人 | I3: 日期 | J3: 备注
A4: 1
A5: 2
A6: 3
A7: 4
A8: 5
A9: 6
A10: 7
A11: 8
A12: 9
A13: 10
A14: 11
A15: 12
... A18: 15

Sheet 盘点表
A1: 办 公 用 品 盘 点 表
A3: 截止日期 | C3: 43496 | D3: 盘点人 | I3: =IF(AND(C3<>""),"所有物料盘点情况如下","截止日期不能为空！") -> 所有物料盘点情况如下
A4: 序号 | B4: 物料编码 | C4: 物料名称 | D4: 规格型号 | E4: 单位 | F4: 账面结存 | G4: 实盘数量 | H4: 盘盈盘亏 | I4: 原因分析 | J4: 备注
A5: 1 | B5: =IF(型号管理!A2="","",型号管理!A2) -> BG00001 | C5: =IF(B5="","",VLOOKUP(B5,型号管理!A:D,2,0)) -> A4打印纸 | D5: =IF(B5="","",VLOOKUP(B5,型号管理!A:D,3,0)) -> 500张/包 5包/箱 | E5: =IF(B5="","",VLOOKUP(B5,型号管理!A:D,4,0)) -> 箱 | F5: =IF(B5="",0,SUMIFS(采购明细!F:F,采购明细!B:B,B5,采购明细!A:A,"<="&$C$3)-SUMIFS(领用明细!F:F,领用明细!B:B,B5,领用明细!A:A,"<="&$C$3)) -> 7 | G5: 6 | H5: =G5-F5 -> -1
A6: 2 | B6: =IF(型号管理!A3="","",型号管理!A3) -> BG00002 | C6: =IF(B6="","",VLOOKUP(B6,型号管理!A:D,2,0)) -> A5凭证打印纸 | D6: =IF(B6="","",VLOOKUP(B6,型号管理!A:D,3,0)) -> 500张/包 10包/箱 | E6: =IF(B6="","",VLOOKUP(B6,型号管理!A:D,4,0)) -> 箱 | F6: =IF(B6="",0,SUMIFS(采购明细!F:F,采购明细!B:B,B6,采购明细!A:A,"<="&$C$3)-SUMIFS(领用明细!F:F,领用明细!B:B,B6,领用明细!A:A,"<="&$C$3)) -> 6 | G6: 6 | H6: =G6-F6 -> 0
A7: 3 | B7: =IF(型号管理!A4="","",型号管理!A4) -> BG00003 | C7: =IF(B7="","",VLOOKUP(B7,型号管理!A:D,2,0)) -> 凭证封面封底/封底/包角 | D7: =IF(B7="","",VLOOKUP(B7,型号管理!A:D,3,0)) -> 适配A5尺寸凭证 40套/包 | E7: =IF(B7="","",VLOOKUP(B7,型号管理!A:D,4,0)) -> 包 | F7: =IF(B7="",0,SUMIFS(采购明细!F:F,采购明细!B:B,B7,采购明细!A:A,"<="&$C$3)-SUMIFS(领用明细!F:F,领用明细!B:B,B7,领用明细!A:A,"<="&$C$3)) -> 6 | G7: 6 | H7: =G7-F7 -> 0
A8: 4 | B8: =IF(型号管理!A5="","",型号管理!A5) -> BG00004 | C8: =IF(B8="","",VLOOKUP(B8,型号管理!A:D,2,0)) -> 凭证包装盒 | D8: =IF(B8="","",VLOOKUP(B8,型号管理!A:D,3,0)) -> 适配A5尺寸凭证 10个/包 | E8: =IF(B8="","",VLOOKUP(B8,型号管理!A:D,4,0)) -> 包 | F8: =IF(B8="",0,SUMIFS(采购明细!F:F,采购明细!B:B,B8,采购明细!A:A,"<="&$C$3)-SUMIFS(领用明细!F:F,领用明细!B:B,B8,领用明细!A:A,"<="&$C$3)) -> 4 | G8: 5 | H8: =G8-F8 -> 1
A9: 5 | B9: =IF(型号管理!A6="","",型号管理!A6) -> BG00005 | C9: =IF(B9="","",VLOOKUP(B9,型号管理!A:D,2,0)) -> 牛皮纸档案袋 | D9: =IF(B9="","",VLOOKUP(B9,型号管理!A:D,3,0)) -> A4尺寸 50个/包 | E9: =IF(B9="","",VLOOKUP(B9,型号管理!A:D,4,0)) -> 包 | F9: =IF(B9="",0,SUMIFS(采购明细!F:F,采购明细!B:B,B9,采购明细!A:A,"<="&$C$3)-SUMIFS(领用明细!F:F,领用明细!B:B,B9,领用明细!A:A,"<="&$C$3)) -> 2 | G9: 2 | H9: =G9-F9 -> 0
A10: 6 | B10: =IF(型号管理!A7="","",型号管理!A7) -> BG00006 | C10: =IF(B10="","",VLOOKUP(B10,型号管理!A:D,2,0)) -> A3打印纸* | D10: =IF(B10="","",VLOOKUP(B10,型号管理!A:D,3,0)) -> 500张/包 | E10: =IF(B10="","",VLOOKUP(B10,型号管理!A:D,4,0)) -> 包 | F10: =IF(B10="",0,SUMIFS(采购明细!F:F,采购明细!B:B,B10,采购明细!A:A,"<="&$C$3)-SUMIFS(领用明细!F:F,领用明细!B:B,B10,领用明细!A:A,"<="&$C$3)) -> 0 | H10: =G10-F10 -> 0
A11: 7 | B11: =IF(型号管理!A8="","",型号管理!A8) -> BG00007 | C11: =IF(B11="","",VLOOKUP(B11,型号管理!A:D,2,0)) -> A4牛皮纸 | D11: =IF(B11="","",VLOOKUP(B11,型号管理!A:D,3,0)) -> 100张/包 | E11: =IF(B11="","",VLOOKUP(B11,型号管理!A:D,4,0)) -> 包 | F11: =IF(B11="",0,SUMIFS(采购明细!F:F,采购明细!B:B,B11,采购明细!A:A,"<="&$C$3)-SUMIFS(领用明细!F:F,领用明细!B:B,B11,领用明细!A:A,"<="&$C$3)) -> 0 | H11: =G11-F11 -> 0
A12: 8 | B12: =IF(型号管理!A9="","",型号管理!A9) -> BG00008 | C12: =IF(B12="","",VLOOKUP(B12,型号管理!A:D,2,0)) -> 笔记本 | D12: =IF(B12="","",VLOOKUP(B12,型号管理!A:D,3,0)) -> A5尺寸 60页/本 10本/包 | E12: =IF(B12="","",VLOOKUP(B12,型号管理!A:D,4,0)) -> 包 | F12: =IF(B12="",0,SUMIFS(采购明细!F:F,采购明细!B:B,B12,采购明细!A:A,"<="&$C$3)-SUMIFS(领用明细!F:F,领用明细!B:B,B12,领用明细!A:A,"<="&$C$3)) -> 0 | H12: =G12-F12 -> 0
A13: 9 | B13: =IF(型号管理!A10="","",型号管理!A10) -> BG00009 | C13: =IF(B13="","",VLOOKUP(B13,型号管理!A:D,2,0)) -> 大号便利贴 | D13: =IF(B13="","",VLOOKUP(B13,型号管理!A:D,3,0)) -> 76mmm×76mm 100页/本 4本/袋 4色 | E13: =IF(B13="","",VLOOKUP(B13,型号管理!A:D,4,0)) -> 袋 | F13: =IF(B13="",0,SUMIFS(采购明细!F:F,采购明细!B:B,B13,采购明细!A:A,"<="&$C$3)-SUMIFS(领用明细!F:F,领用明细!B:B,B13,领用明细!A:A,"<="&$C$3)) -> 0 | H13: =G13-F13 -> 0
A14: 10 | B14: =IF(型号管理!A11="","",型号管理!A11) -> BG00010 | C14: =IF(B14="","",VLOOKUP(B14,型号管理!A:D,2,0)) -> 小号便利贴 | D14: =IF(B14="","",VLOOKUP(B14,型号管理!A:D,3,0)) -> 76mm×19mm 100页/本 4本/袋 4色 | E14: =IF(B14="","",VLOOKUP(B14,型号管理!A:D,4,0)) -> 袋 | F14: =IF(B14="",0,SUMIFS(采购明细!F:F,采购明细!B:B,B14,采购明细!A:A,"<="&$C$3)-SUMIFS(领用明细!F:F,领用明细!B:B,B14,领用明细!A:A,"<="&$C$3)) -> 0 | H14: =G14-F14 -> 0
A15: 11 | B15: =IF(型号管理!A12="","",型号管理!A12) -> BG00011 | C15: =IF(B15="","",VLOOKUP(B15,型号管理!A:D,2,0)) -> 针式打印纸 | D15: =IF(B15="","",VLOOKUP(B15,型号管理!A:D,3,0)) -> 一联二等分 白色 可撕边 1000页/箱 | E15: =IF(B15="","",VLOOKUP(B15,型号管理!A:D,4,0)) -> 箱 | F15: =IF(B15="",0,SUMIFS(采购明细!F:F,采购明细!B:B,B15,采购明细!A:A,"<="&$C$3)-SUMIFS(领用明细!F:F,领用明细!B:B,B15,领用明细!A:A,"<="&$C$3)) -> 0 | H15: =G15-F15 -> 0
A16: 12 | B16: =IF(型号管理!A13="","",型号管理!A13) -> BG00012 | C16: =IF(B16="","",VLOOKUP(B16,型号管理!A:D,2,0)) -> 针式打印纸 | D16: =IF(B16="","",VLOOKUP(B16,型号管理!A:D,3,0)) -> 二联二等分 彩色 可撕边 1000页/箱 | E16: =IF(B16="","",VLOOKUP(B16,型号管理!A:D,4,0)) -> 箱 | F16: =IF(B16="",0,SUMIFS(采购明细!F:F,采购明细!B:B,B16,采购明细!A:A,"<="&$C$3)-SUMIFS(领用明细!F:F,领用明细!B:B,B16,领用明细!A:A,"<="&$C$3)) -> 0 | H16: =G16-F16 -> 0
A17: 13 | B17: =IF(型号管理!A14="","",型号管理!A14) -> BG00013 | C17: =IF(B17="","",VLOOKUP(B17,型号管理!A:D,2,0)) -> 针式打印纸 | D17: =IF(B17="","",VLOOKUP(B17,型号管理!A:D,3,0)) -> 三联二等分 彩色 可撕边 1000页/箱 | E17: =IF(B17="","",VLOOKUP(B17,型号管理!A:D,4,0)) -> 箱 | F17: =IF(B17="",0,SUMIFS(采购明细!F:F,采购明细!B:B,B17,采购明细!A:A,"<="&$C$3)-SUMIFS(领用明细!F:F,领用明细!B:B,B17,领用明细!A:A,"<="&$C$3)) -> 0 | H17: =G17-F17 -> 0
A18: 14 | B18: =IF(型号管理!A15="","",型号管理!A15) -> BG00014 | C18: =IF(B18="","",VLOOKUP(B18,型号管理!A:D,2,0)) -> 针式打印纸 | D18: =IF(B18="","",VLOOKUP(B18,型号管理!A:D,3,0)) -> 四联二等分 彩色 可撕边 1000页/箱 | E18: =IF(B18="","",VLOOKUP(B18,型号管理!A:D,4,0)) -> 箱 | F18: =IF(B18="",0,SUMIFS(采购明细!F:F,采购明细!B:B,B18,采购明细!A:A,"<="&$C$3)-SUMIFS(领用明细!F:F,领用明细!B:B,B18,领用明细!A:A,"<="&$C$3)) -> 0 | H18: =G18-F18 -> 0
A19: 15 | B19: =IF(型号管理!A16="","",型号管理!A16) -> BG00015 | C19: =IF(B19="","",VLOOKUP(B19,型号管理!A:D,2,0)) -> 针式打印纸 | D19: =IF(B19="","",VLOOKUP(B19,型号管理!A:D,3,0)) -> 五联二等分 彩色 可撕边 1000页/箱 | E19: =IF(B19="","",VLOOKUP(B19,型号管理!A:D,4,0)) -> 箱 | F19: =IF(B19="",0,SUMIFS(采购明细!F:F,采购明细!B:B,B19,采购明细!A:A,"<="&$C$3)-SUMIFS(领用明细!F:F,领用明细!B:B,B19,领用明细!A:A,"<="&$C$3)) -> 0 | H19: =G19-F19 -> 0
A20: 16 | B20: =IF(型号管理!A17="","",型号管理!A17) -> BG00016 | C20: =IF(B20="","",VLOOKUP(B20,型号管理!A:D,2,0)) -> 移动硬盘 | D20: =IF(B20="","",VLOOKUP(B20,型号管理!A:D,3,0)) -> 西部数据 1TB USB3.0 2.5英寸 | E20: =IF(B20="","",VLOOKUP(B20,型号管理!A:D,4,0)) -> 个 | F20: =IF(B20="",0,SUMIFS(采购明细!F:F,采购明细!B:B,B20,采购明细!A:A,"<="&$C$3)-SUMIFS(领用明细!F:F,领用明细!B:B,B20,领用明细!A:A,"<="&$C$3)) -> 0 | H20: =G20-F20 -> 0
A21: 17 | B21: =IF(型号管理!A18="","",型号管理!A18) -> BG00017 | C21: =IF(B21="","",VLOOKUP(B21,型号管理!A:D,2,0)) -> 移动硬盘 | D21: =IF(B21="","",VLOOKUP(B21,型号管理!A:D,3,0)) -> 西部数据 2TB USB3.0 2.5英寸 | E21: =IF(B21="","",VLOOKUP(B21,型号管理!A:D,4,0)) -> 个 | F21: =IF(B21="",0,SUMIFS(采购明细!F:F,采购明细!B:B,B21,采购明细!A:A,"<="&$C$3)-SUMIFS(领用明细!F:F,领用明细!B:B,B21,领用明细!A:A,"<="&$C$3)) -> 0 | H21: =G21-F21 -> 0
... A204: 200 | B204: =IF(型号管理!A201="","",型号管理!A201) | C204: =IF(B204="","",VLOOKUP(B204,型号管理!A:D,2,0)) | D204: =IF(B204="","",VLOOKUP(B204,型号管理!A:D,3,0)) | E204: =IF(B204="","",VLOOKUP(B204,型号管理!A:D,4,0)) | F204: =IF(B204="",0,SUMIFS(采购明细!F:F,采购明细!B:B,B204,采购明细!A:A,"<="&$C$3)-SUMIFS(领用明细!F:F,领用明细!B:B,B204,领用明细!A:A,"<="&$C$3)) -> 0 | H204: =G204-F204 -> 0
