Workbook

Sheet 目录

Sheet HR在线人才测评系统
B4: HR人才测评工具 技术研发岗位，市场营销岗，行政服务岗，中高层管理岗 MBTI、DISC、职业性格，职业兴趣，职业价值观，心理素质
B8: HR在线人才测评系统 | C8: https://www.zxgj.cn/m/tuance
B11: 职业性格和人格测评 | C11: https://www.xmcs.cn/d/zhiye

Sheet 1月
B2: 1月考勤表
B3: 部门： | L3: 填表人： | X3: 审核人：
B5: 序号 | C5: 日期 姓名 | D5: 1 | E5: 2 | F5: 3 | G5: 4 | H5: 5 | I5: 6 | J5: 7 | K5: 8 | L5: 9 | M5: 10 | N5: 11 | O5: 12 | P5: 13 | Q5: 14 | R5: 15 | S5: 16 | T5: 17 | U5: 18 | V5: 19 | W5: 20 | X5: 21 | Y5: 22 | Z5: 23 | AA5: 24 | AB5: 25 | AC5: 26 | AD5: 27 | AE5: 28 | AF5: 29 | AG5: 30 | AH5: 31 | AI5: 合计
B6: 1 | C6: 张丽丽 | D6: √ | E6: √ | F6: √ | G6: √ | I6: √ | L6: √ | M6: √ | N6: √ | O6: √ | P6: √ | Q6: √ | R6: √ | S6: √ | T6: √ | U6: √ | V6: √ | W6: √ | X6: √ | Y6: √ | Z6: √ | AI6: =COUNTIF(D6:AH6,"√") -> 20
B7: 2 | C7: 赵媛媛 | F7: √ | G7: √ | H7: √ | I7: √ | J7: √ | K7: √ | L7: √ | M7: √ | N7: √ | O7: √ | P7: √ | Q7: √ | R7: √ | S7: √ | T7: √ | U7: √ | V7: √ | W7: √ | X7: √ | Y7: √ | Z7: √ | AA7: √ | AB7: √ | AC7: √ | AD7: √ | AI7: =COUNTIF(D7:AH7,"√") -> 25
B8: 3 | C8: 高雷雷 | F8: √ | G8: √ | H8: √ | I8: √ | J8: √ | K8: √ | L8: √ | M8: √ | N8: √ | O8: √ | P8: √ | Q8: √ | R8: √ | S8: √ | T8: √ | U8: √ | V8: √ | W8: √ | X8: √ | Y8: √ | Z8: √ | AA8: √ | AI8: =COUNTIF(D8:AH8,"√") -> 22
B9: 4 | AI9: =COUNTIF(D9:AH9,"√") -> 0
B10: 5 | AI10: =COUNTIF(D10:AH10,"√") -> 0
B11: 6 | AI11: =COUNTIF(D11:AH11,"√") -> 0
B12: 7 | AI12: =COUNTIF(D12:AH12,"√") -> 0
B13: 8 | AI13: =COUNTIF(D13:AH13,"√") -> 0
B14: 9 | AI14: =COUNTIF(D14:AH14,"√") -> 0
B15: 10 | AI15: =COUNTIF(D15:AH15,"√") -> 0
B16: 11 | AI16: =COUNTIF(D16:AH16,"√") -> 0
B17: 12 | AI17: =COUNTIF(D17:AH17,"√") -> 0
B18: 13 | AI18: =COUNTIF(D18:AH18,"√") -> 0
B19: 14 | AI19: =COUNTIF(D19:AH19,"√") -> 0
B20: 15 | AI20: =COUNTIF(D20:AH20,"√") -> 0
... B23: 18 | AI23: =COUNTIF(D23:AH23,"√") -> 0

Sheet 2月
B2: 2月考勤表
B3: 部门： | L3: 填表人： | X3: 审核人：
B5: 序号 | C5: 日期 姓名 | D5: 1 | E5: 2 | F5: 3 | G5: 4 | H5: 5 | I5: 6 | J5: 7 | K5: 8 | L5: 9 | M5: 10 | N5: 11 | O5: 12 | P5: 13 | Q5: 14 | R5: 15 | S5: 16 | T5: 17 | U5: 18 | V5: 19 | W5: 20 | X5: 21 | Y5: 22 | Z5: 23 | AA5: 24 | AB5: 25 | AC5: 26 | AD5: 27 | AE5: 28 | AF5: 29 | AG5: 合计
B6: 1 | C6: 张丽丽 | D6: √ | E6: √ | F6: √ | G6: √ | I6: √ | L6: √ | M6: √ | N6: √ | O6: √ | P6: √ | Q6: √ | R6: √ | S6: √ | T6: √ | U6: √ | V6: √ | W6: √ | X6: √ | Y6: √ | Z6: √ | AG6: =COUNTIF(D6:AF6,"√") -> 20
B7: 2 | C7: 赵媛媛 | F7: √ | G7: √ | H7: √ | I7: √ | J7: √ | K7: √ | L7: √ | M7: √ | N7: √ | O7: √ | P7: √ | Q7: √ | R7: √ | S7: √ | T7: √ | U7: √ | V7: √ | W7: √ | X7: √ | Y7: √ | Z7: √ | AA7: √ | AB7: √ | AC7: √ | AD7: √ | AG7: =COUNTIF(D7:AF7,"√") -> 25
B8: 3 | C8: 高雷雷 | F8: √ | G8: √ | H8: √ | I8: √ | J8: √ | K8: √ | L8: √ | M8: √ | N8: √ | O8: √ | P8: √ | Q8: √ | R8: √ | S8: √ | T8: √ | U8: √ | V8: √ | W8: √ | X8: √ | Y8: √ | Z8: √ | AA8: √ | AG8: =COUNTIF(D8:AF8,"√") -> 22
B9: 4 | AG9: =COUNTIF(D9:AF9,"√") -> 0
B10: 5 | AG10: =COUNTIF(D10:AF10,"√") -> 0
B11: 6 | AG11: =COUNTIF(D11:AF11,"√") -> 0
B12: 7 | AG12: =COUNTIF(D12:AF12,"√") -> 0
B13: 8 | AG13: =COUNTIF(D13:AF13,"√") -> 0
B14: 9 | AG14: =COUNTIF(D14:AF14,"√") -> 0
B15: 10 | AG15: =COUNTIF(D15:AF15,"√") -> 0
B16: 11 | AG16: =COUNTIF(D16:AF16,"√") -> 0
B17: 12 | AG17: =COUNTIF(D17:AF17,"√") -> 0
B18: 13 | AG18: =COUNTIF(D18:AF18,"√") -> 0
B19: 14 | AG19: =COUNTIF(D19:AF19,"√") -> 0
B20: 15 | AG20: =COUNTIF(D20:AF20,"√") -> 0
... B23: 18 | AG23: =COUNTIF(D23:AF23,"√") -> 0

Sheet 3月
B2: 3月考勤表
B3: 部门： | L3: 填表人： | X3: 审核人：
B5: 序号 | C5: 日期 姓名 | D5: 1 | E5: 2 | F5: 3 | G5: 4 | H5: 5 | I5: 6 | J5: 7 | K5: 8 | L5: 9 | M5: 10 | N5: 11 | O5: 12 | P5: 13 | Q5: 14 | R5: 15 | S5: 16 | T5: 17 | U5: 18 | V5: 19 | W5: 20 | X5: 21 | Y5: 22 | Z5: 23 | AA5: 24 | AB5: 25 | AC5: 26 | AD5: 27 | AE5: 28 | AF5: 29 | AG5: 30 | AH5: 31 | AI5: 合计
B6: 1 | C6: 张丽丽 | D6: √ | E6: √ | F6: √ | G6: √ | I6: √ | L6: √ | M6: √ | N6: √ | O6: √ | P6: √ | Q6: √ | W6: √ | X6: √ | Y6: √ | Z6: √ | AI6: =COUNTIF(D6:AH6,"√") -> 15
B7: 2 | C7: 赵媛媛 | F7: √ | G7: √ | H7: √ | I7: √ | J7: √ | K7: √ | L7: √ | M7: √ | N7: √ | O7: √ | P7: √ | Q7: √ | W7: √ | X7: √ | Y7: √ | Z7: √ | AA7: √ | AB7: √ | AC7: √ | AD7: √ | AI7: =COUNTIF(D7:AH7,"√") -> 20
B8: 3 | C8: 高雷雷 | F8: √ | G8: √ | H8: √ | I8: √ | J8: √ | K8: √ | L8: √ | M8: √ | N8: √ | O8: √ | P8: √ | Q8: √ | W8: √ | X8: √ | Y8: √ | Z8: √ | AA8: √ | AI8: =COUNTIF(D8:AH8,"√") -> 17
B9: 4 | AI9: =COUNTIF(D9:AH9,"√") -> 0
B10: 5 | AI10: =COUNTIF(D10:AH10,"√") -> 0
B11: 6 | AI11: =COUNTIF(D11:AH11,"√") -> 0
B12: 7 | AI12: =COUNTIF(D12:AH12,"√") -> 0
B13: 8 | AI13: =COUNTIF(D13:AH13,"√") -> 0
B14: 9 | AI14: =COUNTIF(D14:AH14,"√") -> 0
B15: 10 | AI15: =COUNTIF(D15:AH15,"√") -> 0
B16: 11 | AI16: =COUNTIF(D16:AH16,"√") -> 0
B17: 12 | AI17: =COUNTIF(D17:AH17,"√") -> 0
B18: 13 | AI18: =COUNTIF(D18:AH18,"√") -> 0
B19: 14 | AI19: =COUNTIF(D19:AH19,"√") -> 0
B20: 15 | AI20: =COUNTIF(D20:AH20,"√") -> 0
... B23: 18 | AI23: =COUNTIF(D23:AH23,"√") -> 0

Sheet 4月
B2: 4月考勤表
B3: 部门： | L3: 填表人： | X3: 审核人：
B5: 序号 | C5: 日期 姓名 | D5: 1 | E5: 2 | F5: 3 | G5: 4 | H5: 5 | I5: 6 | J5: 7 | K5: 8 | L5: 9 | M5: 10 | N5: 11 | O5: 12 | P5: 13 | Q5: 14 | R5: 15 | S5: 16 | T5: 17 | U5: 18 | V5: 19 | W5: 20 | X5: 21 | Y5: 22 | Z5: 23 | AA5: 24 | AB5: 25 | AC5: 26 | AD5: 27 | AE5: 28 | AF5: 29 | AG5: 30 | AH5: 合计
B6: 1 | C6: 张丽丽 | AH6: =COUNTIF(D6:AG6,"√") -> 0
B7: 2 | C7: 赵媛媛 | AH7: =COUNTIF(D7:AG7,"√") -> 0
B8: 3 | C8: 高雷雷 | AH8: =COUNTIF(D8:AG8,"√") -> 0
B9: 4 | AH9: =COUNTIF(D9:AG9,"√") -> 0
B10: 5 | AH10: =COUNTIF(D10:AG10,"√") -> 0
B11: 6 | AH11: =COUNTIF(D11:AG11,"√") -> 0
B12: 7 | AH12: =COUNTIF(D12:AG12,"√") -> 0
B13: 8 | AH13: =COUNTIF(D13:AG13,"√") -> 0
B14: 9 | AH14: =COUNTIF(D14:AG14,"√") -> 0
B15: 10 | AH15: =COUNTIF(D15:AG15,"√") -> 0
B16: 11 | AH16: =COUNTIF(D16:AG16,"√") -> 0
B17: 12 | AH17: =COUNTIF(D17:AG17,"√") -> 0
B18: 13 | AH18: =COUNTIF(D18:AG18,"√") -> 0
B19: 14 | AH19: =COUNTIF(D19:AG19,"√") -> 0
B20: 15 | AH20: =COUNTIF(D20:AG20,"√") -> 0
... B23: 18 | AH23: =COUNTIF(D23:AG23,"√") -> 0

Sheet 5月
B2: 5月考勤表
B3: 部门： | L3: 填表人： | X3: 审核人：
B5: 序号 | C5: 日期 姓名 | D5: 1 | E5: 2 | F5: 3 | G5: 4 | H5: 5 | I5: 6 | J5: 7 | K5: 8 | L5: 9 | M5: 10 | N5: 11 | O5: 12 | P5: 13 | Q5: 14 | R5: 15 | S5: 16 | T5: 17 | U5: 18 | V5: 19 | W5: 20 | X5: 21 | Y5: 22 | Z5: 23 | AA5: 24 | AB5: 25 | AC5: 26 | AD5: 27 | AE5: 28 | AF5: 29 | AG5: 30 | AH5: 31 | AI5: 合计
B6: 1 | C6: 张丽丽 | AI6: =COUNTIF(D6:AH6,"√") -> 0
B7: 2 | C7: 赵媛媛 | AI7: =COUNTIF(D7:AH7,"√") -> 0
B8: 3 | C8: 高雷雷 | AI8: =COUNTIF(D8:AH8,"√") -> 0
B9: 4 | AI9: =COUNTIF(D9:AH9,"√") -> 0
B10: 5 | AI10: =COUNTIF(D10:AH10,"√") -> 0
B11: 6 | AI11: =COUNTIF(D11:AH11,"√") -> 0
B12: 7 | AI12: =COUNTIF(D12:AH12,"√") -> 0
B13: 8 | AI13: =COUNTIF(D13:AH13,"√") -> 0
B14: 9 | AI14: =COUNTIF(D14:AH14,"√") -> 0
B15: 10 | AI15: =COUNTIF(D15:AH15,"√") -> 0
B16: 11 | AI16: =COUNTIF(D16:AH16,"√") -> 0
B17: 12 | AI17: =COUNTIF(D17:AH17,"√") -> 0
B18: 13 | AI18: =COUNTIF(D18:AH18,"√") -> 0
B19: 14 | AI19: =COUNTIF(D19:AH19,"√") -> 0
B20: 15 | AI20: =COUNTIF(D20:AH20,"√") -> 0
... B23: 18 | AI23: =COUNTIF(D23:AH23,"√") -> 0

Sheet 6月
B2: 6月考勤表
B3: 部门： | L3: 填表人： | X3: 审核人：
B5: 序号 | C5: 日期 姓名 | D5: 1 | E5: 2 | F5: 3 | G5: 4 | H5: 5 | I5: 6 | J5: 7 | K5: 8 | L5: 9 | M5: 10 | N5: 11 | O5: 12 | P5: 13 | Q5: 14 | R5: 15 | S5: 16 | T5: 17 | U5: 18 | V5: 19 | W5: 20 | X5: 21 | Y5: 22 | Z5: 23 | AA5: 24 | AB5: 25 | AC5: 26 | AD5: 27 | AE5: 28 | AF5: 29 | AG5: 30 | AH5: 合计
B6: 1 | C6: 张丽丽 | AH6: =COUNTIF(D6:AG6,"√") -> 0
B7: 2 | C7: 赵媛媛 | AH7: =COUNTIF(D7:AG7,"√") -> 0
B8: 3 | C8: 高雷雷 | AH8: =COUNTIF(D8:AG8,"√") -> 0
B9: 4 | AH9: =COUNTIF(D9:AG9,"√") -> 0
B10: 5 | AH10: =COUNTIF(D10:AG10,"√") -> 0
B11: 6 | AH11: =COUNTIF(D11:AG11,"√") -> 0
B12: 7 | AH12: =COUNTIF(D12:AG12,"√") -> 0
B13: 8 | AH13: =COUNTIF(D13:AG13,"√") -> 0
B14: 9 | AH14: =COUNTIF(D14:AG14,"√") -> 0
B15: 10 | AH15: =COUNTIF(D15:AG15,"√") -> 0
B16: 11 | AH16: =COUNTIF(D16:AG16,"√") -> 0
B17: 12 | AH17: =COUNTIF(D17:AG17,"√") -> 0
B18: 13 | AH18: =COUNTIF(D18:AG18,"√") -> 0
B19: 14 | AH19: =COUNTIF(D19:AG19,"√") -> 0
B20: 15 | AH20: =COUNTIF(D20:AG20,"√") -> 0
... B23: 18 | AH23: =COUNTIF(D23:AG23,"√") -> 0

Sheet 7月
B2: 7月考勤表
B3: 部门： | L3: 填表人： | X3: 审核人：
B5: 序号 | C5: 日期 姓名 | D5: 1 | E5: 2 | F5: 3 | G5: 4 | H5: 5 | I5: 6 | J5: 7 | K5: 8 | L5: 9 | M5: 10 | N5: 11 | O5: 12 | P5: 13 | Q5: 14 | R5: 15 | S5: 16 | T5: 17 | U5: 18 | V5: 19 | W5: 20 | X5: 21 | Y5: 22 | Z5: 23 | AA5: 24 | AB5: 25 | AC5: 26 | AD5: 27 | AE5: 28 | AF5: 29 | AG5: 30 | AH5: 31 | AI5: 合计
B6: 1 | C6: 张丽丽 | AI6: =COUNTIF(D6:AH6,"√") -> 0
B7: 2 | C7: 赵媛媛 | AI7: =COUNTIF(D7:AH7,"√") -> 0
B8: 3 | C8: 高雷雷 | AI8: =COUNTIF(D8:AH8,"√") -> 0
B9: 4 | AI9: =COUNTIF(D9:AH9,"√") -> 0
B10: 5 | AI10: =COUNTIF(D10:AH10,"√") -> 0
B11: 6 | AI11: =COUNTIF(D11:AH11,"√") -> 0
B12: 7 | AI12: =COUNTIF(D12:AH12,"√") -> 0
B13: 8 | AI13: =COUNTIF(D13:AH13,"√") -> 0
B14: 9 | AI14: =COUNTIF(D14:AH14,"√") -> 0
B15: 10 | AI15: =COUNTIF(D15:AH15,"√") -> 0
B16: 11 | AI16: =COUNTIF(D16:AH16,"√") -> 0
B17: 12 | AI17: =COUNTIF(D17:AH17,"√") -> 0
B18: 13 | AI18: =COUNTIF(D18:AH18,"√") -> 0
B19: 14 | AI19: =COUNTIF(D19:AH19,"√") -> 0
B20: 15 | AI20: =COUNTIF(D20:AH20,"√") -> 0
... B23: 18 | AI23: =COUNTIF(D23:AH23,"√") -> 0

Sheet 8月
B2: 8月考勤表
B3: 部门： | L3: 填表人： | X3: 审核人：
B5: 序号 | C5: 日期 姓名 | D5: 1 | E5: 2 | F5: 3 | G5: 4 | H5: 5 | I5: 6 | J5: 7 | K5: 8 | L5: 9 | M5: 10 | N5: 11 | O5: 12 | P5: 13 | Q5: 14 | R5: 15 | S5: 16 | T5: 17 | U5: 18 | V5: 19 | W5: 20 | X5: 21 | Y5: 22 | Z5: 23 | AA5: 24 | AB5: 25 | AC5: 26 | AD5: 27 | AE5: 28 | AF5: 29 | AG5: 30 | AH5: 31 | AI5: 合计
B6: 1 | C6: 张丽丽 | AI6: =COUNTIF(D6:AH6,"√") -> 0
B7: 2 | C7: 赵媛媛 | AI7: =COUNTIF(D7:AH7,"√") -> 0
B8: 3 | C8: 高雷雷 | AI8: =COUNTIF(D8:AH8,"√") -> 0
B9: 4 | AI9: =COUNTIF(D9:AH9,"√") -> 0
B10: 5 | AI10: =COUNTIF(D10:AH10,"√") -> 0
B11: 6 | AI11: =COUNTIF(D11:AH11,"√") -> 0
B12: 7 | AI12: =COUNTIF(D12:AH12,"√") -> 0
B13: 8 | AI13: =COUNTIF(D13:AH13,"√") -> 0
B14: 9 | AI14: =COUNTIF(D14:AH14,"√") -> 0
B15: 10 | AI15: =COUNTIF(D15:AH15,"√") -> 0
B16: 11 | AI16: =COUNTIF(D16:AH16,"√") -> 0
B17: 12 | AI17: =COUNTIF(D17:AH17,"√") -> 0
B18: 13 | AI18: =COUNTIF(D18:AH18,"√") -> 0
B19: 14 | AI19: =COUNTIF(D19:AH19,"√") -> 0
B20: 15 | AI20: =COUNTIF(D20:AH20,"√") -> 0
... B23: 18 | AI23: =COUNTIF(D23:AH23,"√") -> 0

Sheet 9月
B2: 9月考勤表
B3: 部门： | L3: 填表人： | X3: 审核人：
B5: 序号 | C5: 日期 姓名 | D5: 1 | E5: 2 | F5: 3 | G5: 4 | H5: 5 | I5: 6 | J5: 7 | K5: 8 | L5: 9 | M5: 10 | N5: 11 | O5: 12 | P5: 13 | Q5: 14 | R5: 15 | S5: 16 | T5: 17 | U5: 18 | V5: 19 | W5: 20 | X5: 21 | Y5: 22 | Z5: 23 | AA5: 24 | AB5: 25 | AC5: 26 | AD5: 27 | AE5: 28 | AF5: 29 | AG5: 30 | AH5: 合计
B6: 1 | C6: 张丽丽 | AH6: =COUNTIF(D6:AG6,"√") -> 0
B7: 2 | C7: 赵媛媛 | AH7: =COUNTIF(D7:AG7,"√") -> 0
B8: 3 | C8: 高雷雷 | AH8: =COUNTIF(D8:AG8,"√") -> 0
B9: 4 | AH9: =COUNTIF(D9:AG9,"√") -> 0
B10: 5 | AH10: =COUNTIF(D10:AG10,"√") -> 0
B11: 6 | AH11: =COUNTIF(D11:AG11,"√") -> 0
B12: 7 | AH12: =COUNTIF(D12:AG12,"√") -> 0
B13: 8 | AH13: =COUNTIF(D13:AG13,"√") -> 0
B14: 9 | AH14: =COUNTIF(D14:AG14,"√") -> 0
B15: 10 | AH15: =COUNTIF(D15:AG15,"√") -> 0
B16: 11 | AH16: =COUNTIF(D16:AG16,"√") -> 0
B17: 12 | AH17: =COUNTIF(D17:AG17,"√") -> 0
B18: 13 | AH18: =COUNTIF(D18:AG18,"√") -> 0
B19: 14 | AH19: =COUNTIF(D19:AG19,"√") -> 0
B20: 15 | AH20: =COUNTIF(D20:AG20,"√") -> 0
... B23: 18 | AH23: =COUNTIF(D23:AG23,"√") -> 0

Sheet 10月
B2: 10月考勤表
B3: 部门： | L3: 填表人： | X3: 审核人：
B5: 序号 | C5: 日期 姓名 | D5: 1 | E5: 2 | F5: 3 | G5: 4 | H5: 5 | I5: 6 | J5: 7 | K5: 8 | L5: 9 | M5: 10 | N5: 11 | O5: 12 | P5: 13 | Q5: 14 | R5: 15 | S5: 16 | T5: 17 | U5: 18 | V5: 19 | W5: 20 | X5: 21 | Y5: 22 | Z5: 23 | AA5: 24 | AB5: 25 | AC5: 26 | AD5: 27 | AE5: 28 | AF5: 29 | AG5: 30 | AH5: 31 | AI5: 合计
B6: 1 | C6: 张丽丽 | AI6: =COUNTIF(D6:AH6,"√") -> 0
B7: 2 | C7: 赵媛媛 | AI7: =COUNTIF(D7:AH7,"√") -> 0
B8: 3 | C8: 高雷雷 | AI8: =COUNTIF(D8:AH8,"√") -> 0
B9: 4 | AI9: =COUNTIF(D9:AH9,"√") -> 0
B10: 5 | AI10: =COUNTIF(D10:AH10,"√") -> 0
B11: 6 | AI11: =COUNTIF(D11:AH11,"√") -> 0
B12: 7 | AI12: =COUNTIF(D12:AH12,"√") -> 0
B13: 8 | AI13: =COUNTIF(D13:AH13,"√") -> 0
B14: 9 | AI14: =COUNTIF(D14:AH14,"√") -> 0
B15: 10 | AI15: =COUNTIF(D15:AH15,"√") -> 0
B16: 11 | AI16: =COUNTIF(D16:AH16,"√") -> 0
B17: 12 | AI17: =COUNTIF(D17:AH17,"√") -> 0
B18: 13 | AI18: =COUNTIF(D18:AH18,"√") -> 0
B19: 14 | AI19: =COUNTIF(D19:AH19,"√") -> 0
B20: 15 | AI20: =COUNTIF(D20:AH20,"√") -> 0
... B23: 18 | AI23: =COUNTIF(D23:AH23,"√") -> 0

Sheet 11月
B2: 11月考勤表
B3: 部门： | L3: 填表人： | X3: 审核人：
B5: 序号 | C5: 日期 姓名 | D5: 1 | E5: 2 | F5: 3 | G5: 4 | H5: 5 | I5: 6 | J5: 7 | K5: 8 | L5: 9 | M5: 10 | N5: 11 | O5: 12 | P5: 13 | Q5: 14 | R5: 15 | S5: 16 | T5: 17 | U5: 18 | V5: 19 | W5: 20 | X5: 21 | Y5: 22 | Z5: 23 | AA5: 24 | AB5: 25 | AC5: 26 | AD5: 27 | AE5: 28 | AF5: 29 | AG5: 30 | AH5: 合计
B6: 1 | C6: 张丽丽 | AH6: =COUNTIF(D6:AG6,"√") -> 0
B7: 2 | C7: 赵媛媛 | AH7: =COUNTIF(D7:AG7,"√") -> 0
B8: 3 | C8: 高雷雷 | AH8: =COUNTIF(D8:AG8,"√") -> 0
B9: 4 | AH9: =COUNTIF(D9:AG9,"√") -> 0
B10: 5 | AH10: =COUNTIF(D10:AG10,"√") -> 0
B11: 6 | AH11: =COUNTIF(D11:AG11,"√") -> 0
B12: 7 | AH12: =COUNTIF(D12:AG12,"√") -> 0
B13: 8 | AH13: =COUNTIF(D13:AG13,"√") -> 0
B14: 9 | AH14: =COUNTIF(D14:AG14,"√") -> 0
B15: 10 | AH15: =COUNTIF(D15:AG15,"√") -> 0
B16: 11 | AH16: =COUNTIF(D16:AG16,"√") -> 0
B17: 12 | AH17: =COUNTIF(D17:AG17,"√") -> 0
B18: 13 | AH18: =COUNTIF(D18:AG18,"√") -> 0
B19: 14 | AH19: =COUNTIF(D19:AG19,"√") -> 0
B20: 15 | AH20: =COUNTIF(D20:AG20,"√") -> 0
... B23: 18 | AH23: =COUNTIF(D23:AG23,"√") -> 0

Sheet 12月
B2: 12月考勤表
B3: 部门： | L3: 填表人： | X3: 审核人：
B5: 序号 | C5: 日期 姓名 | D5: 1 | E5: 2 | F5: 3 | G5: 4 | H5: 5 | I5: 6 | J5: 7 | K5: 8 | L5: 9 | M5: 10 | N5: 11 | O5: 12 | P5: 13 | Q5: 14 | R5: 15 | S5: 16 | T5: 17 | U5: 18 | V5: 19 | W5: 20 | X5: 21 | Y5: 22 | Z5: 23 | AA5: 24 | AB5: 25 | AC5: 26 | AD5: 27 | AE5: 28 | AF5: 29 | AG5: 30 | AH5: 31 | AI5: 合计
B6: 1 | C6: 张丽丽 | AI6: =COUNTIF(D6:AH6,"√") -> 0
B7: 2 | C7: 赵媛媛 | AI7: =COUNTIF(D7:AH7,"√") -> 0
B8: 3 | C8: 高雷雷 | AI8: =COUNTIF(D8:AH8,"√") -> 0
B9: 4 | AI9: =COUNTIF(D9:AH9,"√") -> 0
B10: 5 | AI10: =COUNTIF(D10:AH10,"√") -> 0
B11: 6 | AI11: =COUNTIF(D11:AH11,"√") -> 0
B12: 7 | AI12: =COUNTIF(D12:AH12,"√") -> 0
B13: 8 | AI13: =COUNTIF(D13:AH13,"√") -> 0
B14: 9 | AI14: =COUNTIF(D14:AH14,"√") -> 0
B15: 10 | AI15: =COUNTIF(D15:AH15,"√") -> 0
B16: 11 | AI16: =COUNTIF(D16:AH16,"√") -> 0
B17: 12 | AI17: =COUNTIF(D17:AH17,"√") -> 0
B18: 13 | AI18: =COUNTIF(D18:AH18,"√") -> 0
B19: 14 | AI19: =COUNTIF(D19:AH19,"√") -> 0
B20: 15 | AI20: =COUNTIF(D20:AH20,"√") -> 0
... B23: 18 | AI23: =COUNTIF(D23:AH23,"√") -> 0

Sheet 人员考勤统计表
B1: 人员考勤统计表
B3: 姓名 | C3: 1月 | D3: 2月 | E3: 3月 | F3: 4月 | G3: 5月 | H3: 6月 | I3: 7月 | J3: 8月 | K3: 9月 | L3: 10月 | M3: 11月 | N3: 12月 | O3: 合计
B4: 张丽丽 | C4: =IF(B4="","",VLOOKUP(B4,'1月'!C:AI,33,0)) -> 20 | D4: =IF(B4="","",VLOOKUP(B4,'2月'!C:AI,31,0)) -> 20 | E4: =IF(B4="","",VLOOKUP(B4,'3月'!C:AI,33,0)) -> 15 | F4: =IF(B4="","",VLOOKUP(B4,'4月'!C:AI,32,0)) -> 0 | G4: =IF(B4="","",VLOOKUP(B4,'5月'!C:AI,33,0)) -> 0 | H4: =IF(B4="","",VLOOKUP(B4,'6月'!C:AI,32,0)) -> 0 | I4: =IF(B4="","",VLOOKUP(B4,'7月'!C:AI,33,0)) -> 0 | J4: =IF(B4="","",VLOOKUP(B4,'8月'!C:AI,33,0)) -> 0 | K4: =IF(B4="","",VLOOKUP(B4,'9月'!C:AI,32,0)) -> 0 | L4: =IF(B4="","",VLOOKUP(B4,'10月'!C:AI,33,0)) -> 0 | M4: =IF(B4="","",VLOOKUP(B4,'11月'!C:AI,32,0)) -> 0 | N4: =IF(B4="","",VLOOKUP(B4,'12月'!C:AI,33,0)) -> 0 | O4: =SUM(C4:N4) -> 55
B5: 赵媛媛 | C5: =IF(B5="","",VLOOKUP(B5,'1月'!C:AI,33,0)) -> 25 | D5: =IF(B5="","",VLOOKUP(B5,'2月'!C:AI,31,0)) -> 25 | E5: =IF(B5="","",VLOOKUP(B5,'3月'!C:AI,33,0)) -> 20 | F5: =IF(B5="","",VLOOKUP(B5,'4月'!C:AI,32,0)) -> 0 | G5: =IF(B5="","",VLOOKUP(B5,'5月'!C:AI,33,0)) -> 0 | H5: =IF(B5="","",VLOOKUP(B5,'6月'!C:AI,32,0)) -> 0 | I5: =IF(B5="","",VLOOKUP(B5,'7月'!C:AI,33,0)) -> 0 | J5: =IF(B5="","",VLOOKUP(B5,'8月'!C:AI,33,0)) -> 0 | K5: =IF(B5="","",VLOOKUP(B5,'9月'!C:AI,32,0)) -> 0 | L5: =IF(B5="","",VLOOKUP(B5,'10月'!C:AI,33,0)) -> 0 | M5: =IF(B5="","",VLOOKUP(B5,'11月'!C:AI,32,0)) -> 0 | N5: =IF(B5="","",VLOOKUP(B5,'12月'!C:AI,33,0)) -> 0 | O5: =SUM(C5:N5) -> 70
B6: 高雷雷 | C6: =IF(B6="","",VLOOKUP(B6,'1月'!C:AI,33,0)) -> 22 | D6: =IF(B6="","",VLOOKUP(B6,'2月'!C:AI,31,0)) -> 22 | E6: =IF(B6="","",VLOOKUP(B6,'3月'!C:AI,33,0)) -> 17 | F6: =IF(B6="","",VLOOKUP(B6,'4月'!C:AI,32,0)) -> 0 | G6: =IF(B6="","",VLOOKUP(B6,'5月'!C:AI,33,0)) -> 0 | H6: =IF(B6="","",VLOOKUP(B6,'6月'!C:AI,32,0)) -> 0 | I6: =IF(B6="","",VLOOKUP(B6,'7月'!C:AI,33,0)) -> 0 | J6: =IF(B6="","",VLOOKUP(B6,'8月'!C:AI,33,0)) -> 0 | K6: =IF(B6="","",VLOOKUP(B6,'9月'!C:AI,32,0)) -> 0 | L6: =IF(B6="","",VLOOKUP(B6,'10月'!C:AI,33,0)) -> 0 | M6: =IF(B6="","",VLOOKUP(B6,'11月'!C:AI,32,0)) -> 0 | N6: =IF(B6="","",VLOOKUP(B6,'12月'!C:AI,33,0)) -> 0 | O6: =SUM(C6:N6) -> 61
C7: =IF(B7="","",VLOOKUP(B7,'1月'!C:AI,33,0)) | D7: =IF(B7="","",VLOOKUP(B7,'2月'!C:AI,31,0)) | E7: =IF(B7="","",VLOOKUP(B7,'3月'!C:AI,33,0)) | F7: =IF(B7="","",VLOOKUP(B7,'4月'!C:AI,32,0)) | G7: =IF(B7="","",VLOOKUP(B7,'5月'!C:AI,33,0)) | H7: =IF(B7="","",VLOOKUP(B7,'6月'!C:AI,32,0)) | I7: =IF(B7="","",VLOOKUP(B7,'7月'!C:AI,33,0)) | J7: =IF(B7="","",VLOOKUP(B7,'8月'!C:AI,33,0)) | K7: =IF(B7="","",VLOOKUP(B7,'9月'!C:AI,32,0)) | L7: =IF(B7="","",VLOOKUP(B7,'10月'!C:AI,33,0)) | M7: =IF(B7="","",VLOOKUP(B7,'11月'!C:AI,32,0)) | N7: =IF(B7="","",VLOOKUP(B7,'12月'!C:AI,33,0)) | O7: =SUM(C7:N7) -> 0
C8: =IF(B8="","",VLOOKUP(B8,'1月'!C:AI,33,0)) | D8: =IF(B8="","",VLOOKUP(B8,'2月'!C:AI,31,0)) | E8: =IF(B8="","",VLOOKUP(B8,'3月'!C:AI,33,0)) | F8: =IF(B8="","",VLOOKUP(B8,'4月'!C:AI,32,0)) | G8: =IF(B8="","",VLOOKUP(B8,'5月'!C:AI,33,0)) | H8: =IF(B8="","",VLOOKUP(B8,'6月'!C:AI,32,0)) | I8: =IF(B8="","",VLOOKUP(B8,'7月'!C:AI,33,0)) | J8: =IF(B8="","",VLOOKUP(B8,'8月'!C:AI,33,0)) | K8: =IF(B8="","",VLOOKUP(B8,'9月'!C:AI,32,0)) | L8: =IF(B8="","",VLOOKUP(B8,'10月'!C:AI,33,0)) | M8: =IF(B8="","",VLOOKUP(B8,'11月'!C:AI,32,0)) | N8: =IF(B8="","",VLOOKUP(B8,'12月'!C:AI,33,0)) | O8: =SUM(C8:N8) -> 0
C9: =IF(B9="","",VLOOKUP(B9,'1月'!C:AI,33,0)) | D9: =IF(B9="","",VLOOKUP(B9,'2月'!C:AI,31,0)) | E9: =IF(B9="","",VLOOKUP(B9,'3月'!C:AI,33,0)) | F9: =IF(B9="","",VLOOKUP(B9,'4月'!C:AI,32,0)) | G9: =IF(B9="","",VLOOKUP(B9,'5月'!C:AI,33,0)) | H9: =IF(B9="","",VLOOKUP(B9,'6月'!C:AI,32,0)) | I9: =IF(B9="","",VLOOKUP(B9,'7月'!C:AI,33,0)) | J9: =IF(B9="","",VLOOKUP(B9,'8月'!C:AI,33,0)) | K9: =IF(B9="","",VLOOKUP(B9,'9月'!C:AI,32,0)) | L9: =IF(B9="","",VLOOKUP(B9,'10月'!C:AI,33,0)) | M9: =IF(B9="","",VLOOKUP(B9,'11月'!C:AI,32,0)) | N9: =IF(B9="","",VLOOKUP(B9,'12月'!C:AI,33,0)) | O9: =SUM(C9:N9) -> 0
C10: =IF(B10="","",VLOOKUP(B10,'1月'!C:AI,33,0)) | D10: =IF(B10="","",VLOOKUP(B10,'2月'!C:AI,31,0)) | E10: =IF(B10="","",VLOOKUP(B10,'3月'!C:AI,33,0)) | F10: =IF(B10="","",VLOOKUP(B10,'4月'!C:AI,32,0)) | G10: =IF(B10="","",VLOOKUP(B10,'5月'!C:AI,33,0)) | H10: =IF(B10="","",VLOOKUP(B10,'6月'!C:AI,32,0)) | I10: =IF(B10="","",VLOOKUP(B10,'7月'!C:AI,33,0)) | J10: =IF(B10="","",VLOOKUP(B10,'8月'!C:AI,33,0)) | K10: =IF(B10="","",VLOOKUP(B10,'9月'!C:AI,32,0)) | L10: =IF(B10="","",VLOOKUP(B10,'10月'!C:AI,33,0)) | M10: =IF(B10="","",VLOOKUP(B10,'11月'!C:AI,32,0)) | N10: =IF(B10="","",VLOOKUP(B10,'12月'!C:AI,33,0)) | O10: =SUM(C10:N10) -> 0
C11: =IF(B11="","",VLOOKUP(B11,'1月'!C:AI,33,0)) | D11: =IF(B11="","",VLOOKUP(B11,'2月'!C:AI,31,0)) | E11: =IF(B11="","",VLOOKUP(B11,'3月'!C:AI,33,0)) | F11: =IF(B11="","",VLOOKUP(B11,'4月'!C:AI,32,0)) | G11: =IF(B11="","",VLOOKUP(B11,'5月'!C:AI,33,0)) | H11: =IF(B11="","",VLOOKUP(B11,'6月'!C:AI,32,0)) | I11: =IF(B11="","",VLOOKUP(B11,'7月'!C:AI,33,0)) | J11: =IF(B11="","",VLOOKUP(B11,'8月'!C:AI,33,0)) | K11: =IF(B11="","",VLOOKUP(B11,'9月'!C:AI,32,0)) | L11: =IF(B11="","",VLOOKUP(B11,'10月'!C:AI,33,0)) | M11: =IF(B11="","",VLOOKUP(B11,'11月'!C:AI,32,0)) | N11: =IF(B11="","",VLOOKUP(B11,'12月'!C:AI,33,0)) | O11: =SUM(C11:N11) -> 0
C12: =IF(B12="","",VLOOKUP(B12,'1月'!C:AI,33,0)) | D12: =IF(B12="","",VLOOKUP(B12,'2月'!C:AI,31,0)) | E12: =IF(B12="","",VLOOKUP(B12,'3月'!C:AI,33,0)) | F12: =IF(B12="","",VLOOKUP(B12,'4月'!C:AI,32,0)) | G12: =IF(B12="","",VLOOKUP(B12,'5月'!C:AI,33,0)) | H12: =IF(B12="","",VLOOKUP(B12,'6月'!C:AI,32,0)) | I12: =IF(B12="","",VLOOKUP(B12,'7月'!C:AI,33,0)) | J12: =IF(B12="","",VLOOKUP(B12,'8月'!C:AI,33,0)) | K12: =IF(B12="","",VLOOKUP(B12,'9月'!C:AI,32,0)) | L12: =IF(B12="","",VLOOKUP(B12,'10月'!C:AI,33,0)) | M12: =IF(B12="","",VLOOKUP(B12,'11月'!C:AI,32,0)) | N12: =IF(B12="","",VLOOKUP(B12,'12月'!C:AI,33,0)) | O12: =SUM(C12:N12) -> 0
C13: =IF(B13="","",VLOOKUP(B13,'1月'!C:AI,33,0)) | D13: =IF(B13="","",VLOOKUP(B13,'2月'!C:AI,31,0)) | E13: =IF(B13="","",VLOOKUP(B13,'3月'!C:AI,33,0)) | F13: =IF(B13="","",VLOOKUP(B13,'4月'!C:AI,32,0)) | G13: =IF(B13="","",VLOOKUP(B13,'5月'!C:AI,33,0)) | H13: =IF(B13="","",VLOOKUP(B13,'6月'!C:AI,32,0)) | I13: =IF(B13="","",VLOOKUP(B13,'7月'!C:AI,33,0)) | J13: =IF(B13="","",VLOOKUP(B13,'8月'!C:AI,33,0)) | K13: =IF(B13="","",VLOOKUP(B13,'9月'!C:AI,32,0)) | L13: =IF(B13="","",VLOOKUP(B13,'10月'!C:AI,33,0)) | M13: =IF(B13="","",VLOOKUP(B13,'11月'!C:AI,32,0)) | N13: =IF(B13="","",VLOOKUP(B13,'12月'!C:AI,33,0)) | O13: =SUM(C13:N13) -> 0
C14: =IF(B14="","",VLOOKUP(B14,'1月'!C:AI,33,0)) | D14: =IF(B14="","",VLOOKUP(B14,'2月'!C:AI,31,0)) | E14: =IF(B14="","",VLOOKUP(B14,'3月'!C:AI,33,0)) | F14: =IF(B14="","",VLOOKUP(B14,'4月'!C:AI,32,0)) | G14: =IF(B14="","",VLOOKUP(B14,'5月'!C:AI,33,0)) | H14: =IF(B14="","",VLOOKUP(B14,'6月'!C:AI,32,0)) | I14: =IF(B14="","",VLOOKUP(B14,'7月'!C:AI,33,0)) | J14: =IF(B14="","",VLOOKUP(B14,'8月'!C:AI,33,0)) | K14: =IF(B14="","",VLOOKUP(B14,'9月'!C:AI,32,0)) | L14: =IF(B14="","",VLOOKUP(B14,'10月'!C:AI,33,0)) | M14: =IF(B14="","",VLOOKUP(B14,'11月'!C:AI,32,0)) | N14: =IF(B14="","",VLOOKUP(B14,'12月'!C:AI,33,0)) | O14: =SUM(C14:N14) -> 0
C15: =IF(B15="","",VLOOKUP(B15,'1月'!C:AI,33,0)) | D15: =IF(B15="","",VLOOKUP(B15,'2月'!C:AI,31,0)) | E15: =IF(B15="","",VLOOKUP(B15,'3月'!C:AI,33,0)) | F15: =IF(B15="","",VLOOKUP(B15,'4月'!C:AI,32,0)) | G15: =IF(B15="","",VLOOKUP(B15,'5月'!C:AI,33,0)) | H15: =IF(B15="","",VLOOKUP(B15,'6月'!C:AI,32,0)) | I15: =IF(B15="","",VLOOKUP(B15,'7月'!C:AI,33,0)) | J15: =IF(B15="","",VLOOKUP(B15,'8月'!C:AI,33,0)) | K15: =IF(B15="","",VLOOKUP(B15,'9月'!C:AI,32,0)) | L15: =IF(B15="","",VLOOKUP(B15,'10月'!C:AI,33,0)) | M15: =IF(B15="","",VLOOKUP(B15,'11月'!C:AI,32,0)) | N15: =IF(B15="","",VLOOKUP(B15,'12月'!C:AI,33,0)) | O15: =SUM(C15:N15) -> 0
C16: =IF(B16="","",VLOOKUP(B16,'1月'!C:AI,33,0)) | D16: =IF(B16="","",VLOOKUP(B16,'2月'!C:AI,31,0)) | E16: =IF(B16="","",VLOOKUP(B16,'3月'!C:AI,33,0)) | F16: =IF(B16="","",VLOOKUP(B16,'4月'!C:AI,32,0)) | G16: =IF(B16="","",VLOOKUP(B16,'5月'!C:AI,33,0)) | H16: =IF(B16="","",VLOOKUP(B16,'6月'!C:AI,32,0)) | I16: =IF(B16="","",VLOOKUP(B16,'7月'!C:AI,33,0)) | J16: =IF(B16="","",VLOOKUP(B16,'8月'!C:AI,33,0)) | K16: =IF(B16="","",VLOOKUP(B16,'9月'!C:AI,32,0)) | L16: =IF(B16="","",VLOOKUP(B16,'10月'!C:AI,33,0)) | M16: =IF(B16="","",VLOOKUP(B16,'11月'!C:AI,32,0)) | N16: =IF(B16="","",VLOOKUP(B16,'12月'!C:AI,33,0)) | O16: =SUM(C16:N16) -> 0
C17: =IF(B17="","",VLOOKUP(B17,'1月'!C:AI,33,0)) | D17: =IF(B17="","",VLOOKUP(B17,'2月'!C:AI,31,0)) | E17: =IF(B17="","",VLOOKUP(B17,'3月'!C:AI,33,0)) | F17: =IF(B17="","",VLOOKUP(B17,'4月'!C:AI,32,0)) | G17: =IF(B17="","",VLOOKUP(B17,'5月'!C:AI,33,0)) | H17: =IF(B17="","",VLOOKUP(B17,'6月'!C:AI,32,0)) | I17: =IF(B17="","",VLOOKUP(B17,'7月'!C:AI,33,0)) | J17: =IF(B17="","",VLOOKUP(B17,'8月'!C:AI,33,0)) | K17: =IF(B17="","",VLOOKUP(B17,'9月'!C:AI,32,0)) | L17: =IF(B17="","",VLOOKUP(B17,'10月'!C:AI,33,0)) | M17: =IF(B17="","",VLOOKUP(B17,'11月'!C:AI,32,0)) | N17: =IF(B17="","",VLOOKUP(B17,'12月'!C:AI,33,0)) | O17: =SUM(C17:N17) -> 0
C18: =IF(B18="","",VLOOKUP(B18,'1月'!C:AI,33,0)) | D18: =IF(B18="","",VLOOKUP(B18,'2月'!C:AI,31,0)) | E18: =IF(B18="","",VLOOKUP(B18,'3月'!C:AI,33,0)) | F18: =IF(B18="","",VLOOKUP(B18,'4月'!C:AI,32,0)) | G18: =IF(B18="","",VLOOKUP(B18,'5月'!C:AI,33,0)) | H18: =IF(B18="","",VLOOKUP(B18,'6月'!C:AI,32,0)) | I18: =IF(B18="","",VLOOKUP(B18,'7月'!C:AI,33,0)) | J18: =IF(B18="","",VLOOKUP(B18,'8月'!C:AI,33,0)) | K18: =IF(B18="","",VLOOKUP(B18,'9月'!C:AI,32,0)) | L18: =IF(B18="","",VLOOKUP(B18,'10月'!C:AI,33,0)) | M18: =IF(B18="","",VLOOKUP(B18,'11月'!C:AI,32,0)) | N18: =IF(B18="","",VLOOKUP(B18,'12月'!C:AI,33,0)) | O18: =SUM(C18:N18) -> 0
C19: =IF(B19="","",VLOOKUP(B19,'1月'!C:AI,33,0)) | D19: =IF(B19="","",VLOOKUP(B19,'2月'!C:AI,31,0)) | E19: =IF(B19="","",VLOOKUP(B19,'3月'!C:AI,33,0)) | F19: =IF(B19="","",VLOOKUP(B19,'4月'!C:AI,32,0)) | G19: =IF(B19="","",VLOOKUP(B19,'5月'!C:AI,33,0)) | H19: =IF(B19="","",VLOOKUP(B19,'6月'!C:AI,32,0)) | I19: =IF(B19="","",VLOOKUP(B19,'7月'!C:AI,33,0)) | J19: =IF(B19="","",VLOOKUP(B19,'8月'!C:AI,33,0)) | K19: =IF(B19="","",VLOOKUP(B19,'9月'!C:AI,32,0)) | L19: =IF(B19="","",VLOOKUP(B19,'10月'!C:AI,33,0)) | M19: =IF(B19="","",VLOOKUP(B19,'11月'!C:AI,32,0)) | N19: =IF(B19="","",VLOOKUP(B19,'12月'!C:AI,33,0)) | O19: =SUM(C19:N19) -> 0
