Workbook

Sheet 首页

Sheet HR在线人才测评系统
B4: HR人才测评工具 技术研发岗位，市场营销岗，行政服务岗，中高层管理岗 MBTI、DISC、职业性格，职业兴趣，职业价值观，心理素质
B8: HR在线人才测评系统 | C8: https://www.zxgj.cn/m/tuance
B11: 职业性格和人格测评 | C11: https://www.xmcs.cn/d/zhiye

Sheet 使用说明
B2: 使用说明
B3: 1、 | C3: 在基础信息中维护物品的代码、名称、规格、单价、存放位置、供应商等信息；
B4: 2、 | C4: 可在采购申请中选择录入相关信息，并打印各级签字后，存档备查；
B5: 3、 | C5: 在采购进度中跟进每项采购申请的进度情况；
B6: 4、 | C6: 在入库记录中登记物品的入库信息，在领用记录中登记物品的出库信息；
B7: 5、 | C7: 库存表自动引用出入库信息，生成时时库存，根据安全库存，自动提示是否需要备货；
B8: 6、 | C8: 费用分摊表：根据时间范围，自动引用数据，生成各部门此期间内领用的物品费用合计；
B9: 7、 | C9: 盘点表：选择输入物品代码，自动引用实时库存，录入实际盘点数，自动提示盘点差异；
B10: 8、 | C10: 表格中设置有公式及自动链接，请勿随意修改表格格式。
B11: 9、 | C11: 未防止误操作，部分表格设置了保护。如若取消保护，点击审阅-撤销工作表保护即可。

Sheet 基础信息
A1: 行政物品基础信息
A2: 序号 | B2: 物品代码 | C2: 物品名称 | D2: 规格型号 | E2: 单价 | F2: 安全库存 | G2: 存放库区 | H2: 供应商 | I2: 联系人 | J2: 联系方式 | K2: 备注
A3: 1 | B3: BG20211101 | C3: A1 | D3: 1*1 | E3: 100 | F3: 50 | G3: A01
A4: 2 | B4: BG20211102 | C4: A2 | D4: 1*2 | E4: 105 | F4: 50 | G4: A01
A5: 3 | B5: BG20211103 | C5: A3 | D5: 1*3 | E5: 110 | F5: 50 | G5: A02
A6: 4 | B6: BG20211104 | C6: A4 | D6: 1*4 | E6: 115 | F6: 50 | G6: A02
A7: 5 | B7: BG20211105 | C7: A5 | D7: 1*5 | E7: 120 | F7: 50 | G7: A03
A8: 6 | B8: BG20211106 | C8: A6 | D8: 1*6 | E8: 125 | F8: 50 | G8: A03
A9: 7 | B9: BG20211107 | C9: A7 | D9: 1*7 | E9: 130 | F9: 50 | G9: A04
A10: 8 | B10: BG20211108 | C10: A8 | D10: 1*8 | E10: 135 | F10: 50 | G10: A04
A11: 9 | B11: BG20211109 | C11: A9 | D11: 1*9 | E11: 140 | F11: 50 | G11: A05
A12: 10 | B12: BG20211110 | C12: A10 | D12: 1*10 | E12: 145 | F12: 50 | G12: A05
A13: 11 | B13: BG20211111 | C13: A11 | D13: 1*11 | E13: 150 | F13: 50 | G13: A06
A14: 12 | B14: BG20211112 | C14: A12 | D14: 1*12 | E14: 155 | F14: 50 | G14: A06
A15: 13
A16: 14
A17: 15
A18: 16
A19: 17
A20: 18
A21: 19
A22: 20
A23: 21
A24: 22
A25: 23
A26: 24
... A307: 305

Sheet 采购申请
A1: 行政物品采购申请单
A2: 序号 | B2: 物品代码 | D2: 物品名称 | E2: 规格型号 | F2: 单价 | G2: 数量 | H2: 合计金额 | I2: 采购工作流链接 | K2: 备注
A3: 1 | B3: BG20211101 | D3: =IF(B3="","",VLOOKUP(B3,基础信息!$B$3:$G$5000,2,FALSE)) -> A1 | E3: =IF(B3="","",VLOOKUP(B3,基础信息!$B$3:$G$5000,3,FALSE)) -> 1*1 | F3: =IF(B3="","",VLOOKUP(B3,基础信息!$B$3:$G$5000,4,FALSE)) -> 100 | G3: 10 | H3: =IF(B3="","",F3*G3) -> 1000
A4: 2 | D4: =IF(B4="","",VLOOKUP(B4,基础信息!$B$3:$G$5000,2,FALSE)) | E4: =IF(B4="","",VLOOKUP(B4,基础信息!$B$3:$G$5000,3,FALSE)) | F4: =IF(B4="","",VLOOKUP(B4,基础信息!$B$3:$G$5000,4,FALSE)) | H4: =IF(B4="","",F4*G4)
A5: 3 | D5: =IF(B5="","",VLOOKUP(B5,基础信息!$B$3:$G$5000,2,FALSE)) | E5: =IF(B5="","",VLOOKUP(B5,基础信息!$B$3:$G$5000,3,FALSE)) | F5: =IF(B5="","",VLOOKUP(B5,基础信息!$B$3:$G$5000,4,FALSE)) | H5: =IF(B5="","",F5*G5)
A6: 4 | D6: =IF(B6="","",VLOOKUP(B6,基础信息!$B$3:$G$5000,2,FALSE)) | E6: =IF(B6="","",VLOOKUP(B6,基础信息!$B$3:$G$5000,3,FALSE)) | F6: =IF(B6="","",VLOOKUP(B6,基础信息!$B$3:$G$5000,4,FALSE)) | H6: =IF(B6="","",F6*G6)
A7: 5 | D7: =IF(B7="","",VLOOKUP(B7,基础信息!$B$3:$G$5000,2,FALSE)) | E7: =IF(B7="","",VLOOKUP(B7,基础信息!$B$3:$G$5000,3,FALSE)) | F7: =IF(B7="","",VLOOKUP(B7,基础信息!$B$3:$G$5000,4,FALSE)) | H7: =IF(B7="","",F7*G7)
A8: 6 | D8: =IF(B8="","",VLOOKUP(B8,基础信息!$B$3:$G$5000,2,FALSE)) | E8: =IF(B8="","",VLOOKUP(B8,基础信息!$B$3:$G$5000,3,FALSE)) | F8: =IF(B8="","",VLOOKUP(B8,基础信息!$B$3:$G$5000,4,FALSE)) | H8: =IF(B8="","",F8*G8)
A9: 7 | D9: =IF(B9="","",VLOOKUP(B9,基础信息!$B$3:$G$5000,2,FALSE)) | E9: =IF(B9="","",VLOOKUP(B9,基础信息!$B$3:$G$5000,3,FALSE)) | F9: =IF(B9="","",VLOOKUP(B9,基础信息!$B$3:$G$5000,4,FALSE)) | H9: =IF(B9="","",F9*G9)
A10: 8 | D10: =IF(B10="","",VLOOKUP(B10,基础信息!$B$3:$G$5000,2,FALSE)) | E10: =IF(B10="","",VLOOKUP(B10,基础信息!$B$3:$G$5000,3,FALSE)) | F10: =IF(B10="","",VLOOKUP(B10,基础信息!$B$3:$G$5000,4,FALSE)) | H10: =IF(B10="","",F10*G10)
A11: 合计金额 | D11: =SUM(H3:H10) -> 1000
A12: 申请部门 | E12: 申请人 | G12: 申请日期 | I12: 紧急程度 | J12: （）加急 （）正常
A13: 部门主管审核： | G13: 行政主管审批：

Sheet 采购进度
A1: 采 购 跟 进
A2: 序号 | B2: 申请日期 | C2: 申请部门 | D2: 申请人 | E2: 物品代码 | F2: 物品名称 | G2: 规格型号 | H2: 单价 | I2: 数量 | J2: 合计金额 | K2: 请购日期 | L2: 到货日期 | M2: 备注
A3: 1 | B3: 44197 | C3: 运营部 | D3: 张三 | E3: BG20211101 | F3: =IF(E3="","",VLOOKUP(E3,基础信息!$B$3:$G$5000,2,FALSE)) -> A1 | G3: =IF(E3="","",VLOOKUP(E3,基础信息!$B$3:$G$5000,3,FALSE)) -> 1*1 | H3: =IF(E3="","",VLOOKUP(E3,基础信息!$B$3:$G$5000,4,FALSE)) -> 100 | I3: 10 | J3: =IF(E3="","",H3*I3) -> 1000 | K3: 44198 | L3: 44201
A4: 2 | J4: =IF(E4="","",H4*I4) | K4: 暂未请购 | L4: 暂未到货
A5: 3 | J5: =IF(E5="","",H5*I5)
A6: 4 | J6: =IF(E6="","",H6*I6)
A7: 5 | J7: =IF(E7="","",H7*I7)
A8: 6 | J8: =IF(E8="","",H8*I8)
A9: 7 | J9: =IF(E9="","",H9*I9)
A10: 8 | J10: =IF(E10="","",H10*I10)
A11: 9 | J11: =IF(E11="","",H11*I11)
A12: 10 | J12: =IF(E12="","",H12*I12)
A13: 11 | J13: =IF(E13="","",H13*I13)
A14: 12 | J14: =IF(E14="","",H14*I14)

Sheet 入库记录
A1: 入库记录
A2: 序号 | B2: 入库日期 | C2: 物品代码 | D2: 物品名称 | E2: 规格型号 | F2: 入库数量 | G2: 存放库区 | H2: 单价 | I2: 总金额 | J2: 经办人 | K2: 备注
A3: 1 | B3: 44501 | C3: BG20211101 | D3: =IF(C3="","",VLOOKUP(C3,基础信息!$B$3:$K$10000,2,0)) -> A1 | E3: =IF(C3="","",VLOOKUP(C3,基础信息!$B$3:$K$10000,3,0)) -> 1*1 | F3: 100 | G3: =IF(C3="","",VLOOKUP(C3,基础信息!$B$3:$K$10000,6,0)) -> A01 | H3: =IF(C3="","",VLOOKUP(C3,基础信息!$B$3:$K$10000,4,0)) -> 100 | I3: =IF(E3="","",F3*H3) -> 10000 | J3: 李四
A4: 2 | D4: =IF(C4="","",VLOOKUP(C4,基础信息!$B$3:$K$10000,2,0)) | E4: =IF(C4="","",VLOOKUP(C4,基础信息!$B$3:$K$10000,3,0)) | G4: =IF(C4="","",VLOOKUP(C4,基础信息!$B$3:$K$10000,6,0)) | H4: =IF(C4="","",VLOOKUP(C4,基础信息!$B$3:$K$10000,4,0)) | I4: =IF(E4="","",F4*H4)
A5: 3 | D5: =IF(C5="","",VLOOKUP(C5,基础信息!$B$3:$K$10000,2,0)) | E5: =IF(C5="","",VLOOKUP(C5,基础信息!$B$3:$K$10000,3,0)) | G5: =IF(C5="","",VLOOKUP(C5,基础信息!$B$3:$K$10000,6,0)) | H5: =IF(C5="","",VLOOKUP(C5,基础信息!$B$3:$K$10000,4,0)) | I5: =IF(E5="","",F5*H5)
A6: 4 | D6: =IF(C6="","",VLOOKUP(C6,基础信息!$B$3:$K$10000,2,0)) | E6: =IF(C6="","",VLOOKUP(C6,基础信息!$B$3:$K$10000,3,0)) | G6: =IF(C6="","",VLOOKUP(C6,基础信息!$B$3:$K$10000,6,0)) | H6: =IF(C6="","",VLOOKUP(C6,基础信息!$B$3:$K$10000,4,0)) | I6: =IF(E6="","",F6*H6)
A7: 5 | D7: =IF(C7="","",VLOOKUP(C7,基础信息!$B$3:$K$10000,2,0)) | E7: =IF(C7="","",VLOOKUP(C7,基础信息!$B$3:$K$10000,3,0)) | G7: =IF(C7="","",VLOOKUP(C7,基础信息!$B$3:$K$10000,6,0)) | H7: =IF(C7="","",VLOOKUP(C7,基础信息!$B$3:$K$10000,4,0)) | I7: =IF(E7="","",F7*H7)
A8: 6 | D8: =IF(C8="","",VLOOKUP(C8,基础信息!$B$3:$K$10000,2,0)) | E8: =IF(C8="","",VLOOKUP(C8,基础信息!$B$3:$K$10000,3,0)) | G8: =IF(C8="","",VLOOKUP(C8,基础信息!$B$3:$K$10000,6,0)) | H8: =IF(C8="","",VLOOKUP(C8,基础信息!$B$3:$K$10000,4,0)) | I8: =IF(E8="","",F8*H8)
A9: 7 | D9: =IF(C9="","",VLOOKUP(C9,基础信息!$B$3:$K$10000,2,0)) | E9: =IF(C9="","",VLOOKUP(C9,基础信息!$B$3:$K$10000,3,0)) | G9: =IF(C9="","",VLOOKUP(C9,基础信息!$B$3:$K$10000,6,0)) | H9: =IF(C9="","",VLOOKUP(C9,基础信息!$B$3:$K$10000,4,0)) | I9: =IF(E9="","",F9*H9)
A10: 8 | D10: =IF(C10="","",VLOOKUP(C10,基础信息!$B$3:$K$10000,2,0)) | E10: =IF(C10="","",VLOOKUP(C10,基础信息!$B$3:$K$10000,3,0)) | G10: =IF(C10="","",VLOOKUP(C10,基础信息!$B$3:$K$10000,6,0)) | H10: =IF(C10="","",VLOOKUP(C10,基础信息!$B$3:$K$10000,4,0)) | I10: =IF(E10="","",F10*H10)
A11: 9 | D11: =IF(C11="","",VLOOKUP(C11,基础信息!$B$3:$K$10000,2,0)) | E11: =IF(C11="","",VLOOKUP(C11,基础信息!$B$3:$K$10000,3,0)) | G11: =IF(C11="","",VLOOKUP(C11,基础信息!$B$3:$K$10000,6,0)) | H11: =IF(C11="","",VLOOKUP(C11,基础信息!$B$3:$K$10000,4,0)) | I11: =IF(E11="","",F11*H11)
A12: 10 | D12: =IF(C12="","",VLOOKUP(C12,基础信息!$B$3:$K$10000,2,0)) | E12: =IF(C12="","",VLOOKUP(C12,基础信息!$B$3:$K$10000,3,0)) | G12: =IF(C12="","",VLOOKUP(C12,基础信息!$B$3:$K$10000,6,0)) | H12: =IF(C12="","",VLOOKUP(C12,基础信息!$B$3:$K$10000,4,0)) | I12: =IF(E12="","",F12*H12)
A13: 11 | D13: =IF(C13="","",VLOOKUP(C13,基础信息!$B$3:$K$10000,2,0)) | E13: =IF(C13="","",VLOOKUP(C13,基础信息!$B$3:$K$10000,3,0)) | G13: =IF(C13="","",VLOOKUP(C13,基础信息!$B$3:$K$10000,6,0)) | H13: =IF(C13="","",VLOOKUP(C13,基础信息!$B$3:$K$10000,4,0)) | I13: =IF(E13="","",F13*H13)
A14: 12 | D14: =IF(C14="","",VLOOKUP(C14,基础信息!$B$3:$K$10000,2,0)) | E14: =IF(C14="","",VLOOKUP(C14,基础信息!$B$3:$K$10000,3,0)) | G14: =IF(C14="","",VLOOKUP(C14,基础信息!$B$3:$K$10000,6,0)) | H14: =IF(C14="","",VLOOKUP(C14,基础信息!$B$3:$K$10000,4,0)) | I14: =IF(E14="","",F14*H14)

Sheet 领用记录
A1: 领 用 记 录
A2: 序号 | B2: 领用日期 | C2: 领用部门 | D2: 领用人 | E2: 物品代码 | F2: 物品名称 | G2: 规格型号 | H2: 领用数量 | I2: 领用库区 | J2: 单价 | K2: 总金额 | L2: 经办人 | M2: 备注
A3: 1 | B3: 44199 | C3: 运营部 | D3: 王五 | E3: BG20211101 | F3: =IF(E3="","",VLOOKUP(E3,基础信息!$B$3:$K$10000,2,0)) -> A1 | G3: =IF(E3="","",VLOOKUP(E3,基础信息!$B$3:$K$10000,3,0)) -> 1*1 | H3: 10 | I3: =IF(E3="","",VLOOKUP(E3,基础信息!$B$3:$K$10000,6,0)) -> A01 | J3: =IF(E3="","",VLOOKUP(E3,基础信息!$B$3:$K$10000,4,0)) -> 100 | K3: =IF(E3="","",H3*J3) -> 1000 | L3: 李四
A4: 2 | F4: =IF(E4="","",VLOOKUP(E4,基础信息!$B$3:$K$10000,2,0)) | G4: =IF(E4="","",VLOOKUP(E4,基础信息!$B$3:$K$10000,3,0)) | I4: =IF(E4="","",VLOOKUP(E4,基础信息!$B$3:$K$10000,6,0)) | J4: =IF(E4="","",VLOOKUP(E4,基础信息!$B$3:$K$10000,4,0)) | K4: =IF(E4="","",H4*J4)
A5: 3 | F5: =IF(E5="","",VLOOKUP(E5,基础信息!$B$3:$K$10000,2,0)) | G5: =IF(E5="","",VLOOKUP(E5,基础信息!$B$3:$K$10000,3,0)) | I5: =IF(E5="","",VLOOKUP(E5,基础信息!$B$3:$K$10000,6,0)) | J5: =IF(E5="","",VLOOKUP(E5,基础信息!$B$3:$K$10000,4,0)) | K5: =IF(E5="","",H5*J5)
A6: 4 | F6: =IF(E6="","",VLOOKUP(E6,基础信息!$B$3:$K$10000,2,0)) | G6: =IF(E6="","",VLOOKUP(E6,基础信息!$B$3:$K$10000,3,0)) | I6: =IF(E6="","",VLOOKUP(E6,基础信息!$B$3:$K$10000,6,0)) | J6: =IF(E6="","",VLOOKUP(E6,基础信息!$B$3:$K$10000,4,0)) | K6: =IF(E6="","",H6*J6)
A7: 5 | F7: =IF(E7="","",VLOOKUP(E7,基础信息!$B$3:$K$10000,2,0)) | G7: =IF(E7="","",VLOOKUP(E7,基础信息!$B$3:$K$10000,3,0)) | I7: =IF(E7="","",VLOOKUP(E7,基础信息!$B$3:$K$10000,6,0)) | J7: =IF(E7="","",VLOOKUP(E7,基础信息!$B$3:$K$10000,4,0)) | K7: =IF(E7="","",H7*J7)
A8: 6 | F8: =IF(E8="","",VLOOKUP(E8,基础信息!$B$3:$K$10000,2,0)) | G8: =IF(E8="","",VLOOKUP(E8,基础信息!$B$3:$K$10000,3,0)) | I8: =IF(E8="","",VLOOKUP(E8,基础信息!$B$3:$K$10000,6,0)) | J8: =IF(E8="","",VLOOKUP(E8,基础信息!$B$3:$K$10000,4,0)) | K8: =IF(E8="","",H8*J8)
A9: 7 | F9: =IF(E9="","",VLOOKUP(E9,基础信息!$B$3:$K$10000,2,0)) | G9: =IF(E9="","",VLOOKUP(E9,基础信息!$B$3:$K$10000,3,0)) | I9: =IF(E9="","",VLOOKUP(E9,基础信息!$B$3:$K$10000,6,0)) | J9: =IF(E9="","",VLOOKUP(E9,基础信息!$B$3:$K$10000,4,0)) | K9: =IF(E9="","",H9*J9)
A10: 8 | F10: =IF(E10="","",VLOOKUP(E10,基础信息!$B$3:$K$10000,2,0)) | G10: =IF(E10="","",VLOOKUP(E10,基础信息!$B$3:$K$10000,3,0)) | I10: =IF(E10="","",VLOOKUP(E10,基础信息!$B$3:$K$10000,6,0)) | J10: =IF(E10="","",VLOOKUP(E10,基础信息!$B$3:$K$10000,4,0)) | K10: =IF(E10="","",H10*J10)
A11: 9 | F11: =IF(E11="","",VLOOKUP(E11,基础信息!$B$3:$K$10000,2,0)) | G11: =IF(E11="","",VLOOKUP(E11,基础信息!$B$3:$K$10000,3,0)) | I11: =IF(E11="","",VLOOKUP(E11,基础信息!$B$3:$K$10000,6,0)) | J11: =IF(E11="","",VLOOKUP(E11,基础信息!$B$3:$K$10000,4,0)) | K11: =IF(E11="","",H11*J11)
A12: 10 | F12: =IF(E12="","",VLOOKUP(E12,基础信息!$B$3:$K$10000,2,0)) | G12: =IF(E12="","",VLOOKUP(E12,基础信息!$B$3:$K$10000,3,0)) | I12: =IF(E12="","",VLOOKUP(E12,基础信息!$B$3:$K$10000,6,0)) | J12: =IF(E12="","",VLOOKUP(E12,基础信息!$B$3:$K$10000,4,0)) | K12: =IF(E12="","",H12*J12)
A13: 11 | F13: =IF(E13="","",VLOOKUP(E13,基础信息!$B$3:$K$10000,2,0)) | G13: =IF(E13="","",VLOOKUP(E13,基础信息!$B$3:$K$10000,3,0)) | I13: =IF(E13="","",VLOOKUP(E13,基础信息!$B$3:$K$10000,6,0)) | J13: =IF(E13="","",VLOOKUP(E13,基础信息!$B$3:$K$10000,4,0)) | K13: =IF(E13="","",H13*J13)
A14: 12 | F14: =IF(E14="","",VLOOKUP(E14,基础信息!$B$3:$K$10000,2,0)) | G14: =IF(E14="","",VLOOKUP(E14,基础信息!$B$3:$K$10000,3,0)) | I14: =IF(E14="","",VLOOKUP(E14,基础信息!$B$3:$K$10000,6,0)) | J14: =IF(E14="","",VLOOKUP(E14,基础信息!$B$3:$K$10000,4,0)) | K14: =IF(E14="","",H14*J14)
A15: 13 | F15: =IF(E15="","",VLOOKUP(E15,基础信息!$B$3:$K$10000,2,0)) | G15: =IF(E15="","",VLOOKUP(E15,基础信息!$B$3:$K$10000,3,0)) | I15: =IF(E15="","",VLOOKUP(E15,基础信息!$B$3:$K$10000,6,0)) | J15: =IF(E15="","",VLOOKUP(E15,基础信息!$B$3:$K$10000,4,0)) | K15: =IF(E15="","",H15*J15)
... A210: 208 | F210: =IF(E210="","",VLOOKUP(E210,基础信息!$B$3:$K$10000,2,0)) | G210: =IF(E210="","",VLOOKUP(E210,基础信息!$B$3:$K$10000,3,0)) | I210: =IF(E210="","",VLOOKUP(E210,基础信息!$B$3:$K$10000,6,0)) | J210: =IF(E210="","",VLOOKUP(E210,基础信息!$B$3:$K$10000,4,0)) | K210: =IF(E210="","",H210*J210)

Sheet 库存表
A1: 库 存 表
A2: 序号 | B2: 物品代码 | C2: 物品名称 | D2: 规格型号 | E2: 累计入库数量 | F2: 累计领用数量 | G2: 库存数量 | H2: 单价 | I2: 库存金额 | J2: 安全库存 | K2: 备注
A3: 1 | B3: =IF(基础信息!B3="","",基础信息!B3) -> BG20211101 | C3: =IF(B3="","",VLOOKUP(B3,基础信息!$B$3:$K$10000,2,0)) -> A1 | D3: =IF(B3="","",VLOOKUP(B3,基础信息!$B$3:$K$10000,3,0)) -> 1*1 | E3: =IF(B3="","",SUMIF(入库记录!$C$3:$C$10000,B3,入库记录!$F$3:$F$10000)) -> 100 | F3: =IF(B3="","",SUMIF(领用记录!$E$3:$E$10000,B3,领用记录!$H$3:$H$10000)) -> 10 | G3: =IF(B3="","",E3-F3) -> 90 | H3: =IF(B3="","",VLOOKUP(B3,基础信息!$B$3:$K$10000,4,0)) -> 100 | I3: =IF(G3="","",G3*H3) -> 9000 | J3: =IF(B3="","",VLOOKUP(B3,基础信息!$B$3:$K$10000,5,0)) -> 50 | K3: =IF(B3="","",IF(G3<J3,"需要备货",""))
A4: 2 | B4: =IF(基础信息!B4="","",基础信息!B4) -> BG20211102 | C4: =IF(B4="","",VLOOKUP(B4,基础信息!$B$3:$K$10000,2,0)) -> A2 | D4: =IF(B4="","",VLOOKUP(B4,基础信息!$B$3:$K$10000,3,0)) -> 1*2 | E4: =IF(B4="","",SUMIF(入库记录!$C$3:$C$10000,B4,入库记录!$F$3:$F$10000)) -> 0 | F4: =IF(B4="","",SUMIF(领用记录!$E$3:$E$10000,B4,领用记录!$H$3:$H$10000)) -> 0 | G4: =IF(B4="","",E4-F4) -> 0 | H4: =IF(B4="","",VLOOKUP(B4,基础信息!$B$3:$K$10000,4,0)) -> 105 | I4: =IF(G4="","",G4*H4) -> 0 | J4: =IF(B4="","",VLOOKUP(B4,基础信息!$B$3:$K$10000,5,0)) -> 50 | K4: =IF(C4="","",IF(G4<J4,"需要备货","")) -> 需要备货
A5: 3 | B5: =IF(基础信息!B5="","",基础信息!B5) -> BG20211103 | C5: =IF(B5="","",VLOOKUP(B5,基础信息!$B$3:$K$10000,2,0)) -> A3 | D5: =IF(B5="","",VLOOKUP(B5,基础信息!$B$3:$K$10000,3,0)) -> 1*3 | E5: =IF(B5="","",SUMIF(入库记录!$C$3:$C$10000,B5,入库记录!$F$3:$F$10000)) -> 0 | F5: =IF(B5="","",SUMIF(领用记录!$E$3:$E$10000,B5,领用记录!$H$3:$H$10000)) -> 0 | G5: =IF(B5="","",E5-F5) -> 0 | H5: =IF(B5="","",VLOOKUP(B5,基础信息!$B$3:$K$10000,4,0)) -> 110 | I5: =IF(G5="","",G5*H5) -> 0 | J5: =IF(B5="","",VLOOKUP(B5,基础信息!$B$3:$K$10000,5,0)) -> 50 | K5: =IF(C5="","",IF(G5<J5,"需要备货","")) -> 需要备货
A6: 4 | B6: =IF(基础信息!B6="","",基础信息!B6) -> BG20211104 | C6: =IF(B6="","",VLOOKUP(B6,基础信息!$B$3:$K$10000,2,0)) -> A4 | D6: =IF(B6="","",VLOOKUP(B6,基础信息!$B$3:$K$10000,3,0)) -> 1*4 | E6: =IF(B6="","",SUMIF(入库记录!$C$3:$C$10000,B6,入库记录!$F$3:$F$10000)) -> 0 | F6: =IF(B6="","",SUMIF(领用记录!$E$3:$E$10000,B6,领用记录!$H$3:$H$10000)) -> 0 | G6: =IF(B6="","",E6-F6) -> 0 | H6: =IF(B6="","",VLOOKUP(B6,基础信息!$B$3:$K$10000,4,0)) -> 115 | I6: =IF(G6="","",G6*H6) -> 0 | J6: =IF(B6="","",VLOOKUP(B6,基础信息!$B$3:$K$10000,5,0)) -> 50 | K6: =IF(C6="","",IF(G6<J6,"需要备货","")) -> 需要备货
A7: 5 | B7: =IF(基础信息!B7="","",基础信息!B7) -> BG20211105 | C7: =IF(B7="","",VLOOKUP(B7,基础信息!$B$3:$K$10000,2,0)) -> A5 | D7: =IF(B7="","",VLOOKUP(B7,基础信息!$B$3:$K$10000,3,0)) -> 1*5 | E7: =IF(B7="","",SUMIF(入库记录!$C$3:$C$10000,B7,入库记录!$F$3:$F$10000)) -> 0 | F7: =IF(B7="","",SUMIF(领用记录!$E$3:$E$10000,B7,领用记录!$H$3:$H$10000)) -> 0 | G7: =IF(B7="","",E7-F7) -> 0 | H7: =IF(B7="","",VLOOKUP(B7,基础信息!$B$3:$K$10000,4,0)) -> 120 | I7: =IF(G7="","",G7*H7) -> 0 | J7: =IF(B7="","",VLOOKUP(B7,基础信息!$B$3:$K$10000,5,0)) -> 50 | K7: =IF(C7="","",IF(G7<J7,"需要备货","")) -> 需要备货
A8: 6 | B8: =IF(基础信息!B8="","",基础信息!B8) -> BG20211106 | C8: =IF(B8="","",VLOOKUP(B8,基础信息!$B$3:$K$10000,2,0)) -> A6 | D8: =IF(B8="","",VLOOKUP(B8,基础信息!$B$3:$K$10000,3,0)) -> 1*6 | E8: =IF(B8="","",SUMIF(入库记录!$C$3:$C$10000,B8,入库记录!$F$3:$F$10000)) -> 0 | F8: =IF(B8="","",SUMIF(领用记录!$E$3:$E$10000,B8,领用记录!$H$3:$H$10000)) -> 0 | G8: =IF(B8="","",E8-F8) -> 0 | H8: =IF(B8="","",VLOOKUP(B8,基础信息!$B$3:$K$10000,4,0)) -> 125 | I8: =IF(G8="","",G8*H8) -> 0 | J8: =IF(B8="","",VLOOKUP(B8,基础信息!$B$3:$K$10000,5,0)) -> 50 | K8: =IF(C8="","",IF(G8<J8,"需要备货","")) -> 需要备货
A9: 7 | B9: =IF(基础信息!B9="","",基础信息!B9) -> BG20211107 | C9: =IF(B9="","",VLOOKUP(B9,基础信息!$B$3:$K$10000,2,0)) -> A7 | D9: =IF(B9="","",VLOOKUP(B9,基础信息!$B$3:$K$10000,3,0)) -> 1*7 | E9: =IF(B9="","",SUMIF(入库记录!$C$3:$C$10000,B9,入库记录!$F$3:$F$10000)) -> 0 | F9: =IF(B9="","",SUMIF(领用记录!$E$3:$E$10000,B9,领用记录!$H$3:$H$10000)) -> 0 | G9: =IF(B9="","",E9-F9) -> 0 | H9: =IF(B9="","",VLOOKUP(B9,基础信息!$B$3:$K$10000,4,0)) -> 130 | I9: =IF(G9="","",G9*H9) -> 0 | J9: =IF(B9="","",VLOOKUP(B9,基础信息!$B$3:$K$10000,5,0)) -> 50 | K9: =IF(C9="","",IF(G9<J9,"需要备货","")) -> 需要备货
A10: 8 | B10: =IF(基础信息!B10="","",基础信息!B10) -> BG20211108 | C10: =IF(B10="","",VLOOKUP(B10,基础信息!$B$3:$K$10000,2,0)) -> A8 | D10: =IF(B10="","",VLOOKUP(B10,基础信息!$B$3:$K$10000,3,0)) -> 1*8 | E10: =IF(B10="","",SUMIF(入库记录!$C$3:$C$10000,B10,入库记录!$F$3:$F$10000)) -> 0 | F10: =IF(B10="","",SUMIF(领用记录!$E$3:$E$10000,B10,领用记录!$H$3:$H$10000)) -> 0 | G10: =IF(B10="","",E10-F10) -> 0 | H10: =IF(B10="","",VLOOKUP(B10,基础信息!$B$3:$K$10000,4,0)) -> 135 | I10: =IF(G10="","",G10*H10) -> 0 | J10: =IF(B10="","",VLOOKUP(B10,基础信息!$B$3:$K$10000,5,0)) -> 50 | K10: =IF(C10="","",IF(G10<J10,"需要备货","")) -> 需要备货
A11: 9 | B11: =IF(基础信息!B11="","",基础信息!B11) -> BG20211109 | C11: =IF(B11="","",VLOOKUP(B11,基础信息!$B$3:$K$10000,2,0)) -> A9 | D11: =IF(B11="","",VLOOKUP(B11,基础信息!$B$3:$K$10000,3,0)) -> 1*9 | E11: =IF(B11="","",SUMIF(入库记录!$C$3:$C$10000,B11,入库记录!$F$3:$F$10000)) -> 0 | F11: =IF(B11="","",SUMIF(领用记录!$E$3:$E$10000,B11,领用记录!$H$3:$H$10000)) -> 0 | G11: =IF(B11="","",E11-F11) -> 0 | H11: =IF(B11="","",VLOOKUP(B11,基础信息!$B$3:$K$10000,4,0)) -> 140 | I11: =IF(G11="","",G11*H11) -> 0 | J11: =IF(B11="","",VLOOKUP(B11,基础信息!$B$3:$K$10000,5,0)) -> 50 | K11: =IF(C11="","",IF(G11<J11,"需要备货","")) -> 需要备货
A12: 10 | B12: =IF(基础信息!B12="","",基础信息!B12) -> BG20211110 | C12: =IF(B12="","",VLOOKUP(B12,基础信息!$B$3:$K$10000,2,0)) -> A10 | D12: =IF(B12="","",VLOOKUP(B12,基础信息!$B$3:$K$10000,3,0)) -> 1*10 | E12: =IF(B12="","",SUMIF(入库记录!$C$3:$C$10000,B12,入库记录!$F$3:$F$10000)) -> 0 | F12: =IF(B12="","",SUMIF(领用记录!$E$3:$E$10000,B12,领用记录!$H$3:$H$10000)) -> 0 | G12: =IF(B12="","",E12-F12) -> 0 | H12: =IF(B12="","",VLOOKUP(B12,基础信息!$B$3:$K$10000,4,0)) -> 145 | I12: =IF(G12="","",G12*H12) -> 0 | J12: =IF(B12="","",VLOOKUP(B12,基础信息!$B$3:$K$10000,5,0)) -> 50 | K12: =IF(C12="","",IF(G12<J12,"需要备货","")) -> 需要备货
A13: 11 | B13: =IF(基础信息!B13="","",基础信息!B13) -> BG20211111 | C13: =IF(B13="","",VLOOKUP(B13,基础信息!$B$3:$K$10000,2,0)) -> A11 | D13: =IF(B13="","",VLOOKUP(B13,基础信息!$B$3:$K$10000,3,0)) -> 1*11 | E13: =IF(B13="","",SUMIF(入库记录!$C$3:$C$10000,B13,入库记录!$F$3:$F$10000)) -> 0 | F13: =IF(B13="","",SUMIF(领用记录!$E$3:$E$10000,B13,领用记录!$H$3:$H$10000)) -> 0 | G13: =IF(B13="","",E13-F13) -> 0 | H13: =IF(B13="","",VLOOKUP(B13,基础信息!$B$3:$K$10000,4,0)) -> 150 | I13: =IF(G13="","",G13*H13) -> 0 | J13: =IF(B13="","",VLOOKUP(B13,基础信息!$B$3:$K$10000,5,0)) -> 50 | K13: =IF(C13="","",IF(G13<J13,"需要备货","")) -> 需要备货
A14: 12 | B14: =IF(基础信息!B14="","",基础信息!B14) -> BG20211112 | C14: =IF(B14="","",VLOOKUP(B14,基础信息!$B$3:$K$10000,2,0)) -> A12 | D14: =IF(B14="","",VLOOKUP(B14,基础信息!$B$3:$K$10000,3,0)) -> 1*12 | E14: =IF(B14="","",SUMIF(入库记录!$C$3:$C$10000,B14,入库记录!$F$3:$F$10000)) -> 0 | F14: =IF(B14="","",SUMIF(领用记录!$E$3:$E$10000,B14,领用记录!$H$3:$H$10000)) -> 0 | G14: =IF(B14="","",E14-F14) -> 0 | H14: =IF(B14="","",VLOOKUP(B14,基础信息!$B$3:$K$10000,4,0)) -> 155 | I14: =IF(G14="","",G14*H14) -> 0 | J14: =IF(B14="","",VLOOKUP(B14,基础信息!$B$3:$K$10000,5,0)) -> 50 | K14: =IF(C14="","",IF(G14<J14,"需要备货","")) -> 需要备货
A15: 13 | B15: =IF(基础信息!B15="","",基础信息!B15) | C15: =IF(B15="","",VLOOKUP(B15,基础信息!$B$3:$K$10000,2,0)) | D15: =IF(B15="","",VLOOKUP(B15,基础信息!$B$3:$K$10000,3,0)) | E15: =IF(B15="","",SUMIF(入库记录!$C$3:$C$10000,B15,入库记录!$F$3:$F$10000)) | F15: =IF(B15="","",SUMIF(领用记录!$E$3:$E$10000,B15,领用记录!$H$3:$H$10000)) | G15: =IF(B15="","",E15-F15) | H15: =IF(B15="","",VLOOKUP(B15,基础信息!$B$3:$K$10000,4,0)) | I15: =IF(G15="","",G15*H15) | J15: =IF(B15="","",VLOOKUP(B15,基础信息!$B$3:$K$10000,5,0)) | K15: =IF(C15="","",IF(G15<J15,"需要备货",""))
... A502: 500 | B502: =IF(基础信息!B502="","",基础信息!B502) | C502: =IF(B502="","",VLOOKUP(B502,基础信息!$B$3:$K$10000,2,0)) | D502: =IF(B502="","",VLOOKUP(B502,基础信息!$B$3:$K$10000,3,0)) | E502: =IF(B502="","",SUMIF(入库记录!$C$3:$C$10000,B502,入库记录!$F$3:$F$10000)) | F502: =IF(B502="","",SUMIF(领用记录!$E$3:$E$10000,B502,领用记录!$H$3:$H$10000)) | G502: =IF(B502="","",E502-F502) | H502: =IF(B502="","",VLOOKUP(B502,基础信息!$B$3:$K$10000,4,0)) | I502: =IF(G502="","",G502*H502) | J502: =IF(B502="","",VLOOKUP(B502,基础信息!$B$3:$K$10000,5,0)) | K502: =IF(C502="","",IF(G502<J502,"需要备货",""))

Sheet 费用分摊
B1: 部门费用分摊表
B2: 开始日期 | C2: 44197 | D2: 结束日期 | E2: 44227
B3: =IF(AND(C2<>"",E2<>""),"各部门本期办公费用分摊如下","开始和结束日期不能为空！") -> 各部门本期办公费用分摊如下
B4: 序号 | C4: 部门名称 | D4: 耗费总额 | E4: 备注
B5: 1 | C5: 运营部 | D5: =IF(C5="",0,SUMIFS(领用记录!K:K,领用记录!C:C,C5,领用记录!B:B,">="&$C$2,领用记录!B:B,"<="&$E$2)) -> 1000
B6: 2 | C6: 生管部 | D6: =IF(C6="",0,SUMIFS(领用记录!K:K,领用记录!C:C,C6,领用记录!B:B,">="&$C$2,领用记录!B:B,"<="&$E$2)) -> 0
B7: 3 | C7: 仓储部 | D7: =IF(C7="",0,SUMIFS(领用记录!K:K,领用记录!C:C,C7,领用记录!B:B,">="&$C$2,领用记录!B:B,"<="&$E$2)) -> 0
B8: 4 | C8: 研发部 | D8: =IF(C8="",0,SUMIFS(领用记录!K:K,领用记录!C:C,C8,领用记录!B:B,">="&$C$2,领用记录!B:B,"<="&$E$2)) -> 0
B9: 5 | C9: 生产部 | D9: =IF(C9="",0,SUMIFS(领用记录!K:K,领用记录!C:C,C9,领用记录!B:B,">="&$C$2,领用记录!B:B,"<="&$E$2)) -> 0
B10: 6 | C10: 客服部 | D10: =IF(C10="",0,SUMIFS(领用记录!K:K,领用记录!C:C,C10,领用记录!B:B,">="&$C$2,领用记录!B:B,"<="&$E$2)) -> 0
B11: 7 | C11: 财务部 | D11: =IF(C11="",0,SUMIFS(领用记录!K:K,领用记录!C:C,C11,领用记录!B:B,">="&$C$2,领用记录!B:B,"<="&$E$2)) -> 0
B12: 8 | C12: 人事部 | D12: =IF(C12="",0,SUMIFS(领用记录!K:K,领用记录!C:C,C12,领用记录!B:B,">="&$C$2,领用记录!B:B,"<="&$E$2)) -> 0
B13: 9 | C13: 行政部 | D13: =IF(C13="",0,SUMIFS(领用记录!K:K,领用记录!C:C,C13,领用记录!B:B,">="&$C$2,领用记录!B:B,"<="&$E$2)) -> 0
B14: 10 | C14: 总经办 | D14: =IF(C14="",0,SUMIFS(领用记录!K:K,领用记录!C:C,C14,领用记录!B:B,">="&$C$2,领用记录!B:B,"<="&$E$2)) -> 0
B15: 11 | C15: 品管部 | D15: =IF(C15="",0,SUMIFS(领用记录!K:K,领用记录!C:C,C15,领用记录!B:B,">="&$C$2,领用记录!B:B,"<="&$E$2)) -> 0
B16: 12 | C16: 物流部 | D16: =IF(C16="",0,SUMIFS(领用记录!K:K,领用记录!C:C,C16,领用记录!B:B,">="&$C$2,领用记录!B:B,"<="&$E$2)) -> 0
... B22: 18 | C22: 后勤部 | D22: =IF(C22="",0,SUMIFS(领用记录!K:K,领用记录!C:C,C22,领用记录!B:B,">="&$C$2,领用记录!B:B,"<="&$E$2)) -> 0

Sheet 盘点表
B1: 库存物品盘点表
B2: 序号 | C2: 物品代码 | D2: 物品名称 | E2: 规格型号 | F2: 账面库存数量 | G2: 单价 | H2: 账面金额 | I2: 实际盘点数量 | J2: 单价 | K2: 实际盘点金额 | L2: 盘点结果 | M2: 备注
B3: 1 | C3: BG20211101 | D3: =IF(C3="","",VLOOKUP(C3,基础信息!$B$3:$K$10000,2,0)) -> A1 | E3: =IF(C3="","",VLOOKUP(C3,基础信息!$B$3:$K$10000,3,0)) -> 1*1 | F3: =IF(C3="","",VLOOKUP(C3,库存表!B3:G10000,6,0)) -> 90 | G3: =IF(C3="","",VLOOKUP(C3,基础信息!$B$3:$K$10000,4,0)) -> 100 | H3: =IF(C3="","",F3*G3) -> 9000 | I3: 90 | J3: =G3 -> 100 | K3: =IF(C3="","",I3*J3) -> 9000 | L3: =K3-H3 -> 0
B4: 2 | C4: BG20211102 | D4: =IF(C4="","",VLOOKUP(C4,基础信息!$B$3:$K$10000,2,0)) -> A2 | E4: =IF(C4="","",VLOOKUP(C4,基础信息!$B$3:$K$10000,3,0)) -> 1*2 | F4: =IF(C4="","",VLOOKUP(C4,库存表!B4:G10001,6,0)) -> 0 | G4: =IF(C4="","",VLOOKUP(C4,基础信息!$B$3:$K$10000,4,0)) -> 105 | H4: =IF(C4="","",F4*G4) -> 0 | J4: =G4 -> 105 | K4: =IF(C4="","",I4*J4) -> 0
B5: 3 | C5: BG20211103 | D5: =IF(C5="","",VLOOKUP(C5,基础信息!$B$3:$K$10000,2,0)) -> A3 | E5: =IF(C5="","",VLOOKUP(C5,基础信息!$B$3:$K$10000,3,0)) -> 1*3 | F5: =IF(C5="","",VLOOKUP(C5,库存表!B5:G10002,6,0)) -> 0 | G5: =IF(C5="","",VLOOKUP(C5,基础信息!$B$3:$K$10000,4,0)) -> 110 | H5: =IF(C5="","",F5*G5) -> 0 | J5: =G5 -> 110 | K5: =IF(C5="","",I5*J5) -> 0
B6: 4 | D6: =IF(C6="","",VLOOKUP(C6,基础信息!$B$3:$K$10000,2,0)) | E6: =IF(C6="","",VLOOKUP(C6,基础信息!$B$3:$K$10000,3,0)) | F6: =IF(C6="","",VLOOKUP(C6,库存表!B6:G10003,6,0)) | G6: =IF(C6="","",VLOOKUP(C6,基础信息!$B$3:$K$10000,4,0)) | H6: =IF(C6="","",F6*G6) | J6: =G6 | K6: =IF(C6="","",I6*J6)
B7: 5 | D7: =IF(C7="","",VLOOKUP(C7,基础信息!$B$3:$K$10000,2,0)) | E7: =IF(C7="","",VLOOKUP(C7,基础信息!$B$3:$K$10000,3,0)) | F7: =IF(C7="","",VLOOKUP(C7,库存表!B7:G10004,6,0)) | G7: =IF(C7="","",VLOOKUP(C7,基础信息!$B$3:$K$10000,4,0)) | H7: =IF(C7="","",F7*G7) | J7: =G7 | K7: =IF(C7="","",I7*J7)
B8: 6 | D8: =IF(C8="","",VLOOKUP(C8,基础信息!$B$3:$K$10000,2,0)) | E8: =IF(C8="","",VLOOKUP(C8,基础信息!$B$3:$K$10000,3,0)) | F8: =IF(C8="","",VLOOKUP(C8,库存表!B8:G10005,6,0)) | G8: =IF(C8="","",VLOOKUP(C8,基础信息!$B$3:$K$10000,4,0)) | H8: =IF(C8="","",F8*G8) | J8: =G8 | K8: =IF(C8="","",I8*J8)
B9: 7 | D9: =IF(C9="","",VLOOKUP(C9,基础信息!$B$3:$K$10000,2,0)) | E9: =IF(C9="","",VLOOKUP(C9,基础信息!$B$3:$K$10000,3,0)) | F9: =IF(C9="","",VLOOKUP(C9,库存表!B9:G10006,6,0)) | G9: =IF(C9="","",VLOOKUP(C9,基础信息!$B$3:$K$10000,4,0)) | H9: =IF(C9="","",F9*G9) | J9: =G9 | K9: =IF(C9="","",I9*J9)
B10: 8 | D10: =IF(C10="","",VLOOKUP(C10,基础信息!$B$3:$K$10000,2,0)) | E10: =IF(C10="","",VLOOKUP(C10,基础信息!$B$3:$K$10000,3,0)) | F10: =IF(C10="","",VLOOKUP(C10,库存表!B10:G10007,6,0)) | G10: =IF(C10="","",VLOOKUP(C10,基础信息!$B$3:$K$10000,4,0)) | H10: =IF(C10="","",F10*G10) | J10: =G10 | K10: =IF(C10="","",I10*J10)
B11: 9 | D11: =IF(C11="","",VLOOKUP(C11,基础信息!$B$3:$K$10000,2,0)) | E11: =IF(C11="","",VLOOKUP(C11,基础信息!$B$3:$K$10000,3,0)) | F11: =IF(C11="","",VLOOKUP(C11,库存表!B11:G10008,6,0)) | G11: =IF(C11="","",VLOOKUP(C11,基础信息!$B$3:$K$10000,4,0)) | H11: =IF(C11="","",F11*G11) | J11: =G11 | K11: =IF(C11="","",I11*J11)
B12: 10 | D12: =IF(C12="","",VLOOKUP(C12,基础信息!$B$3:$K$10000,2,0)) | E12: =IF(C12="","",VLOOKUP(C12,基础信息!$B$3:$K$10000,3,0)) | F12: =IF(C12="","",VLOOKUP(C12,库存表!B12:G10009,6,0)) | G12: =IF(C12="","",VLOOKUP(C12,基础信息!$B$3:$K$10000,4,0)) | H12: =IF(C12="","",F12*G12) | J12: =G12 | K12: =IF(C12="","",I12*J12)
B13: 11 | D13: =IF(C13="","",VLOOKUP(C13,基础信息!$B$3:$K$10000,2,0)) | E13: =IF(C13="","",VLOOKUP(C13,基础信息!$B$3:$K$10000,3,0)) | F13: =IF(C13="","",VLOOKUP(C13,库存表!B13:G10010,6,0)) | G13: =IF(C13="","",VLOOKUP(C13,基础信息!$B$3:$K$10000,4,0)) | H13: =IF(C13="","",F13*G13) | J13: =G13 | K13: =IF(C13="","",I13*J13)
B14: 12 | D14: =IF(C14="","",VLOOKUP(C14,基础信息!$B$3:$K$10000,2,0)) | E14: =IF(C14="","",VLOOKUP(C14,基础信息!$B$3:$K$10000,3,0)) | F14: =IF(C14="","",VLOOKUP(C14,库存表!B14:G10011,6,0)) | G14: =IF(C14="","",VLOOKUP(C14,基础信息!$B$3:$K$10000,4,0)) | H14: =IF(C14="","",F14*G14) | J14: =G14 | K14: =IF(C14="","",I14*J14)
B15: 13 | D15: =IF(C15="","",VLOOKUP(C15,基础信息!$B$3:$K$10000,2,0)) | E15: =IF(C15="","",VLOOKUP(C15,基础信息!$B$3:$K$10000,3,0)) | F15: =IF(C15="","",VLOOKUP(C15,库存表!B15:G10012,6,0)) | G15: =IF(C15="","",VLOOKUP(C15,基础信息!$B$3:$K$10000,4,0)) | H15: =IF(C15="","",F15*G15) | J15: =G15 | K15: =IF(C15="","",I15*J15)
B16: 14 | D16: =IF(C16="","",VLOOKUP(C16,基础信息!$B$3:$K$10000,2,0)) | E16: =IF(C16="","",VLOOKUP(C16,基础信息!$B$3:$K$10000,3,0)) | F16: =IF(C16="","",VLOOKUP(C16,库存表!B16:G10013,6,0)) | G16: =IF(C16="","",VLOOKUP(C16,基础信息!$B$3:$K$10000,4,0)) | H16: =IF(C16="","",F16*G16) | J16: =G16 | K16: =IF(C16="","",I16*J16)
B17: 15 | D17: =IF(C17="","",VLOOKUP(C17,基础信息!$B$3:$K$10000,2,0)) | E17: =IF(C17="","",VLOOKUP(C17,基础信息!$B$3:$K$10000,3,0)) | F17: =IF(C17="","",VLOOKUP(C17,库存表!B17:G10014,6,0)) | G17: =IF(C17="","",VLOOKUP(C17,基础信息!$B$3:$K$10000,4,0)) | H17: =IF(C17="","",F17*G17) | J17: =G17 | K17: =IF(C17="","",I17*J17)
... B52: 50 | D52: =IF(C52="","",VLOOKUP(C52,基础信息!$B$3:$K$10000,2,0)) | E52: =IF(C52="","",VLOOKUP(C52,基础信息!$B$3:$K$10000,3,0)) | F52: =IF(C52="","",VLOOKUP(C52,库存表!B52:G10049,6,0)) | G52: =IF(C52="","",VLOOKUP(C52,基础信息!$B$3:$K$10000,4,0)) | H52: =IF(C52="","",F52*G52) | J52: =G52 | K52: =IF(C52="","",I52*J52)
B53: 合计 | F53: =SUM(F3:F52) -> 90 | H53: =SUM(H3:H52) -> 9000 | I53: =SUM(I3:I52) -> 90 | K53: =SUM(K3:K52) -> 9000 | L53: =SUM(L3:L52) -> 0
B54: 盘点人员签名： | K54: 盘点日期：
